{"text_format":"1","workbook":"xlsx","n_sheets":65,"sheets":["Instructions","SOCIAL SCI INSTRUCTIONS","TableOfContents","S1-Start Here","S2","S3","S4","S5","S6","S7","S8","S9","S10","S11","S12","S13","S14","S15","S16","S17","S18","S19","S20","S21","S22","S23","S24","S25","S26","S27","S28","S29","S30","S31","S32","S33","S34","S35","S36","S37","S38","S39","S40","S41","S42","S43","S44","S45","S46","S47","S48","S49","S50","NewPartner","PartnerSearch","90-2formulas","FocusAreas","SPcodes","ProgramIDs","ProjectRecords","FundingRecords","TOC generator worksheet","CHECK DATA FIT","ProjDataInput","FundDataInput"],"not_rendered":{"charts":0,"images":2,"macros":1,"external_links":0,"defined_names":54,"comments":0,"pivot_tables":0},"unopened":[],"bounds":{"document_bytes":16777216,"sheet_cells":100000,"rows_first":2000,"rows_last":500,"rows_between":2000,"halvings":0,"cell_chars":16384,"cell_head_chars":4096},"cells_cut":0,"cells_raw":0,"read":"whole","date_system":"1900"}

{"sheet":"Instructions","index":0,"n_rows":56,"n_cols":1,"rows_kept":56,"cut":false,"hidden":false,"merged":[]}
["90-2 FORM AND TABLE OF CONTENTS GENERATOR, MOD 4.3"]
["This can be used for omnibus applications or other applications. It contains a Partner List downloaded from PIER. This Partner list will eventually be out of date, so the template has an expiration date. Don't use this template after the expiration date (get a new one from NSGO)."]
[]
["I.  PREFILL THE SPREADSHEET WITH DATA FROM E-SEAGRANT OR OTHER SOFTWARE."]
["(SKIP THIS STEP IF YOU DON'T USE E-SEAGRANT OR SIMILAR SOFTWARE TO MANAGE PROJECT DATA)"]
["1. Copy project data, organized as specified in the \"Developer's resource\" into the ProjDataInput tab (the last tab in the spreadsheet)"]
[]
["2. Copy funding data, organized as specified in the \"Developer's resource\" into the FundDataInput tab (the second-to-last tab in the spreadsheet)"]
[]
["3. You can check to see if your data looks like it should by going to the \"CHECK DATA FIT\" tab (the third-to-last tab in the spreadsheet). Your data should line up with the correct field names. You don't have to use the same field names, but your data columns need to be in the correct order."]
[]
["4. The data you entered will automatically pre-fill the 90-2 forms starting with S1, and the Table of Contents."]
[]
[]
["II.  EDIT THE 90-2 FORMS AND TABLE OF CONTENTS AS NEEDED, OR ADD NEW PROJECTS TO NEW 90-2 FORMS."]
["(SKIP THIS STEP IF YOU HAVE NO CHANGES TO MAKE TO YOUR SOFTWARE DATA YOU ADDED IN STEP I.)"]
["90-2 FORMS. First, fill in the 90-2 forms, one for each project."]
["  1.  Go to worksheet tab \"S1-Start Here\" (the  fourth tab in the spreadsheet, after the instructions, and the Table of Contents tab). This is the first blank 90-2 form. There are fifty blank 90-2 forms in this spreadsheet, so you can include up to 50 projects. "]
[]
["  2. On the 90-2 form, fill in all the colored cells. If you prefilled with software data, some fields will already have values."]
["- the Program is selected from a dropdown menu of all Sea Grant Program standard abbreviations."]
["- the Project ID prefix (A/, R/, M/, etc. ) is selected from a dropdown menu."]
["- please don't uses spaces, slashes, or backslashes in the rest of the Project ID number (Good: M/A-1    Bad: M/A/1)."]
["- There's only room for four Pis. If you have more, report them in the Methodology. Add a sentence like this: \n\"Additional PIs: John Smith, Auburn University; Jane Doe, Auburn University\""]
["- Certain cells are filled using lookup tables. To fill these cells, click the \"Look Up\" button next to the cell, and follow the directions. If a cell has a \"Look Up\" button next to it, you must use the lookup table to fill it out (don't just write in)."]
["- some cells (\"Partners\",\"Classification Codes\", \"Focus Areas\") allow multiple values. Get them from the lookup table one at a time. Look up your first partner, enter it and return to look up your second, etc."]
["- don't neglect to include the total Federal request, and the total match."]
["- you can fill in the uncolored cells if that is useful to you (ICODE, EFFORT, etc.), but the National Office does not track these things. They are not required, and they won't go into PIER."]
["- this new 90-2 form has three new fields to fill out: "]
["        Partners. If there are project partners, report them here. Use lookup table. If a partner is not in the table, write it in."]
["        Focus Area. Use the lookup table and select one or more focus areas. Enter the primary focus area first."]
["        Data sharing plan. See separate instructions for the new Data Sharing Plan requirement."]
[]
["  3. When you are done with a project, click \"Rename worksheet to Project Number\". This will change the name of the worksheet to the Program ID that you have assigned. Then you can go on to the next  sheet (S2, S3, etc.) to report the next project."]
[]
["  4. Please don't add or delete worksheets to this spreadsheet. If you have more than 50 projects to report, start a second spreadsheet. "]
[]
["  5. Each 90-2 has buttons to \"Copy All\" and \"Paste All\". These can be used to copy all the data on one 90-2A sheet to another sheet. Again, don't add worksheets! If you want to enter data from a different spreadsheet, use the Copy All and Paste All functions."]
[]
["  6. Each 90-2 also has a \"Reset All\" button. These can be used to clear all of the human-modified data from a 90-2 form. If you press it, the 90-2 will revert to showing the data entered by your software. If you had no software-entered data, it will be blank."]
[]
[" 7. TABLE OF CONTENTS. When you have entered all the projects on 90-2 forms, go to the Table Of Contents sheet. Most of the information will have been filled in automatically for you."]
[]
["  8. On the Table of Contents sheet, enter the page number in the omnibus for each project, and the yearly Federal and Match amounts for each project. You can get these from your 90-4 Forms."]
[]
["  9. As a cross-check, if your total four-year Federal or Match amounts don't equal what you put on the 90-2 form for that project, the value will show up in red on the Table of Contents. Double check your numbers, and correct the Table of Contents or the 90-2 form."]
[]
["  10. The grant totals for all projects will show up on row 2 of the Table of Contents. The values in bright yellow should match the total Federal request and Match you reported on your 424 Form. If this is for an omnibus, this will equal your allocation."]
[]
["  11. Immediately below your grand totals is the calculated percent match. If it is less than 50%, this will show up in red."]
[]
["IMPORTANT NOTE ABOUT EXCEL!  To paste text in paragraph format into a cell (for example, into Objectives), you should double-click on the cell you are pasting into. For all other data entry, single-click (not double-click) on a cell to enter data."]
[]
["III.  WHEN ALL IS DONE, SAVE THE ENTIRE SPREADSHEET, AND ATTACH IT TO YOUR OMNIBUS APPLICATION PACKAGE AS AN"]
["\"OPTIONAL ATTACHMENT\". YOU DO NOT HAVE TO PRINT OUT THE TABLE OF CONTENTS OR 90-2s. BUT IF YOU WANT TO"]
["PRINT THEM OUT OR CREATE A PDF, YOU CAN USE THE \"PRINT\" BUTTON ON THE TABLE OF CONTENTS PAGE."]

{"sheet":"SOCIAL SCI INSTRUCTIONS","index":1,"n_rows":10,"n_cols":1,"rows_kept":10,"cut":false,"hidden":false,"merged":[]}
["SOCIAL SCIENCE RESEARCH PROJECT REPORTING "]
[]
["Funding permitting, competitively selected social science research projects included in the omnibus applications submitted this November will be eligible for a special NSI supplement.\n\nTHIS 90-2 TEMPLATE is being used to identify those eligible projects."]
[]
["To identify a social science research project:\n\n(1) Make sure the project's ID number starts with \"R/\", to indicate that it is Research.\n\n(2) Include the classification code \"220 Social Science\" among the project's classification codes. Remember, more than one code is allowed, so you can other classification codes (including other more specific social science codes if appropriate). The first code should be the primary (most important) classification code. This does not need to be \"220 Social Science\", as long as that code is somewhere in the list.\n\nThat's it, unless the project is not fully social science research, but has a partial social science research component. "]
[]
["To identify a PARTIAL social science research project:\n\n(1) as above, make sure the project ID number starts with \"R/\", and make sure one of the classification codes is \"220 Social Science\".\n\n(2) In the COMMENTS fields on the Table of Contents, make the following notation against your partial social science projects:\n\n                         Social Science NSI XX%        (for example, \"Social Science NSI 50%\")\n\nPlease use that exact language. If you want to add additional comments about that project, put the \"Social Science NSI XX%\" comment first."]
[]
["IF YOU ARE NOT FUNDING A SOCIAL SCIENCE PROJECT, BUT JUST CONTRIBUTING MONEY TO A REGIONAL"]
["SOCIAL SCIENCE \"POOL\", SEE CHRIS FOR INSTRUCTIONS!"]

{"sheet":"TableOfContents","index":2,"n_rows":57,"n_cols":20,"rows_kept":57,"cut":false,"hidden":false,"merged":[]}
["Program:",{"$f":"LEFT('S1-Start Here'!$B$6,16)","v":"0"},"(from first 90-2)",null,null,"NSGO use only:","uploaded by","grant no","amd no","fund source",null,null,null,null,"OVERALL FEDERAL","OVERALL MATCH","%M",{"$f":"(SUMIFS($O7:$O56,$A7:$A56,\"=M/\")+SUMIFS($P7:$P56,$A7:$A56,\"=M/\"))/(SUM($O$2:$P$2))","v":{"$error":"#DIV/0!"}},"%P",{"$f":"(SUMIFS($O7:$O56,$A7:$A56,\"=P/\")+SUMIFS($P7:$P56,$A7:$A56,\"=P/\"))/(SUM($O$2:$P$2))","v":{"$error":"#DIV/0!"}}]
["Table of Contents",null,null,null,null,"Totals:",{"$f":"SUM(G7:G48)","v":0},0,0,0,0,0,0,0,0,0,"%R",{"$f":"(SUMIFS($O7:$O56,$A7:$A56,\"=R/\")+SUMIFS($P7:$P56,$A7:$A56,\"=R/\"))/(SUM($O$2:$P$2))","v":{"$error":"#DIV/0!"}}]
["Start Date:",{"$f":"DATE(MIN('TOC generator worksheet'!$W$2:$W$201),2,1)","v":"9999-02-01"},null,"contact for questions on this form:",null,null,"cum. \nMatch",{"$f":"H2/G2","v":{"$error":"#DIV/0!"}},null,{"$f":"(H2+J2)/(G2+I2)","v":{"$error":"#DIV/0!"}},null,{"$f":"SUM(H2,J2,L2)/SUM(G2,I2,K2)","v":{"$error":"#DIV/0!"}},null,null,"overall\n% match: ",{"$f":"IF(O2=0,\"\",100*P2/O2)","v":""},"%A",{"$f":"(SUMIFS($O7:$O56,$A7:$A56,\"=A/\")+SUMIFS($P7:$P56,$A7:$A56,\"=A/\"))/(SUM($O$2:$P$2))","v":{"$error":"#DIV/0!"}},"total",{"$f":"SUM(R1:R5,T1)","v":{"$error":"#DIV/0!"}}]
["End Date:",{"$f":"DATE(YEAR($B$3)+4,MONTH($B$3),DAY($B$3))-1","v":{"$error":"#NUM!"}},"ERROR: fund data",null,null,null,"Year 1",null,"Year 2",null,"Year 3",null,"Year 4",null,null,null,"%C",{"$f":"(SUMIFS($O7:$O56,$A7:$A56,\"=C/\")+SUMIFS($P7:$P56,$A7:$A56,\"=C/\"))/(SUM($O$2:$P$2))","v":{"$error":"#DIV/0!"}}]
[null,null,{"$f":"\">\"&YEAR(B$4)&\" is present!!\"","v":{"$error":"#NUM!"}},null,null,null,{"$f":"YEAR(B3)","v":9999},{"$f":"G5","v":9999},{"$f":"G5+1","v":10000},10000,10001,10001,10002,10002,"All ","Years","%E",{"$f":"(SUMIFS($O7:$O56,$A7:$A56,\"=E/\")+SUMIFS($P7:$P56,$A7:$A56,\"=E/\"))/(SUM($O$2:$P$2))","v":{"$error":"#DIV/0!"}}]
["Project ID:\n(prefix)","(id no)","Type of project","Principle Investigator","Title","Page","Federal","Match","Federal","Match","Federal","Match","Federal","Match","Federal","Match","Comments (Optional)",null,"Cross-check:\nFed from \n90-2","Match from 90-2"]
[{"$f":"LEFT(ProjectRecords!D3,2)","v":""},{"$f":"MID(ProjectRecords!D3,3,99)","v":""},{"$f":"IF(A7=\"A/\",\"Advisory (Extension)\",IF(A7=\"C/\",\"Communication\",IF(A7=\"E/\",\"Education\",IF(A7=\"M/\",\"Management\",IF(A7=\"P/\",\"Placeholder\",IF(A7=\"R/\",\"Research\",\"\"))))))","v":""},{"$f":"IF(LEN(ProjectRecords!L3)<2,\"\",ProjectRecords!L3)&IF(LEN(ProjectRecords!N3)<2,\"\",\", \"&ProjectRecords!N3)&IF(LEN(ProjectRecords!P3)<2,\"\",\", \"&ProjectRecords!P3)&IF(LEN(ProjectRecords!R3)<2,\"\",\", \"&ProjectRecords!R3)","v":""},{"$f":"IF(LEN(ProjectRecords!E3)<2,\"\",ProjectRecords!E3)","v":""}," ",{"$f":"IF('TOC generator worksheet'!L2=0,\"\",'TOC generator worksheet'!L2)","v":""},{"$f":"IF('TOC generator worksheet'!M2=0,\"\",'TOC generator worksheet'!M2)","v":""},{"$f":"IF('TOC generator worksheet'!N2=0,\"\",'TOC generator worksheet'!N2)","v":""},{"$f":"IF('TOC generator worksheet'!O2=0,\"\",'TOC generator worksheet'!O2)","v":""},{"$f":"IF('TOC generator worksheet'!P2=0,\"\",'TOC generator worksheet'!P2)","v":""},{"$f":"IF('TOC generator worksheet'!Q2=0,\"\",'TOC generator worksheet'!Q2)","v":""},{"$f":"IF('TOC generator worksheet'!R2=0,\"\",'TOC generator worksheet'!R2)","v":""},{"$f":"IF('TOC generator worksheet'!S2=0,\"\",'TOC generator worksheet'!S2)","v":""},{"$f":"SUM(G7,I7,K7,M7)","v":0},{"$f":"SUM(H7,J7,L7,N7)","v":0},{"$f":"IF('TOC generator worksheet'!V2=0,\"\",'TOC generator worksheet'!V2)","v":""},null,{"$f":"ProjectRecords!J3","v":0},{"$f":"ProjectRecords!K3","v":0}]
[{"$f":"LEFT(ProjectRecords!D4,2)","v":""},{"$f":"MID(ProjectRecords!D4,3,99)","v":""},{"$f":"IF(A8=\"A/\",\"Advisory (Extension)\",IF(A8=\"C/\",\"Communication\",IF(A8=\"E/\",\"Education\",IF(A8=\"M/\",\"Management\",IF(A8=\"P/\",\"Placeholder\",IF(A8=\"R/\",\"Research\",\"\"))))))","v":""},{"$f":"IF(LEN(ProjectRecords!L4)<2,\"\",ProjectRecords!L4)&IF(LEN(ProjectRecords!N4)<2,\"\",\", \"&ProjectRecords!N4)&IF(LEN(ProjectRecords!P4)<2,\"\",\", \"&ProjectRecords!P4)&IF(LEN(ProjectRecords!R4)<2,\"\",\", \"&ProjectRecords!R4)","v":""},{"$f":"IF(LEN(ProjectRecords!E4)<2,\"\",ProjectRecords!E4)","v":""}," ",{"$f":"IF('TOC generator worksheet'!L3=0,\"\",'TOC generator worksheet'!L3)","v":""},{"$f":"IF('TOC generator worksheet'!M3=0,\"\",'TOC generator worksheet'!M3)","v":""},{"$f":"IF('TOC generator worksheet'!N3=0,\"\",'TOC generator worksheet'!N3)","v":""},{"$f":"IF('TOC generator worksheet'!O3=0,\"\",'TOC generator worksheet'!O3)","v":""},{"$f":"IF('TOC generator worksheet'!P3=0,\"\",'TOC generator worksheet'!P3)","v":""},{"$f":"IF('TOC generator worksheet'!Q3=0,\"\",'TOC generator worksheet'!Q3)","v":""},{"$f":"IF('TOC generator worksheet'!R3=0,\"\",'TOC generator worksheet'!R3)","v":""},{"$f":"IF('TOC generator worksheet'!S3=0,\"\",'TOC generator worksheet'!S3)","v":""},{"$f":"SUM(G8,I8,K8,M8)","v":0},{"$f":"SUM(H8,J8,L8,N8)","v":0},{"$f":"IF('TOC generator worksheet'!V3=0,\"\",'TOC generator worksheet'!V3)","v":""},null,{"$f":"ProjectRecords!J4","v":0},{"$f":"ProjectRecords!K4","v":0}]
[{"$f":"LEFT(ProjectRecords!D5,2)","v":""},{"$f":"MID(ProjectRecords!D5,3,99)","v":""},"",{"$f":"IF(LEN(ProjectRecords!L5)<2,\"\",ProjectRecords!L5)&IF(LEN(ProjectRecords!N5)<2,\"\",\", \"&ProjectRecords!N5)&IF(LEN(ProjectRecords!P5)<2,\"\",\", \"&ProjectRecords!P5)&IF(LEN(ProjectRecords!R5)<2,\"\",\", \"&ProjectRecords!R5)","v":""},{"$f":"IF(LEN(ProjectRecords!E5)<2,\"\",ProjectRecords!E5)","v":""}," ",{"$f":"IF('TOC generator worksheet'!L4=0,\"\",'TOC generator worksheet'!L4)","v":""},{"$f":"IF('TOC generator worksheet'!M4=0,\"\",'TOC generator worksheet'!M4)","v":""},{"$f":"IF('TOC generator worksheet'!N4=0,\"\",'TOC generator worksheet'!N4)","v":""},{"$f":"IF('TOC generator worksheet'!O4=0,\"\",'TOC generator worksheet'!O4)","v":""},{"$f":"IF('TOC generator worksheet'!P4=0,\"\",'TOC generator worksheet'!P4)","v":""},{"$f":"IF('TOC generator worksheet'!Q4=0,\"\",'TOC generator worksheet'!Q4)","v":""},{"$f":"IF('TOC generator worksheet'!R4=0,\"\",'TOC generator worksheet'!R4)","v":""},{"$f":"IF('TOC generator worksheet'!S4=0,\"\",'TOC generator worksheet'!S4)","v":""},0,0,{"$f":"IF('TOC generator worksheet'!V4=0,\"\",'TOC generator worksheet'!V4)","v":""},null,{"$f":"ProjectRecords!J5","v":0},{"$f":"ProjectRecords!K5","v":0}]
[{"$f":"LEFT(ProjectRecords!D6,2)","v":""},{"$f":"MID(ProjectRecords!D6,3,99)","v":""},"",{"$f":"IF(LEN(ProjectRecords!L6)<2,\"\",ProjectRecords!L6)&IF(LEN(ProjectRecords!N6)<2,\"\",\", \"&ProjectRecords!N6)&IF(LEN(ProjectRecords!P6)<2,\"\",\", \"&ProjectRecords!P6)&IF(LEN(ProjectRecords!R6)<2,\"\",\", \"&ProjectRecords!R6)","v":""},{"$f":"IF(LEN(ProjectRecords!E6)<2,\"\",ProjectRecords!E6)","v":""}," ",{"$f":"IF('TOC generator worksheet'!L5=0,\"\",'TOC generator worksheet'!L5)","v":""},{"$f":"IF('TOC generator worksheet'!M5=0,\"\",'TOC generator worksheet'!M5)","v":""},{"$f":"IF('TOC generator worksheet'!N5=0,\"\",'TOC generator worksheet'!N5)","v":""},{"$f":"IF('TOC generator worksheet'!O5=0,\"\",'TOC generator worksheet'!O5)","v":""},{"$f":"IF('TOC generator worksheet'!P5=0,\"\",'TOC generator worksheet'!P5)","v":""},{"$f":"IF('TOC generator worksheet'!Q5=0,\"\",'TOC generator worksheet'!Q5)","v":""},{"$f":"IF('TOC generator worksheet'!R5=0,\"\",'TOC generator worksheet'!R5)","v":""},{"$f":"IF('TOC generator worksheet'!S5=0,\"\",'TOC generator worksheet'!S5)","v":""},0,0,{"$f":"IF('TOC generator worksheet'!V5=0,\"\",'TOC generator worksheet'!V5)","v":""},null,{"$f":"ProjectRecords!J6","v":0},{"$f":"ProjectRecords!K6","v":0}]
[{"$f":"LEFT(ProjectRecords!D7,2)","v":""},{"$f":"MID(ProjectRecords!D7,3,99)","v":""},"",{"$f":"IF(LEN(ProjectRecords!L7)<2,\"\",ProjectRecords!L7)&IF(LEN(ProjectRecords!N7)<2,\"\",\", \"&ProjectRecords!N7)&IF(LEN(ProjectRecords!P7)<2,\"\",\", \"&ProjectRecords!P7)&IF(LEN(ProjectRecords!R7)<2,\"\",\", \"&ProjectRecords!R7)","v":""},{"$f":"IF(LEN(ProjectRecords!E7)<2,\"\",ProjectRecords!E7)","v":""}," ",{"$f":"IF('TOC generator worksheet'!L6=0,\"\",'TOC generator worksheet'!L6)","v":""},{"$f":"IF('TOC generator worksheet'!M6=0,\"\",'TOC generator worksheet'!M6)","v":""},{"$f":"IF('TOC generator worksheet'!N6=0,\"\",'TOC generator worksheet'!N6)","v":""},{"$f":"IF('TOC generator worksheet'!O6=0,\"\",'TOC generator worksheet'!O6)","v":""},{"$f":"IF('TOC generator worksheet'!P6=0,\"\",'TOC generator worksheet'!P6)","v":""},{"$f":"IF('TOC generator worksheet'!Q6=0,\"\",'TOC generator worksheet'!Q6)","v":""},{"$f":"IF('TOC generator worksheet'!R6=0,\"\",'TOC generator worksheet'!R6)","v":""},{"$f":"IF('TOC generator worksheet'!S6=0,\"\",'TOC generator worksheet'!S6)","v":""},0,0,{"$f":"IF('TOC generator worksheet'!V6=0,\"\",'TOC generator worksheet'!V6)","v":""},null,{"$f":"ProjectRecords!J7","v":0},{"$f":"ProjectRecords!K7","v":0}]
[{"$f":"LEFT(ProjectRecords!D8,2)","v":""},{"$f":"MID(ProjectRecords!D8,3,99)","v":""},"",{"$f":"IF(LEN(ProjectRecords!L8)<2,\"\",ProjectRecords!L8)&IF(LEN(ProjectRecords!N8)<2,\"\",\", \"&ProjectRecords!N8)&IF(LEN(ProjectRecords!P8)<2,\"\",\", \"&ProjectRecords!P8)&IF(LEN(ProjectRecords!R8)<2,\"\",\", \"&ProjectRecords!R8)","v":""},{"$f":"IF(LEN(ProjectRecords!E8)<2,\"\",ProjectRecords!E8)","v":""}," ",{"$f":"IF('TOC generator worksheet'!L7=0,\"\",'TOC generator worksheet'!L7)","v":""},{"$f":"IF('TOC generator worksheet'!M7=0,\"\",'TOC generator worksheet'!M7)","v":""},{"$f":"IF('TOC generator worksheet'!N7=0,\"\",'TOC generator worksheet'!N7)","v":""},{"$f":"IF('TOC generator worksheet'!O7=0,\"\",'TOC generator worksheet'!O7)","v":""},{"$f":"IF('TOC generator worksheet'!P7=0,\"\",'TOC generator worksheet'!P7)","v":""},{"$f":"IF('TOC generator worksheet'!Q7=0,\"\",'TOC generator worksheet'!Q7)","v":""},{"$f":"IF('TOC generator worksheet'!R7=0,\"\",'TOC generator worksheet'!R7)","v":""},{"$f":"IF('TOC generator worksheet'!S7=0,\"\",'TOC generator worksheet'!S7)","v":""},0,0,{"$f":"IF('TOC generator worksheet'!V7=0,\"\",'TOC generator worksheet'!V7)","v":""},null,{"$f":"ProjectRecords!J8","v":0},{"$f":"ProjectRecords!K8","v":0}]
[{"$f":"LEFT(ProjectRecords!D9,2)","v":""},{"$f":"MID(ProjectRecords!D9,3,99)","v":""},"",{"$f":"IF(LEN(ProjectRecords!L9)<2,\"\",ProjectRecords!L9)&IF(LEN(ProjectRecords!N9)<2,\"\",\", \"&ProjectRecords!N9)&IF(LEN(ProjectRecords!P9)<2,\"\",\", \"&ProjectRecords!P9)&IF(LEN(ProjectRecords!R9)<2,\"\",\", \"&ProjectRecords!R9)","v":""},{"$f":"IF(LEN(ProjectRecords!E9)<2,\"\",ProjectRecords!E9)","v":""}," ",{"$f":"IF('TOC generator worksheet'!L8=0,\"\",'TOC generator worksheet'!L8)","v":""},{"$f":"IF('TOC generator worksheet'!M8=0,\"\",'TOC generator worksheet'!M8)","v":""},{"$f":"IF('TOC generator worksheet'!N8=0,\"\",'TOC generator worksheet'!N8)","v":""},{"$f":"IF('TOC generator worksheet'!O8=0,\"\",'TOC generator worksheet'!O8)","v":""},{"$f":"IF('TOC generator worksheet'!P8=0,\"\",'TOC generator worksheet'!P8)","v":""},{"$f":"IF('TOC generator worksheet'!Q8=0,\"\",'TOC generator worksheet'!Q8)","v":""},{"$f":"IF('TOC generator worksheet'!R8=0,\"\",'TOC generator worksheet'!R8)","v":""},{"$f":"IF('TOC generator worksheet'!S8=0,\"\",'TOC generator worksheet'!S8)","v":""},0,0,{"$f":"IF('TOC generator worksheet'!V8=0,\"\",'TOC generator worksheet'!V8)","v":""},null,{"$f":"ProjectRecords!J9","v":0},{"$f":"ProjectRecords!K9","v":0}]
[{"$f":"LEFT(ProjectRecords!D10,2)","v":""},{"$f":"MID(ProjectRecords!D10,3,99)","v":""},"",{"$f":"IF(LEN(ProjectRecords!L10)<2,\"\",ProjectRecords!L10)&IF(LEN(ProjectRecords!N10)<2,\"\",\", \"&ProjectRecords!N10)&IF(LEN(ProjectRecords!P10)<2,\"\",\", \"&ProjectRecords!P10)&IF(LEN(ProjectRecords!R10)<2,\"\",\", \"&ProjectRecords!R10)","v":""},{"$f":"IF(LEN(ProjectRecords!E10)<2,\"\",ProjectRecords!E10)","v":""}," ",{"$f":"IF('TOC generator worksheet'!L9=0,\"\",'TOC generator worksheet'!L9)","v":""},{"$f":"IF('TOC generator worksheet'!M9=0,\"\",'TOC generator worksheet'!M9)","v":""},{"$f":"IF('TOC generator worksheet'!N9=0,\"\",'TOC generator worksheet'!N9)","v":""},{"$f":"IF('TOC generator worksheet'!O9=0,\"\",'TOC generator worksheet'!O9)","v":""},{"$f":"IF('TOC generator worksheet'!P9=0,\"\",'TOC generator worksheet'!P9)","v":""},{"$f":"IF('TOC generator worksheet'!Q9=0,\"\",'TOC generator worksheet'!Q9)","v":""},{"$f":"IF('TOC generator worksheet'!R9=0,\"\",'TOC generator worksheet'!R9)","v":""},{"$f":"IF('TOC generator worksheet'!S9=0,\"\",'TOC generator worksheet'!S9)","v":""},0,0,{"$f":"IF('TOC generator worksheet'!V9=0,\"\",'TOC generator worksheet'!V9)","v":""},null,{"$f":"ProjectRecords!J10","v":0},{"$f":"ProjectRecords!K10","v":0}]
[{"$f":"LEFT(ProjectRecords!D11,2)","v":""},{"$f":"MID(ProjectRecords!D11,3,99)","v":""},"",{"$f":"IF(LEN(ProjectRecords!L11)<2,\"\",ProjectRecords!L11)&IF(LEN(ProjectRecords!N11)<2,\"\",\", \"&ProjectRecords!N11)&IF(LEN(ProjectRecords!P11)<2,\"\",\", \"&ProjectRecords!P11)&IF(LEN(ProjectRecords!R11)<2,\"\",\", \"&ProjectRecords!R11)","v":""},{"$f":"IF(LEN(ProjectRecords!E11)<2,\"\",ProjectRecords!E11)","v":""}," ",{"$f":"IF('TOC generator worksheet'!L10=0,\"\",'TOC generator worksheet'!L10)","v":""},{"$f":"IF('TOC generator worksheet'!M10=0,\"\",'TOC generator worksheet'!M10)","v":""},{"$f":"IF('TOC generator worksheet'!N10=0,\"\",'TOC generator worksheet'!N10)","v":""},{"$f":"IF('TOC generator worksheet'!O10=0,\"\",'TOC generator worksheet'!O10)","v":""},{"$f":"IF('TOC generator worksheet'!P10=0,\"\",'TOC generator worksheet'!P10)","v":""},{"$f":"IF('TOC generator worksheet'!Q10=0,\"\",'TOC generator worksheet'!Q10)","v":""},{"$f":"IF('TOC generator worksheet'!R10=0,\"\",'TOC generator worksheet'!R10)","v":""},{"$f":"IF('TOC generator worksheet'!S10=0,\"\",'TOC generator worksheet'!S10)","v":""},0,0,{"$f":"IF('TOC generator worksheet'!V10=0,\"\",'TOC generator worksheet'!V10)","v":""},null,{"$f":"ProjectRecords!J11","v":0},{"$f":"ProjectRecords!K11","v":0}]
[{"$f":"LEFT(ProjectRecords!D12,2)","v":""},{"$f":"MID(ProjectRecords!D12,3,99)","v":""},"",{"$f":"IF(LEN(ProjectRecords!L12)<2,\"\",ProjectRecords!L12)&IF(LEN(ProjectRecords!N12)<2,\"\",\", \"&ProjectRecords!N12)&IF(LEN(ProjectRecords!P12)<2,\"\",\", \"&ProjectRecords!P12)&IF(LEN(ProjectRecords!R12)<2,\"\",\", \"&ProjectRecords!R12)","v":""},{"$f":"IF(LEN(ProjectRecords!E12)<2,\"\",ProjectRecords!E12)","v":""}," ",{"$f":"IF('TOC generator worksheet'!L11=0,\"\",'TOC generator worksheet'!L11)","v":""},{"$f":"IF('TOC generator worksheet'!M11=0,\"\",'TOC generator worksheet'!M11)","v":""},{"$f":"IF('TOC generator worksheet'!N11=0,\"\",'TOC generator worksheet'!N11)","v":""},{"$f":"IF('TOC generator worksheet'!O11=0,\"\",'TOC generator worksheet'!O11)","v":""},{"$f":"IF('TOC generator worksheet'!P11=0,\"\",'TOC generator worksheet'!P11)","v":""},{"$f":"IF('TOC generator worksheet'!Q11=0,\"\",'TOC generator worksheet'!Q11)","v":""},{"$f":"IF('TOC generator worksheet'!R11=0,\"\",'TOC generator worksheet'!R11)","v":""},{"$f":"IF('TOC generator worksheet'!S11=0,\"\",'TOC generator worksheet'!S11)","v":""},0,0,{"$f":"IF('TOC generator worksheet'!V11=0,\"\",'TOC generator worksheet'!V11)","v":""},null,{"$f":"ProjectRecords!J12","v":0},{"$f":"ProjectRecords!K12","v":0}]
[{"$f":"LEFT(ProjectRecords!D13,2)","v":""},{"$f":"MID(ProjectRecords!D13,3,99)","v":""},"",{"$f":"IF(LEN(ProjectRecords!L13)<2,\"\",ProjectRecords!L13)&IF(LEN(ProjectRecords!N13)<2,\"\",\", \"&ProjectRecords!N13)&IF(LEN(ProjectRecords!P13)<2,\"\",\", \"&ProjectRecords!P13)&IF(LEN(ProjectRecords!R13)<2,\"\",\", \"&ProjectRecords!R13)","v":""},{"$f":"IF(LEN(ProjectRecords!E13)<2,\"\",ProjectRecords!E13)","v":""}," ",{"$f":"IF('TOC generator worksheet'!L12=0,\"\",'TOC generator worksheet'!L12)","v":""},{"$f":"IF('TOC generator worksheet'!M12=0,\"\",'TOC generator worksheet'!M12)","v":""},{"$f":"IF('TOC generator worksheet'!N12=0,\"\",'TOC generator worksheet'!N12)","v":""},{"$f":"IF('TOC generator worksheet'!O12=0,\"\",'TOC generator worksheet'!O12)","v":""},{"$f":"IF('TOC generator worksheet'!P12=0,\"\",'TOC generator worksheet'!P12)","v":""},{"$f":"IF('TOC generator worksheet'!Q12=0,\"\",'TOC generator worksheet'!Q12)","v":""},{"$f":"IF('TOC generator worksheet'!R12=0,\"\",'TOC generator worksheet'!R12)","v":""},{"$f":"IF('TOC generator worksheet'!S12=0,\"\",'TOC generator worksheet'!S12)","v":""},0,0,{"$f":"IF('TOC generator worksheet'!V12=0,\"\",'TOC generator worksheet'!V12)","v":""},null,{"$f":"ProjectRecords!J13","v":0},{"$f":"ProjectRecords!K13","v":0}]
[{"$f":"LEFT(ProjectRecords!D14,2)","v":""},{"$f":"MID(ProjectRecords!D14,3,99)","v":""},"",{"$f":"IF(LEN(ProjectRecords!L14)<2,\"\",ProjectRecords!L14)&IF(LEN(ProjectRecords!N14)<2,\"\",\", \"&ProjectRecords!N14)&IF(LEN(ProjectRecords!P14)<2,\"\",\", \"&ProjectRecords!P14)&IF(LEN(ProjectRecords!R14)<2,\"\",\", \"&ProjectRecords!R14)","v":""},{"$f":"IF(LEN(ProjectRecords!E14)<2,\"\",ProjectRecords!E14)","v":""}," ",{"$f":"IF('TOC generator worksheet'!L13=0,\"\",'TOC generator worksheet'!L13)","v":""},{"$f":"IF('TOC generator worksheet'!M13=0,\"\",'TOC generator worksheet'!M13)","v":""},{"$f":"IF('TOC generator worksheet'!N13=0,\"\",'TOC generator worksheet'!N13)","v":""},{"$f":"IF('TOC generator worksheet'!O13=0,\"\",'TOC generator worksheet'!O13)","v":""},{"$f":"IF('TOC generator worksheet'!P13=0,\"\",'TOC generator worksheet'!P13)","v":""},{"$f":"IF('TOC generator worksheet'!Q13=0,\"\",'TOC generator worksheet'!Q13)","v":""},{"$f":"IF('TOC generator worksheet'!R13=0,\"\",'TOC generator worksheet'!R13)","v":""},{"$f":"IF('TOC generator worksheet'!S13=0,\"\",'TOC generator worksheet'!S13)","v":""},0,0,{"$f":"IF('TOC generator worksheet'!V13=0,\"\",'TOC generator worksheet'!V13)","v":""},null,{"$f":"ProjectRecords!J14","v":0},{"$f":"ProjectRecords!K14","v":0}]
[{"$f":"LEFT(ProjectRecords!D15,2)","v":""},{"$f":"MID(ProjectRecords!D15,3,99)","v":""},"",{"$f":"IF(LEN(ProjectRecords!L15)<2,\"\",ProjectRecords!L15)&IF(LEN(ProjectRecords!N15)<2,\"\",\", \"&ProjectRecords!N15)&IF(LEN(ProjectRecords!P15)<2,\"\",\", \"&ProjectRecords!P15)&IF(LEN(ProjectRecords!R15)<2,\"\",\", \"&ProjectRecords!R15)","v":""},{"$f":"IF(LEN(ProjectRecords!E15)<2,\"\",ProjectRecords!E15)","v":""}," ",{"$f":"IF('TOC generator worksheet'!L14=0,\"\",'TOC generator worksheet'!L14)","v":""},{"$f":"IF('TOC generator worksheet'!M14=0,\"\",'TOC generator worksheet'!M14)","v":""},{"$f":"IF('TOC generator worksheet'!N14=0,\"\",'TOC generator worksheet'!N14)","v":""},{"$f":"IF('TOC generator worksheet'!O14=0,\"\",'TOC generator worksheet'!O14)","v":""},{"$f":"IF('TOC generator worksheet'!P14=0,\"\",'TOC generator worksheet'!P14)","v":""},{"$f":"IF('TOC generator worksheet'!Q14=0,\"\",'TOC generator worksheet'!Q14)","v":""},{"$f":"IF('TOC generator worksheet'!R14=0,\"\",'TOC generator worksheet'!R14)","v":""},{"$f":"IF('TOC generator worksheet'!S14=0,\"\",'TOC generator worksheet'!S14)","v":""},0,0,{"$f":"IF('TOC generator worksheet'!V14=0,\"\",'TOC generator worksheet'!V14)","v":""},null,{"$f":"ProjectRecords!J15","v":0},{"$f":"ProjectRecords!K15","v":0}]
[{"$f":"LEFT(ProjectRecords!D16,2)","v":""},{"$f":"MID(ProjectRecords!D16,3,99)","v":""},"",{"$f":"IF(LEN(ProjectRecords!L16)<2,\"\",ProjectRecords!L16)&IF(LEN(ProjectRecords!N16)<2,\"\",\", \"&ProjectRecords!N16)&IF(LEN(ProjectRecords!P16)<2,\"\",\", \"&ProjectRecords!P16)&IF(LEN(ProjectRecords!R16)<2,\"\",\", \"&ProjectRecords!R16)","v":""},{"$f":"IF(LEN(ProjectRecords!E16)<2,\"\",ProjectRecords!E16)","v":""}," ",{"$f":"IF('TOC generator worksheet'!L15=0,\"\",'TOC generator worksheet'!L15)","v":""},{"$f":"IF('TOC generator worksheet'!M15=0,\"\",'TOC generator worksheet'!M15)","v":""},{"$f":"IF('TOC generator worksheet'!N15=0,\"\",'TOC generator worksheet'!N15)","v":""},{"$f":"IF('TOC generator worksheet'!O15=0,\"\",'TOC generator worksheet'!O15)","v":""},{"$f":"IF('TOC generator worksheet'!P15=0,\"\",'TOC generator worksheet'!P15)","v":""},{"$f":"IF('TOC generator worksheet'!Q15=0,\"\",'TOC generator worksheet'!Q15)","v":""},{"$f":"IF('TOC generator worksheet'!R15=0,\"\",'TOC generator worksheet'!R15)","v":""},{"$f":"IF('TOC generator worksheet'!S15=0,\"\",'TOC generator worksheet'!S15)","v":""},0,0,{"$f":"IF('TOC generator worksheet'!V15=0,\"\",'TOC generator worksheet'!V15)","v":""},null,{"$f":"ProjectRecords!J16","v":0},{"$f":"ProjectRecords!K16","v":0}]
[{"$f":"LEFT(ProjectRecords!D17,2)","v":""},{"$f":"MID(ProjectRecords!D17,3,99)","v":""},"",{"$f":"IF(LEN(ProjectRecords!L17)<2,\"\",ProjectRecords!L17)&IF(LEN(ProjectRecords!N17)<2,\"\",\", \"&ProjectRecords!N17)&IF(LEN(ProjectRecords!P17)<2,\"\",\", \"&ProjectRecords!P17)&IF(LEN(ProjectRecords!R17)<2,\"\",\", \"&ProjectRecords!R17)","v":""},{"$f":"IF(LEN(ProjectRecords!E17)<2,\"\",ProjectRecords!E17)","v":""}," ",{"$f":"IF('TOC generator worksheet'!L16=0,\"\",'TOC generator worksheet'!L16)","v":""},{"$f":"IF('TOC generator worksheet'!M16=0,\"\",'TOC generator worksheet'!M16)","v":""},{"$f":"IF('TOC generator worksheet'!N16=0,\"\",'TOC generator worksheet'!N16)","v":""},{"$f":"IF('TOC generator worksheet'!O16=0,\"\",'TOC generator worksheet'!O16)","v":""},{"$f":"IF('TOC generator worksheet'!P16=0,\"\",'TOC generator worksheet'!P16)","v":""},{"$f":"IF('TOC generator worksheet'!Q16=0,\"\",'TOC generator worksheet'!Q16)","v":""},{"$f":"IF('TOC generator worksheet'!R16=0,\"\",'TOC generator worksheet'!R16)","v":""},{"$f":"IF('TOC generator worksheet'!S16=0,\"\",'TOC generator worksheet'!S16)","v":""},0,0,{"$f":"IF('TOC generator worksheet'!V16=0,\"\",'TOC generator worksheet'!V16)","v":""},null,{"$f":"ProjectRecords!J17","v":0},{"$f":"ProjectRecords!K17","v":0}]
[{"$f":"LEFT(ProjectRecords!D18,2)","v":""},{"$f":"MID(ProjectRecords!D18,3,99)","v":""},"",{"$f":"IF(LEN(ProjectRecords!L18)<2,\"\",ProjectRecords!L18)&IF(LEN(ProjectRecords!N18)<2,\"\",\", \"&ProjectRecords!N18)&IF(LEN(ProjectRecords!P18)<2,\"\",\", \"&ProjectRecords!P18)&IF(LEN(ProjectRecords!R18)<2,\"\",\", \"&ProjectRecords!R18)","v":""},{"$f":"IF(LEN(ProjectRecords!E18)<2,\"\",ProjectRecords!E18)","v":""}," ",{"$f":"IF('TOC generator worksheet'!L17=0,\"\",'TOC generator worksheet'!L17)","v":""},{"$f":"IF('TOC generator worksheet'!M17=0,\"\",'TOC generator worksheet'!M17)","v":""},{"$f":"IF('TOC generator worksheet'!N17=0,\"\",'TOC generator worksheet'!N17)","v":""},{"$f":"IF('TOC generator worksheet'!O17=0,\"\",'TOC generator worksheet'!O17)","v":""},{"$f":"IF('TOC generator worksheet'!P17=0,\"\",'TOC generator worksheet'!P17)","v":""},{"$f":"IF('TOC generator worksheet'!Q17=0,\"\",'TOC generator worksheet'!Q17)","v":""},{"$f":"IF('TOC generator worksheet'!R17=0,\"\",'TOC generator worksheet'!R17)","v":""},{"$f":"IF('TOC generator worksheet'!S17=0,\"\",'TOC generator worksheet'!S17)","v":""},0,0,{"$f":"IF('TOC generator worksheet'!V17=0,\"\",'TOC generator worksheet'!V17)","v":""},null,{"$f":"ProjectRecords!J18","v":0},{"$f":"ProjectRecords!K18","v":0}]
[{"$f":"LEFT(ProjectRecords!D19,2)","v":""},{"$f":"MID(ProjectRecords!D19,3,99)","v":""},"",{"$f":"IF(LEN(ProjectRecords!L19)<2,\"\",ProjectRecords!L19)&IF(LEN(ProjectRecords!N19)<2,\"\",\", \"&ProjectRecords!N19)&IF(LEN(ProjectRecords!P19)<2,\"\",\", \"&ProjectRecords!P19)&IF(LEN(ProjectRecords!R19)<2,\"\",\", \"&ProjectRecords!R19)","v":""},{"$f":"IF(LEN(ProjectRecords!E19)<2,\"\",ProjectRecords!E19)","v":""}," ",{"$f":"IF('TOC generator worksheet'!L18=0,\"\",'TOC generator worksheet'!L18)","v":""},{"$f":"IF('TOC generator worksheet'!M18=0,\"\",'TOC generator worksheet'!M18)","v":""},{"$f":"IF('TOC generator worksheet'!N18=0,\"\",'TOC generator worksheet'!N18)","v":""},{"$f":"IF('TOC generator worksheet'!O18=0,\"\",'TOC generator worksheet'!O18)","v":""},{"$f":"IF('TOC generator worksheet'!P18=0,\"\",'TOC generator worksheet'!P18)","v":""},{"$f":"IF('TOC generator worksheet'!Q18=0,\"\",'TOC generator worksheet'!Q18)","v":""},{"$f":"IF('TOC generator worksheet'!R18=0,\"\",'TOC generator worksheet'!R18)","v":""},{"$f":"IF('TOC generator worksheet'!S18=0,\"\",'TOC generator worksheet'!S18)","v":""},0,0,{"$f":"IF('TOC generator worksheet'!V18=0,\"\",'TOC generator worksheet'!V18)","v":""},null,{"$f":"ProjectRecords!J19","v":0},{"$f":"ProjectRecords!K19","v":0}]
[{"$f":"LEFT(ProjectRecords!D20,2)","v":""},{"$f":"MID(ProjectRecords!D20,3,99)","v":""},"",{"$f":"IF(LEN(ProjectRecords!L20)<2,\"\",ProjectRecords!L20)&IF(LEN(ProjectRecords!N20)<2,\"\",\", \"&ProjectRecords!N20)&IF(LEN(ProjectRecords!P20)<2,\"\",\", \"&ProjectRecords!P20)&IF(LEN(ProjectRecords!R20)<2,\"\",\", \"&ProjectRecords!R20)","v":""},{"$f":"IF(LEN(ProjectRecords!E20)<2,\"\",ProjectRecords!E20)","v":""}," ",{"$f":"IF('TOC generator worksheet'!L19=0,\"\",'TOC generator worksheet'!L19)","v":""},{"$f":"IF('TOC generator worksheet'!M19=0,\"\",'TOC generator worksheet'!M19)","v":""},{"$f":"IF('TOC generator worksheet'!N19=0,\"\",'TOC generator worksheet'!N19)","v":""},{"$f":"IF('TOC generator worksheet'!O19=0,\"\",'TOC generator worksheet'!O19)","v":""},{"$f":"IF('TOC generator worksheet'!P19=0,\"\",'TOC generator worksheet'!P19)","v":""},{"$f":"IF('TOC generator worksheet'!Q19=0,\"\",'TOC generator worksheet'!Q19)","v":""},{"$f":"IF('TOC generator worksheet'!R19=0,\"\",'TOC generator worksheet'!R19)","v":""},{"$f":"IF('TOC generator worksheet'!S19=0,\"\",'TOC generator worksheet'!S19)","v":""},0,0,{"$f":"IF('TOC generator worksheet'!V19=0,\"\",'TOC generator worksheet'!V19)","v":""},null,{"$f":"ProjectRecords!J20","v":0},{"$f":"ProjectRecords!K20","v":0}]
[{"$f":"LEFT(ProjectRecords!D21,2)","v":""},{"$f":"MID(ProjectRecords!D21,3,99)","v":""},"",{"$f":"IF(LEN(ProjectRecords!L21)<2,\"\",ProjectRecords!L21)&IF(LEN(ProjectRecords!N21)<2,\"\",\", \"&ProjectRecords!N21)&IF(LEN(ProjectRecords!P21)<2,\"\",\", \"&ProjectRecords!P21)&IF(LEN(ProjectRecords!R21)<2,\"\",\", \"&ProjectRecords!R21)","v":""},{"$f":"IF(LEN(ProjectRecords!E21)<2,\"\",ProjectRecords!E21)","v":""}," ",{"$f":"IF('TOC generator worksheet'!L20=0,\"\",'TOC generator worksheet'!L20)","v":""},{"$f":"IF('TOC generator worksheet'!M20=0,\"\",'TOC generator worksheet'!M20)","v":""},{"$f":"IF('TOC generator worksheet'!N20=0,\"\",'TOC generator worksheet'!N20)","v":""},{"$f":"IF('TOC generator worksheet'!O20=0,\"\",'TOC generator worksheet'!O20)","v":""},{"$f":"IF('TOC generator worksheet'!P20=0,\"\",'TOC generator worksheet'!P20)","v":""},{"$f":"IF('TOC generator worksheet'!Q20=0,\"\",'TOC generator worksheet'!Q20)","v":""},{"$f":"IF('TOC generator worksheet'!R20=0,\"\",'TOC generator worksheet'!R20)","v":""},{"$f":"IF('TOC generator worksheet'!S20=0,\"\",'TOC generator worksheet'!S20)","v":""},0,0,{"$f":"IF('TOC generator worksheet'!V20=0,\"\",'TOC generator worksheet'!V20)","v":""},null,{"$f":"ProjectRecords!J21","v":0},{"$f":"ProjectRecords!K21","v":0}]
[{"$f":"LEFT(ProjectRecords!D22,2)","v":""},{"$f":"MID(ProjectRecords!D22,3,99)","v":""},"",{"$f":"IF(LEN(ProjectRecords!L22)<2,\"\",ProjectRecords!L22)&IF(LEN(ProjectRecords!N22)<2,\"\",\", \"&ProjectRecords!N22)&IF(LEN(ProjectRecords!P22)<2,\"\",\", \"&ProjectRecords!P22)&IF(LEN(ProjectRecords!R22)<2,\"\",\", \"&ProjectRecords!R22)","v":""},{"$f":"IF(LEN(ProjectRecords!E22)<2,\"\",ProjectRecords!E22)","v":""}," ",{"$f":"IF('TOC generator worksheet'!L21=0,\"\",'TOC generator worksheet'!L21)","v":""},{"$f":"IF('TOC generator worksheet'!M21=0,\"\",'TOC generator worksheet'!M21)","v":""},{"$f":"IF('TOC generator worksheet'!N21=0,\"\",'TOC generator worksheet'!N21)","v":""},{"$f":"IF('TOC generator worksheet'!O21=0,\"\",'TOC generator worksheet'!O21)","v":""},{"$f":"IF('TOC generator worksheet'!P21=0,\"\",'TOC generator worksheet'!P21)","v":""},{"$f":"IF('TOC generator worksheet'!Q21=0,\"\",'TOC generator worksheet'!Q21)","v":""},{"$f":"IF('TOC generator worksheet'!R21=0,\"\",'TOC generator worksheet'!R21)","v":""},{"$f":"IF('TOC generator worksheet'!S21=0,\"\",'TOC generator worksheet'!S21)","v":""},0,0,{"$f":"IF('TOC generator worksheet'!V21=0,\"\",'TOC generator worksheet'!V21)","v":""},null,{"$f":"ProjectRecords!J22","v":0},{"$f":"ProjectRecords!K22","v":0}]
[{"$f":"LEFT(ProjectRecords!D23,2)","v":""},{"$f":"MID(ProjectRecords!D23,3,99)","v":""},"",{"$f":"IF(LEN(ProjectRecords!L23)<2,\"\",ProjectRecords!L23)&IF(LEN(ProjectRecords!N23)<2,\"\",\", \"&ProjectRecords!N23)&IF(LEN(ProjectRecords!P23)<2,\"\",\", \"&ProjectRecords!P23)&IF(LEN(ProjectRecords!R23)<2,\"\",\", \"&ProjectRecords!R23)","v":""},{"$f":"IF(LEN(ProjectRecords!E23)<2,\"\",ProjectRecords!E23)","v":""}," ",{"$f":"IF('TOC generator worksheet'!L22=0,\"\",'TOC generator worksheet'!L22)","v":""},{"$f":"IF('TOC generator worksheet'!M22=0,\"\",'TOC generator worksheet'!M22)","v":""},{"$f":"IF('TOC generator worksheet'!N22=0,\"\",'TOC generator worksheet'!N22)","v":""},{"$f":"IF('TOC generator worksheet'!O22=0,\"\",'TOC generator worksheet'!O22)","v":""},{"$f":"IF('TOC generator worksheet'!P22=0,\"\",'TOC generator worksheet'!P22)","v":""},{"$f":"IF('TOC generator worksheet'!Q22=0,\"\",'TOC generator worksheet'!Q22)","v":""},{"$f":"IF('TOC generator worksheet'!R22=0,\"\",'TOC generator worksheet'!R22)","v":""},{"$f":"IF('TOC generator worksheet'!S22=0,\"\",'TOC generator worksheet'!S22)","v":""},0,0,{"$f":"IF('TOC generator worksheet'!V22=0,\"\",'TOC generator worksheet'!V22)","v":""},null,{"$f":"ProjectRecords!J23","v":0},{"$f":"ProjectRecords!K23","v":0}]
[{"$f":"LEFT(ProjectRecords!D24,2)","v":""},{"$f":"MID(ProjectRecords!D24,3,99)","v":""},"",{"$f":"IF(LEN(ProjectRecords!L24)<2,\"\",ProjectRecords!L24)&IF(LEN(ProjectRecords!N24)<2,\"\",\", \"&ProjectRecords!N24)&IF(LEN(ProjectRecords!P24)<2,\"\",\", \"&ProjectRecords!P24)&IF(LEN(ProjectRecords!R24)<2,\"\",\", \"&ProjectRecords!R24)","v":""},{"$f":"IF(LEN(ProjectRecords!E24)<2,\"\",ProjectRecords!E24)","v":""}," ",{"$f":"IF('TOC generator worksheet'!L23=0,\"\",'TOC generator worksheet'!L23)","v":""},{"$f":"IF('TOC generator worksheet'!M23=0,\"\",'TOC generator worksheet'!M23)","v":""},{"$f":"IF('TOC generator worksheet'!N23=0,\"\",'TOC generator worksheet'!N23)","v":""},{"$f":"IF('TOC generator worksheet'!O23=0,\"\",'TOC generator worksheet'!O23)","v":""},{"$f":"IF('TOC generator worksheet'!P23=0,\"\",'TOC generator worksheet'!P23)","v":""},{"$f":"IF('TOC generator worksheet'!Q23=0,\"\",'TOC generator worksheet'!Q23)","v":""},{"$f":"IF('TOC generator worksheet'!R23=0,\"\",'TOC generator worksheet'!R23)","v":""},{"$f":"IF('TOC generator worksheet'!S23=0,\"\",'TOC generator worksheet'!S23)","v":""},0,0,{"$f":"IF('TOC generator worksheet'!V23=0,\"\",'TOC generator worksheet'!V23)","v":""},null,{"$f":"ProjectRecords!J24","v":0},{"$f":"ProjectRecords!K24","v":0}]
[{"$f":"LEFT(ProjectRecords!D25,2)","v":""},{"$f":"MID(ProjectRecords!D25,3,99)","v":""},"",{"$f":"IF(LEN(ProjectRecords!L25)<2,\"\",ProjectRecords!L25)&IF(LEN(ProjectRecords!N25)<2,\"\",\", \"&ProjectRecords!N25)&IF(LEN(ProjectRecords!P25)<2,\"\",\", \"&ProjectRecords!P25)&IF(LEN(ProjectRecords!R25)<2,\"\",\", \"&ProjectRecords!R25)","v":""},{"$f":"IF(LEN(ProjectRecords!E25)<2,\"\",ProjectRecords!E25)","v":""}," ",{"$f":"IF('TOC generator worksheet'!L24=0,\"\",'TOC generator worksheet'!L24)","v":""},{"$f":"IF('TOC generator worksheet'!M24=0,\"\",'TOC generator worksheet'!M24)","v":""},{"$f":"IF('TOC generator worksheet'!N24=0,\"\",'TOC generator worksheet'!N24)","v":""},{"$f":"IF('TOC generator worksheet'!O24=0,\"\",'TOC generator worksheet'!O24)","v":""},{"$f":"IF('TOC generator worksheet'!P24=0,\"\",'TOC generator worksheet'!P24)","v":""},{"$f":"IF('TOC generator worksheet'!Q24=0,\"\",'TOC generator worksheet'!Q24)","v":""},{"$f":"IF('TOC generator worksheet'!R24=0,\"\",'TOC generator worksheet'!R24)","v":""},{"$f":"IF('TOC generator worksheet'!S24=0,\"\",'TOC generator worksheet'!S24)","v":""},0,0,{"$f":"IF('TOC generator worksheet'!V24=0,\"\",'TOC generator worksheet'!V24)","v":""},null,{"$f":"ProjectRecords!J25","v":0},{"$f":"ProjectRecords!K25","v":0}]
[{"$f":"LEFT(ProjectRecords!D26,2)","v":""},{"$f":"MID(ProjectRecords!D26,3,99)","v":""},"",{"$f":"IF(LEN(ProjectRecords!L26)<2,\"\",ProjectRecords!L26)&IF(LEN(ProjectRecords!N26)<2,\"\",\", \"&ProjectRecords!N26)&IF(LEN(ProjectRecords!P26)<2,\"\",\", \"&ProjectRecords!P26)&IF(LEN(ProjectRecords!R26)<2,\"\",\", \"&ProjectRecords!R26)","v":""},{"$f":"IF(LEN(ProjectRecords!E26)<2,\"\",ProjectRecords!E26)","v":""}," ",{"$f":"IF('TOC generator worksheet'!L25=0,\"\",'TOC generator worksheet'!L25)","v":""},{"$f":"IF('TOC generator worksheet'!M25=0,\"\",'TOC generator worksheet'!M25)","v":""},{"$f":"IF('TOC generator worksheet'!N25=0,\"\",'TOC generator worksheet'!N25)","v":""},{"$f":"IF('TOC generator worksheet'!O25=0,\"\",'TOC generator worksheet'!O25)","v":""},{"$f":"IF('TOC generator worksheet'!P25=0,\"\",'TOC generator worksheet'!P25)","v":""},{"$f":"IF('TOC generator worksheet'!Q25=0,\"\",'TOC generator worksheet'!Q25)","v":""},{"$f":"IF('TOC generator worksheet'!R25=0,\"\",'TOC generator worksheet'!R25)","v":""},{"$f":"IF('TOC generator worksheet'!S25=0,\"\",'TOC generator worksheet'!S25)","v":""},0,0,{"$f":"IF('TOC generator worksheet'!V25=0,\"\",'TOC generator worksheet'!V25)","v":""},null,{"$f":"ProjectRecords!J26","v":0},{"$f":"ProjectRecords!K26","v":0}]
[{"$f":"LEFT(ProjectRecords!D27,2)","v":""},{"$f":"MID(ProjectRecords!D27,3,99)","v":""},"",{"$f":"IF(LEN(ProjectRecords!L27)<2,\"\",ProjectRecords!L27)&IF(LEN(ProjectRecords!N27)<2,\"\",\", \"&ProjectRecords!N27)&IF(LEN(ProjectRecords!P27)<2,\"\",\", \"&ProjectRecords!P27)&IF(LEN(ProjectRecords!R27)<2,\"\",\", \"&ProjectRecords!R27)","v":""},{"$f":"IF(LEN(ProjectRecords!E27)<2,\"\",ProjectRecords!E27)","v":""}," ",{"$f":"IF('TOC generator worksheet'!L26=0,\"\",'TOC generator worksheet'!L26)","v":""},{"$f":"IF('TOC generator worksheet'!M26=0,\"\",'TOC generator worksheet'!M26)","v":""},{"$f":"IF('TOC generator worksheet'!N26=0,\"\",'TOC generator worksheet'!N26)","v":""},{"$f":"IF('TOC generator worksheet'!O26=0,\"\",'TOC generator worksheet'!O26)","v":""},{"$f":"IF('TOC generator worksheet'!P26=0,\"\",'TOC generator worksheet'!P26)","v":""},{"$f":"IF('TOC generator worksheet'!Q26=0,\"\",'TOC generator worksheet'!Q26)","v":""},{"$f":"IF('TOC generator worksheet'!R26=0,\"\",'TOC generator worksheet'!R26)","v":""},{"$f":"IF('TOC generator worksheet'!S26=0,\"\",'TOC generator worksheet'!S26)","v":""},0,0,{"$f":"IF('TOC generator worksheet'!V26=0,\"\",'TOC generator worksheet'!V26)","v":""},null,{"$f":"ProjectRecords!J27","v":0},{"$f":"ProjectRecords!K27","v":0}]
[{"$f":"LEFT(ProjectRecords!D28,2)","v":""},{"$f":"MID(ProjectRecords!D28,3,99)","v":""},"",{"$f":"IF(LEN(ProjectRecords!L28)<2,\"\",ProjectRecords!L28)&IF(LEN(ProjectRecords!N28)<2,\"\",\", \"&ProjectRecords!N28)&IF(LEN(ProjectRecords!P28)<2,\"\",\", \"&ProjectRecords!P28)&IF(LEN(ProjectRecords!R28)<2,\"\",\", \"&ProjectRecords!R28)","v":""},{"$f":"IF(LEN(ProjectRecords!E28)<2,\"\",ProjectRecords!E28)","v":""}," ",{"$f":"IF('TOC generator worksheet'!L27=0,\"\",'TOC generator worksheet'!L27)","v":""},{"$f":"IF('TOC generator worksheet'!M27=0,\"\",'TOC generator worksheet'!M27)","v":""},{"$f":"IF('TOC generator worksheet'!N27=0,\"\",'TOC generator worksheet'!N27)","v":""},{"$f":"IF('TOC generator worksheet'!O27=0,\"\",'TOC generator worksheet'!O27)","v":""},{"$f":"IF('TOC generator worksheet'!P27=0,\"\",'TOC generator worksheet'!P27)","v":""},{"$f":"IF('TOC generator worksheet'!Q27=0,\"\",'TOC generator worksheet'!Q27)","v":""},{"$f":"IF('TOC generator worksheet'!R27=0,\"\",'TOC generator worksheet'!R27)","v":""},{"$f":"IF('TOC generator worksheet'!S27=0,\"\",'TOC generator worksheet'!S27)","v":""},0,0,{"$f":"IF('TOC generator worksheet'!V27=0,\"\",'TOC generator worksheet'!V27)","v":""},null,{"$f":"ProjectRecords!J28","v":0},{"$f":"ProjectRecords!K28","v":0}]
[{"$f":"LEFT(ProjectRecords!D29,2)","v":""},{"$f":"MID(ProjectRecords!D29,3,99)","v":""},"",{"$f":"IF(LEN(ProjectRecords!L29)<2,\"\",ProjectRecords!L29)&IF(LEN(ProjectRecords!N29)<2,\"\",\", \"&ProjectRecords!N29)&IF(LEN(ProjectRecords!P29)<2,\"\",\", \"&ProjectRecords!P29)&IF(LEN(ProjectRecords!R29)<2,\"\",\", \"&ProjectRecords!R29)","v":""},{"$f":"IF(LEN(ProjectRecords!E29)<2,\"\",ProjectRecords!E29)","v":""}," ",{"$f":"IF('TOC generator worksheet'!L28=0,\"\",'TOC generator worksheet'!L28)","v":""},{"$f":"IF('TOC generator worksheet'!M28=0,\"\",'TOC generator worksheet'!M28)","v":""},{"$f":"IF('TOC generator worksheet'!N28=0,\"\",'TOC generator worksheet'!N28)","v":""},{"$f":"IF('TOC generator worksheet'!O28=0,\"\",'TOC generator worksheet'!O28)","v":""},{"$f":"IF('TOC generator worksheet'!P28=0,\"\",'TOC generator worksheet'!P28)","v":""},{"$f":"IF('TOC generator worksheet'!Q28=0,\"\",'TOC generator worksheet'!Q28)","v":""},{"$f":"IF('TOC generator worksheet'!R28=0,\"\",'TOC generator worksheet'!R28)","v":""},{"$f":"IF('TOC generator worksheet'!S28=0,\"\",'TOC generator worksheet'!S28)","v":""},0,0,{"$f":"IF('TOC generator worksheet'!V28=0,\"\",'TOC generator worksheet'!V28)","v":""},null,{"$f":"ProjectRecords!J29","v":0},{"$f":"ProjectRecords!K29","v":0}]
[{"$f":"LEFT(ProjectRecords!D30,2)","v":""},{"$f":"MID(ProjectRecords!D30,3,99)","v":""},"",{"$f":"IF(LEN(ProjectRecords!L30)<2,\"\",ProjectRecords!L30)&IF(LEN(ProjectRecords!N30)<2,\"\",\", \"&ProjectRecords!N30)&IF(LEN(ProjectRecords!P30)<2,\"\",\", \"&ProjectRecords!P30)&IF(LEN(ProjectRecords!R30)<2,\"\",\", \"&ProjectRecords!R30)","v":""},{"$f":"IF(LEN(ProjectRecords!E30)<2,\"\",ProjectRecords!E30)","v":""}," ",{"$f":"IF('TOC generator worksheet'!L29=0,\"\",'TOC generator worksheet'!L29)","v":""},{"$f":"IF('TOC generator worksheet'!M29=0,\"\",'TOC generator worksheet'!M29)","v":""},{"$f":"IF('TOC generator worksheet'!N29=0,\"\",'TOC generator worksheet'!N29)","v":""},{"$f":"IF('TOC generator worksheet'!O29=0,\"\",'TOC generator worksheet'!O29)","v":""},{"$f":"IF('TOC generator worksheet'!P29=0,\"\",'TOC generator worksheet'!P29)","v":""},{"$f":"IF('TOC generator worksheet'!Q29=0,\"\",'TOC generator worksheet'!Q29)","v":""},{"$f":"IF('TOC generator worksheet'!R29=0,\"\",'TOC generator worksheet'!R29)","v":""},{"$f":"IF('TOC generator worksheet'!S29=0,\"\",'TOC generator worksheet'!S29)","v":""},0,0,{"$f":"IF('TOC generator worksheet'!V29=0,\"\",'TOC generator worksheet'!V29)","v":""},null,{"$f":"ProjectRecords!J30","v":0},{"$f":"ProjectRecords!K30","v":0}]
[{"$f":"LEFT(ProjectRecords!D31,2)","v":""},{"$f":"MID(ProjectRecords!D31,3,99)","v":""},"",{"$f":"IF(LEN(ProjectRecords!L31)<2,\"\",ProjectRecords!L31)&IF(LEN(ProjectRecords!N31)<2,\"\",\", \"&ProjectRecords!N31)&IF(LEN(ProjectRecords!P31)<2,\"\",\", \"&ProjectRecords!P31)&IF(LEN(ProjectRecords!R31)<2,\"\",\", \"&ProjectRecords!R31)","v":""},{"$f":"IF(LEN(ProjectRecords!E31)<2,\"\",ProjectRecords!E31)","v":""}," ",{"$f":"IF('TOC generator worksheet'!L30=0,\"\",'TOC generator worksheet'!L30)","v":""},{"$f":"IF('TOC generator worksheet'!M30=0,\"\",'TOC generator worksheet'!M30)","v":""},{"$f":"IF('TOC generator worksheet'!N30=0,\"\",'TOC generator worksheet'!N30)","v":""},{"$f":"IF('TOC generator worksheet'!O30=0,\"\",'TOC generator worksheet'!O30)","v":""},{"$f":"IF('TOC generator worksheet'!P30=0,\"\",'TOC generator worksheet'!P30)","v":""},{"$f":"IF('TOC generator worksheet'!Q30=0,\"\",'TOC generator worksheet'!Q30)","v":""},{"$f":"IF('TOC generator worksheet'!R30=0,\"\",'TOC generator worksheet'!R30)","v":""},{"$f":"IF('TOC generator worksheet'!S30=0,\"\",'TOC generator worksheet'!S30)","v":""},0,0,{"$f":"IF('TOC generator worksheet'!V30=0,\"\",'TOC generator worksheet'!V30)","v":""},null,{"$f":"ProjectRecords!J31","v":0},{"$f":"ProjectRecords!K31","v":0}]
[{"$f":"LEFT(ProjectRecords!D32,2)","v":""},{"$f":"MID(ProjectRecords!D32,3,99)","v":""},"",{"$f":"IF(LEN(ProjectRecords!L32)<2,\"\",ProjectRecords!L32)&IF(LEN(ProjectRecords!N32)<2,\"\",\", \"&ProjectRecords!N32)&IF(LEN(ProjectRecords!P32)<2,\"\",\", \"&ProjectRecords!P32)&IF(LEN(ProjectRecords!R32)<2,\"\",\", \"&ProjectRecords!R32)","v":""},{"$f":"IF(LEN(ProjectRecords!E32)<2,\"\",ProjectRecords!E32)","v":""}," ",{"$f":"IF('TOC generator worksheet'!L31=0,\"\",'TOC generator worksheet'!L31)","v":""},{"$f":"IF('TOC generator worksheet'!M31=0,\"\",'TOC generator worksheet'!M31)","v":""},{"$f":"IF('TOC generator worksheet'!N31=0,\"\",'TOC generator worksheet'!N31)","v":""},{"$f":"IF('TOC generator worksheet'!O31=0,\"\",'TOC generator worksheet'!O31)","v":""},{"$f":"IF('TOC generator worksheet'!P31=0,\"\",'TOC generator worksheet'!P31)","v":""},{"$f":"IF('TOC generator worksheet'!Q31=0,\"\",'TOC generator worksheet'!Q31)","v":""},{"$f":"IF('TOC generator worksheet'!R31=0,\"\",'TOC generator worksheet'!R31)","v":""},{"$f":"IF('TOC generator worksheet'!S31=0,\"\",'TOC generator worksheet'!S31)","v":""},0,0,{"$f":"IF('TOC generator worksheet'!V31=0,\"\",'TOC generator worksheet'!V31)","v":""},null,{"$f":"ProjectRecords!J32","v":0},{"$f":"ProjectRecords!K32","v":0}]
[{"$f":"LEFT(ProjectRecords!D33,2)","v":""},{"$f":"MID(ProjectRecords!D33,3,99)","v":""},"",{"$f":"IF(LEN(ProjectRecords!L33)<2,\"\",ProjectRecords!L33)&IF(LEN(ProjectRecords!N33)<2,\"\",\", \"&ProjectRecords!N33)&IF(LEN(ProjectRecords!P33)<2,\"\",\", \"&ProjectRecords!P33)&IF(LEN(ProjectRecords!R33)<2,\"\",\", \"&ProjectRecords!R33)","v":""},{"$f":"IF(LEN(ProjectRecords!E33)<2,\"\",ProjectRecords!E33)","v":""}," ",{"$f":"IF('TOC generator worksheet'!L32=0,\"\",'TOC generator worksheet'!L32)","v":""},{"$f":"IF('TOC generator worksheet'!M32=0,\"\",'TOC generator worksheet'!M32)","v":""},{"$f":"IF('TOC generator worksheet'!N32=0,\"\",'TOC generator worksheet'!N32)","v":""},{"$f":"IF('TOC generator worksheet'!O32=0,\"\",'TOC generator worksheet'!O32)","v":""},{"$f":"IF('TOC generator worksheet'!P32=0,\"\",'TOC generator worksheet'!P32)","v":""},{"$f":"IF('TOC generator worksheet'!Q32=0,\"\",'TOC generator worksheet'!Q32)","v":""},{"$f":"IF('TOC generator worksheet'!R32=0,\"\",'TOC generator worksheet'!R32)","v":""},{"$f":"IF('TOC generator worksheet'!S32=0,\"\",'TOC generator worksheet'!S32)","v":""},0,0,{"$f":"IF('TOC generator worksheet'!V32=0,\"\",'TOC generator worksheet'!V32)","v":""},null,{"$f":"ProjectRecords!J33","v":0},{"$f":"ProjectRecords!K33","v":0}]
[{"$f":"LEFT(ProjectRecords!D34,2)","v":""},{"$f":"MID(ProjectRecords!D34,3,99)","v":""},"",{"$f":"IF(LEN(ProjectRecords!L34)<2,\"\",ProjectRecords!L34)&IF(LEN(ProjectRecords!N34)<2,\"\",\", \"&ProjectRecords!N34)&IF(LEN(ProjectRecords!P34)<2,\"\",\", \"&ProjectRecords!P34)&IF(LEN(ProjectRecords!R34)<2,\"\",\", \"&ProjectRecords!R34)","v":""},{"$f":"IF(LEN(ProjectRecords!E34)<2,\"\",ProjectRecords!E34)","v":""}," ",{"$f":"IF('TOC generator worksheet'!L33=0,\"\",'TOC generator worksheet'!L33)","v":""},{"$f":"IF('TOC generator worksheet'!M33=0,\"\",'TOC generator worksheet'!M33)","v":""},{"$f":"IF('TOC generator worksheet'!N33=0,\"\",'TOC generator worksheet'!N33)","v":""},{"$f":"IF('TOC generator worksheet'!O33=0,\"\",'TOC generator worksheet'!O33)","v":""},{"$f":"IF('TOC generator worksheet'!P33=0,\"\",'TOC generator worksheet'!P33)","v":""},{"$f":"IF('TOC generator worksheet'!Q33=0,\"\",'TOC generator worksheet'!Q33)","v":""},{"$f":"IF('TOC generator worksheet'!R33=0,\"\",'TOC generator worksheet'!R33)","v":""},{"$f":"IF('TOC generator worksheet'!S33=0,\"\",'TOC generator worksheet'!S33)","v":""},0,0,{"$f":"IF('TOC generator worksheet'!V33=0,\"\",'TOC generator worksheet'!V33)","v":""},null,{"$f":"ProjectRecords!J34","v":0},{"$f":"ProjectRecords!K34","v":0}]
[{"$f":"LEFT(ProjectRecords!D35,2)","v":""},{"$f":"MID(ProjectRecords!D35,3,99)","v":""},"",{"$f":"IF(LEN(ProjectRecords!L35)<2,\"\",ProjectRecords!L35)&IF(LEN(ProjectRecords!N35)<2,\"\",\", \"&ProjectRecords!N35)&IF(LEN(ProjectRecords!P35)<2,\"\",\", \"&ProjectRecords!P35)&IF(LEN(ProjectRecords!R35)<2,\"\",\", \"&ProjectRecords!R35)","v":""},{"$f":"IF(LEN(ProjectRecords!E35)<2,\"\",ProjectRecords!E35)","v":""}," ",{"$f":"IF('TOC generator worksheet'!L34=0,\"\",'TOC generator worksheet'!L34)","v":""},{"$f":"IF('TOC generator worksheet'!M34=0,\"\",'TOC generator worksheet'!M34)","v":""},{"$f":"IF('TOC generator worksheet'!N34=0,\"\",'TOC generator worksheet'!N34)","v":""},{"$f":"IF('TOC generator worksheet'!O34=0,\"\",'TOC generator worksheet'!O34)","v":""},{"$f":"IF('TOC generator worksheet'!P34=0,\"\",'TOC generator worksheet'!P34)","v":""},{"$f":"IF('TOC generator worksheet'!Q34=0,\"\",'TOC generator worksheet'!Q34)","v":""},{"$f":"IF('TOC generator worksheet'!R34=0,\"\",'TOC generator worksheet'!R34)","v":""},{"$f":"IF('TOC generator worksheet'!S34=0,\"\",'TOC generator worksheet'!S34)","v":""},0,0,{"$f":"IF('TOC generator worksheet'!V34=0,\"\",'TOC generator worksheet'!V34)","v":""},null,{"$f":"ProjectRecords!J35","v":0},{"$f":"ProjectRecords!K35","v":0}]
[{"$f":"LEFT(ProjectRecords!D36,2)","v":""},{"$f":"MID(ProjectRecords!D36,3,99)","v":""},"",{"$f":"IF(LEN(ProjectRecords!L36)<2,\"\",ProjectRecords!L36)&IF(LEN(ProjectRecords!N36)<2,\"\",\", \"&ProjectRecords!N36)&IF(LEN(ProjectRecords!P36)<2,\"\",\", \"&ProjectRecords!P36)&IF(LEN(ProjectRecords!R36)<2,\"\",\", \"&ProjectRecords!R36)","v":""},{"$f":"IF(LEN(ProjectRecords!E36)<2,\"\",ProjectRecords!E36)","v":""}," ",{"$f":"IF('TOC generator worksheet'!L35=0,\"\",'TOC generator worksheet'!L35)","v":""},{"$f":"IF('TOC generator worksheet'!M35=0,\"\",'TOC generator worksheet'!M35)","v":""},{"$f":"IF('TOC generator worksheet'!N35=0,\"\",'TOC generator worksheet'!N35)","v":""},{"$f":"IF('TOC generator worksheet'!O35=0,\"\",'TOC generator worksheet'!O35)","v":""},{"$f":"IF('TOC generator worksheet'!P35=0,\"\",'TOC generator worksheet'!P35)","v":""},{"$f":"IF('TOC generator worksheet'!Q35=0,\"\",'TOC generator worksheet'!Q35)","v":""},{"$f":"IF('TOC generator worksheet'!R35=0,\"\",'TOC generator worksheet'!R35)","v":""},{"$f":"IF('TOC generator worksheet'!S35=0,\"\",'TOC generator worksheet'!S35)","v":""},0,0,{"$f":"IF('TOC generator worksheet'!V35=0,\"\",'TOC generator worksheet'!V35)","v":""},null,{"$f":"ProjectRecords!J36","v":0},{"$f":"ProjectRecords!K36","v":0}]
[{"$f":"LEFT(ProjectRecords!D37,2)","v":""},{"$f":"MID(ProjectRecords!D37,3,99)","v":""},"",{"$f":"IF(LEN(ProjectRecords!L37)<2,\"\",ProjectRecords!L37)&IF(LEN(ProjectRecords!N37)<2,\"\",\", \"&ProjectRecords!N37)&IF(LEN(ProjectRecords!P37)<2,\"\",\", \"&ProjectRecords!P37)&IF(LEN(ProjectRecords!R37)<2,\"\",\", \"&ProjectRecords!R37)","v":""},{"$f":"IF(LEN(ProjectRecords!E37)<2,\"\",ProjectRecords!E37)","v":""}," ",{"$f":"IF('TOC generator worksheet'!L36=0,\"\",'TOC generator worksheet'!L36)","v":""},{"$f":"IF('TOC generator worksheet'!M36=0,\"\",'TOC generator worksheet'!M36)","v":""},{"$f":"IF('TOC generator worksheet'!N36=0,\"\",'TOC generator worksheet'!N36)","v":""},{"$f":"IF('TOC generator worksheet'!O36=0,\"\",'TOC generator worksheet'!O36)","v":""},{"$f":"IF('TOC generator worksheet'!P36=0,\"\",'TOC generator worksheet'!P36)","v":""},{"$f":"IF('TOC generator worksheet'!Q36=0,\"\",'TOC generator worksheet'!Q36)","v":""},{"$f":"IF('TOC generator worksheet'!R36=0,\"\",'TOC generator worksheet'!R36)","v":""},{"$f":"IF('TOC generator worksheet'!S36=0,\"\",'TOC generator worksheet'!S36)","v":""},0,0,{"$f":"IF('TOC generator worksheet'!V36=0,\"\",'TOC generator worksheet'!V36)","v":""},null,{"$f":"ProjectRecords!J37","v":0},{"$f":"ProjectRecords!K37","v":0}]
[{"$f":"LEFT(ProjectRecords!D38,2)","v":""},{"$f":"MID(ProjectRecords!D38,3,99)","v":""},"",{"$f":"IF(LEN(ProjectRecords!L38)<2,\"\",ProjectRecords!L38)&IF(LEN(ProjectRecords!N38)<2,\"\",\", \"&ProjectRecords!N38)&IF(LEN(ProjectRecords!P38)<2,\"\",\", \"&ProjectRecords!P38)&IF(LEN(ProjectRecords!R38)<2,\"\",\", \"&ProjectRecords!R38)","v":""},{"$f":"IF(LEN(ProjectRecords!E38)<2,\"\",ProjectRecords!E38)","v":""}," ",{"$f":"IF('TOC generator worksheet'!L37=0,\"\",'TOC generator worksheet'!L37)","v":""},{"$f":"IF('TOC generator worksheet'!M37=0,\"\",'TOC generator worksheet'!M37)","v":""},{"$f":"IF('TOC generator worksheet'!N37=0,\"\",'TOC generator worksheet'!N37)","v":""},{"$f":"IF('TOC generator worksheet'!O37=0,\"\",'TOC generator worksheet'!O37)","v":""},{"$f":"IF('TOC generator worksheet'!P37=0,\"\",'TOC generator worksheet'!P37)","v":""},{"$f":"IF('TOC generator worksheet'!Q37=0,\"\",'TOC generator worksheet'!Q37)","v":""},{"$f":"IF('TOC generator worksheet'!R37=0,\"\",'TOC generator worksheet'!R37)","v":""},{"$f":"IF('TOC generator worksheet'!S37=0,\"\",'TOC generator worksheet'!S37)","v":""},0,0,{"$f":"IF('TOC generator worksheet'!V37=0,\"\",'TOC generator worksheet'!V37)","v":""},null,{"$f":"ProjectRecords!J38","v":0},{"$f":"ProjectRecords!K38","v":0}]
[{"$f":"LEFT(ProjectRecords!D39,2)","v":""},{"$f":"MID(ProjectRecords!D39,3,99)","v":""},"",{"$f":"IF(LEN(ProjectRecords!L39)<2,\"\",ProjectRecords!L39)&IF(LEN(ProjectRecords!N39)<2,\"\",\", \"&ProjectRecords!N39)&IF(LEN(ProjectRecords!P39)<2,\"\",\", \"&ProjectRecords!P39)&IF(LEN(ProjectRecords!R39)<2,\"\",\", \"&ProjectRecords!R39)","v":""},{"$f":"IF(LEN(ProjectRecords!E39)<2,\"\",ProjectRecords!E39)","v":""}," ",{"$f":"IF('TOC generator worksheet'!L38=0,\"\",'TOC generator worksheet'!L38)","v":""},{"$f":"IF('TOC generator worksheet'!M38=0,\"\",'TOC generator worksheet'!M38)","v":""},{"$f":"IF('TOC generator worksheet'!N38=0,\"\",'TOC generator worksheet'!N38)","v":""},{"$f":"IF('TOC generator worksheet'!O38=0,\"\",'TOC generator worksheet'!O38)","v":""},{"$f":"IF('TOC generator worksheet'!P38=0,\"\",'TOC generator worksheet'!P38)","v":""},{"$f":"IF('TOC generator worksheet'!Q38=0,\"\",'TOC generator worksheet'!Q38)","v":""},{"$f":"IF('TOC generator worksheet'!R38=0,\"\",'TOC generator worksheet'!R38)","v":""},{"$f":"IF('TOC generator worksheet'!S38=0,\"\",'TOC generator worksheet'!S38)","v":""},0,0,{"$f":"IF('TOC generator worksheet'!V38=0,\"\",'TOC generator worksheet'!V38)","v":""},null,{"$f":"ProjectRecords!J39","v":0},{"$f":"ProjectRecords!K39","v":0}]
[{"$f":"LEFT(ProjectRecords!D40,2)","v":""},{"$f":"MID(ProjectRecords!D40,3,99)","v":""},"",{"$f":"IF(LEN(ProjectRecords!L40)<2,\"\",ProjectRecords!L40)&IF(LEN(ProjectRecords!N40)<2,\"\",\", \"&ProjectRecords!N40)&IF(LEN(ProjectRecords!P40)<2,\"\",\", \"&ProjectRecords!P40)&IF(LEN(ProjectRecords!R40)<2,\"\",\", \"&ProjectRecords!R40)","v":""},{"$f":"IF(LEN(ProjectRecords!E40)<2,\"\",ProjectRecords!E40)","v":""}," ",{"$f":"IF('TOC generator worksheet'!L39=0,\"\",'TOC generator worksheet'!L39)","v":""},{"$f":"IF('TOC generator worksheet'!M39=0,\"\",'TOC generator worksheet'!M39)","v":""},{"$f":"IF('TOC generator worksheet'!N39=0,\"\",'TOC generator worksheet'!N39)","v":""},{"$f":"IF('TOC generator worksheet'!O39=0,\"\",'TOC generator worksheet'!O39)","v":""},{"$f":"IF('TOC generator worksheet'!P39=0,\"\",'TOC generator worksheet'!P39)","v":""},{"$f":"IF('TOC generator worksheet'!Q39=0,\"\",'TOC generator worksheet'!Q39)","v":""},{"$f":"IF('TOC generator worksheet'!R39=0,\"\",'TOC generator worksheet'!R39)","v":""},{"$f":"IF('TOC generator worksheet'!S39=0,\"\",'TOC generator worksheet'!S39)","v":""},0,0,{"$f":"IF('TOC generator worksheet'!V39=0,\"\",'TOC generator worksheet'!V39)","v":""},null,{"$f":"ProjectRecords!J40","v":0},{"$f":"ProjectRecords!K40","v":0}]
[{"$f":"LEFT(ProjectRecords!D41,2)","v":""},{"$f":"MID(ProjectRecords!D41,3,99)","v":""},"",{"$f":"IF(LEN(ProjectRecords!L41)<2,\"\",ProjectRecords!L41)&IF(LEN(ProjectRecords!N41)<2,\"\",\", \"&ProjectRecords!N41)&IF(LEN(ProjectRecords!P41)<2,\"\",\", \"&ProjectRecords!P41)&IF(LEN(ProjectRecords!R41)<2,\"\",\", \"&ProjectRecords!R41)","v":""},{"$f":"IF(LEN(ProjectRecords!E41)<2,\"\",ProjectRecords!E41)","v":""}," ",{"$f":"IF('TOC generator worksheet'!L40=0,\"\",'TOC generator worksheet'!L40)","v":""},{"$f":"IF('TOC generator worksheet'!M40=0,\"\",'TOC generator worksheet'!M40)","v":""},{"$f":"IF('TOC generator worksheet'!N40=0,\"\",'TOC generator worksheet'!N40)","v":""},{"$f":"IF('TOC generator worksheet'!O40=0,\"\",'TOC generator worksheet'!O40)","v":""},{"$f":"IF('TOC generator worksheet'!P40=0,\"\",'TOC generator worksheet'!P40)","v":""},{"$f":"IF('TOC generator worksheet'!Q40=0,\"\",'TOC generator worksheet'!Q40)","v":""},{"$f":"IF('TOC generator worksheet'!R40=0,\"\",'TOC generator worksheet'!R40)","v":""},{"$f":"IF('TOC generator worksheet'!S40=0,\"\",'TOC generator worksheet'!S40)","v":""},0,0,{"$f":"IF('TOC generator worksheet'!V40=0,\"\",'TOC generator worksheet'!V40)","v":""},null,{"$f":"ProjectRecords!J41","v":0},{"$f":"ProjectRecords!K41","v":0}]
[{"$f":"LEFT(ProjectRecords!D42,2)","v":""},{"$f":"MID(ProjectRecords!D42,3,99)","v":""},"",{"$f":"IF(LEN(ProjectRecords!L42)<2,\"\",ProjectRecords!L42)&IF(LEN(ProjectRecords!N42)<2,\"\",\", \"&ProjectRecords!N42)&IF(LEN(ProjectRecords!P42)<2,\"\",\", \"&ProjectRecords!P42)&IF(LEN(ProjectRecords!R42)<2,\"\",\", \"&ProjectRecords!R42)","v":""},{"$f":"IF(LEN(ProjectRecords!E42)<2,\"\",ProjectRecords!E42)","v":""}," ",{"$f":"IF('TOC generator worksheet'!L41=0,\"\",'TOC generator worksheet'!L41)","v":""},{"$f":"IF('TOC generator worksheet'!M41=0,\"\",'TOC generator worksheet'!M41)","v":""},{"$f":"IF('TOC generator worksheet'!N41=0,\"\",'TOC generator worksheet'!N41)","v":""},{"$f":"IF('TOC generator worksheet'!O41=0,\"\",'TOC generator worksheet'!O41)","v":""},{"$f":"IF('TOC generator worksheet'!P41=0,\"\",'TOC generator worksheet'!P41)","v":""},{"$f":"IF('TOC generator worksheet'!Q41=0,\"\",'TOC generator worksheet'!Q41)","v":""},{"$f":"IF('TOC generator worksheet'!R41=0,\"\",'TOC generator worksheet'!R41)","v":""},{"$f":"IF('TOC generator worksheet'!S41=0,\"\",'TOC generator worksheet'!S41)","v":""},0,0,{"$f":"IF('TOC generator worksheet'!V41=0,\"\",'TOC generator worksheet'!V41)","v":""},null,{"$f":"ProjectRecords!J42","v":0},{"$f":"ProjectRecords!K42","v":0}]
[{"$f":"LEFT(ProjectRecords!D43,2)","v":""},{"$f":"MID(ProjectRecords!D43,3,99)","v":""},"",{"$f":"IF(LEN(ProjectRecords!L43)<2,\"\",ProjectRecords!L43)&IF(LEN(ProjectRecords!N43)<2,\"\",\", \"&ProjectRecords!N43)&IF(LEN(ProjectRecords!P43)<2,\"\",\", \"&ProjectRecords!P43)&IF(LEN(ProjectRecords!R43)<2,\"\",\", \"&ProjectRecords!R43)","v":""},{"$f":"IF(LEN(ProjectRecords!E43)<2,\"\",ProjectRecords!E43)","v":""}," ",{"$f":"IF('TOC generator worksheet'!L42=0,\"\",'TOC generator worksheet'!L42)","v":""},{"$f":"IF('TOC generator worksheet'!M42=0,\"\",'TOC generator worksheet'!M42)","v":""},{"$f":"IF('TOC generator worksheet'!N42=0,\"\",'TOC generator worksheet'!N42)","v":""},{"$f":"IF('TOC generator worksheet'!O42=0,\"\",'TOC generator worksheet'!O42)","v":""},{"$f":"IF('TOC generator worksheet'!P42=0,\"\",'TOC generator worksheet'!P42)","v":""},{"$f":"IF('TOC generator worksheet'!Q42=0,\"\",'TOC generator worksheet'!Q42)","v":""},{"$f":"IF('TOC generator worksheet'!R42=0,\"\",'TOC generator worksheet'!R42)","v":""},{"$f":"IF('TOC generator worksheet'!S42=0,\"\",'TOC generator worksheet'!S42)","v":""},0,0,{"$f":"IF('TOC generator worksheet'!V42=0,\"\",'TOC generator worksheet'!V42)","v":""},null,{"$f":"ProjectRecords!J43","v":0},{"$f":"ProjectRecords!K43","v":0}]
[{"$f":"LEFT(ProjectRecords!D44,2)","v":""},{"$f":"MID(ProjectRecords!D44,3,99)","v":""},"",{"$f":"IF(LEN(ProjectRecords!L44)<2,\"\",ProjectRecords!L44)&IF(LEN(ProjectRecords!N44)<2,\"\",\", \"&ProjectRecords!N44)&IF(LEN(ProjectRecords!P44)<2,\"\",\", \"&ProjectRecords!P44)&IF(LEN(ProjectRecords!R44)<2,\"\",\", \"&ProjectRecords!R44)","v":""},{"$f":"IF(LEN(ProjectRecords!E44)<2,\"\",ProjectRecords!E44)","v":""}," ",{"$f":"IF('TOC generator worksheet'!L43=0,\"\",'TOC generator worksheet'!L43)","v":""},{"$f":"IF('TOC generator worksheet'!M43=0,\"\",'TOC generator worksheet'!M43)","v":""},{"$f":"IF('TOC generator worksheet'!N43=0,\"\",'TOC generator worksheet'!N43)","v":""},{"$f":"IF('TOC generator worksheet'!O43=0,\"\",'TOC generator worksheet'!O43)","v":""},{"$f":"IF('TOC generator worksheet'!P43=0,\"\",'TOC generator worksheet'!P43)","v":""},{"$f":"IF('TOC generator worksheet'!Q43=0,\"\",'TOC generator worksheet'!Q43)","v":""},{"$f":"IF('TOC generator worksheet'!R43=0,\"\",'TOC generator worksheet'!R43)","v":""},{"$f":"IF('TOC generator worksheet'!S43=0,\"\",'TOC generator worksheet'!S43)","v":""},0,0,{"$f":"IF('TOC generator worksheet'!V43=0,\"\",'TOC generator worksheet'!V43)","v":""},null,{"$f":"ProjectRecords!J44","v":0},{"$f":"ProjectRecords!K44","v":0}]
[{"$f":"LEFT(ProjectRecords!D45,2)","v":""},{"$f":"MID(ProjectRecords!D45,3,99)","v":""},"",{"$f":"IF(LEN(ProjectRecords!L45)<2,\"\",ProjectRecords!L45)&IF(LEN(ProjectRecords!N45)<2,\"\",\", \"&ProjectRecords!N45)&IF(LEN(ProjectRecords!P45)<2,\"\",\", \"&ProjectRecords!P45)&IF(LEN(ProjectRecords!R45)<2,\"\",\", \"&ProjectRecords!R45)","v":""},{"$f":"IF(LEN(ProjectRecords!E45)<2,\"\",ProjectRecords!E45)","v":""}," ",{"$f":"IF('TOC generator worksheet'!L44=0,\"\",'TOC generator worksheet'!L44)","v":""},{"$f":"IF('TOC generator worksheet'!M44=0,\"\",'TOC generator worksheet'!M44)","v":""},{"$f":"IF('TOC generator worksheet'!N44=0,\"\",'TOC generator worksheet'!N44)","v":""},{"$f":"IF('TOC generator worksheet'!O44=0,\"\",'TOC generator worksheet'!O44)","v":""},{"$f":"IF('TOC generator worksheet'!P44=0,\"\",'TOC generator worksheet'!P44)","v":""},{"$f":"IF('TOC generator worksheet'!Q44=0,\"\",'TOC generator worksheet'!Q44)","v":""},{"$f":"IF('TOC generator worksheet'!R44=0,\"\",'TOC generator worksheet'!R44)","v":""},{"$f":"IF('TOC generator worksheet'!S44=0,\"\",'TOC generator worksheet'!S44)","v":""},0,0,{"$f":"IF('TOC generator worksheet'!V44=0,\"\",'TOC generator worksheet'!V44)","v":""},null,{"$f":"ProjectRecords!J45","v":0},{"$f":"ProjectRecords!K45","v":0}]
[{"$f":"LEFT(ProjectRecords!D46,2)","v":""},{"$f":"MID(ProjectRecords!D46,3,99)","v":""},"",{"$f":"IF(LEN(ProjectRecords!L46)<2,\"\",ProjectRecords!L46)&IF(LEN(ProjectRecords!N46)<2,\"\",\", \"&ProjectRecords!N46)&IF(LEN(ProjectRecords!P46)<2,\"\",\", \"&ProjectRecords!P46)&IF(LEN(ProjectRecords!R46)<2,\"\",\", \"&ProjectRecords!R46)","v":""},{"$f":"IF(LEN(ProjectRecords!E46)<2,\"\",ProjectRecords!E46)","v":""}," ",{"$f":"IF('TOC generator worksheet'!L45=0,\"\",'TOC generator worksheet'!L45)","v":""},{"$f":"IF('TOC generator worksheet'!M45=0,\"\",'TOC generator worksheet'!M45)","v":""},{"$f":"IF('TOC generator worksheet'!N45=0,\"\",'TOC generator worksheet'!N45)","v":""},{"$f":"IF('TOC generator worksheet'!O45=0,\"\",'TOC generator worksheet'!O45)","v":""},{"$f":"IF('TOC generator worksheet'!P45=0,\"\",'TOC generator worksheet'!P45)","v":""},{"$f":"IF('TOC generator worksheet'!Q45=0,\"\",'TOC generator worksheet'!Q45)","v":""},{"$f":"IF('TOC generator worksheet'!R45=0,\"\",'TOC generator worksheet'!R45)","v":""},{"$f":"IF('TOC generator worksheet'!S45=0,\"\",'TOC generator worksheet'!S45)","v":""},0,0,{"$f":"IF('TOC generator worksheet'!V45=0,\"\",'TOC generator worksheet'!V45)","v":""},null,{"$f":"ProjectRecords!J46","v":0},{"$f":"ProjectRecords!K46","v":0}]
[{"$f":"LEFT(ProjectRecords!D47,2)","v":""},{"$f":"MID(ProjectRecords!D47,3,99)","v":""},"",{"$f":"IF(LEN(ProjectRecords!L47)<2,\"\",ProjectRecords!L47)&IF(LEN(ProjectRecords!N47)<2,\"\",\", \"&ProjectRecords!N47)&IF(LEN(ProjectRecords!P47)<2,\"\",\", \"&ProjectRecords!P47)&IF(LEN(ProjectRecords!R47)<2,\"\",\", \"&ProjectRecords!R47)","v":""},{"$f":"IF(LEN(ProjectRecords!E47)<2,\"\",ProjectRecords!E47)","v":""}," ",{"$f":"IF('TOC generator worksheet'!L46=0,\"\",'TOC generator worksheet'!L46)","v":""},{"$f":"IF('TOC generator worksheet'!M46=0,\"\",'TOC generator worksheet'!M46)","v":""},{"$f":"IF('TOC generator worksheet'!N46=0,\"\",'TOC generator worksheet'!N46)","v":""},{"$f":"IF('TOC generator worksheet'!O46=0,\"\",'TOC generator worksheet'!O46)","v":""},{"$f":"IF('TOC generator worksheet'!P46=0,\"\",'TOC generator worksheet'!P46)","v":""},{"$f":"IF('TOC generator worksheet'!Q46=0,\"\",'TOC generator worksheet'!Q46)","v":""},{"$f":"IF('TOC generator worksheet'!R46=0,\"\",'TOC generator worksheet'!R46)","v":""},{"$f":"IF('TOC generator worksheet'!S46=0,\"\",'TOC generator worksheet'!S46)","v":""},0,0,{"$f":"IF('TOC generator worksheet'!V46=0,\"\",'TOC generator worksheet'!V46)","v":""},null,{"$f":"ProjectRecords!J47","v":0},{"$f":"ProjectRecords!K47","v":0}]
[{"$f":"LEFT(ProjectRecords!D48,2)","v":""},{"$f":"MID(ProjectRecords!D48,3,99)","v":""},"",{"$f":"IF(LEN(ProjectRecords!L48)<2,\"\",ProjectRecords!L48)&IF(LEN(ProjectRecords!N48)<2,\"\",\", \"&ProjectRecords!N48)&IF(LEN(ProjectRecords!P48)<2,\"\",\", \"&ProjectRecords!P48)&IF(LEN(ProjectRecords!R48)<2,\"\",\", \"&ProjectRecords!R48)","v":""},{"$f":"IF(LEN(ProjectRecords!E48)<2,\"\",ProjectRecords!E48)","v":""}," ",{"$f":"IF('TOC generator worksheet'!L47=0,\"\",'TOC generator worksheet'!L47)","v":""},{"$f":"IF('TOC generator worksheet'!M47=0,\"\",'TOC generator worksheet'!M47)","v":""},{"$f":"IF('TOC generator worksheet'!N47=0,\"\",'TOC generator worksheet'!N47)","v":""},{"$f":"IF('TOC generator worksheet'!O47=0,\"\",'TOC generator worksheet'!O47)","v":""},{"$f":"IF('TOC generator worksheet'!P47=0,\"\",'TOC generator worksheet'!P47)","v":""},{"$f":"IF('TOC generator worksheet'!Q47=0,\"\",'TOC generator worksheet'!Q47)","v":""},{"$f":"IF('TOC generator worksheet'!R47=0,\"\",'TOC generator worksheet'!R47)","v":""},{"$f":"IF('TOC generator worksheet'!S47=0,\"\",'TOC generator worksheet'!S47)","v":""},0,0,{"$f":"IF('TOC generator worksheet'!V47=0,\"\",'TOC generator worksheet'!V47)","v":""},null,{"$f":"ProjectRecords!J48","v":0},{"$f":"ProjectRecords!K48","v":0}]
[{"$f":"LEFT(ProjectRecords!D49,2)","v":""},{"$f":"MID(ProjectRecords!D49,3,99)","v":""},"",{"$f":"IF(LEN(ProjectRecords!L49)<2,\"\",ProjectRecords!L49)&IF(LEN(ProjectRecords!N49)<2,\"\",\", \"&ProjectRecords!N49)&IF(LEN(ProjectRecords!P49)<2,\"\",\", \"&ProjectRecords!P49)&IF(LEN(ProjectRecords!R49)<2,\"\",\", \"&ProjectRecords!R49)","v":""},{"$f":"IF(LEN(ProjectRecords!E49)<2,\"\",ProjectRecords!E49)","v":""}," ",{"$f":"IF('TOC generator worksheet'!L48=0,\"\",'TOC generator worksheet'!L48)","v":""},{"$f":"IF('TOC generator worksheet'!M48=0,\"\",'TOC generator worksheet'!M48)","v":""},{"$f":"IF('TOC generator worksheet'!N48=0,\"\",'TOC generator worksheet'!N48)","v":""},{"$f":"IF('TOC generator worksheet'!O48=0,\"\",'TOC generator worksheet'!O48)","v":""},{"$f":"IF('TOC generator worksheet'!P48=0,\"\",'TOC generator worksheet'!P48)","v":""},{"$f":"IF('TOC generator worksheet'!Q48=0,\"\",'TOC generator worksheet'!Q48)","v":""},{"$f":"IF('TOC generator worksheet'!R48=0,\"\",'TOC generator worksheet'!R48)","v":""},{"$f":"IF('TOC generator worksheet'!S48=0,\"\",'TOC generator worksheet'!S48)","v":""},0,0,{"$f":"IF('TOC generator worksheet'!V48=0,\"\",'TOC generator worksheet'!V48)","v":""},null,{"$f":"ProjectRecords!J49","v":0},{"$f":"ProjectRecords!K49","v":0}]
[{"$f":"LEFT(ProjectRecords!D50,2)","v":""},{"$f":"MID(ProjectRecords!D50,3,99)","v":""},"",{"$f":"IF(LEN(ProjectRecords!L50)<2,\"\",ProjectRecords!L50)&IF(LEN(ProjectRecords!N50)<2,\"\",\", \"&ProjectRecords!N50)&IF(LEN(ProjectRecords!P50)<2,\"\",\", \"&ProjectRecords!P50)&IF(LEN(ProjectRecords!R50)<2,\"\",\", \"&ProjectRecords!R50)","v":""},{"$f":"IF(LEN(ProjectRecords!E50)<2,\"\",ProjectRecords!E50)","v":""}," ",{"$f":"IF('TOC generator worksheet'!L49=0,\"\",'TOC generator worksheet'!L49)","v":""},{"$f":"IF('TOC generator worksheet'!M49=0,\"\",'TOC generator worksheet'!M49)","v":""},{"$f":"IF('TOC generator worksheet'!N49=0,\"\",'TOC generator worksheet'!N49)","v":""},{"$f":"IF('TOC generator worksheet'!O49=0,\"\",'TOC generator worksheet'!O49)","v":""},{"$f":"IF('TOC generator worksheet'!P49=0,\"\",'TOC generator worksheet'!P49)","v":""},{"$f":"IF('TOC generator worksheet'!Q49=0,\"\",'TOC generator worksheet'!Q49)","v":""},{"$f":"IF('TOC generator worksheet'!R49=0,\"\",'TOC generator worksheet'!R49)","v":""},{"$f":"IF('TOC generator worksheet'!S49=0,\"\",'TOC generator worksheet'!S49)","v":""},0,0,{"$f":"IF('TOC generator worksheet'!V49=0,\"\",'TOC generator worksheet'!V49)","v":""},null,{"$f":"ProjectRecords!J50","v":0},{"$f":"ProjectRecords!K50","v":0}]
[{"$f":"LEFT(ProjectRecords!D51,2)","v":""},{"$f":"MID(ProjectRecords!D51,3,99)","v":""},{"$f":"IF(A55=\"A/\",\"Advisory (Extension)\",IF(A55=\"C/\",\"Communication\",IF(A55=\"E/\",\"Education\",IF(A55=\"M/\",\"Management\",IF(A55=\"P/\",\"Placeholder\",IF(A55=\"R/\",\"Research\",\"\"))))))","v":""},{"$f":"IF(LEN(ProjectRecords!L51)<2,\"\",ProjectRecords!L51)&IF(LEN(ProjectRecords!N51)<2,\"\",\", \"&ProjectRecords!N51)&IF(LEN(ProjectRecords!P51)<2,\"\",\", \"&ProjectRecords!P51)&IF(LEN(ProjectRecords!R51)<2,\"\",\", \"&ProjectRecords!R51)","v":""},{"$f":"IF(LEN(ProjectRecords!E51)<2,\"\",ProjectRecords!E51)","v":""}," ",{"$f":"IF('TOC generator worksheet'!L50=0,\"\",'TOC generator worksheet'!L50)","v":""},{"$f":"IF('TOC generator worksheet'!M50=0,\"\",'TOC generator worksheet'!M50)","v":""},{"$f":"IF('TOC generator worksheet'!N50=0,\"\",'TOC generator worksheet'!N50)","v":""},{"$f":"IF('TOC generator worksheet'!O50=0,\"\",'TOC generator worksheet'!O50)","v":""},{"$f":"IF('TOC generator worksheet'!P50=0,\"\",'TOC generator worksheet'!P50)","v":""},{"$f":"IF('TOC generator worksheet'!Q50=0,\"\",'TOC generator worksheet'!Q50)","v":""},{"$f":"IF('TOC generator worksheet'!R50=0,\"\",'TOC generator worksheet'!R50)","v":""},{"$f":"IF('TOC generator worksheet'!S50=0,\"\",'TOC generator worksheet'!S50)","v":""},{"$f":"SUM(G55,I55,K55,M55)","v":0},{"$f":"SUM(H55,J55,L55,N55)","v":0},{"$f":"IF('TOC generator worksheet'!V50=0,\"\",'TOC generator worksheet'!V50)","v":""},null,{"$f":"ProjectRecords!J51","v":0},{"$f":"ProjectRecords!K51","v":0}]
[{"$f":"LEFT(ProjectRecords!D52,2)","v":""},{"$f":"MID(ProjectRecords!D52,3,99)","v":""},{"$f":"IF(A56=\"A/\",\"Advisory (Extension)\",IF(A56=\"C/\",\"Communication\",IF(A56=\"E/\",\"Education\",IF(A56=\"M/\",\"Management\",IF(A56=\"P/\",\"Placeholder\",IF(A56=\"R/\",\"Research\",\"\"))))))","v":""},{"$f":"IF(LEN(ProjectRecords!L52)<2,\"\",ProjectRecords!L52)&IF(LEN(ProjectRecords!N52)<2,\"\",\", \"&ProjectRecords!N52)&IF(LEN(ProjectRecords!P52)<2,\"\",\", \"&ProjectRecords!P52)&IF(LEN(ProjectRecords!R52)<2,\"\",\", \"&ProjectRecords!R52)","v":""},{"$f":"IF(LEN(ProjectRecords!E52)<2,\"\",ProjectRecords!E52)","v":""}," ",{"$f":"IF('TOC generator worksheet'!L51=0,\"\",'TOC generator worksheet'!L51)","v":""},{"$f":"IF('TOC generator worksheet'!M51=0,\"\",'TOC generator worksheet'!M51)","v":""},{"$f":"IF('TOC generator worksheet'!N51=0,\"\",'TOC generator worksheet'!N51)","v":""},{"$f":"IF('TOC generator worksheet'!O51=0,\"\",'TOC generator worksheet'!O51)","v":""},{"$f":"IF('TOC generator worksheet'!P51=0,\"\",'TOC generator worksheet'!P51)","v":""},{"$f":"IF('TOC generator worksheet'!Q51=0,\"\",'TOC generator worksheet'!Q51)","v":""},{"$f":"IF('TOC generator worksheet'!R51=0,\"\",'TOC generator worksheet'!R51)","v":""},{"$f":"IF('TOC generator worksheet'!S51=0,\"\",'TOC generator worksheet'!S51)","v":""},{"$f":"SUM(G56,I56,K56,M56)","v":0},{"$f":"SUM(H56,J56,L56,N56)","v":0},{"$f":"IF('TOC generator worksheet'!V51=0,\"\",'TOC generator worksheet'!V51)","v":""},null,{"$f":"ProjectRecords!J52","v":0},{"$f":"ProjectRecords!K52","v":0}]
["(no more than 50 projects)"]

{"sheet":"S1-Start Here","index":3,"n_rows":40,"n_cols":15,"rows_kept":40,"cut":false,"hidden":false,"merged":[]}
["This worksheet is:",{"$f":"MID(CELL(\"filename\",'S1-Start Here'!B1),FIND(\"]\",CELL(\"filename\",'S1-Start Here'!B1))+1,24)","v":"S1-Start Here"},"OMB no. ","0648-0362, exp 10/31/14",null,null,null,null,null,null,null,null,null,"S1-Start Here","(default worksheet name)"]
[null,28,"Don't use after","2013-12-31",null,null,null,null,null,null,null,null,null,{"$f":"IF(LEFT(N1,3)=\"S1-\",2,VALUE(MID(N1,2,99))+1)","v":2}]
[null,null,null,null,null,null,null,null,null,null,null,null,null,"2181 Seafood Production and Consumption; 2182 Hazard Resilient Coastal Communities; 2183 Ocean and Coastal Literacy and Workforce Development","(temp workspace for a current cell value)"]
[null,"SEA GRANT PROJECT SUMMARY FORM 90-2",null,null,"National Office does not track these fields:",null,"NSGO use only",null,null,null,null,null,null,"2184 Healthy Coastal Ecosystems and Economy","(temp workspace for a new selected value)"]
[null,null,null,null,null,null,null,null,null,null,null,null,null,{"$f":"IF(N3=\"\",IF(N4=\"\",\"\",N4),IF(N4=\"\",N3,N3&\"; \"&N4))","v":"2181 Seafood Production and Consumption; 2182 Hazard Resilient Coastal Communities; 2183 Ocean and Coastal Literacy and Workforce Development; 2184 Healthy Coastal Ecosystems and Economy"},"(function to concatenate the above two cells)"]
["INSTITUTION (Program): ",{"$f":"ProjDataInput!A2","v":0},null,"ICODE: ","Title"]
["TITLE: ",{"$f":"MID(INDIRECT(\"'ProjDataInput'!C\"&TEXT($N$2,\"###\")),1,999)","v":""},null,"REV. DATE:",null,null,null,null,null,null,null,null,null,{"$f":"IF('S1-Start Here'!B6=\"\",\"\",'S1-Start Here'!B6)","v":0},"(Program listed on first 90-2)"]
[null,null,null,"INIT. DATE:"]
["PREFIX (A,C,E,M,P or R): "," PROJECT NUMBER",null,"COMPL. DATE:"]
[{"$f":"LEFT(INDIRECT(\"'ProjDataInput'!b\"&TEXT($N$2,\"###\")),2)","v":""},{"$f":"MID(INDIRECT(\"'ProjDataInput'!b\"&TEXT($N$2,\"###\")),3,999)","v":""},null,"PROJECT STATUS: "]
[null,null,null,"SUBPRROGRAM: "]
[]
["PI: ",{"$f":"MID(INDIRECT(\"'ProjDataInput'!j\"&TEXT($N$2,\"###\")),1,999)","v":""},null,"EFFORT: "]
["AFFILIATION: ",{"$f":"MID(INDIRECT(\"'ProjDataInput'!k\"&TEXT($N$2,\"###\")),1,999)","v":""},null,"AFFIL. CODE: ",null,null,"Worksheet"]
[null,null,null,null,null,null,"tools:"]
["2nd PI: ",{"$f":"MID(INDIRECT(\"'ProjDataInput'!L\"&TEXT($N$2,\"###\")),1,999)","v":""},null,"EFFORT: "]
["AFFILIATION: ",{"$f":"MID(INDIRECT(\"'ProjDataInput'!m\"&TEXT($N$2,\"###\")),1,999)","v":""},null,"AFFIL. CODE: "]
[]
["3rd PI: ",{"$f":"MID(INDIRECT(\"'ProjDataInput'!n\"&TEXT($N$2,\"###\")),1,999)","v":""},null,"EFFORT: "]
["AFFILIATION: ",{"$f":"MID(INDIRECT(\"'ProjDataInput'!o\"&TEXT($N$2,\"###\")),1,999)","v":""},null,"AFFIL. CODE: "]
[]
["4th PI: ",{"$f":"MID(INDIRECT(\"'ProjDataInput'!p\"&TEXT($N$2,\"###\")),1,999)","v":""},null,"EFFORT: "]
["AFFILIATION: ",{"$f":"MID(INDIRECT(\"'ProjDataInput'!q\"&TEXT($N$2,\"###\")),1,999)","v":""},null,"AFFIL. CODE: "]
[]
["FEDERAL $ REQUEST: ",{"$f":"INDIRECT(\"'ProjDataInput'!h\"&TEXT($N$2,\"###\"))","v":0},null,"LAST YR FEDERAL: "]
["MATCH $: ",{"$f":"INDIRECT(\"'ProjDataInput'!i\"&TEXT($N$2,\"###\"))","v":0},null,"LAST YR MATCH: "]
[]
["CLASSIFICATION CODES: ",{"$f":"MID(INDIRECT(\"'ProjDataInput'!f\"&TEXT($N$2,\"###\")),1,999)","v":""},null,"RELATED PROJECTS: "]
[null,"(Primary Code First)",null,"PARENT PROJECTS: "]
["FOCUS AREAS: ",{"$f":"MID(INDIRECT(\"'ProjDataInput'!d\"&TEXT($N$2,\"###\")),1,999)","v":""}]
[null,"(Primary Focus Area First)"]
["PARTNERS: ",{"$f":"MID(INDIRECT(\"'ProjDataInput'!e\"&TEXT($N$2,\"###\")),1,999)","v":""},null,"KEYWORDS: "]
[]
["OBJECTIVES: ",{"$f":"MID(INDIRECT(\"'ProjDataInput'!g\"&TEXT($N$2,\"###\")),1,19999)","v":""},null,"MULTIPROGRAM? "]
[]
["METHODOLOGY: ",null,null,"OTHER INFORMATION: "]
[null,"(The Data Sharing Plan may be included in the Methodology section)"]
["RATIONALE: "]
[]
["DATA SHARING PLAN: ",{"$f":"MID(INDIRECT(\"'ProjDataInput'!r\"&TEXT($N$2,\"###\")),1,19999)","v":""}]

{"sheet":"S2","index":4,"n_rows":40,"n_cols":15,"rows_kept":40,"cut":false,"hidden":false,"merged":[]}
["This worksheet is:",{"$f":"MID(CELL(\"filename\",'S2'!B1),FIND(\"]\",CELL(\"filename\",'S2'!B1))+1,24)","v":"S2"},"OMB no. ","0648-0362, exp 10/31/14",null,null,null,null,null,null,null,null,null,"S2","(default worksheet name)"]
[null,null,"Don't use after","2013-12-31",null,null,null,null,null,null,null,null,null,{"$f":"IF(LEFT(N1,3)=\"S1 \",2,VALUE(MID(N1,2,99))+1)","v":3}]
[null,null,null,null,null,null,null,null,null,null,null,null,null,"150 Marine Advisory Extension Service","(temp workspace for a current cell value)"]
[null,"SEA GRANT PROJECT SUMMARY FORM 90-2",null,null,"National Office does not track these fields:",null,"NSGO use only",null,null,null,null,null,null,"070 Coastal Community Development","(temp workspace for a new selected value)"]
[null,null,null,null,null,null,null,null,null,null,null,null,null,{"$f":"IF(N3=\"\",IF(N4=\"\",\"\",N4),IF(N4=\"\",N3,N3&\"; \"&N4))","v":"150 Marine Advisory Extension Service; 070 Coastal Community Development"},"(function to concatenate the above two cells)"]
["INSTITUTION (Program): ",{"$f":"LEFT('S1-Start Here'!B6,16)","v":"0"},null,"ICODE: ","Title"]
["TITLE: ",{"$f":"MID(INDIRECT(\"'ProjDataInput'!C\"&TEXT($N$2,\"###\")),1,999)","v":""},null,"REV. DATE:",null,null,null,null,null,null,null,null,null,{"$f":"IF('S1-Start Here'!B6=\"\",\"\",'S1-Start Here'!B6)","v":0},"(Program listed on first 90-2)"]
[null,null,null,"INIT. DATE:"]
["PREFIX (A,C,E,M,P or R): "," PROJECT NUMBER",null,"COMPL. DATE:"]
[{"$f":"LEFT(INDIRECT(\"'ProjDataInput'!b\"&TEXT($N$2,\"###\")),2)","v":""},{"$f":"MID(INDIRECT(\"'ProjDataInput'!b\"&TEXT($N$2,\"###\")),3,999)","v":""},null,"PROJECT STATUS: "]
[null,null,null,"SUBPRROGRAM: "]
[]
["PI: ",{"$f":"MID(INDIRECT(\"'ProjDataInput'!j\"&TEXT($N$2,\"###\")),1,999)","v":""},null,"EFFORT: "]
["AFFILIATION: ",{"$f":"MID(INDIRECT(\"'ProjDataInput'!k\"&TEXT($N$2,\"###\")),1,999)","v":""},null,"AFFIL. CODE: ",null,null,"Worksheet"]
[null,null,null,null,null,null,"tools:"]
["2nd PI: ",{"$f":"MID(INDIRECT(\"'ProjDataInput'!L\"&TEXT($N$2,\"###\")),1,999)","v":""},null,"EFFORT: "]
["AFFILIATION: ",{"$f":"MID(INDIRECT(\"'ProjDataInput'!m\"&TEXT($N$2,\"###\")),1,999)","v":""},null,"AFFIL. CODE: "]
[]
["3rd PI: ",{"$f":"MID(INDIRECT(\"'ProjDataInput'!n\"&TEXT($N$2,\"###\")),1,999)","v":""},null,"EFFORT: "]
["AFFILIATION: ",{"$f":"MID(INDIRECT(\"'ProjDataInput'!o\"&TEXT($N$2,\"###\")),1,999)","v":""},null,"AFFIL. CODE: "]
[]
["4th PI: ",{"$f":"MID(INDIRECT(\"'ProjDataInput'!p\"&TEXT($N$2,\"###\")),1,999)","v":""},null,"EFFORT: "]
["AFFILIATION: ",{"$f":"MID(INDIRECT(\"'ProjDataInput'!q\"&TEXT($N$2,\"###\")),1,999)","v":""},null,"AFFIL. CODE: "]
[]
["FEDERAL $ REQUEST: ",{"$f":"INDIRECT(\"'ProjDataInput'!h\"&TEXT($N$2,\"###\"))","v":0},null,"LAST YR FEDERAL: "]
["MATCH $: ",{"$f":"INDIRECT(\"'ProjDataInput'!i\"&TEXT($N$2,\"###\"))","v":0},null,"LAST YR MATCH: "]
[]
["CLASSIFICATION CODES: ",{"$f":"MID(INDIRECT(\"'ProjDataInput'!f\"&TEXT($N$2,\"###\")),1,999)","v":""},null,"RELATED PROJECTS: "]
[null,"(Primary Code First)",null,"PARENT PROJECTS: "]
["FOCUS AREAS: ",{"$f":"MID(INDIRECT(\"'ProjDataInput'!d\"&TEXT($N$2,\"###\")),1,999)","v":""}]
[null,"(Primary Focus Area First)"]
["PARTNERS: ",{"$f":"MID(INDIRECT(\"'ProjDataInput'!e\"&TEXT($N$2,\"###\")),1,999)","v":""},null,"KEYWORDS: "]
[]
["OBJECTIVES: ",{"$f":"MID(INDIRECT(\"'ProjDataInput'!g\"&TEXT($N$2,\"###\")),1,19999)","v":""},null,"MULTIPROGRAM? "]
[]
["METHODOLOGY: ",null,null,"OTHER INFORMATION: "]
[null,"(The Data Sharing Plan may be included in the Methodology section)"]
["RATIONALE: "]
[]
["DATA SHARING PLAN: ",{"$f":"MID(INDIRECT(\"'ProjDataInput'!r\"&TEXT($N$2,\"###\")),1,19999)","v":""}]

{"sheet":"S3","index":5,"n_rows":40,"n_cols":15,"rows_kept":40,"cut":false,"hidden":false,"merged":[]}
["This worksheet is:",{"$f":"MID(CELL(\"filename\",'S3'!B1),FIND(\"]\",CELL(\"filename\",'S3'!B1))+1,24)","v":"S3"},"OMB no. ","0648-0362, exp 10/31/14",null,null,null,null,null,null,null,null,null,"S3","(default worksheet name)"]
[null,null,"Don't use after","2013-12-31",null,null,null,null,null,null,null,null,null,{"$f":"IF(LEFT(N1,3)=\"S1 \",2,VALUE(MID(N1,2,99))+1)","v":4}]
[null,null,null,null,null,null,null,null,null,null,null,null,null,"150 Marine Advisory Extension Service","(temp workspace for a current cell value)"]
[null,"SEA GRANT PROJECT SUMMARY FORM 90-2",null,null,"National Office does not track these fields:",null,"NSGO use only",null,null,null,null,null,null,"070 Coastal Community Development","(temp workspace for a new selected value)"]
[null,null,null,null,null,null,null,null,null,null,null,null,null,{"$f":"IF(N3=\"\",IF(N4=\"\",\"\",N4),IF(N4=\"\",N3,N3&\"; \"&N4))","v":"150 Marine Advisory Extension Service; 070 Coastal Community Development"},"(function to concatenate the above two cells)"]
["INSTITUTION (Program): ",{"$f":"LEFT('S1-Start Here'!B6,16)","v":"0"},null,"ICODE: ","Title"]
["TITLE: ",{"$f":"MID(INDIRECT(\"'ProjDataInput'!C\"&TEXT($N$2,\"###\")),1,999)","v":""},null,"REV. DATE:",null,null,null,null,null,null,null,null,null,{"$f":"IF('S1-Start Here'!B6=\"\",\"\",'S1-Start Here'!B6)","v":0},"(Program listed on first 90-2)"]
[null,null,null,"INIT. DATE:"]
["PREFIX (A,C,E,M,P or R): "," PROJECT NUMBER",null,"COMPL. DATE:"]
[{"$f":"LEFT(INDIRECT(\"'ProjDataInput'!b\"&TEXT($N$2,\"###\")),2)","v":""},{"$f":"MID(INDIRECT(\"'ProjDataInput'!b\"&TEXT($N$2,\"###\")),3,999)","v":""},null,"PROJECT STATUS: "]
[null,null,null,"SUBPRROGRAM: "]
[]
["PI: ",{"$f":"MID(INDIRECT(\"'ProjDataInput'!j\"&TEXT($N$2,\"###\")),1,999)","v":""},null,"EFFORT: "]
["AFFILIATION: ",{"$f":"MID(INDIRECT(\"'ProjDataInput'!k\"&TEXT($N$2,\"###\")),1,999)","v":""},null,"AFFIL. CODE: ",null,null,"Worksheet"]
[null,null,null,null,null,null,"tools:"]
["2nd PI: ",{"$f":"MID(INDIRECT(\"'ProjDataInput'!L\"&TEXT($N$2,\"###\")),1,999)","v":""},null,"EFFORT: "]
["AFFILIATION: ",{"$f":"MID(INDIRECT(\"'ProjDataInput'!m\"&TEXT($N$2,\"###\")),1,999)","v":""},null,"AFFIL. CODE: "]
[]
["3rd PI: ",{"$f":"MID(INDIRECT(\"'ProjDataInput'!n\"&TEXT($N$2,\"###\")),1,999)","v":""},null,"EFFORT: "]
["AFFILIATION: ",{"$f":"MID(INDIRECT(\"'ProjDataInput'!o\"&TEXT($N$2,\"###\")),1,999)","v":""},null,"AFFIL. CODE: "]
[]
["4th PI: ",{"$f":"MID(INDIRECT(\"'ProjDataInput'!p\"&TEXT($N$2,\"###\")),1,999)","v":""},null,"EFFORT: "]
["AFFILIATION: ",{"$f":"MID(INDIRECT(\"'ProjDataInput'!q\"&TEXT($N$2,\"###\")),1,999)","v":""},null,"AFFIL. CODE: "]
[]
["FEDERAL $ REQUEST: ",{"$f":"INDIRECT(\"'ProjDataInput'!h\"&TEXT($N$2,\"###\"))","v":0},null,"LAST YR FEDERAL: "]
["MATCH $: ",{"$f":"INDIRECT(\"'ProjDataInput'!i\"&TEXT($N$2,\"###\"))","v":0},null,"LAST YR MATCH: "]
[]
["CLASSIFICATION CODES: ",{"$f":"MID(INDIRECT(\"'ProjDataInput'!f\"&TEXT($N$2,\"###\")),1,999)","v":""},null,"RELATED PROJECTS: "]
[null,"(Primary Code First)",null,"PARENT PROJECTS: "]
["FOCUS AREAS: ",{"$f":"MID(INDIRECT(\"'ProjDataInput'!d\"&TEXT($N$2,\"###\")),1,999)","v":""}]
[null,"(Primary Focus Area First)"]
["PARTNERS: ",{"$f":"MID(INDIRECT(\"'ProjDataInput'!e\"&TEXT($N$2,\"###\")),1,999)","v":""},null,"KEYWORDS: "]
[]
["OBJECTIVES: ",{"$f":"MID(INDIRECT(\"'ProjDataInput'!g\"&TEXT($N$2,\"###\")),1,19999)","v":""},null,"MULTIPROGRAM? "]
[]
["METHODOLOGY: ",null,null,"OTHER INFORMATION: "]
[null,"(The Data Sharing Plan may be included in the Methodology section)"]
["RATIONALE: "]
[]
["DATA SHARING PLAN: ",{"$f":"MID(INDIRECT(\"'ProjDataInput'!r\"&TEXT($N$2,\"###\")),1,19999)","v":""}]

{"sheet":"S4","index":6,"n_rows":40,"n_cols":15,"rows_kept":40,"cut":false,"hidden":false,"merged":[]}
["This worksheet is:",{"$f":"MID(CELL(\"filename\",'S4'!B1),FIND(\"]\",CELL(\"filename\",'S4'!B1))+1,24)","v":"S4"},"OMB no. ","0648-0362, exp 10/31/14",null,null,null,null,null,null,null,null,null,"S4","(default worksheet name)"]
[null,null,"Don't use after","2013-12-31",null,null,null,null,null,null,null,null,null,{"$f":"IF(LEFT(N1,3)=\"S1 \",2,VALUE(MID(N1,2,99))+1)","v":5}]
[null,null,null,null,null,null,null,null,null,null,null,null,null,null,"(temp workspace for a current cell value)"]
[null,"SEA GRANT PROJECT SUMMARY FORM 90-2",null,null,"National Office does not track these fields:",null,"NSGO use only",null,null,null,null,null,null,"140 Education","(temp workspace for a new selected value)"]
[null,null,null,null,null,null,null,null,null,null,null,null,null,{"$f":"IF(N3=\"\",IF(N4=\"\",\"\",N4),IF(N4=\"\",N3,N3&\"; \"&N4))","v":"140 Education"},"(function to concatenate the above two cells)"]
["INSTITUTION (Program): ",{"$f":"LEFT('S1-Start Here'!B6,16)","v":"0"},null,"ICODE: ","Title"]
["TITLE: ",{"$f":"MID(INDIRECT(\"'ProjDataInput'!C\"&TEXT($N$2,\"###\")),1,999)","v":""},null,"REV. DATE:",null,null,null,null,null,null,null,null,null,{"$f":"IF('S1-Start Here'!B6=\"\",\"\",'S1-Start Here'!B6)","v":0},"(Program listed on first 90-2)"]
[null,null,null,"INIT. DATE:"]
["PREFIX (A,C,E,M,P or R): "," PROJECT NUMBER",null,"COMPL. DATE:"]
[{"$f":"LEFT(INDIRECT(\"'ProjDataInput'!b\"&TEXT($N$2,\"###\")),2)","v":""},{"$f":"MID(INDIRECT(\"'ProjDataInput'!b\"&TEXT($N$2,\"###\")),3,999)","v":""},null,"PROJECT STATUS: "]
[null,null,null,"SUBPRROGRAM: "]
[]
["PI: ",{"$f":"MID(INDIRECT(\"'ProjDataInput'!j\"&TEXT($N$2,\"###\")),1,999)","v":""},null,"EFFORT: "]
["AFFILIATION: ",{"$f":"MID(INDIRECT(\"'ProjDataInput'!k\"&TEXT($N$2,\"###\")),1,999)","v":""},null,"AFFIL. CODE: ",null,null,"Worksheet"]
[null,null,null,null,null,null,"tools:"]
["2nd PI: ",{"$f":"MID(INDIRECT(\"'ProjDataInput'!L\"&TEXT($N$2,\"###\")),1,999)","v":""},null,"EFFORT: "]
["AFFILIATION: ",{"$f":"MID(INDIRECT(\"'ProjDataInput'!m\"&TEXT($N$2,\"###\")),1,999)","v":""},null,"AFFIL. CODE: "]
[]
["3rd PI: ",{"$f":"MID(INDIRECT(\"'ProjDataInput'!n\"&TEXT($N$2,\"###\")),1,999)","v":""},null,"EFFORT: "]
["AFFILIATION: ",{"$f":"MID(INDIRECT(\"'ProjDataInput'!o\"&TEXT($N$2,\"###\")),1,999)","v":""},null,"AFFIL. CODE: "]
[]
["4th PI: ",{"$f":"MID(INDIRECT(\"'ProjDataInput'!p\"&TEXT($N$2,\"###\")),1,999)","v":""},null,"EFFORT: "]
["AFFILIATION: ",{"$f":"MID(INDIRECT(\"'ProjDataInput'!q\"&TEXT($N$2,\"###\")),1,999)","v":""},null,"AFFIL. CODE: "]
[]
["FEDERAL $ REQUEST: ",{"$f":"INDIRECT(\"'ProjDataInput'!h\"&TEXT($N$2,\"###\"))","v":0},null,"LAST YR FEDERAL: "]
["MATCH $: ",{"$f":"INDIRECT(\"'ProjDataInput'!i\"&TEXT($N$2,\"###\"))","v":0},null,"LAST YR MATCH: "]
[]
["CLASSIFICATION CODES: ",{"$f":"MID(INDIRECT(\"'ProjDataInput'!f\"&TEXT($N$2,\"###\")),1,999)","v":""},null,"RELATED PROJECTS: "]
[null,"(Primary Code First)",null,"PARENT PROJECTS: "]
["FOCUS AREAS: ",{"$f":"MID(INDIRECT(\"'ProjDataInput'!d\"&TEXT($N$2,\"###\")),1,999)","v":""}]
[null,"(Primary Focus Area First)"]
["PARTNERS: ",{"$f":"MID(INDIRECT(\"'ProjDataInput'!e\"&TEXT($N$2,\"###\")),1,999)","v":""},null,"KEYWORDS: "]
[]
["OBJECTIVES: ",{"$f":"MID(INDIRECT(\"'ProjDataInput'!g\"&TEXT($N$2,\"###\")),1,19999)","v":""},null,"MULTIPROGRAM? "]
[]
["METHODOLOGY: ",null,null,"OTHER INFORMATION: "]
[null,"(The Data Sharing Plan may be included in the Methodology section)"]
["RATIONALE: "]
[]
["DATA SHARING PLAN: ",{"$f":"MID(INDIRECT(\"'ProjDataInput'!r\"&TEXT($N$2,\"###\")),1,19999)","v":""}]

{"sheet":"S5","index":7,"n_rows":40,"n_cols":15,"rows_kept":40,"cut":false,"hidden":false,"merged":[]}
["This worksheet is:",{"$f":"MID(CELL(\"filename\",'S5'!B1),FIND(\"]\",CELL(\"filename\",'S5'!B1))+1,24)","v":"S5"},"OMB no. ","0648-0362, exp 10/31/14",null,null,null,null,null,null,null,null,null,"S5","(default worksheet name)"]
[null,null,"Don't use after","2013-12-31",null,null,null,null,null,null,null,null,null,{"$f":"IF(LEFT(N1,3)=\"S1 \",2,VALUE(MID(N1,2,99))+1)","v":6}]
[null,null,null,null,null,null,null,null,null,null,null,null,null,null,"(temp workspace for a current cell value)"]
[null,"SEA GRANT PROJECT SUMMARY FORM 90-2",null,null,"National Office does not track these fields:",null,"NSGO use only",null,null,null,null,null,null,"161 Communications - Core","(temp workspace for a new selected value)"]
[null,null,null,null,null,null,null,null,null,null,null,null,null,{"$f":"IF(N3=\"\",IF(N4=\"\",\"\",N4),IF(N4=\"\",N3,N3&\"; \"&N4))","v":"161 Communications - Core"},"(function to concatenate the above two cells)"]
["INSTITUTION (Program): ",{"$f":"LEFT('S1-Start Here'!$B$6,16)","v":"0"},null,"ICODE: "]
["TITLE: ",{"$f":"MID(INDIRECT(\"'ProjDataInput'!C\"&TEXT($N$2,\"###\")),1,999)","v":""},null,"REV. DATE:",null,null,null,null,null,null,null,null,null,{"$f":"IF('S1-Start Here'!B6=\"\",\"\",'S1-Start Here'!B6)","v":0},"(Program listed on first 90-2)"]
[null,null,null,"INIT. DATE:"]
["PREFIX (A,C,E,M,P or R): "," PROJECT NUMBER",null,"COMPL. DATE:"]
[{"$f":"LEFT(INDIRECT(\"'ProjDataInput'!b\"&TEXT($N$2,\"###\")),2)","v":""},{"$f":"MID(INDIRECT(\"'ProjDataInput'!b\"&TEXT($N$2,\"###\")),3,999)","v":""},null,"PROJECT STATUS: "]
[null,null,null,"SUBPRROGRAM: "]
[]
["PI: ",{"$f":"MID(INDIRECT(\"'ProjDataInput'!j\"&TEXT($N$2,\"###\")),1,999)","v":""},null,"EFFORT: "]
["AFFILIATION: ",{"$f":"MID(INDIRECT(\"'ProjDataInput'!k\"&TEXT($N$2,\"###\")),1,999)","v":""},null,"AFFIL. CODE: ",null,null,"Worksheet"]
[null,null,null,null,null,null,"tools:"]
["2nd PI: ",{"$f":"MID(INDIRECT(\"'ProjDataInput'!L\"&TEXT($N$2,\"###\")),1,999)","v":""},null,"EFFORT: "]
["AFFILIATION: ",{"$f":"MID(INDIRECT(\"'ProjDataInput'!m\"&TEXT($N$2,\"###\")),1,999)","v":""},null,"AFFIL. CODE: "]
[]
["3rd PI: ",{"$f":"MID(INDIRECT(\"'ProjDataInput'!n\"&TEXT($N$2,\"###\")),1,999)","v":""},null,"EFFORT: "]
["AFFILIATION: ",{"$f":"MID(INDIRECT(\"'ProjDataInput'!o\"&TEXT($N$2,\"###\")),1,999)","v":""},null,"AFFIL. CODE: "]
[]
["4th PI: ",{"$f":"MID(INDIRECT(\"'ProjDataInput'!p\"&TEXT($N$2,\"###\")),1,999)","v":""},null,"EFFORT: "]
["AFFILIATION: ",{"$f":"MID(INDIRECT(\"'ProjDataInput'!q\"&TEXT($N$2,\"###\")),1,999)","v":""},null,"AFFIL. CODE: "]
[]
["FEDERAL $ REQUEST: ",{"$f":"INDIRECT(\"'ProjDataInput'!h\"&TEXT($N$2,\"###\"))","v":0},null,"LAST YR FEDERAL: "]
["MATCH $: ",{"$f":"INDIRECT(\"'ProjDataInput'!i\"&TEXT($N$2,\"###\"))","v":0},null,"LAST YR MATCH: "]
[]
["CLASSIFICATION CODES: ",{"$f":"MID(INDIRECT(\"'ProjDataInput'!f\"&TEXT($N$2,\"###\")),1,999)","v":""},null,"RELATED PROJECTS: "]
[null,"(Primary Code First)",null,"PARENT PROJECTS: "]
["FOCUS AREAS: ",{"$f":"MID(INDIRECT(\"'ProjDataInput'!d\"&TEXT($N$2,\"###\")),1,999)","v":""}]
[null,"(Primary Focus Area First)"]
["PARTNERS: ",{"$f":"MID(INDIRECT(\"'ProjDataInput'!e\"&TEXT($N$2,\"###\")),1,999)","v":""},null,"KEYWORDS: "]
[]
["OBJECTIVES: ",{"$f":"MID(INDIRECT(\"'ProjDataInput'!g\"&TEXT($N$2,\"###\")),1,19999)","v":""},null,"MULTIPROGRAM? "]
[]
["METHODOLOGY: ",null,null,"OTHER INFORMATION: "]
[null,"(The Data Sharing Plan may be included in the Methodology section)"]
["RATIONALE: "]
[]
["DATA SHARING PLAN: ",{"$f":"MID(INDIRECT(\"'ProjDataInput'!r\"&TEXT($N$2,\"###\")),1,19999)","v":""}]

{"sheet":"S6","index":8,"n_rows":40,"n_cols":15,"rows_kept":40,"cut":false,"hidden":false,"merged":[]}
["This worksheet is:",{"$f":"MID(CELL(\"filename\",'S6'!B1),FIND(\"]\",CELL(\"filename\",'S6'!B1))+1,24)","v":"S6"},"OMB no. ","0648-0362, exp 10/31/14",null,null,null,null,null,null,null,null,null,"S6","(default worksheet name)"]
[null,null,"Don't use after","2013-12-31",null,null,null,null,null,null,null,null,null,{"$f":"IF(LEFT(N1,3)=\"S1 \",2,VALUE(MID(N1,2,99))+1)","v":7}]
[null,null,null,null,null,null,null,null,null,null,null,null,null,"2184 Healthy Coastal Ecosystems and Economy","(temp workspace for a current cell value)"]
[null,"SEA GRANT PROJECT SUMMARY FORM 90-2",null,null,"National Office does not track these fields:",null,"NSGO use only",null,null,null,null,null,null,"2181 Seafood Production and Consumption","(temp workspace for a new selected value)"]
[null,null,null,null,null,null,null,null,null,null,null,null,null,{"$f":"IF(N3=\"\",IF(N4=\"\",\"\",N4),IF(N4=\"\",N3,N3&\"; \"&N4))","v":"2184 Healthy Coastal Ecosystems and Economy; 2181 Seafood Production and Consumption"},"(function to concatenate the above two cells)"]
["INSTITUTION (Program): ",{"$f":"LEFT('S1-Start Here'!B6,16)","v":"0"},null,"ICODE: ","Title"]
["TITLE: ",{"$f":"MID(INDIRECT(\"'ProjDataInput'!C\"&TEXT($N$2,\"###\")),1,999)","v":""},null,"REV. DATE:",null,null,null,null,null,null,null,null,null,{"$f":"IF('S1-Start Here'!B6=\"\",\"\",'S1-Start Here'!B6)","v":0},"(Program listed on first 90-2)"]
[null,null,null,"INIT. DATE:"]
["PREFIX (A,C,E,M,P or R): "," PROJECT NUMBER",null,"COMPL. DATE:"]
[{"$f":"LEFT(INDIRECT(\"'ProjDataInput'!b\"&TEXT($N$2,\"###\")),2)","v":""},{"$f":"MID(INDIRECT(\"'ProjDataInput'!b\"&TEXT($N$2,\"###\")),3,999)","v":""},null,"PROJECT STATUS: "]
[null,null,null,"SUBPRROGRAM: "]
[]
["PI: ",{"$f":"MID(INDIRECT(\"'ProjDataInput'!j\"&TEXT($N$2,\"###\")),1,999)","v":""},null,"EFFORT: "]
["AFFILIATION: ",{"$f":"MID(INDIRECT(\"'ProjDataInput'!k\"&TEXT($N$2,\"###\")),1,999)","v":""},null,"AFFIL. CODE: ",null,null,"Worksheet"]
[null,null,null,null,null,null,"tools:"]
["2nd PI: ",{"$f":"MID(INDIRECT(\"'ProjDataInput'!L\"&TEXT($N$2,\"###\")),1,999)","v":""},null,"EFFORT: "]
["AFFILIATION: ",{"$f":"MID(INDIRECT(\"'ProjDataInput'!m\"&TEXT($N$2,\"###\")),1,999)","v":""},null,"AFFIL. CODE: "]
[]
["3rd PI: ",{"$f":"MID(INDIRECT(\"'ProjDataInput'!n\"&TEXT($N$2,\"###\")),1,999)","v":""},null,"EFFORT: "]
["AFFILIATION: ",{"$f":"MID(INDIRECT(\"'ProjDataInput'!o\"&TEXT($N$2,\"###\")),1,999)","v":""},null,"AFFIL. CODE: "]
[]
["4th PI: ",{"$f":"MID(INDIRECT(\"'ProjDataInput'!p\"&TEXT($N$2,\"###\")),1,999)","v":""},null,"EFFORT: "]
["AFFILIATION: ",{"$f":"MID(INDIRECT(\"'ProjDataInput'!q\"&TEXT($N$2,\"###\")),1,999)","v":""},null,"AFFIL. CODE: "]
[]
["FEDERAL $ REQUEST: ",{"$f":"INDIRECT(\"'ProjDataInput'!h\"&TEXT($N$2,\"###\"))","v":0},null,"LAST YR FEDERAL: "]
["MATCH $: ",{"$f":"INDIRECT(\"'ProjDataInput'!i\"&TEXT($N$2,\"###\"))","v":0},null,"LAST YR MATCH: "]
[]
["CLASSIFICATION CODES: ",{"$f":"MID(INDIRECT(\"'ProjDataInput'!f\"&TEXT($N$2,\"###\")),1,999)","v":""},null,"RELATED PROJECTS: "]
[null,"(Primary Code First)",null,"PARENT PROJECTS: "]
["FOCUS AREAS: ",{"$f":"MID(INDIRECT(\"'ProjDataInput'!d\"&TEXT($N$2,\"###\")),1,999)","v":""}]
[null,"(Primary Focus Area First)"]
["PARTNERS: ",{"$f":"MID(INDIRECT(\"'ProjDataInput'!e\"&TEXT($N$2,\"###\")),1,999)","v":""},null,"KEYWORDS: "]
[]
["OBJECTIVES: ",{"$f":"MID(INDIRECT(\"'ProjDataInput'!g\"&TEXT($N$2,\"###\")),1,19999)","v":""},null,"MULTIPROGRAM? "]
[]
["METHODOLOGY: ",null,null,"OTHER INFORMATION: "]
[null,"(The Data Sharing Plan may be included in the Methodology section)"]
["RATIONALE: "]
[]
["DATA SHARING PLAN: ",{"$f":"MID(INDIRECT(\"'ProjDataInput'!r\"&TEXT($N$2,\"###\")),1,19999)","v":""}]

{"sheet":"S7","index":9,"n_rows":40,"n_cols":15,"rows_kept":40,"cut":false,"hidden":false,"merged":[]}
["This worksheet is:",{"$f":"MID(CELL(\"filename\",'S7'!B1),FIND(\"]\",CELL(\"filename\",'S7'!B1))+1,24)","v":"S7"},"OMB no. ","0648-0362, exp 10/31/14",null,null,null,null,null,null,null,null,null,"S7","(default worksheet name)"]
[null,14,"Don't use after","2013-12-31",null,null,null,null,null,null,null,null,null,{"$f":"IF(LEFT(N1,3)=\"S1 \",2,VALUE(MID(N1,2,99))+1)","v":8}]
[null,null,null,null,null,null,null,null,null,null,null,null,null,null,"(temp workspace for a current cell value)"]
[null,"SEA GRANT PROJECT SUMMARY FORM 90-2",null,null,"National Office does not track these fields:",null,"NSGO use only",null,null,null,null,null,null,"2181 Seafood Production and Consumption","(temp workspace for a new selected value)"]
[null,null,null,null,null,null,null,null,null,null,null,null,null,{"$f":"IF(N3=\"\",IF(N4=\"\",\"\",N4),IF(N4=\"\",N3,N3&\"; \"&N4))","v":"2181 Seafood Production and Consumption"},"(function to concatenate the above two cells)"]
["INSTITUTION (Program): ",{"$f":"LEFT('S1-Start Here'!B6,16)","v":"0"},null,"ICODE: ","Title"]
["TITLE: ",{"$f":"MID(INDIRECT(\"'ProjDataInput'!C\"&TEXT($N$2,\"###\")),1,999)","v":""},null,"REV. DATE:",null,null,null,null,null,null,null,null,null,{"$f":"IF('S1-Start Here'!B6=\"\",\"\",'S1-Start Here'!B6)","v":0},"(Program listed on first 90-2)"]
[null,null,null,"INIT. DATE:"]
["PREFIX (A,C,E,M,P or R): "," PROJECT NUMBER",null,"COMPL. DATE:"]
[{"$f":"LEFT(INDIRECT(\"'ProjDataInput'!b\"&TEXT($N$2,\"###\")),2)","v":""},{"$f":"MID(INDIRECT(\"'ProjDataInput'!b\"&TEXT($N$2,\"###\")),3,999)","v":""},null,"PROJECT STATUS: "]
[null,null,null,"SUBPRROGRAM: "]
[]
["PI: ",{"$f":"MID(INDIRECT(\"'ProjDataInput'!j\"&TEXT($N$2,\"###\")),1,999)","v":""},null,"EFFORT: "]
["AFFILIATION: ",{"$f":"MID(INDIRECT(\"'ProjDataInput'!k\"&TEXT($N$2,\"###\")),1,999)","v":""},null,"AFFIL. CODE: ",null,null,"Worksheet"]
[null,null,null,null,null,null,"tools:"]
["2nd PI: ",{"$f":"MID(INDIRECT(\"'ProjDataInput'!L\"&TEXT($N$2,\"###\")),1,999)","v":""},null,"EFFORT: "]
["AFFILIATION: ",{"$f":"MID(INDIRECT(\"'ProjDataInput'!m\"&TEXT($N$2,\"###\")),1,999)","v":""},null,"AFFIL. CODE: "]
[]
["3rd PI: ",{"$f":"MID(INDIRECT(\"'ProjDataInput'!n\"&TEXT($N$2,\"###\")),1,999)","v":""},null,"EFFORT: "]
["AFFILIATION: ",{"$f":"MID(INDIRECT(\"'ProjDataInput'!o\"&TEXT($N$2,\"###\")),1,999)","v":""},null,"AFFIL. CODE: "]
[]
["4th PI: ",{"$f":"MID(INDIRECT(\"'ProjDataInput'!p\"&TEXT($N$2,\"###\")),1,999)","v":""},null,"EFFORT: "]
["AFFILIATION: ",{"$f":"MID(INDIRECT(\"'ProjDataInput'!q\"&TEXT($N$2,\"###\")),1,999)","v":""},null,"AFFIL. CODE: "]
[]
["FEDERAL $ REQUEST: ",{"$f":"INDIRECT(\"'ProjDataInput'!h\"&TEXT($N$2,\"###\"))","v":0},null,"LAST YR FEDERAL: "]
["MATCH $: ",{"$f":"INDIRECT(\"'ProjDataInput'!i\"&TEXT($N$2,\"###\"))","v":0},null,"LAST YR MATCH: "]
[]
["CLASSIFICATION CODES: ",{"$f":"MID(INDIRECT(\"'ProjDataInput'!f\"&TEXT($N$2,\"###\")),1,999)","v":""},null,"RELATED PROJECTS: "]
[null,"(Primary Code First)",null,"PARENT PROJECTS: "]
["FOCUS AREAS: ",{"$f":"MID(INDIRECT(\"'ProjDataInput'!d\"&TEXT($N$2,\"###\")),1,999)","v":""}]
[null,"(Primary Focus Area First)"]
["PARTNERS: ",{"$f":"MID(INDIRECT(\"'ProjDataInput'!e\"&TEXT($N$2,\"###\")),1,999)","v":""},null,"KEYWORDS: "]
[]
["OBJECTIVES: ",{"$f":"MID(INDIRECT(\"'ProjDataInput'!g\"&TEXT($N$2,\"###\")),1,19999)","v":""},null,"MULTIPROGRAM? "]
[]
["METHODOLOGY: ",null,null,"OTHER INFORMATION: "]
[null,"(The Data Sharing Plan may be included in the Methodology section)"]
["RATIONALE: "]
[]
["DATA SHARING PLAN: ",{"$f":"MID(INDIRECT(\"'ProjDataInput'!r\"&TEXT($N$2,\"###\")),1,19999)","v":""}]

{"sheet":"S8","index":10,"n_rows":40,"n_cols":15,"rows_kept":40,"cut":false,"hidden":false,"merged":[]}
["This worksheet is:",{"$f":"MID(CELL(\"filename\",'S8'!B1),FIND(\"]\",CELL(\"filename\",'S8'!B1))+1,24)","v":"S8"},"OMB no. ","0648-0362, exp 10/31/14",null,null,null,null,null,null,null,null,null,"S8","(default worksheet name)"]
[null,null,"Don't use after","2013-12-31",null,null,null,null,null,null,null,null,null,{"$f":"IF(LEFT(N1,3)=\"S1 \",2,VALUE(MID(N1,2,99))+1)","v":9}]
[null,null,null,null,null,null,null,null,null,null,null,null,null,null,"(temp workspace for a current cell value)"]
[null,"SEA GRANT PROJECT SUMMARY FORM 90-2",null,null,"National Office does not track these fields:",null,"NSGO use only",null,null,null,null,null,null,"190 OTHER","(temp workspace for a new selected value)"]
[null,null,null,null,null,null,null,null,null,null,null,null,null,{"$f":"IF(N3=\"\",IF(N4=\"\",\"\",N4),IF(N4=\"\",N3,N3&\"; \"&N4))","v":"190 OTHER"},"(function to concatenate the above two cells)"]
["INSTITUTION (Program): ",{"$f":"LEFT('S1-Start Here'!B6,16)","v":"0"},null,"ICODE: ","Title"]
["TITLE: ",{"$f":"MID(INDIRECT(\"'ProjDataInput'!C\"&TEXT($N$2,\"###\")),1,999)","v":""},null,"REV. DATE:",null,null,null,null,null,null,null,null,null,{"$f":"IF('S1-Start Here'!B6=\"\",\"\",'S1-Start Here'!B6)","v":0},"(Program listed on first 90-2)"]
[null,null,null,"INIT. DATE:"]
["PREFIX (A,C,E,M,P or R): "," PROJECT NUMBER",null,"COMPL. DATE:"]
[{"$f":"LEFT(INDIRECT(\"'ProjDataInput'!b\"&TEXT($N$2,\"###\")),2)","v":""},{"$f":"MID(INDIRECT(\"'ProjDataInput'!b\"&TEXT($N$2,\"###\")),3,999)","v":""},null,"PROJECT STATUS: "]
[null,null,null,"SUBPRROGRAM: "]
[]
["PI: ",{"$f":"MID(INDIRECT(\"'ProjDataInput'!j\"&TEXT($N$2,\"###\")),1,999)","v":""},null,"EFFORT: "]
["AFFILIATION: ",{"$f":"MID(INDIRECT(\"'ProjDataInput'!k\"&TEXT($N$2,\"###\")),1,999)","v":""},null,"AFFIL. CODE: ",null,null,"Worksheet"]
[null,null,null,null,null,null,"tools:"]
["2nd PI: ",{"$f":"MID(INDIRECT(\"'ProjDataInput'!L\"&TEXT($N$2,\"###\")),1,999)","v":""},null,"EFFORT: "]
["AFFILIATION: ",{"$f":"MID(INDIRECT(\"'ProjDataInput'!m\"&TEXT($N$2,\"###\")),1,999)","v":""},null,"AFFIL. CODE: "]
[]
["3rd PI: ",{"$f":"MID(INDIRECT(\"'ProjDataInput'!n\"&TEXT($N$2,\"###\")),1,999)","v":""},null,"EFFORT: "]
["AFFILIATION: ",{"$f":"MID(INDIRECT(\"'ProjDataInput'!o\"&TEXT($N$2,\"###\")),1,999)","v":""},null,"AFFIL. CODE: "]
[]
["4th PI: ",{"$f":"MID(INDIRECT(\"'ProjDataInput'!p\"&TEXT($N$2,\"###\")),1,999)","v":""},null,"EFFORT: "]
["AFFILIATION: ",{"$f":"MID(INDIRECT(\"'ProjDataInput'!q\"&TEXT($N$2,\"###\")),1,999)","v":""},null,"AFFIL. CODE: "]
[]
["FEDERAL $ REQUEST: ",{"$f":"INDIRECT(\"'ProjDataInput'!h\"&TEXT($N$2,\"###\"))","v":0},null,"LAST YR FEDERAL: "]
["MATCH $: ",{"$f":"INDIRECT(\"'ProjDataInput'!i\"&TEXT($N$2,\"###\"))","v":0},null,"LAST YR MATCH: "]
[]
["CLASSIFICATION CODES: ",{"$f":"MID(INDIRECT(\"'ProjDataInput'!f\"&TEXT($N$2,\"###\")),1,999)","v":""},null,"RELATED PROJECTS: "]
[null,"(Primary Code First)",null,"PARENT PROJECTS: "]
["FOCUS AREAS: ",{"$f":"MID(INDIRECT(\"'ProjDataInput'!d\"&TEXT($N$2,\"###\")),1,999)","v":""}]
[null,"(Primary Focus Area First)"]
["PARTNERS: ",{"$f":"MID(INDIRECT(\"'ProjDataInput'!e\"&TEXT($N$2,\"###\")),1,999)","v":""},null,"KEYWORDS: "]
[]
["OBJECTIVES: ",{"$f":"MID(INDIRECT(\"'ProjDataInput'!g\"&TEXT($N$2,\"###\")),1,19999)","v":""},null,"MULTIPROGRAM? "]
[]
["METHODOLOGY: ",null,null,"OTHER INFORMATION: "]
[null,"(The Data Sharing Plan may be included in the Methodology section)"]
["RATIONALE: "]
[]
["DATA SHARING PLAN: ",{"$f":"MID(INDIRECT(\"'ProjDataInput'!r\"&TEXT($N$2,\"###\")),1,19999)","v":""}]

{"sheet":"S9","index":11,"n_rows":40,"n_cols":15,"rows_kept":40,"cut":false,"hidden":false,"merged":[]}
["This worksheet is:",{"$f":"MID(CELL(\"filename\",'S9'!B1),FIND(\"]\",CELL(\"filename\",'S9'!B1))+1,24)","v":"S9"},"OMB no. ","0648-0362, exp 10/31/14",null,null,null,null,null,null,null,null,null,"S9","(default worksheet name)"]
[null,null,"Don't use after","2013-12-31",null,null,null,null,null,null,null,null,null,{"$f":"IF(LEFT(N1,3)=\"S1 \",2,VALUE(MID(N1,2,99))+1)","v":10}]
[null,null,null,null,null,null,null,null,null,null,null,null,null,null,"(temp workspace for a current cell value)"]
[null,"SEA GRANT PROJECT SUMMARY FORM 90-2",null,null,"National Office does not track these fields:",null,"NSGO use only",null,null,null,null,null,null,null,"(temp workspace for a new selected value)"]
[null,null,null,null,null,null,null,null,null,null,null,null,null,{"$f":"IF(N3=\"\",IF(N4=\"\",\"\",N4),IF(N4=\"\",N3,N3&\"; \"&N4))","v":""},"(function to concatenate the above two cells)"]
["INSTITUTION (Program): ",{"$f":"LEFT('S1-Start Here'!B6,16)","v":"0"},null,"ICODE: ","Title"]
["TITLE: ",{"$f":"MID(INDIRECT(\"'ProjDataInput'!C\"&TEXT($N$2,\"###\")),1,999)","v":""},null,"REV. DATE:",null,null,null,null,null,null,null,null,null,{"$f":"IF('S1-Start Here'!B6=\"\",\"\",'S1-Start Here'!B6)","v":0},"(Program listed on first 90-2)"]
[null,null,null,"INIT. DATE:"]
["PREFIX (A,C,E,M,P or R): "," PROJECT NUMBER",null,"COMPL. DATE:"]
[{"$f":"LEFT(INDIRECT(\"'ProjDataInput'!b\"&TEXT($N$2,\"###\")),2)","v":""},{"$f":"MID(INDIRECT(\"'ProjDataInput'!b\"&TEXT($N$2,\"###\")),3,999)","v":""},null,"PROJECT STATUS: "]
[null,null,null,"SUBPRROGRAM: "]
[]
["PI: ",{"$f":"MID(INDIRECT(\"'ProjDataInput'!j\"&TEXT($N$2,\"###\")),1,999)","v":""},null,"EFFORT: "]
["AFFILIATION: ",{"$f":"MID(INDIRECT(\"'ProjDataInput'!k\"&TEXT($N$2,\"###\")),1,999)","v":""},null,"AFFIL. CODE: ",null,null,"Worksheet"]
[null,null,null,null,null,null,"tools:"]
["2nd PI: ",{"$f":"MID(INDIRECT(\"'ProjDataInput'!L\"&TEXT($N$2,\"###\")),1,999)","v":""},null,"EFFORT: "]
["AFFILIATION: ",{"$f":"MID(INDIRECT(\"'ProjDataInput'!m\"&TEXT($N$2,\"###\")),1,999)","v":""},null,"AFFIL. CODE: "]
[]
["3rd PI: ",{"$f":"MID(INDIRECT(\"'ProjDataInput'!n\"&TEXT($N$2,\"###\")),1,999)","v":""},null,"EFFORT: "]
["AFFILIATION: ",{"$f":"MID(INDIRECT(\"'ProjDataInput'!o\"&TEXT($N$2,\"###\")),1,999)","v":""},null,"AFFIL. CODE: "]
[]
["4th PI: ",{"$f":"MID(INDIRECT(\"'ProjDataInput'!p\"&TEXT($N$2,\"###\")),1,999)","v":""},null,"EFFORT: "]
["AFFILIATION: ",{"$f":"MID(INDIRECT(\"'ProjDataInput'!q\"&TEXT($N$2,\"###\")),1,999)","v":""},null,"AFFIL. CODE: "]
[]
["FEDERAL $ REQUEST: ",{"$f":"INDIRECT(\"'ProjDataInput'!h\"&TEXT($N$2,\"###\"))","v":0},null,"LAST YR FEDERAL: "]
["MATCH $: ",{"$f":"INDIRECT(\"'ProjDataInput'!i\"&TEXT($N$2,\"###\"))","v":0},null,"LAST YR MATCH: "]
[]
["CLASSIFICATION CODES: ",{"$f":"MID(INDIRECT(\"'ProjDataInput'!f\"&TEXT($N$2,\"###\")),1,999)","v":""},null,"RELATED PROJECTS: "]
[null,"(Primary Code First)",null,"PARENT PROJECTS: "]
["FOCUS AREAS: ",{"$f":"MID(INDIRECT(\"'ProjDataInput'!d\"&TEXT($N$2,\"###\")),1,999)","v":""}]
[null,"(Primary Focus Area First)"]
["PARTNERS: ",{"$f":"MID(INDIRECT(\"'ProjDataInput'!e\"&TEXT($N$2,\"###\")),1,999)","v":""},null,"KEYWORDS: "]
[]
["OBJECTIVES: ",{"$f":"MID(INDIRECT(\"'ProjDataInput'!g\"&TEXT($N$2,\"###\")),1,19999)","v":""},null,"MULTIPROGRAM? "]
[]
["METHODOLOGY: ",null,null,"OTHER INFORMATION: "]
[null,"(The Data Sharing Plan may be included in the Methodology section)"]
["RATIONALE: "]
[]
["DATA SHARING PLAN: ",{"$f":"MID(INDIRECT(\"'ProjDataInput'!r\"&TEXT($N$2,\"###\")),1,19999)","v":""}]

{"sheet":"S10","index":12,"n_rows":40,"n_cols":15,"rows_kept":40,"cut":false,"hidden":false,"merged":[]}
["This worksheet is:",{"$f":"MID(CELL(\"filename\",'S10'!B1),FIND(\"]\",CELL(\"filename\",'S10'!B1))+1,24)","v":"S10"},"OMB no. ","0648-0362, exp 10/31/14",null,null,null,null,null,null,null,null,null,"S10","(default worksheet name)"]
[null,null,"Don't use after","2013-12-31",null,null,null,null,null,null,null,null,null,{"$f":"IF(LEFT(N1,3)=\"S1 \",2,VALUE(MID(N1,2,99))+1)","v":11}]
[null,null,null,null,null,null,null,null,null,null,null,null,null,null,"(temp workspace for a current cell value)"]
[null,"SEA GRANT PROJECT SUMMARY FORM 90-2",null,null,"National Office does not track these fields:",null,"NSGO use only",null,null,null,null,null,null,null,"(temp workspace for a new selected value)"]
[null,null,null,null,null,null,null,null,null,null,null,null,null,{"$f":"IF(N3=\"\",IF(N4=\"\",\"\",N4),IF(N4=\"\",N3,N3&\"; \"&N4))","v":""},"(function to concatenate the above two cells)"]
["INSTITUTION (Program): ",{"$f":"LEFT('S1-Start Here'!B6,16)","v":"0"},null,"ICODE: "]
["TITLE: ",{"$f":"MID(INDIRECT(\"'ProjDataInput'!C\"&TEXT($N$2,\"###\")),1,999)","v":""},null,"REV. DATE:",null,null,null,null,null,null,null,null,null,{"$f":"IF('S1-Start Here'!B6=\"\",\"\",'S1-Start Here'!B6)","v":0},"(Program listed on first 90-2)"]
[null,null,null,"INIT. DATE:"]
["PREFIX (A,C,E,M,P or R): "," PROJECT NUMBER",null,"COMPL. DATE:"]
[{"$f":"LEFT(INDIRECT(\"'ProjDataInput'!b\"&TEXT($N$2,\"###\")),2)","v":""},{"$f":"MID(INDIRECT(\"'ProjDataInput'!b\"&TEXT($N$2,\"###\")),3,999)","v":""},null,"PROJECT STATUS: "]
[null,null,null,"SUBPRROGRAM: "]
[]
["PI: ",{"$f":"MID(INDIRECT(\"'ProjDataInput'!j\"&TEXT($N$2,\"###\")),1,999)","v":""},null,"EFFORT: "]
["AFFILIATION: ",{"$f":"MID(INDIRECT(\"'ProjDataInput'!k\"&TEXT($N$2,\"###\")),1,999)","v":""},null,"AFFIL. CODE: ",null,null,"Worksheet"]
[null,null,null,null,null,null,"tools:"]
["2nd PI: ",{"$f":"MID(INDIRECT(\"'ProjDataInput'!L\"&TEXT($N$2,\"###\")),1,999)","v":""},null,"EFFORT: "]
["AFFILIATION: ",{"$f":"MID(INDIRECT(\"'ProjDataInput'!m\"&TEXT($N$2,\"###\")),1,999)","v":""},null,"AFFIL. CODE: "]
[]
["3rd PI: ",{"$f":"MID(INDIRECT(\"'ProjDataInput'!n\"&TEXT($N$2,\"###\")),1,999)","v":""},null,"EFFORT: "]
["AFFILIATION: ",{"$f":"MID(INDIRECT(\"'ProjDataInput'!o\"&TEXT($N$2,\"###\")),1,999)","v":""},null,"AFFIL. CODE: "]
[]
["4th PI: ",{"$f":"MID(INDIRECT(\"'ProjDataInput'!p\"&TEXT($N$2,\"###\")),1,999)","v":""},null,"EFFORT: "]
["AFFILIATION: ",{"$f":"MID(INDIRECT(\"'ProjDataInput'!q\"&TEXT($N$2,\"###\")),1,999)","v":""},null,"AFFIL. CODE: "]
[]
["FEDERAL $ REQUEST: ",{"$f":"INDIRECT(\"'ProjDataInput'!h\"&TEXT($N$2,\"###\"))","v":0},null,"LAST YR FEDERAL: "]
["MATCH $: ",{"$f":"INDIRECT(\"'ProjDataInput'!i\"&TEXT($N$2,\"###\"))","v":0},null,"LAST YR MATCH: "]
[]
["CLASSIFICATION CODES: ",{"$f":"MID(INDIRECT(\"'ProjDataInput'!f\"&TEXT($N$2,\"###\")),1,999)","v":""},null,"RELATED PROJECTS: "]
[null,"(Primary Code First)",null,"PARENT PROJECTS: "]
["FOCUS AREAS: ",{"$f":"MID(INDIRECT(\"'ProjDataInput'!d\"&TEXT($N$2,\"###\")),1,999)","v":""}]
[null,"(Primary Focus Area First)"]
["PARTNERS: ",{"$f":"MID(INDIRECT(\"'ProjDataInput'!e\"&TEXT($N$2,\"###\")),1,999)","v":""},null,"KEYWORDS: "]
[]
["OBJECTIVES: ",{"$f":"MID(INDIRECT(\"'ProjDataInput'!g\"&TEXT($N$2,\"###\")),1,19999)","v":""},null,"MULTIPROGRAM? "]
[]
["METHODOLOGY: ",null,null,"OTHER INFORMATION: "]
[null,"(The Data Sharing Plan may be included in the Methodology section)"]
["RATIONALE: "]
[]
["DATA SHARING PLAN: ",{"$f":"MID(INDIRECT(\"'ProjDataInput'!r\"&TEXT($N$2,\"###\")),1,19999)","v":""}]

{"sheet":"S11","index":13,"n_rows":40,"n_cols":15,"rows_kept":40,"cut":false,"hidden":false,"merged":[]}
["This worksheet is:",{"$f":"MID(CELL(\"filename\",'S11'!B1),FIND(\"]\",CELL(\"filename\",'S11'!B1))+1,24)","v":"S11"},"OMB no. ","0648-0362, exp 10/31/14",null,null,null,null,null,null,null,null,null,"S11","(default worksheet name)"]
[null,null,"Don't use after","2013-12-31",null,null,null,null,null,null,null,null,null,{"$f":"IF(LEFT(N1,3)=\"S1 \",2,VALUE(MID(N1,2,99))+1)","v":12}]
[null,null,null,null,null,null,null,null,null,null,null,null,null,null,"(temp workspace for a current cell value)"]
[null,"SEA GRANT PROJECT SUMMARY FORM 90-2",null,null,"National Office does not track these fields:",null,"NSGO use only",null,null,null,null,null,null,null,"(temp workspace for a new selected value)"]
[null,null,null,null,null,null,null,null,null,null,null,null,null,{"$f":"IF(N3=\"\",IF(N4=\"\",\"\",N4),IF(N4=\"\",N3,N3&\"; \"&N4))","v":""},"(function to concatenate the above two cells)"]
["INSTITUTION (Program): ",{"$f":"LEFT('S1-Start Here'!B6,16)","v":"0"},null,"ICODE: "]
["TITLE: ",{"$f":"MID(INDIRECT(\"'ProjDataInput'!C\"&TEXT($N$2,\"###\")),1,999)","v":""},null,"REV. DATE:",null,null,null,null,null,null,null,null,null,{"$f":"IF('S1-Start Here'!B6=\"\",\"\",'S1-Start Here'!B6)","v":0},"(Program listed on first 90-2)"]
[null,null,null,"INIT. DATE:"]
["PREFIX (A,C,E,M,P or R): "," PROJECT NUMBER",null,"COMPL. DATE:"]
[{"$f":"LEFT(INDIRECT(\"'ProjDataInput'!b\"&TEXT($N$2,\"###\")),2)","v":""},{"$f":"MID(INDIRECT(\"'ProjDataInput'!b\"&TEXT($N$2,\"###\")),3,999)","v":""},null,"PROJECT STATUS: "]
[null,null,null,"SUBPRROGRAM: "]
[]
["PI: ",{"$f":"MID(INDIRECT(\"'ProjDataInput'!j\"&TEXT($N$2,\"###\")),1,999)","v":""},null,"EFFORT: "]
["AFFILIATION: ",{"$f":"MID(INDIRECT(\"'ProjDataInput'!k\"&TEXT($N$2,\"###\")),1,999)","v":""},null,"AFFIL. CODE: ",null,null,"Worksheet"]
[null,null,null,null,null,null,"tools:"]
["2nd PI: ",{"$f":"MID(INDIRECT(\"'ProjDataInput'!L\"&TEXT($N$2,\"###\")),1,999)","v":""},null,"EFFORT: "]
["AFFILIATION: ",{"$f":"MID(INDIRECT(\"'ProjDataInput'!m\"&TEXT($N$2,\"###\")),1,999)","v":""},null,"AFFIL. CODE: "]
[]
["3rd PI: ",{"$f":"MID(INDIRECT(\"'ProjDataInput'!n\"&TEXT($N$2,\"###\")),1,999)","v":""},null,"EFFORT: "]
["AFFILIATION: ",{"$f":"MID(INDIRECT(\"'ProjDataInput'!o\"&TEXT($N$2,\"###\")),1,999)","v":""},null,"AFFIL. CODE: "]
[]
["4th PI: ",{"$f":"MID(INDIRECT(\"'ProjDataInput'!p\"&TEXT($N$2,\"###\")),1,999)","v":""},null,"EFFORT: "]
["AFFILIATION: ",{"$f":"MID(INDIRECT(\"'ProjDataInput'!q\"&TEXT($N$2,\"###\")),1,999)","v":""},null,"AFFIL. CODE: "]
[]
["FEDERAL $ REQUEST: ",{"$f":"INDIRECT(\"'ProjDataInput'!h\"&TEXT($N$2,\"###\"))","v":0},null,"LAST YR FEDERAL: "]
["MATCH $: ",{"$f":"INDIRECT(\"'ProjDataInput'!i\"&TEXT($N$2,\"###\"))","v":0},null,"LAST YR MATCH: "]
[]
["CLASSIFICATION CODES: ",{"$f":"MID(INDIRECT(\"'ProjDataInput'!f\"&TEXT($N$2,\"###\")),1,999)","v":""},null,"RELATED PROJECTS: "]
[null,"(Primary Code First)",null,"PARENT PROJECTS: "]
["FOCUS AREAS: ",{"$f":"MID(INDIRECT(\"'ProjDataInput'!d\"&TEXT($N$2,\"###\")),1,999)","v":""}]
[null,"(Primary Focus Area First)"]
["PARTNERS: ",{"$f":"MID(INDIRECT(\"'ProjDataInput'!e\"&TEXT($N$2,\"###\")),1,999)","v":""},null,"KEYWORDS: "]
[]
["OBJECTIVES: ",{"$f":"MID(INDIRECT(\"'ProjDataInput'!g\"&TEXT($N$2,\"###\")),1,19999)","v":""},null,"MULTIPROGRAM? "]
[]
["METHODOLOGY: ",null,null,"OTHER INFORMATION: "]
[null,"(The Data Sharing Plan may be included in the Methodology section)"]
["RATIONALE: "]
[]
["DATA SHARING PLAN: ",{"$f":"MID(INDIRECT(\"'ProjDataInput'!r\"&TEXT($N$2,\"###\")),1,19999)","v":""}]

{"sheet":"S12","index":14,"n_rows":40,"n_cols":15,"rows_kept":40,"cut":false,"hidden":false,"merged":[]}
["This worksheet is:",{"$f":"MID(CELL(\"filename\",'S12'!B1),FIND(\"]\",CELL(\"filename\",'S12'!B1))+1,24)","v":"S12"},"OMB no. ","0648-0362, exp 10/31/14",null,null,null,null,null,null,null,null,null,"S12","(default worksheet name)"]
[null,null,"Don't use after","2013-12-31",null,null,null,null,null,null,null,null,null,{"$f":"IF(LEFT(N1,3)=\"S1 \",2,VALUE(MID(N1,2,99))+1)","v":13}]
[null,null,null,null,null,null,null,null,null,null,null,null,null,null,"(temp workspace for a current cell value)"]
[null,"SEA GRANT PROJECT SUMMARY FORM 90-2",null,null,"National Office does not track these fields:",null,"NSGO use only",null,null,null,null,null,null,null,"(temp workspace for a new selected value)"]
[null,null,null,null,null,null,null,null,null,null,null,null,null,{"$f":"IF(N3=\"\",IF(N4=\"\",\"\",N4),IF(N4=\"\",N3,N3&\"; \"&N4))","v":""},"(function to concatenate the above two cells)"]
["INSTITUTION (Program): ",{"$f":"LEFT('S1-Start Here'!B6,16)","v":"0"},null,"ICODE: "]
["TITLE: ",{"$f":"MID(INDIRECT(\"'ProjDataInput'!C\"&TEXT($N$2,\"###\")),1,999)","v":""},null,"REV. DATE:",null,null,null,null,null,null,null,null,null,{"$f":"IF('S1-Start Here'!B6=\"\",\"\",'S1-Start Here'!B6)","v":0},"(Program listed on first 90-2)"]
[null,null,null,"INIT. DATE:"]
["PREFIX (A,C,E,M,P or R): "," PROJECT NUMBER",null,"COMPL. DATE:"]
[{"$f":"LEFT(INDIRECT(\"'ProjDataInput'!b\"&TEXT($N$2,\"###\")),2)","v":""},{"$f":"MID(INDIRECT(\"'ProjDataInput'!b\"&TEXT($N$2,\"###\")),3,999)","v":""},null,"PROJECT STATUS: "]
[null,null,null,"SUBPRROGRAM: "]
[]
["PI: ",{"$f":"MID(INDIRECT(\"'ProjDataInput'!j\"&TEXT($N$2,\"###\")),1,999)","v":""},null,"EFFORT: "]
["AFFILIATION: ",{"$f":"MID(INDIRECT(\"'ProjDataInput'!k\"&TEXT($N$2,\"###\")),1,999)","v":""},null,"AFFIL. CODE: ",null,null,"Worksheet"]
[null,null,null,null,null,null,"tools:"]
["2nd PI: ",{"$f":"MID(INDIRECT(\"'ProjDataInput'!L\"&TEXT($N$2,\"###\")),1,999)","v":""},null,"EFFORT: "]
["AFFILIATION: ",{"$f":"MID(INDIRECT(\"'ProjDataInput'!m\"&TEXT($N$2,\"###\")),1,999)","v":""},null,"AFFIL. CODE: "]
[]
["3rd PI: ",{"$f":"MID(INDIRECT(\"'ProjDataInput'!n\"&TEXT($N$2,\"###\")),1,999)","v":""},null,"EFFORT: "]
["AFFILIATION: ",{"$f":"MID(INDIRECT(\"'ProjDataInput'!o\"&TEXT($N$2,\"###\")),1,999)","v":""},null,"AFFIL. CODE: "]
[]
["4th PI: ",{"$f":"MID(INDIRECT(\"'ProjDataInput'!p\"&TEXT($N$2,\"###\")),1,999)","v":""},null,"EFFORT: "]
["AFFILIATION: ",{"$f":"MID(INDIRECT(\"'ProjDataInput'!q\"&TEXT($N$2,\"###\")),1,999)","v":""},null,"AFFIL. CODE: "]
[]
["FEDERAL $ REQUEST: ",{"$f":"INDIRECT(\"'ProjDataInput'!h\"&TEXT($N$2,\"###\"))","v":0},null,"LAST YR FEDERAL: "]
["MATCH $: ",{"$f":"INDIRECT(\"'ProjDataInput'!i\"&TEXT($N$2,\"###\"))","v":0},null,"LAST YR MATCH: "]
[]
["CLASSIFICATION CODES: ",{"$f":"MID(INDIRECT(\"'ProjDataInput'!f\"&TEXT($N$2,\"###\")),1,999)","v":""},null,"RELATED PROJECTS: "]
[null,"(Primary Code First)",null,"PARENT PROJECTS: "]
["FOCUS AREAS: ",{"$f":"MID(INDIRECT(\"'ProjDataInput'!d\"&TEXT($N$2,\"###\")),1,999)","v":""}]
[null,"(Primary Focus Area First)"]
["PARTNERS: ",{"$f":"MID(INDIRECT(\"'ProjDataInput'!e\"&TEXT($N$2,\"###\")),1,999)","v":""},null,"KEYWORDS: "]
[]
["OBJECTIVES: ",{"$f":"MID(INDIRECT(\"'ProjDataInput'!g\"&TEXT($N$2,\"###\")),1,19999)","v":""},null,"MULTIPROGRAM? "]
[]
["METHODOLOGY: ",null,null,"OTHER INFORMATION: "]
[null,"(The Data Sharing Plan may be included in the Methodology section)"]
["RATIONALE: "]
[]
["DATA SHARING PLAN: ",{"$f":"MID(INDIRECT(\"'ProjDataInput'!r\"&TEXT($N$2,\"###\")),1,19999)","v":""}]

{"sheet":"S13","index":15,"n_rows":40,"n_cols":15,"rows_kept":40,"cut":false,"hidden":false,"merged":[]}
["This worksheet is:",{"$f":"MID(CELL(\"filename\",'S13'!B1),FIND(\"]\",CELL(\"filename\",'S13'!B1))+1,24)","v":"S13"},"OMB no. ","0648-0362, exp 10/31/14",null,null,null,null,null,null,null,null,null,"S13","(default worksheet name)"]
[null,null,"Don't use after","2013-12-31",null,null,null,null,null,null,null,null,null,{"$f":"IF(LEFT(N1,3)=\"S1 \",2,VALUE(MID(N1,2,99))+1)","v":14}]
[null,null,null,null,null,null,null,null,null,null,null,null,null,null,"(temp workspace for a current cell value)"]
[null,"SEA GRANT PROJECT SUMMARY FORM 90-2",null,null,"National Office does not track these fields:",null,"NSGO use only",null,null,null,null,null,null,null,"(temp workspace for a new selected value)"]
[null,null,null,null,null,null,null,null,null,null,null,null,null,{"$f":"IF(N3=\"\",IF(N4=\"\",\"\",N4),IF(N4=\"\",N3,N3&\"; \"&N4))","v":""},"(function to concatenate the above two cells)"]
["INSTITUTION (Program): ",{"$f":"LEFT('S1-Start Here'!B6,16)","v":"0"},null,"ICODE: "]
["TITLE: ",{"$f":"MID(INDIRECT(\"'ProjDataInput'!C\"&TEXT($N$2,\"###\")),1,999)","v":""},null,"REV. DATE:",null,null,null,null,null,null,null,null,null,{"$f":"IF('S1-Start Here'!B6=\"\",\"\",'S1-Start Here'!B6)","v":0},"(Program listed on first 90-2)"]
[null,null,null,"INIT. DATE:"]
["PREFIX (A,C,E,M,P or R): "," PROJECT NUMBER",null,"COMPL. DATE:"]
[{"$f":"LEFT(INDIRECT(\"'ProjDataInput'!b\"&TEXT($N$2,\"###\")),2)","v":""},{"$f":"MID(INDIRECT(\"'ProjDataInput'!b\"&TEXT($N$2,\"###\")),3,999)","v":""},null,"PROJECT STATUS: "]
[null,null,null,"SUBPRROGRAM: "]
[]
["PI: ",{"$f":"MID(INDIRECT(\"'ProjDataInput'!j\"&TEXT($N$2,\"###\")),1,999)","v":""},null,"EFFORT: "]
["AFFILIATION: ",{"$f":"MID(INDIRECT(\"'ProjDataInput'!k\"&TEXT($N$2,\"###\")),1,999)","v":""},null,"AFFIL. CODE: ",null,null,"Worksheet"]
[null,null,null,null,null,null,"tools:"]
["2nd PI: ",{"$f":"MID(INDIRECT(\"'ProjDataInput'!L\"&TEXT($N$2,\"###\")),1,999)","v":""},null,"EFFORT: "]
["AFFILIATION: ",{"$f":"MID(INDIRECT(\"'ProjDataInput'!m\"&TEXT($N$2,\"###\")),1,999)","v":""},null,"AFFIL. CODE: "]
[]
["3rd PI: ",{"$f":"MID(INDIRECT(\"'ProjDataInput'!n\"&TEXT($N$2,\"###\")),1,999)","v":""},null,"EFFORT: "]
["AFFILIATION: ",{"$f":"MID(INDIRECT(\"'ProjDataInput'!o\"&TEXT($N$2,\"###\")),1,999)","v":""},null,"AFFIL. CODE: "]
[]
["4th PI: ",{"$f":"MID(INDIRECT(\"'ProjDataInput'!p\"&TEXT($N$2,\"###\")),1,999)","v":""},null,"EFFORT: "]
["AFFILIATION: ",{"$f":"MID(INDIRECT(\"'ProjDataInput'!q\"&TEXT($N$2,\"###\")),1,999)","v":""},null,"AFFIL. CODE: "]
[]
["FEDERAL $ REQUEST: ",{"$f":"INDIRECT(\"'ProjDataInput'!h\"&TEXT($N$2,\"###\"))","v":0},null,"LAST YR FEDERAL: "]
["MATCH $: ",{"$f":"INDIRECT(\"'ProjDataInput'!i\"&TEXT($N$2,\"###\"))","v":0},null,"LAST YR MATCH: "]
[]
["CLASSIFICATION CODES: ",{"$f":"MID(INDIRECT(\"'ProjDataInput'!f\"&TEXT($N$2,\"###\")),1,999)","v":""},null,"RELATED PROJECTS: "]
[null,"(Primary Code First)",null,"PARENT PROJECTS: "]
["FOCUS AREAS: ",{"$f":"MID(INDIRECT(\"'ProjDataInput'!d\"&TEXT($N$2,\"###\")),1,999)","v":""}]
[null,"(Primary Focus Area First)"]
["PARTNERS: ",{"$f":"MID(INDIRECT(\"'ProjDataInput'!e\"&TEXT($N$2,\"###\")),1,999)","v":""},null,"KEYWORDS: "]
[]
["OBJECTIVES: ",{"$f":"MID(INDIRECT(\"'ProjDataInput'!g\"&TEXT($N$2,\"###\")),1,19999)","v":""},null,"MULTIPROGRAM? "]
[]
["METHODOLOGY: ",null,null,"OTHER INFORMATION: "]
[null,"(The Data Sharing Plan may be included in the Methodology section)"]
["RATIONALE: "]
[]
["DATA SHARING PLAN: ",{"$f":"MID(INDIRECT(\"'ProjDataInput'!r\"&TEXT($N$2,\"###\")),1,19999)","v":""}]

{"sheet":"S14","index":16,"n_rows":40,"n_cols":15,"rows_kept":40,"cut":false,"hidden":false,"merged":[]}
["This worksheet is:",{"$f":"MID(CELL(\"filename\",'S14'!B1),FIND(\"]\",CELL(\"filename\",'S14'!B1))+1,24)","v":"S14"},"OMB no. ","0648-0362, exp 10/31/14",null,null,null,null,null,null,null,null,null,"S14","(default worksheet name)"]
[null,32,"Don't use after","2013-12-31",null,null,null,null,null,null,null,null,null,{"$f":"IF(LEFT(N1,3)=\"S1 \",2,VALUE(MID(N1,2,99))+1)","v":15}]
[null,null,null,null,null,null,null,null,null,null,null,null,null,"2116 Resilient Ecosystem Processes and Responses; 2117 Sustainable Fisheries and Aquaculture; 2118 Robust Communities and Economies","(temp workspace for a current cell value)"]
[null,"SEA GRANT PROJECT SUMMARY FORM 90-2",null,null,"National Office does not track these fields:",null,"NSGO use only",null,null,null,null,null,null,"2164 Effective Environmental Science Education","(temp workspace for a new selected value)"]
[null,null,null,null,null,null,null,null,null,null,null,null,null,{"$f":"IF(N3=\"\",IF(N4=\"\",\"\",N4),IF(N4=\"\",N3,N3&\"; \"&N4))","v":"2116 Resilient Ecosystem Processes and Responses; 2117 Sustainable Fisheries and Aquaculture; 2118 Robust Communities and Economies; 2164 Effective Environmental Science Education"},"(function to concatenate the above two cells)"]
["INSTITUTION (Program): ",{"$f":"LEFT('S1-Start Here'!B6,16)","v":"0"},null,"ICODE: "]
["TITLE: ",{"$f":"MID(INDIRECT(\"'ProjDataInput'!C\"&TEXT($N$2,\"###\")),1,999)","v":""},null,"REV. DATE:",null,null,null,null,null,null,null,null,null,{"$f":"IF('S1-Start Here'!B6=\"\",\"\",'S1-Start Here'!B6)","v":0},"(Program listed on first 90-2)"]
[null,null,null,"INIT. DATE:"]
["PREFIX (A,C,E,M,P or R): "," PROJECT NUMBER",null,"COMPL. DATE:"]
[{"$f":"LEFT(INDIRECT(\"'ProjDataInput'!b\"&TEXT($N$2,\"###\")),2)","v":""},{"$f":"MID(INDIRECT(\"'ProjDataInput'!b\"&TEXT($N$2,\"###\")),3,999)","v":""},null,"PROJECT STATUS: "]
[null,null,null,"SUBPRROGRAM: "]
[]
["PI: ",{"$f":"MID(INDIRECT(\"'ProjDataInput'!j\"&TEXT($N$2,\"###\")),1,999)","v":""},null,"EFFORT: "]
["AFFILIATION: ",{"$f":"MID(INDIRECT(\"'ProjDataInput'!k\"&TEXT($N$2,\"###\")),1,999)","v":""},null,"AFFIL. CODE: ",null,null,"Worksheet"]
[null,null,null,null,null,null,"tools:"]
["2nd PI: ",{"$f":"MID(INDIRECT(\"'ProjDataInput'!L\"&TEXT($N$2,\"###\")),1,999)","v":""},null,"EFFORT: "]
["AFFILIATION: ",{"$f":"MID(INDIRECT(\"'ProjDataInput'!m\"&TEXT($N$2,\"###\")),1,999)","v":""},null,"AFFIL. CODE: "]
[]
["3rd PI: ",{"$f":"MID(INDIRECT(\"'ProjDataInput'!n\"&TEXT($N$2,\"###\")),1,999)","v":""},null,"EFFORT: "]
["AFFILIATION: ",{"$f":"MID(INDIRECT(\"'ProjDataInput'!o\"&TEXT($N$2,\"###\")),1,999)","v":""},null,"AFFIL. CODE: "]
[]
["4th PI: ",{"$f":"MID(INDIRECT(\"'ProjDataInput'!p\"&TEXT($N$2,\"###\")),1,999)","v":""},null,"EFFORT: "]
["AFFILIATION: ",{"$f":"MID(INDIRECT(\"'ProjDataInput'!q\"&TEXT($N$2,\"###\")),1,999)","v":""},null,"AFFIL. CODE: "]
[]
["FEDERAL $ REQUEST: ",{"$f":"INDIRECT(\"'ProjDataInput'!h\"&TEXT($N$2,\"###\"))","v":0},null,"LAST YR FEDERAL: "]
["MATCH $: ",{"$f":"INDIRECT(\"'ProjDataInput'!i\"&TEXT($N$2,\"###\"))","v":0},null,"LAST YR MATCH: "]
[]
["CLASSIFICATION CODES: ",{"$f":"MID(INDIRECT(\"'ProjDataInput'!f\"&TEXT($N$2,\"###\")),1,999)","v":""},null,"RELATED PROJECTS: "]
[null,"(Primary Code First)",null,"PARENT PROJECTS: "]
["FOCUS AREAS: ",{"$f":"MID(INDIRECT(\"'ProjDataInput'!d\"&TEXT($N$2,\"###\")),1,999)","v":""}]
[null,"(Primary Focus Area First)"]
["PARTNERS: ",{"$f":"MID(INDIRECT(\"'ProjDataInput'!e\"&TEXT($N$2,\"###\")),1,999)","v":""},null,"KEYWORDS: "]
[]
["OBJECTIVES: ",{"$f":"MID(INDIRECT(\"'ProjDataInput'!g\"&TEXT($N$2,\"###\")),1,19999)","v":""},null,"MULTIPROGRAM? "]
[]
["METHODOLOGY: ",null,null,"OTHER INFORMATION: ","fake data added by Dorn"]
[null,"(The Data Sharing Plan may be included in the Methodology section)"]
["RATIONALE: "]
[]
["DATA SHARING PLAN: ",{"$f":"MID(INDIRECT(\"'ProjDataInput'!r\"&TEXT($N$2,\"###\")),1,19999)","v":""}]

{"sheet":"S15","index":17,"n_rows":40,"n_cols":15,"rows_kept":40,"cut":false,"hidden":false,"merged":[]}
["This worksheet is:",{"$f":"MID(CELL(\"filename\",'S15'!B1),FIND(\"]\",CELL(\"filename\",'S15'!B1))+1,24)","v":"S15"},"OMB no. ","0648-0362, exp 10/31/14",null,null,null,null,null,null,null,null,null,"S15","(default worksheet name)"]
[null,null,"Don't use after","2013-12-31",null,null,null,null,null,null,null,null,null,{"$f":"IF(LEFT(N1,3)=\"S1 \",2,VALUE(MID(N1,2,99))+1)","v":16}]
[null,null,null,null,null,null,null,null,null,null,null,null,null,null,"(temp workspace for a current cell value)"]
[null,"SEA GRANT PROJECT SUMMARY FORM 90-2",null,null,"National Office does not track these fields:",null,"NSGO use only",null,null,null,null,null,null,null,"(temp workspace for a new selected value)"]
[null,null,null,null,null,null,null,null,null,null,null,null,null,{"$f":"IF(N3=\"\",IF(N4=\"\",\"\",N4),IF(N4=\"\",N3,N3&\"; \"&N4))","v":""},"(function to concatenate the above two cells)"]
["INSTITUTION (Program): ",{"$f":"LEFT('S1-Start Here'!B6,16)","v":"0"},null,"ICODE: "]
["TITLE: ",{"$f":"MID(INDIRECT(\"'ProjDataInput'!C\"&TEXT($N$2,\"###\")),1,999)","v":""},null,"REV. DATE:",null,null,null,null,null,null,null,null,null,{"$f":"IF('S1-Start Here'!B6=\"\",\"\",'S1-Start Here'!B6)","v":0},"(Program listed on first 90-2)"]
[null,null,null,"INIT. DATE:"]
["PREFIX (A,C,E,M,P or R): "," PROJECT NUMBER",null,"COMPL. DATE:"]
[{"$f":"LEFT(INDIRECT(\"'ProjDataInput'!b\"&TEXT($N$2,\"###\")),2)","v":""},{"$f":"MID(INDIRECT(\"'ProjDataInput'!b\"&TEXT($N$2,\"###\")),3,999)","v":""},null,"PROJECT STATUS: "]
[null,null,null,"SUBPRROGRAM: "]
[]
["PI: ",{"$f":"MID(INDIRECT(\"'ProjDataInput'!j\"&TEXT($N$2,\"###\")),1,999)","v":""},null,"EFFORT: "]
["AFFILIATION: ",{"$f":"MID(INDIRECT(\"'ProjDataInput'!k\"&TEXT($N$2,\"###\")),1,999)","v":""},null,"AFFIL. CODE: ",null,null,"Worksheet"]
[null,null,null,null,null,null,"tools:"]
["2nd PI: ",{"$f":"MID(INDIRECT(\"'ProjDataInput'!L\"&TEXT($N$2,\"###\")),1,999)","v":""},null,"EFFORT: "]
["AFFILIATION: ",{"$f":"MID(INDIRECT(\"'ProjDataInput'!m\"&TEXT($N$2,\"###\")),1,999)","v":""},null,"AFFIL. CODE: "]
[]
["3rd PI: ",{"$f":"MID(INDIRECT(\"'ProjDataInput'!n\"&TEXT($N$2,\"###\")),1,999)","v":""},null,"EFFORT: "]
["AFFILIATION: ",{"$f":"MID(INDIRECT(\"'ProjDataInput'!o\"&TEXT($N$2,\"###\")),1,999)","v":""},null,"AFFIL. CODE: "]
[]
["4th PI: ",{"$f":"MID(INDIRECT(\"'ProjDataInput'!p\"&TEXT($N$2,\"###\")),1,999)","v":""},null,"EFFORT: "]
["AFFILIATION: ",{"$f":"MID(INDIRECT(\"'ProjDataInput'!q\"&TEXT($N$2,\"###\")),1,999)","v":""},null,"AFFIL. CODE: "]
[]
["FEDERAL $ REQUEST: ",{"$f":"INDIRECT(\"'ProjDataInput'!h\"&TEXT($N$2,\"###\"))","v":0},null,"LAST YR FEDERAL: "]
["MATCH $: ",{"$f":"INDIRECT(\"'ProjDataInput'!i\"&TEXT($N$2,\"###\"))","v":0},null,"LAST YR MATCH: "]
[]
["CLASSIFICATION CODES: ",{"$f":"MID(INDIRECT(\"'ProjDataInput'!f\"&TEXT($N$2,\"###\")),1,999)","v":""},null,"RELATED PROJECTS: "]
[null,"(Primary Code First)",null,"PARENT PROJECTS: "]
["FOCUS AREAS: ",{"$f":"MID(INDIRECT(\"'ProjDataInput'!d\"&TEXT($N$2,\"###\")),1,999)","v":""}]
[null,"(Primary Focus Area First)"]
["PARTNERS: ",{"$f":"MID(INDIRECT(\"'ProjDataInput'!e\"&TEXT($N$2,\"###\")),1,999)","v":""},null,"KEYWORDS: "]
[]
["OBJECTIVES: ",{"$f":"MID(INDIRECT(\"'ProjDataInput'!g\"&TEXT($N$2,\"###\")),1,19999)","v":""},null,"MULTIPROGRAM? "]
[]
["METHODOLOGY: ",null,null,"OTHER INFORMATION: "]
[null,"(The Data Sharing Plan may be included in the Methodology section)"]
["RATIONALE: "]
[]
["DATA SHARING PLAN: ",{"$f":"MID(INDIRECT(\"'ProjDataInput'!r\"&TEXT($N$2,\"###\")),1,19999)","v":""}]

{"sheet":"S16","index":18,"n_rows":40,"n_cols":15,"rows_kept":40,"cut":false,"hidden":false,"merged":[]}
["This worksheet is:",{"$f":"MID(CELL(\"filename\",'S16'!B1),FIND(\"]\",CELL(\"filename\",'S16'!B1))+1,24)","v":"S16"},"OMB no. ","0648-0362, exp 10/31/14",null,null,null,null,null,null,null,null,null,"S16","(default worksheet name)"]
[null,null,"Don't use after","2013-12-31",null,null,null,null,null,null,null,null,null,{"$f":"IF(LEFT(N1,3)=\"S1 \",2,VALUE(MID(N1,2,99))+1)","v":17}]
[null,null,null,null,null,null,null,null,null,null,null,null,null,null,"(temp workspace for a current cell value)"]
[null,"SEA GRANT PROJECT SUMMARY FORM 90-2",null,null,"National Office does not track these fields:",null,"NSGO use only",null,null,null,null,null,null,null,"(temp workspace for a new selected value)"]
[null,null,null,null,null,null,null,null,null,null,null,null,null,{"$f":"IF(N3=\"\",IF(N4=\"\",\"\",N4),IF(N4=\"\",N3,N3&\"; \"&N4))","v":""},"(function to concatenate the above two cells)"]
["INSTITUTION (Program): ",{"$f":"LEFT('S1-Start Here'!B6,16)","v":"0"},null,"ICODE: "]
["TITLE: ",{"$f":"MID(INDIRECT(\"'ProjDataInput'!C\"&TEXT($N$2,\"###\")),1,999)","v":""},null,"REV. DATE:",null,null,null,null,null,null,null,null,null,{"$f":"IF('S1-Start Here'!B6=\"\",\"\",'S1-Start Here'!B6)","v":0},"(Program listed on first 90-2)"]
[null,null,null,"INIT. DATE:"]
["PREFIX (A,C,E,M,P or R): "," PROJECT NUMBER",null,"COMPL. DATE:"]
[{"$f":"LEFT(INDIRECT(\"'ProjDataInput'!b\"&TEXT($N$2,\"###\")),2)","v":""},{"$f":"MID(INDIRECT(\"'ProjDataInput'!b\"&TEXT($N$2,\"###\")),3,999)","v":""},null,"PROJECT STATUS: "]
[null,null,null,"SUBPRROGRAM: "]
[]
["PI: ",{"$f":"MID(INDIRECT(\"'ProjDataInput'!j\"&TEXT($N$2,\"###\")),1,999)","v":""},null,"EFFORT: "]
["AFFILIATION: ",{"$f":"MID(INDIRECT(\"'ProjDataInput'!k\"&TEXT($N$2,\"###\")),1,999)","v":""},null,"AFFIL. CODE: ",null,null,"Worksheet"]
[null,null,null,null,null,null,"tools:"]
["2nd PI: ",{"$f":"MID(INDIRECT(\"'ProjDataInput'!L\"&TEXT($N$2,\"###\")),1,999)","v":""},null,"EFFORT: "]
["AFFILIATION: ",{"$f":"MID(INDIRECT(\"'ProjDataInput'!m\"&TEXT($N$2,\"###\")),1,999)","v":""},null,"AFFIL. CODE: "]
[]
["3rd PI: ",{"$f":"MID(INDIRECT(\"'ProjDataInput'!n\"&TEXT($N$2,\"###\")),1,999)","v":""},null,"EFFORT: "]
["AFFILIATION: ",{"$f":"MID(INDIRECT(\"'ProjDataInput'!o\"&TEXT($N$2,\"###\")),1,999)","v":""},null,"AFFIL. CODE: "]
[]
["4th PI: ",{"$f":"MID(INDIRECT(\"'ProjDataInput'!p\"&TEXT($N$2,\"###\")),1,999)","v":""},null,"EFFORT: "]
["AFFILIATION: ",{"$f":"MID(INDIRECT(\"'ProjDataInput'!q\"&TEXT($N$2,\"###\")),1,999)","v":""},null,"AFFIL. CODE: "]
[]
["FEDERAL $ REQUEST: ",{"$f":"INDIRECT(\"'ProjDataInput'!h\"&TEXT($N$2,\"###\"))","v":0},null,"LAST YR FEDERAL: "]
["MATCH $: ",{"$f":"INDIRECT(\"'ProjDataInput'!i\"&TEXT($N$2,\"###\"))","v":0},null,"LAST YR MATCH: "]
[]
["CLASSIFICATION CODES: ",{"$f":"MID(INDIRECT(\"'ProjDataInput'!f\"&TEXT($N$2,\"###\")),1,999)","v":""},null,"RELATED PROJECTS: "]
[null,"(Primary Code First)",null,"PARENT PROJECTS: "]
["FOCUS AREAS: ",{"$f":"MID(INDIRECT(\"'ProjDataInput'!d\"&TEXT($N$2,\"###\")),1,999)","v":""}]
[null,"(Primary Focus Area First)"]
["PARTNERS: ",{"$f":"MID(INDIRECT(\"'ProjDataInput'!e\"&TEXT($N$2,\"###\")),1,999)","v":""},null,"KEYWORDS: "]
[]
["OBJECTIVES: ",{"$f":"MID(INDIRECT(\"'ProjDataInput'!g\"&TEXT($N$2,\"###\")),1,19999)","v":""},null,"MULTIPROGRAM? "]
[]
["METHODOLOGY: ",null,null,"OTHER INFORMATION: "]
[null,"(The Data Sharing Plan may be included in the Methodology section)"]
["RATIONALE: "]
[]
["DATA SHARING PLAN: ",{"$f":"MID(INDIRECT(\"'ProjDataInput'!r\"&TEXT($N$2,\"###\")),1,19999)","v":""}]

{"sheet":"S17","index":19,"n_rows":40,"n_cols":15,"rows_kept":40,"cut":false,"hidden":false,"merged":[]}
["This worksheet is:",{"$f":"MID(CELL(\"filename\",'S17'!B1),FIND(\"]\",CELL(\"filename\",'S17'!B1))+1,24)","v":"S17"},"OMB no. ","0648-0362, exp 10/31/14",null,null,null,null,null,null,null,null,null,"S17","(default worksheet name)"]
[null,null,"Don't use after","2013-12-31",null,null,null,null,null,null,null,null,null,{"$f":"IF(LEFT(N1,3)=\"S1 \",2,VALUE(MID(N1,2,99))+1)","v":18}]
[null,null,null,null,null,null,null,null,null,null,null,null,null,null,"(temp workspace for a current cell value)"]
[null,"SEA GRANT PROJECT SUMMARY FORM 90-2",null,null,"National Office does not track these fields:",null,"NSGO use only",null,null,null,null,null,null,null,"(temp workspace for a new selected value)"]
[null,null,null,null,null,null,null,null,null,null,null,null,null,{"$f":"IF(N3=\"\",IF(N4=\"\",\"\",N4),IF(N4=\"\",N3,N3&\"; \"&N4))","v":""},"(function to concatenate the above two cells)"]
["INSTITUTION (Program): ",{"$f":"LEFT('S1-Start Here'!B6,16)","v":"0"},null,"ICODE: "]
["TITLE: ",{"$f":"MID(INDIRECT(\"'ProjDataInput'!C\"&TEXT($N$2,\"###\")),1,999)","v":""},null,"REV. DATE:",null,null,null,null,null,null,null,null,null,{"$f":"IF('S17'!B6=\"\",\"\",'S17'!B6)","v":"0"},"(Program listed on first 90-2)"]
[null,null,null,"INIT. DATE:"]
["PREFIX (A,C,E,M,P or R): "," PROJECT NUMBER",null,"COMPL. DATE:"]
[{"$f":"LEFT(INDIRECT(\"'ProjDataInput'!b\"&TEXT($N$2,\"###\")),2)","v":""},{"$f":"MID(INDIRECT(\"'ProjDataInput'!b\"&TEXT($N$2,\"###\")),3,999)","v":""},null,"PROJECT STATUS: "]
[null,null,null,"SUBPRROGRAM: "]
[]
["PI: ",{"$f":"MID(INDIRECT(\"'ProjDataInput'!j\"&TEXT($N$2,\"###\")),1,999)","v":""},null,"EFFORT: "]
["AFFILIATION: ",{"$f":"MID(INDIRECT(\"'ProjDataInput'!k\"&TEXT($N$2,\"###\")),1,999)","v":""},null,"AFFIL. CODE: ",null,null,"Worksheet"]
[null,null,null,null,null,null,"tools:"]
["2nd PI: ",{"$f":"MID(INDIRECT(\"'ProjDataInput'!L\"&TEXT($N$2,\"###\")),1,999)","v":""},null,"EFFORT: "]
["AFFILIATION: ",{"$f":"MID(INDIRECT(\"'ProjDataInput'!m\"&TEXT($N$2,\"###\")),1,999)","v":""},null,"AFFIL. CODE: "]
[]
["3rd PI: ",{"$f":"MID(INDIRECT(\"'ProjDataInput'!n\"&TEXT($N$2,\"###\")),1,999)","v":""},null,"EFFORT: "]
["AFFILIATION: ",{"$f":"MID(INDIRECT(\"'ProjDataInput'!o\"&TEXT($N$2,\"###\")),1,999)","v":""},null,"AFFIL. CODE: "]
[]
["4th PI: ",{"$f":"MID(INDIRECT(\"'ProjDataInput'!p\"&TEXT($N$2,\"###\")),1,999)","v":""},null,"EFFORT: "]
["AFFILIATION: ",{"$f":"MID(INDIRECT(\"'ProjDataInput'!q\"&TEXT($N$2,\"###\")),1,999)","v":""},null,"AFFIL. CODE: "]
[]
["FEDERAL $ REQUEST: ",{"$f":"INDIRECT(\"'ProjDataInput'!h\"&TEXT($N$2,\"###\"))","v":0},null,"LAST YR FEDERAL: "]
["MATCH $: ",{"$f":"INDIRECT(\"'ProjDataInput'!i\"&TEXT($N$2,\"###\"))","v":0},null,"LAST YR MATCH: "]
[]
["CLASSIFICATION CODES: ",{"$f":"MID(INDIRECT(\"'ProjDataInput'!f\"&TEXT($N$2,\"###\")),1,999)","v":""},null,"RELATED PROJECTS: "]
[null,"(Primary Code First)",null,"PARENT PROJECTS: "]
["FOCUS AREAS: ",{"$f":"MID(INDIRECT(\"'ProjDataInput'!d\"&TEXT($N$2,\"###\")),1,999)","v":""}]
[null,"(Primary Focus Area First)"]
["PARTNERS: ",{"$f":"MID(INDIRECT(\"'ProjDataInput'!e\"&TEXT($N$2,\"###\")),1,999)","v":""},null,"KEYWORDS: "]
[]
["OBJECTIVES: ",{"$f":"MID(INDIRECT(\"'ProjDataInput'!g\"&TEXT($N$2,\"###\")),1,19999)","v":""},null,"MULTIPROGRAM? "]
[]
["METHODOLOGY: ",null,null,"OTHER INFORMATION: "]
[null,"(The Data Sharing Plan may be included in the Methodology section)"]
["RATIONALE: "]
[]
["DATA SHARING PLAN: ",{"$f":"MID(INDIRECT(\"'ProjDataInput'!r\"&TEXT($N$2,\"###\")),1,19999)","v":""}]

{"sheet":"S18","index":20,"n_rows":40,"n_cols":15,"rows_kept":40,"cut":false,"hidden":false,"merged":[]}
["This worksheet is:",{"$f":"MID(CELL(\"filename\",'S18'!B1),FIND(\"]\",CELL(\"filename\",'S18'!B1))+1,24)","v":"S18"},"OMB no. ","0648-0362, exp 10/31/14",null,null,null,null,null,null,null,null,null,"S18","(default worksheet name)"]
[null,null,"Don't use after","2013-12-31",null,null,null,null,null,null,null,null,null,{"$f":"IF(LEFT(N1,3)=\"S1 \",2,VALUE(MID(N1,2,99))+1)","v":19}]
[null,null,null,null,null,null,null,null,null,null,null,null,null,null,"(temp workspace for a current cell value)"]
[null,"SEA GRANT PROJECT SUMMARY FORM 90-2",null,null,"National Office does not track these fields:",null,"NSGO use only",null,null,null,null,null,null,null,"(temp workspace for a new selected value)"]
[null,null,null,null,null,null,null,null,null,null,null,null,null,{"$f":"IF(N3=\"\",IF(N4=\"\",\"\",N4),IF(N4=\"\",N3,N3&\"; \"&N4))","v":""},"(function to concatenate the above two cells)"]
["INSTITUTION (Program): ",{"$f":"LEFT('S1-Start Here'!B6,16)","v":"0"},null,"ICODE: "]
["TITLE: ",{"$f":"MID(INDIRECT(\"'ProjDataInput'!C\"&TEXT($N$2,\"###\")),1,999)","v":""},null,"REV. DATE:",null,null,null,null,null,null,null,null,null,{"$f":"IF('S17'!B6=\"\",\"\",'S17'!B6)","v":"0"},"(Program listed on first 90-2)"]
[null,null,null,"INIT. DATE:"]
["PREFIX (A,C,E,M,P or R): "," PROJECT NUMBER",null,"COMPL. DATE:"]
[{"$f":"LEFT(INDIRECT(\"'ProjDataInput'!b\"&TEXT($N$2,\"###\")),2)","v":""},{"$f":"MID(INDIRECT(\"'ProjDataInput'!b\"&TEXT($N$2,\"###\")),3,999)","v":""},null,"PROJECT STATUS: "]
[null,null,null,"SUBPRROGRAM: "]
[]
["PI: ",{"$f":"MID(INDIRECT(\"'ProjDataInput'!j\"&TEXT($N$2,\"###\")),1,999)","v":""},null,"EFFORT: "]
["AFFILIATION: ",{"$f":"MID(INDIRECT(\"'ProjDataInput'!k\"&TEXT($N$2,\"###\")),1,999)","v":""},null,"AFFIL. CODE: ",null,null,"Worksheet"]
[null,null,null,null,null,null,"tools:"]
["2nd PI: ",{"$f":"MID(INDIRECT(\"'ProjDataInput'!L\"&TEXT($N$2,\"###\")),1,999)","v":""},null,"EFFORT: "]
["AFFILIATION: ",{"$f":"MID(INDIRECT(\"'ProjDataInput'!m\"&TEXT($N$2,\"###\")),1,999)","v":""},null,"AFFIL. CODE: "]
[]
["3rd PI: ",{"$f":"MID(INDIRECT(\"'ProjDataInput'!n\"&TEXT($N$2,\"###\")),1,999)","v":""},null,"EFFORT: "]
["AFFILIATION: ",{"$f":"MID(INDIRECT(\"'ProjDataInput'!o\"&TEXT($N$2,\"###\")),1,999)","v":""},null,"AFFIL. CODE: "]
[]
["4th PI: ",{"$f":"MID(INDIRECT(\"'ProjDataInput'!p\"&TEXT($N$2,\"###\")),1,999)","v":""},null,"EFFORT: "]
["AFFILIATION: ",{"$f":"MID(INDIRECT(\"'ProjDataInput'!q\"&TEXT($N$2,\"###\")),1,999)","v":""},null,"AFFIL. CODE: "]
[]
["FEDERAL $ REQUEST: ",{"$f":"INDIRECT(\"'ProjDataInput'!h\"&TEXT($N$2,\"###\"))","v":0},null,"LAST YR FEDERAL: "]
["MATCH $: ",{"$f":"INDIRECT(\"'ProjDataInput'!i\"&TEXT($N$2,\"###\"))","v":0},null,"LAST YR MATCH: "]
[]
["CLASSIFICATION CODES: ",{"$f":"MID(INDIRECT(\"'ProjDataInput'!f\"&TEXT($N$2,\"###\")),1,999)","v":""},null,"RELATED PROJECTS: "]
[null,"(Primary Code First)",null,"PARENT PROJECTS: "]
["FOCUS AREAS: ",{"$f":"MID(INDIRECT(\"'ProjDataInput'!d\"&TEXT($N$2,\"###\")),1,999)","v":""}]
[null,"(Primary Focus Area First)"]
["PARTNERS: ",{"$f":"MID(INDIRECT(\"'ProjDataInput'!e\"&TEXT($N$2,\"###\")),1,999)","v":""},null,"KEYWORDS: "]
[]
["OBJECTIVES: ",{"$f":"MID(INDIRECT(\"'ProjDataInput'!g\"&TEXT($N$2,\"###\")),1,19999)","v":""},null,"MULTIPROGRAM? "]
[]
["METHODOLOGY: ",null,null,"OTHER INFORMATION: "]
[null,"(The Data Sharing Plan may be included in the Methodology section)"]
["RATIONALE: "]
[]
["DATA SHARING PLAN: ",{"$f":"MID(INDIRECT(\"'ProjDataInput'!r\"&TEXT($N$2,\"###\")),1,19999)","v":""}]

{"sheet":"S19","index":21,"n_rows":40,"n_cols":15,"rows_kept":40,"cut":false,"hidden":false,"merged":[]}
["This worksheet is:",{"$f":"MID(CELL(\"filename\",'S19'!B1),FIND(\"]\",CELL(\"filename\",'S19'!B1))+1,24)","v":"S19"},"OMB no. ","0648-0362, exp 10/31/14",null,null,null,null,null,null,null,null,null,"S19","(default worksheet name)"]
[null,null,"Don't use after","2013-12-31",null,null,null,null,null,null,null,null,null,{"$f":"IF(LEFT(N1,3)=\"S1 \",2,VALUE(MID(N1,2,99))+1)","v":20}]
[null,null,null,null,null,null,null,null,null,null,null,null,null,null,"(temp workspace for a current cell value)"]
[null,"SEA GRANT PROJECT SUMMARY FORM 90-2",null,null,"National Office does not track these fields:",null,"NSGO use only",null,null,null,null,null,null,null,"(temp workspace for a new selected value)"]
[null,null,null,null,null,null,null,null,null,null,null,null,null,{"$f":"IF(N3=\"\",IF(N4=\"\",\"\",N4),IF(N4=\"\",N3,N3&\"; \"&N4))","v":""},"(function to concatenate the above two cells)"]
["INSTITUTION (Program): ",{"$f":"LEFT('S1-Start Here'!B6,16)","v":"0"},null,"ICODE: "]
["TITLE: ",{"$f":"MID(INDIRECT(\"'ProjDataInput'!C\"&TEXT($N$2,\"###\")),1,999)","v":""},null,"REV. DATE:",null,null,null,null,null,null,null,null,null,{"$f":"IF('S17'!B6=\"\",\"\",'S17'!B6)","v":"0"},"(Program listed on first 90-2)"]
[null,null,null,"INIT. DATE:"]
["PREFIX (A,C,E,M,P or R): "," PROJECT NUMBER",null,"COMPL. DATE:"]
[{"$f":"LEFT(INDIRECT(\"'ProjDataInput'!b\"&TEXT($N$2,\"###\")),2)","v":""},{"$f":"MID(INDIRECT(\"'ProjDataInput'!b\"&TEXT($N$2,\"###\")),3,999)","v":""},null,"PROJECT STATUS: "]
[null,null,null,"SUBPRROGRAM: "]
[]
["PI: ",{"$f":"MID(INDIRECT(\"'ProjDataInput'!j\"&TEXT($N$2,\"###\")),1,999)","v":""},null,"EFFORT: "]
["AFFILIATION: ",{"$f":"MID(INDIRECT(\"'ProjDataInput'!k\"&TEXT($N$2,\"###\")),1,999)","v":""},null,"AFFIL. CODE: ",null,null,"Worksheet"]
[null,null,null,null,null,null,"tools:"]
["2nd PI: ",{"$f":"MID(INDIRECT(\"'ProjDataInput'!L\"&TEXT($N$2,\"###\")),1,999)","v":""},null,"EFFORT: "]
["AFFILIATION: ",{"$f":"MID(INDIRECT(\"'ProjDataInput'!m\"&TEXT($N$2,\"###\")),1,999)","v":""},null,"AFFIL. CODE: "]
[]
["3rd PI: ",{"$f":"MID(INDIRECT(\"'ProjDataInput'!n\"&TEXT($N$2,\"###\")),1,999)","v":""},null,"EFFORT: "]
["AFFILIATION: ",{"$f":"MID(INDIRECT(\"'ProjDataInput'!o\"&TEXT($N$2,\"###\")),1,999)","v":""},null,"AFFIL. CODE: "]
[]
["4th PI: ",{"$f":"MID(INDIRECT(\"'ProjDataInput'!p\"&TEXT($N$2,\"###\")),1,999)","v":""},null,"EFFORT: "]
["AFFILIATION: ",{"$f":"MID(INDIRECT(\"'ProjDataInput'!q\"&TEXT($N$2,\"###\")),1,999)","v":""},null,"AFFIL. CODE: "]
[]
["FEDERAL $ REQUEST: ",{"$f":"INDIRECT(\"'ProjDataInput'!h\"&TEXT($N$2,\"###\"))","v":0},null,"LAST YR FEDERAL: "]
["MATCH $: ",{"$f":"INDIRECT(\"'ProjDataInput'!i\"&TEXT($N$2,\"###\"))","v":0},null,"LAST YR MATCH: "]
[]
["CLASSIFICATION CODES: ",{"$f":"MID(INDIRECT(\"'ProjDataInput'!f\"&TEXT($N$2,\"###\")),1,999)","v":""},null,"RELATED PROJECTS: "]
[null,"(Primary Code First)",null,"PARENT PROJECTS: "]
["FOCUS AREAS: ",{"$f":"MID(INDIRECT(\"'ProjDataInput'!d\"&TEXT($N$2,\"###\")),1,999)","v":""}]
[null,"(Primary Focus Area First)"]
["PARTNERS: ",{"$f":"MID(INDIRECT(\"'ProjDataInput'!e\"&TEXT($N$2,\"###\")),1,999)","v":""},null,"KEYWORDS: "]
[]
["OBJECTIVES: ",{"$f":"MID(INDIRECT(\"'ProjDataInput'!g\"&TEXT($N$2,\"###\")),1,19999)","v":""},null,"MULTIPROGRAM? "]
[]
["METHODOLOGY: ",null,null,"OTHER INFORMATION: "]
[null,"(The Data Sharing Plan may be included in the Methodology section)"]
["RATIONALE: "]
[]
["DATA SHARING PLAN: ",{"$f":"MID(INDIRECT(\"'ProjDataInput'!r\"&TEXT($N$2,\"###\")),1,19999)","v":""}]

{"sheet":"S20","index":22,"n_rows":40,"n_cols":15,"rows_kept":40,"cut":false,"hidden":false,"merged":[]}
["This worksheet is:",{"$f":"MID(CELL(\"filename\",'S20'!B1),FIND(\"]\",CELL(\"filename\",'S20'!B1))+1,24)","v":"S20"},"OMB no. ","0648-0362, exp 10/31/14",null,null,null,null,null,null,null,null,null,"S20","(default worksheet name)"]
[null,null,"Don't use after","2013-12-31",null,null,null,null,null,null,null,null,null,{"$f":"IF(LEFT(N1,3)=\"S1 \",2,VALUE(MID(N1,2,99))+1)","v":21}]
[null,null,null,null,null,null,null,null,null,null,null,null,null,null,"(temp workspace for a current cell value)"]
[null,"SEA GRANT PROJECT SUMMARY FORM 90-2",null,null,"National Office does not track these fields:",null,"NSGO use only",null,null,null,null,null,null,null,"(temp workspace for a new selected value)"]
[null,null,null,null,null,null,null,null,null,null,null,null,null,{"$f":"IF(N3=\"\",IF(N4=\"\",\"\",N4),IF(N4=\"\",N3,N3&\"; \"&N4))","v":""},"(function to concatenate the above two cells)"]
["INSTITUTION (Program): ",{"$f":"LEFT('S1-Start Here'!B6,16)","v":"0"},null,"ICODE: "]
["TITLE: ",{"$f":"MID(INDIRECT(\"'ProjDataInput'!C\"&TEXT($N$2,\"###\")),1,999)","v":""},null,"REV. DATE:",null,null,null,null,null,null,null,null,null,{"$f":"IF('S17'!B6=\"\",\"\",'S17'!B6)","v":"0"},"(Program listed on first 90-2)"]
[null,null,null,"INIT. DATE:"]
["PREFIX (A,C,E,M,P or R): "," PROJECT NUMBER",null,"COMPL. DATE:"]
[{"$f":"LEFT(INDIRECT(\"'ProjDataInput'!b\"&TEXT($N$2,\"###\")),2)","v":""},{"$f":"MID(INDIRECT(\"'ProjDataInput'!b\"&TEXT($N$2,\"###\")),3,999)","v":""},null,"PROJECT STATUS: "]
[null,null,null,"SUBPRROGRAM: "]
[]
["PI: ",{"$f":"MID(INDIRECT(\"'ProjDataInput'!j\"&TEXT($N$2,\"###\")),1,999)","v":""},null,"EFFORT: "]
["AFFILIATION: ",{"$f":"MID(INDIRECT(\"'ProjDataInput'!k\"&TEXT($N$2,\"###\")),1,999)","v":""},null,"AFFIL. CODE: ",null,null,"Worksheet"]
[null,null,null,null,null,null,"tools:"]
["2nd PI: ",{"$f":"MID(INDIRECT(\"'ProjDataInput'!L\"&TEXT($N$2,\"###\")),1,999)","v":""},null,"EFFORT: "]
["AFFILIATION: ",{"$f":"MID(INDIRECT(\"'ProjDataInput'!m\"&TEXT($N$2,\"###\")),1,999)","v":""},null,"AFFIL. CODE: "]
[]
["3rd PI: ",{"$f":"MID(INDIRECT(\"'ProjDataInput'!n\"&TEXT($N$2,\"###\")),1,999)","v":""},null,"EFFORT: "]
["AFFILIATION: ",{"$f":"MID(INDIRECT(\"'ProjDataInput'!o\"&TEXT($N$2,\"###\")),1,999)","v":""},null,"AFFIL. CODE: "]
[]
["4th PI: ",{"$f":"MID(INDIRECT(\"'ProjDataInput'!p\"&TEXT($N$2,\"###\")),1,999)","v":""},null,"EFFORT: "]
["AFFILIATION: ",{"$f":"MID(INDIRECT(\"'ProjDataInput'!q\"&TEXT($N$2,\"###\")),1,999)","v":""},null,"AFFIL. CODE: "]
[]
["FEDERAL $ REQUEST: ",{"$f":"INDIRECT(\"'ProjDataInput'!h\"&TEXT($N$2,\"###\"))","v":0},null,"LAST YR FEDERAL: "]
["MATCH $: ",{"$f":"INDIRECT(\"'ProjDataInput'!i\"&TEXT($N$2,\"###\"))","v":0},null,"LAST YR MATCH: "]
[]
["CLASSIFICATION CODES: ",{"$f":"MID(INDIRECT(\"'ProjDataInput'!f\"&TEXT($N$2,\"###\")),1,999)","v":""},null,"RELATED PROJECTS: "]
[null,"(Primary Code First)",null,"PARENT PROJECTS: "]
["FOCUS AREAS: ",{"$f":"MID(INDIRECT(\"'ProjDataInput'!d\"&TEXT($N$2,\"###\")),1,999)","v":""}]
[null,"(Primary Focus Area First)"]
["PARTNERS: ",{"$f":"MID(INDIRECT(\"'ProjDataInput'!e\"&TEXT($N$2,\"###\")),1,999)","v":""},null,"KEYWORDS: "]
[]
["OBJECTIVES: ",{"$f":"MID(INDIRECT(\"'ProjDataInput'!g\"&TEXT($N$2,\"###\")),1,19999)","v":""},null,"MULTIPROGRAM? "]
[]
["METHODOLOGY: ",null,null,"OTHER INFORMATION: "]
[null,"(The Data Sharing Plan may be included in the Methodology section)"]
["RATIONALE: "]
[]
["DATA SHARING PLAN: ",{"$f":"MID(INDIRECT(\"'ProjDataInput'!r\"&TEXT($N$2,\"###\")),1,19999)","v":""}]

{"sheet":"S21","index":23,"n_rows":40,"n_cols":15,"rows_kept":40,"cut":false,"hidden":false,"merged":[]}
["This worksheet is:",{"$f":"MID(CELL(\"filename\",'S21'!B1),FIND(\"]\",CELL(\"filename\",'S21'!B1))+1,24)","v":"S21"},"OMB no. ","0648-0362, exp 10/31/14",null,null,null,null,null,null,null,null,null,"S21","(default worksheet name)"]
[null,null,"Don't use after","2013-12-31",null,null,null,null,null,null,null,null,null,{"$f":"IF(LEFT(N1,3)=\"S1 \",2,VALUE(MID(N1,2,99))+1)","v":22}]
[null,null,null,null,null,null,null,null,null,null,null,null,null,null,"(temp workspace for a current cell value)"]
[null,"SEA GRANT PROJECT SUMMARY FORM 90-2",null,null,"National Office does not track these fields:",null,"NSGO use only",null,null,null,null,null,null,null,"(temp workspace for a new selected value)"]
[null,null,null,null,null,null,null,null,null,null,null,null,null,{"$f":"IF(N3=\"\",IF(N4=\"\",\"\",N4),IF(N4=\"\",N3,N3&\"; \"&N4))","v":""},"(function to concatenate the above two cells)"]
["INSTITUTION (Program): ",{"$f":"LEFT('S1-Start Here'!B6,16)","v":"0"},null,"ICODE: "]
["TITLE: ",{"$f":"MID(INDIRECT(\"'ProjDataInput'!C\"&TEXT($N$2,\"###\")),1,999)","v":""},null,"REV. DATE:",null,null,null,null,null,null,null,null,null,{"$f":"IF('S17'!B6=\"\",\"\",'S17'!B6)","v":"0"},"(Program listed on first 90-2)"]
[null,null,null,"INIT. DATE:"]
["PREFIX (A,C,E,M,P or R): "," PROJECT NUMBER",null,"COMPL. DATE:"]
[{"$f":"LEFT(INDIRECT(\"'ProjDataInput'!b\"&TEXT($N$2,\"###\")),2)","v":""},{"$f":"MID(INDIRECT(\"'ProjDataInput'!b\"&TEXT($N$2,\"###\")),3,999)","v":""},null,"PROJECT STATUS: "]
[null,null,null,"SUBPRROGRAM: "]
[]
["PI: ",{"$f":"MID(INDIRECT(\"'ProjDataInput'!j\"&TEXT($N$2,\"###\")),1,999)","v":""},null,"EFFORT: "]
["AFFILIATION: ",{"$f":"MID(INDIRECT(\"'ProjDataInput'!k\"&TEXT($N$2,\"###\")),1,999)","v":""},null,"AFFIL. CODE: ",null,null,"Worksheet"]
[null,null,null,null,null,null,"tools:"]
["2nd PI: ",{"$f":"MID(INDIRECT(\"'ProjDataInput'!L\"&TEXT($N$2,\"###\")),1,999)","v":""},null,"EFFORT: "]
["AFFILIATION: ",{"$f":"MID(INDIRECT(\"'ProjDataInput'!m\"&TEXT($N$2,\"###\")),1,999)","v":""},null,"AFFIL. CODE: "]
[]
["3rd PI: ",{"$f":"MID(INDIRECT(\"'ProjDataInput'!n\"&TEXT($N$2,\"###\")),1,999)","v":""},null,"EFFORT: "]
["AFFILIATION: ",{"$f":"MID(INDIRECT(\"'ProjDataInput'!o\"&TEXT($N$2,\"###\")),1,999)","v":""},null,"AFFIL. CODE: "]
[]
["4th PI: ",{"$f":"MID(INDIRECT(\"'ProjDataInput'!p\"&TEXT($N$2,\"###\")),1,999)","v":""},null,"EFFORT: "]
["AFFILIATION: ",{"$f":"MID(INDIRECT(\"'ProjDataInput'!q\"&TEXT($N$2,\"###\")),1,999)","v":""},null,"AFFIL. CODE: "]
[]
["FEDERAL $ REQUEST: ",{"$f":"INDIRECT(\"'ProjDataInput'!h\"&TEXT($N$2,\"###\"))","v":0},null,"LAST YR FEDERAL: "]
["MATCH $: ",{"$f":"INDIRECT(\"'ProjDataInput'!i\"&TEXT($N$2,\"###\"))","v":0},null,"LAST YR MATCH: "]
[]
["CLASSIFICATION CODES: ",{"$f":"MID(INDIRECT(\"'ProjDataInput'!f\"&TEXT($N$2,\"###\")),1,999)","v":""},null,"RELATED PROJECTS: "]
[null,"(Primary Code First)",null,"PARENT PROJECTS: "]
["FOCUS AREAS: ",{"$f":"MID(INDIRECT(\"'ProjDataInput'!d\"&TEXT($N$2,\"###\")),1,999)","v":""}]
[null,"(Primary Focus Area First)"]
["PARTNERS: ",{"$f":"MID(INDIRECT(\"'ProjDataInput'!e\"&TEXT($N$2,\"###\")),1,999)","v":""},null,"KEYWORDS: "]
[]
["OBJECTIVES: ",{"$f":"MID(INDIRECT(\"'ProjDataInput'!g\"&TEXT($N$2,\"###\")),1,19999)","v":""},null,"MULTIPROGRAM? "]
[]
["METHODOLOGY: ",null,null,"OTHER INFORMATION: "]
[null,"(The Data Sharing Plan may be included in the Methodology section)"]
["RATIONALE: "]
[]
["DATA SHARING PLAN: ",{"$f":"MID(INDIRECT(\"'ProjDataInput'!r\"&TEXT($N$2,\"###\")),1,19999)","v":""}]

{"sheet":"S22","index":24,"n_rows":40,"n_cols":15,"rows_kept":40,"cut":false,"hidden":false,"merged":[]}
["This worksheet is:",{"$f":"MID(CELL(\"filename\",'S22'!B1),FIND(\"]\",CELL(\"filename\",'S22'!B1))+1,24)","v":"S22"},"OMB no. ","0648-0362, exp 10/31/14",null,null,null,null,null,null,null,null,null,"S22","(default worksheet name)"]
[null,null,"Don't use after","2013-12-31",null,null,null,null,null,null,null,null,null,{"$f":"IF(LEFT(N1,3)=\"S1 \",2,VALUE(MID(N1,2,99))+1)","v":23}]
[null,null,null,null,null,null,null,null,null,null,null,null,null,null,"(temp workspace for a current cell value)"]
[null,"SEA GRANT PROJECT SUMMARY FORM 90-2",null,null,"National Office does not track these fields:",null,"NSGO use only",null,null,null,null,null,null,null,"(temp workspace for a new selected value)"]
[null,null,null,null,null,null,null,null,null,null,null,null,null,{"$f":"IF(N3=\"\",IF(N4=\"\",\"\",N4),IF(N4=\"\",N3,N3&\"; \"&N4))","v":""},"(function to concatenate the above two cells)"]
["INSTITUTION (Program): ",{"$f":"LEFT('S1-Start Here'!B6,16)","v":"0"},null,"ICODE: "]
["TITLE: ",{"$f":"MID(INDIRECT(\"'ProjDataInput'!C\"&TEXT($N$2,\"###\")),1,999)","v":""},null,"REV. DATE:",null,null,null,null,null,null,null,null,null,{"$f":"IF('S17'!B6=\"\",\"\",'S17'!B6)","v":"0"},"(Program listed on first 90-2)"]
[null,null,null,"INIT. DATE:"]
["PREFIX (A,C,E,M,P or R): "," PROJECT NUMBER",null,"COMPL. DATE:"]
[{"$f":"LEFT(INDIRECT(\"'ProjDataInput'!b\"&TEXT($N$2,\"###\")),2)","v":""},{"$f":"MID(INDIRECT(\"'ProjDataInput'!b\"&TEXT($N$2,\"###\")),3,999)","v":""},null,"PROJECT STATUS: "]
[null,null,null,"SUBPRROGRAM: "]
[]
["PI: ",{"$f":"MID(INDIRECT(\"'ProjDataInput'!j\"&TEXT($N$2,\"###\")),1,999)","v":""},null,"EFFORT: "]
["AFFILIATION: ",{"$f":"MID(INDIRECT(\"'ProjDataInput'!k\"&TEXT($N$2,\"###\")),1,999)","v":""},null,"AFFIL. CODE: ",null,null,"Worksheet"]
[null,null,null,null,null,null,"tools:"]
["2nd PI: ",{"$f":"MID(INDIRECT(\"'ProjDataInput'!L\"&TEXT($N$2,\"###\")),1,999)","v":""},null,"EFFORT: "]
["AFFILIATION: ",{"$f":"MID(INDIRECT(\"'ProjDataInput'!m\"&TEXT($N$2,\"###\")),1,999)","v":""},null,"AFFIL. CODE: "]
[]
["3rd PI: ",{"$f":"MID(INDIRECT(\"'ProjDataInput'!n\"&TEXT($N$2,\"###\")),1,999)","v":""},null,"EFFORT: "]
["AFFILIATION: ",{"$f":"MID(INDIRECT(\"'ProjDataInput'!o\"&TEXT($N$2,\"###\")),1,999)","v":""},null,"AFFIL. CODE: "]
[]
["4th PI: ",{"$f":"MID(INDIRECT(\"'ProjDataInput'!p\"&TEXT($N$2,\"###\")),1,999)","v":""},null,"EFFORT: "]
["AFFILIATION: ",{"$f":"MID(INDIRECT(\"'ProjDataInput'!q\"&TEXT($N$2,\"###\")),1,999)","v":""},null,"AFFIL. CODE: "]
[]
["FEDERAL $ REQUEST: ",{"$f":"INDIRECT(\"'ProjDataInput'!h\"&TEXT($N$2,\"###\"))","v":0},null,"LAST YR FEDERAL: "]
["MATCH $: ",{"$f":"INDIRECT(\"'ProjDataInput'!i\"&TEXT($N$2,\"###\"))","v":0},null,"LAST YR MATCH: "]
[]
["CLASSIFICATION CODES: ",{"$f":"MID(INDIRECT(\"'ProjDataInput'!f\"&TEXT($N$2,\"###\")),1,999)","v":""},null,"RELATED PROJECTS: "]
[null,"(Primary Code First)",null,"PARENT PROJECTS: "]
["FOCUS AREAS: ",{"$f":"MID(INDIRECT(\"'ProjDataInput'!d\"&TEXT($N$2,\"###\")),1,999)","v":""}]
[null,"(Primary Focus Area First)"]
["PARTNERS: ",{"$f":"MID(INDIRECT(\"'ProjDataInput'!e\"&TEXT($N$2,\"###\")),1,999)","v":""},null,"KEYWORDS: "]
[]
["OBJECTIVES: ",{"$f":"MID(INDIRECT(\"'ProjDataInput'!g\"&TEXT($N$2,\"###\")),1,19999)","v":""},null,"MULTIPROGRAM? "]
[]
["METHODOLOGY: ",null,null,"OTHER INFORMATION: "]
[null,"(The Data Sharing Plan may be included in the Methodology section)"]
["RATIONALE: "]
[]
["DATA SHARING PLAN: ",{"$f":"MID(INDIRECT(\"'ProjDataInput'!r\"&TEXT($N$2,\"###\")),1,19999)","v":""}]

{"sheet":"S23","index":25,"n_rows":40,"n_cols":15,"rows_kept":40,"cut":false,"hidden":false,"merged":[]}
["This worksheet is:",{"$f":"MID(CELL(\"filename\",'S23'!B1),FIND(\"]\",CELL(\"filename\",'S23'!B1))+1,24)","v":"S23"},"OMB no. ","0648-0362, exp 10/31/14",null,null,null,null,null,null,null,null,null,"S23","(default worksheet name)"]
[null,null,"Don't use after","2013-12-31",null,null,null,null,null,null,null,null,null,{"$f":"IF(LEFT(N1,3)=\"S1 \",2,VALUE(MID(N1,2,99))+1)","v":24}]
[null,null,null,null,null,null,null,null,null,null,null,null,null,null,"(temp workspace for a current cell value)"]
[null,"SEA GRANT PROJECT SUMMARY FORM 90-2",null,null,"National Office does not track these fields:",null,"NSGO use only",null,null,null,null,null,null,null,"(temp workspace for a new selected value)"]
[null,null,null,null,null,null,null,null,null,null,null,null,null,{"$f":"IF(N3=\"\",IF(N4=\"\",\"\",N4),IF(N4=\"\",N3,N3&\"; \"&N4))","v":""},"(function to concatenate the above two cells)"]
["INSTITUTION (Program): ",{"$f":"LEFT('S1-Start Here'!B6,16)","v":"0"},null,"ICODE: "]
["TITLE: ",{"$f":"MID(INDIRECT(\"'ProjDataInput'!C\"&TEXT($N$2,\"###\")),1,999)","v":""},null,"REV. DATE:",null,null,null,null,null,null,null,null,null,{"$f":"IF('S17'!B6=\"\",\"\",'S17'!B6)","v":"0"},"(Program listed on first 90-2)"]
[null,null,null,"INIT. DATE:"]
["PREFIX (A,C,E,M,P or R): "," PROJECT NUMBER",null,"COMPL. DATE:"]
[{"$f":"LEFT(INDIRECT(\"'ProjDataInput'!b\"&TEXT($N$2,\"###\")),2)","v":""},{"$f":"MID(INDIRECT(\"'ProjDataInput'!b\"&TEXT($N$2,\"###\")),3,999)","v":""},null,"PROJECT STATUS: "]
[null,null,null,"SUBPRROGRAM: "]
[]
["PI: ",{"$f":"MID(INDIRECT(\"'ProjDataInput'!j\"&TEXT($N$2,\"###\")),1,999)","v":""},null,"EFFORT: "]
["AFFILIATION: ",{"$f":"MID(INDIRECT(\"'ProjDataInput'!k\"&TEXT($N$2,\"###\")),1,999)","v":""},null,"AFFIL. CODE: ",null,null,"Worksheet"]
[null,null,null,null,null,null,"tools:"]
["2nd PI: ",{"$f":"MID(INDIRECT(\"'ProjDataInput'!L\"&TEXT($N$2,\"###\")),1,999)","v":""},null,"EFFORT: "]
["AFFILIATION: ",{"$f":"MID(INDIRECT(\"'ProjDataInput'!m\"&TEXT($N$2,\"###\")),1,999)","v":""},null,"AFFIL. CODE: "]
[]
["3rd PI: ",{"$f":"MID(INDIRECT(\"'ProjDataInput'!n\"&TEXT($N$2,\"###\")),1,999)","v":""},null,"EFFORT: "]
["AFFILIATION: ",{"$f":"MID(INDIRECT(\"'ProjDataInput'!o\"&TEXT($N$2,\"###\")),1,999)","v":""},null,"AFFIL. CODE: "]
[]
["4th PI: ",{"$f":"MID(INDIRECT(\"'ProjDataInput'!p\"&TEXT($N$2,\"###\")),1,999)","v":""},null,"EFFORT: "]
["AFFILIATION: ",{"$f":"MID(INDIRECT(\"'ProjDataInput'!q\"&TEXT($N$2,\"###\")),1,999)","v":""},null,"AFFIL. CODE: "]
[]
["FEDERAL $ REQUEST: ",{"$f":"INDIRECT(\"'ProjDataInput'!h\"&TEXT($N$2,\"###\"))","v":0},null,"LAST YR FEDERAL: "]
["MATCH $: ",{"$f":"INDIRECT(\"'ProjDataInput'!i\"&TEXT($N$2,\"###\"))","v":0},null,"LAST YR MATCH: "]
[]
["CLASSIFICATION CODES: ",{"$f":"MID(INDIRECT(\"'ProjDataInput'!f\"&TEXT($N$2,\"###\")),1,999)","v":""},null,"RELATED PROJECTS: "]
[null,"(Primary Code First)",null,"PARENT PROJECTS: "]
["FOCUS AREAS: ",{"$f":"MID(INDIRECT(\"'ProjDataInput'!d\"&TEXT($N$2,\"###\")),1,999)","v":""}]
[null,"(Primary Focus Area First)"]
["PARTNERS: ",{"$f":"MID(INDIRECT(\"'ProjDataInput'!e\"&TEXT($N$2,\"###\")),1,999)","v":""},null,"KEYWORDS: "]
[]
["OBJECTIVES: ",{"$f":"MID(INDIRECT(\"'ProjDataInput'!g\"&TEXT($N$2,\"###\")),1,19999)","v":""},null,"MULTIPROGRAM? "]
[]
["METHODOLOGY: ",null,null,"OTHER INFORMATION: "]
[null,"(The Data Sharing Plan may be included in the Methodology section)"]
["RATIONALE: "]
[]
["DATA SHARING PLAN: ",{"$f":"MID(INDIRECT(\"'ProjDataInput'!r\"&TEXT($N$2,\"###\")),1,19999)","v":""}]

{"sheet":"S24","index":26,"n_rows":40,"n_cols":15,"rows_kept":40,"cut":false,"hidden":false,"merged":[]}
["This worksheet is:",{"$f":"MID(CELL(\"filename\",'S24'!B1),FIND(\"]\",CELL(\"filename\",'S24'!B1))+1,24)","v":"S24"},"OMB no. ","0648-0362, exp 10/31/14",null,null,null,null,null,null,null,null,null,"S24","(default worksheet name)"]
[null,null,"Don't use after","2013-12-31",null,null,null,null,null,null,null,null,null,{"$f":"IF(LEFT(N1,3)=\"S1 \",2,VALUE(MID(N1,2,99))+1)","v":25}]
[null,null,null,null,null,null,null,null,null,null,null,null,null,null,"(temp workspace for a current cell value)"]
[null,"SEA GRANT PROJECT SUMMARY FORM 90-2",null,null,"National Office does not track these fields:",null,"NSGO use only",null,null,null,null,null,null,null,"(temp workspace for a new selected value)"]
[null,null,null,null,null,null,null,null,null,null,null,null,null,{"$f":"IF(N3=\"\",IF(N4=\"\",\"\",N4),IF(N4=\"\",N3,N3&\"; \"&N4))","v":""},"(function to concatenate the above two cells)"]
["INSTITUTION (Program): ",{"$f":"LEFT('S1-Start Here'!B6,16)","v":"0"},null,"ICODE: "]
["TITLE: ",{"$f":"MID(INDIRECT(\"'ProjDataInput'!C\"&TEXT($N$2,\"###\")),1,999)","v":""},null,"REV. DATE:",null,null,null,null,null,null,null,null,null,{"$f":"IF('S17'!B6=\"\",\"\",'S17'!B6)","v":"0"},"(Program listed on first 90-2)"]
[null,null,null,"INIT. DATE:"]
["PREFIX (A,C,E,M,P or R): "," PROJECT NUMBER",null,"COMPL. DATE:"]
[{"$f":"LEFT(INDIRECT(\"'ProjDataInput'!b\"&TEXT($N$2,\"###\")),2)","v":""},{"$f":"MID(INDIRECT(\"'ProjDataInput'!b\"&TEXT($N$2,\"###\")),3,999)","v":""},null,"PROJECT STATUS: "]
[null,null,null,"SUBPRROGRAM: "]
[]
["PI: ",{"$f":"MID(INDIRECT(\"'ProjDataInput'!j\"&TEXT($N$2,\"###\")),1,999)","v":""},null,"EFFORT: "]
["AFFILIATION: ",{"$f":"MID(INDIRECT(\"'ProjDataInput'!k\"&TEXT($N$2,\"###\")),1,999)","v":""},null,"AFFIL. CODE: ",null,null,"Worksheet"]
[null,null,null,null,null,null,"tools:"]
["2nd PI: ",{"$f":"MID(INDIRECT(\"'ProjDataInput'!L\"&TEXT($N$2,\"###\")),1,999)","v":""},null,"EFFORT: "]
["AFFILIATION: ",{"$f":"MID(INDIRECT(\"'ProjDataInput'!m\"&TEXT($N$2,\"###\")),1,999)","v":""},null,"AFFIL. CODE: "]
[]
["3rd PI: ",{"$f":"MID(INDIRECT(\"'ProjDataInput'!n\"&TEXT($N$2,\"###\")),1,999)","v":""},null,"EFFORT: "]
["AFFILIATION: ",{"$f":"MID(INDIRECT(\"'ProjDataInput'!o\"&TEXT($N$2,\"###\")),1,999)","v":""},null,"AFFIL. CODE: "]
[]
["4th PI: ",{"$f":"MID(INDIRECT(\"'ProjDataInput'!p\"&TEXT($N$2,\"###\")),1,999)","v":""},null,"EFFORT: "]
["AFFILIATION: ",{"$f":"MID(INDIRECT(\"'ProjDataInput'!q\"&TEXT($N$2,\"###\")),1,999)","v":""},null,"AFFIL. CODE: "]
[]
["FEDERAL $ REQUEST: ",{"$f":"INDIRECT(\"'ProjDataInput'!h\"&TEXT($N$2,\"###\"))","v":0},null,"LAST YR FEDERAL: "]
["MATCH $: ",{"$f":"INDIRECT(\"'ProjDataInput'!i\"&TEXT($N$2,\"###\"))","v":0},null,"LAST YR MATCH: "]
[]
["CLASSIFICATION CODES: ",{"$f":"MID(INDIRECT(\"'ProjDataInput'!f\"&TEXT($N$2,\"###\")),1,999)","v":""},null,"RELATED PROJECTS: "]
[null,"(Primary Code First)",null,"PARENT PROJECTS: "]
["FOCUS AREAS: ",{"$f":"MID(INDIRECT(\"'ProjDataInput'!d\"&TEXT($N$2,\"###\")),1,999)","v":""}]
[null,"(Primary Focus Area First)"]
["PARTNERS: ",{"$f":"MID(INDIRECT(\"'ProjDataInput'!e\"&TEXT($N$2,\"###\")),1,999)","v":""},null,"KEYWORDS: "]
[]
["OBJECTIVES: ",{"$f":"MID(INDIRECT(\"'ProjDataInput'!g\"&TEXT($N$2,\"###\")),1,19999)","v":""},null,"MULTIPROGRAM? "]
[]
["METHODOLOGY: ",null,null,"OTHER INFORMATION: "]
[null,"(The Data Sharing Plan may be included in the Methodology section)"]
["RATIONALE: "]
[]
["DATA SHARING PLAN: ",{"$f":"MID(INDIRECT(\"'ProjDataInput'!r\"&TEXT($N$2,\"###\")),1,19999)","v":""}]

{"sheet":"S25","index":27,"n_rows":40,"n_cols":15,"rows_kept":40,"cut":false,"hidden":false,"merged":[]}
["This worksheet is:",{"$f":"MID(CELL(\"filename\",'S25'!B1),FIND(\"]\",CELL(\"filename\",'S25'!B1))+1,24)","v":"S25"},"OMB no. ","0648-0362, exp 10/31/14",null,null,null,null,null,null,null,null,null,"S25","(default worksheet name)"]
[null,null,"Don't use after","2013-12-31",null,null,null,null,null,null,null,null,null,{"$f":"IF(LEFT(N1,3)=\"S1 \",2,VALUE(MID(N1,2,99))+1)","v":26}]
[null,null,null,null,null,null,null,null,null,null,null,null,null,null,"(temp workspace for a current cell value)"]
[null,"SEA GRANT PROJECT SUMMARY FORM 90-2",null,null,"National Office does not track these fields:",null,"NSGO use only",null,null,null,null,null,null,null,"(temp workspace for a new selected value)"]
[null,null,null,null,null,null,null,null,null,null,null,null,null,{"$f":"IF(N3=\"\",IF(N4=\"\",\"\",N4),IF(N4=\"\",N3,N3&\"; \"&N4))","v":""},"(function to concatenate the above two cells)"]
["INSTITUTION (Program): ",{"$f":"LEFT('S1-Start Here'!B6,16)","v":"0"},null,"ICODE: "]
["TITLE: ",{"$f":"MID(INDIRECT(\"'ProjDataInput'!C\"&TEXT($N$2,\"###\")),1,999)","v":""},null,"REV. DATE:",null,null,null,null,null,null,null,null,null,{"$f":"IF('S17'!B6=\"\",\"\",'S17'!B6)","v":"0"},"(Program listed on first 90-2)"]
[null,null,null,"INIT. DATE:"]
["PREFIX (A,C,E,M,P or R): "," PROJECT NUMBER",null,"COMPL. DATE:"]
[{"$f":"LEFT(INDIRECT(\"'ProjDataInput'!b\"&TEXT($N$2,\"###\")),2)","v":""},{"$f":"MID(INDIRECT(\"'ProjDataInput'!b\"&TEXT($N$2,\"###\")),3,999)","v":""},null,"PROJECT STATUS: "]
[null,null,null,"SUBPRROGRAM: "]
[]
["PI: ",{"$f":"MID(INDIRECT(\"'ProjDataInput'!j\"&TEXT($N$2,\"###\")),1,999)","v":""},null,"EFFORT: "]
["AFFILIATION: ",{"$f":"MID(INDIRECT(\"'ProjDataInput'!k\"&TEXT($N$2,\"###\")),1,999)","v":""},null,"AFFIL. CODE: ",null,null,"Worksheet"]
[null,null,null,null,null,null,"tools:"]
["2nd PI: ",{"$f":"MID(INDIRECT(\"'ProjDataInput'!L\"&TEXT($N$2,\"###\")),1,999)","v":""},null,"EFFORT: "]
["AFFILIATION: ",{"$f":"MID(INDIRECT(\"'ProjDataInput'!m\"&TEXT($N$2,\"###\")),1,999)","v":""},null,"AFFIL. CODE: "]
[]
["3rd PI: ",{"$f":"MID(INDIRECT(\"'ProjDataInput'!n\"&TEXT($N$2,\"###\")),1,999)","v":""},null,"EFFORT: "]
["AFFILIATION: ",{"$f":"MID(INDIRECT(\"'ProjDataInput'!o\"&TEXT($N$2,\"###\")),1,999)","v":""},null,"AFFIL. CODE: "]
[]
["4th PI: ",{"$f":"MID(INDIRECT(\"'ProjDataInput'!p\"&TEXT($N$2,\"###\")),1,999)","v":""},null,"EFFORT: "]
["AFFILIATION: ",{"$f":"MID(INDIRECT(\"'ProjDataInput'!q\"&TEXT($N$2,\"###\")),1,999)","v":""},null,"AFFIL. CODE: "]
[]
["FEDERAL $ REQUEST: ",{"$f":"INDIRECT(\"'ProjDataInput'!h\"&TEXT($N$2,\"###\"))","v":0},null,"LAST YR FEDERAL: "]
["MATCH $: ",{"$f":"INDIRECT(\"'ProjDataInput'!i\"&TEXT($N$2,\"###\"))","v":0},null,"LAST YR MATCH: "]
[]
["CLASSIFICATION CODES: ",{"$f":"MID(INDIRECT(\"'ProjDataInput'!f\"&TEXT($N$2,\"###\")),1,999)","v":""},null,"RELATED PROJECTS: "]
[null,"(Primary Code First)",null,"PARENT PROJECTS: "]
["FOCUS AREAS: ",{"$f":"MID(INDIRECT(\"'ProjDataInput'!d\"&TEXT($N$2,\"###\")),1,999)","v":""}]
[null,"(Primary Focus Area First)"]
["PARTNERS: ",{"$f":"MID(INDIRECT(\"'ProjDataInput'!e\"&TEXT($N$2,\"###\")),1,999)","v":""},null,"KEYWORDS: "]
[]
["OBJECTIVES: ",{"$f":"MID(INDIRECT(\"'ProjDataInput'!g\"&TEXT($N$2,\"###\")),1,19999)","v":""},null,"MULTIPROGRAM? "]
[]
["METHODOLOGY: ",null,null,"OTHER INFORMATION: "]
[null,"(The Data Sharing Plan may be included in the Methodology section)"]
["RATIONALE: "]
[]
["DATA SHARING PLAN: ",{"$f":"MID(INDIRECT(\"'ProjDataInput'!r\"&TEXT($N$2,\"###\")),1,19999)","v":""}]

{"sheet":"S26","index":28,"n_rows":40,"n_cols":15,"rows_kept":40,"cut":false,"hidden":false,"merged":[]}
["This worksheet is:",{"$f":"MID(CELL(\"filename\",'S26'!B1),FIND(\"]\",CELL(\"filename\",'S26'!B1))+1,24)","v":"S26"},"OMB no. ","0648-0362, exp 10/31/14",null,null,null,null,null,null,null,null,null,"S26","(default worksheet name)"]
[null,null,"Don't use after","2013-12-31",null,null,null,null,null,null,null,null,null,{"$f":"IF(LEFT(N1,3)=\"S1 \",2,VALUE(MID(N1,2,99))+1)","v":27}]
[null,null,null,null,null,null,null,null,null,null,null,null,null,null,"(temp workspace for a current cell value)"]
[null,"SEA GRANT PROJECT SUMMARY FORM 90-2",null,null,"National Office does not track these fields:",null,"NSGO use only",null,null,null,null,null,null,null,"(temp workspace for a new selected value)"]
[null,null,null,null,null,null,null,null,null,null,null,null,null,{"$f":"IF(N3=\"\",IF(N4=\"\",\"\",N4),IF(N4=\"\",N3,N3&\"; \"&N4))","v":""},"(function to concatenate the above two cells)"]
["INSTITUTION (Program): ",{"$f":"LEFT('S1-Start Here'!B6,16)","v":"0"},null,"ICODE: "]
["TITLE: ",{"$f":"MID(INDIRECT(\"'ProjDataInput'!C\"&TEXT($N$2,\"###\")),1,999)","v":""},null,"REV. DATE:",null,null,null,null,null,null,null,null,null,{"$f":"IF('S17'!B6=\"\",\"\",'S17'!B6)","v":"0"},"(Program listed on first 90-2)"]
[null,null,null,"INIT. DATE:"]
["PREFIX (A,C,E,M,P or R): "," PROJECT NUMBER",null,"COMPL. DATE:"]
[{"$f":"LEFT(INDIRECT(\"'ProjDataInput'!b\"&TEXT($N$2,\"###\")),2)","v":""},{"$f":"MID(INDIRECT(\"'ProjDataInput'!b\"&TEXT($N$2,\"###\")),3,999)","v":""},null,"PROJECT STATUS: "]
[null,null,null,"SUBPRROGRAM: "]
[]
["PI: ",{"$f":"MID(INDIRECT(\"'ProjDataInput'!j\"&TEXT($N$2,\"###\")),1,999)","v":""},null,"EFFORT: "]
["AFFILIATION: ",{"$f":"MID(INDIRECT(\"'ProjDataInput'!k\"&TEXT($N$2,\"###\")),1,999)","v":""},null,"AFFIL. CODE: ",null,null,"Worksheet"]
[null,null,null,null,null,null,"tools:"]
["2nd PI: ",{"$f":"MID(INDIRECT(\"'ProjDataInput'!L\"&TEXT($N$2,\"###\")),1,999)","v":""},null,"EFFORT: "]
["AFFILIATION: ",{"$f":"MID(INDIRECT(\"'ProjDataInput'!m\"&TEXT($N$2,\"###\")),1,999)","v":""},null,"AFFIL. CODE: "]
[]
["3rd PI: ",{"$f":"MID(INDIRECT(\"'ProjDataInput'!n\"&TEXT($N$2,\"###\")),1,999)","v":""},null,"EFFORT: "]
["AFFILIATION: ",{"$f":"MID(INDIRECT(\"'ProjDataInput'!o\"&TEXT($N$2,\"###\")),1,999)","v":""},null,"AFFIL. CODE: "]
[]
["4th PI: ",{"$f":"MID(INDIRECT(\"'ProjDataInput'!p\"&TEXT($N$2,\"###\")),1,999)","v":""},null,"EFFORT: "]
["AFFILIATION: ",{"$f":"MID(INDIRECT(\"'ProjDataInput'!q\"&TEXT($N$2,\"###\")),1,999)","v":""},null,"AFFIL. CODE: "]
[]
["FEDERAL $ REQUEST: ",{"$f":"INDIRECT(\"'ProjDataInput'!h\"&TEXT($N$2,\"###\"))","v":0},null,"LAST YR FEDERAL: "]
["MATCH $: ",{"$f":"INDIRECT(\"'ProjDataInput'!i\"&TEXT($N$2,\"###\"))","v":0},null,"LAST YR MATCH: "]
[]
["CLASSIFICATION CODES: ",{"$f":"MID(INDIRECT(\"'ProjDataInput'!f\"&TEXT($N$2,\"###\")),1,999)","v":""},null,"RELATED PROJECTS: "]
[null,"(Primary Code First)",null,"PARENT PROJECTS: "]
["FOCUS AREAS: ",{"$f":"MID(INDIRECT(\"'ProjDataInput'!d\"&TEXT($N$2,\"###\")),1,999)","v":""}]
[null,"(Primary Focus Area First)"]
["PARTNERS: ",{"$f":"MID(INDIRECT(\"'ProjDataInput'!e\"&TEXT($N$2,\"###\")),1,999)","v":""},null,"KEYWORDS: "]
[]
["OBJECTIVES: ",{"$f":"MID(INDIRECT(\"'ProjDataInput'!g\"&TEXT($N$2,\"###\")),1,19999)","v":""},null,"MULTIPROGRAM? "]
[]
["METHODOLOGY: ",null,null,"OTHER INFORMATION: "]
[null,"(The Data Sharing Plan may be included in the Methodology section)"]
["RATIONALE: "]
[]
["DATA SHARING PLAN: ",{"$f":"MID(INDIRECT(\"'ProjDataInput'!r\"&TEXT($N$2,\"###\")),1,19999)","v":""}]

{"sheet":"S27","index":29,"n_rows":40,"n_cols":15,"rows_kept":40,"cut":false,"hidden":false,"merged":[]}
["This worksheet is:",{"$f":"MID(CELL(\"filename\",'S27'!B1),FIND(\"]\",CELL(\"filename\",'S27'!B1))+1,24)","v":"S27"},"OMB no. ","0648-0362, exp 10/31/14",null,null,null,null,null,null,null,null,null,"S27","(default worksheet name)"]
[null,null,"Don't use after","2013-12-31",null,null,null,null,null,null,null,null,null,{"$f":"IF(LEFT(N1,3)=\"S1 \",2,VALUE(MID(N1,2,99))+1)","v":28}]
[null,null,null,null,null,null,null,null,null,null,null,null,null,null,"(temp workspace for a current cell value)"]
[null,"SEA GRANT PROJECT SUMMARY FORM 90-2",null,null,"National Office does not track these fields:",null,"NSGO use only",null,null,null,null,null,null,null,"(temp workspace for a new selected value)"]
[null,null,null,null,null,null,null,null,null,null,null,null,null,{"$f":"IF(N3=\"\",IF(N4=\"\",\"\",N4),IF(N4=\"\",N3,N3&\"; \"&N4))","v":""},"(function to concatenate the above two cells)"]
["INSTITUTION (Program): ",{"$f":"LEFT('S1-Start Here'!B6,16)","v":"0"},null,"ICODE: "]
["TITLE: ",{"$f":"MID(INDIRECT(\"'ProjDataInput'!C\"&TEXT($N$2,\"###\")),1,999)","v":""},null,"REV. DATE:",null,null,null,null,null,null,null,null,null,{"$f":"IF('S17'!B6=\"\",\"\",'S17'!B6)","v":"0"},"(Program listed on first 90-2)"]
[null,null,null,"INIT. DATE:"]
["PREFIX (A,C,E,M,P or R): "," PROJECT NUMBER",null,"COMPL. DATE:"]
[{"$f":"LEFT(INDIRECT(\"'ProjDataInput'!b\"&TEXT($N$2,\"###\")),2)","v":""},{"$f":"MID(INDIRECT(\"'ProjDataInput'!b\"&TEXT($N$2,\"###\")),3,999)","v":""},null,"PROJECT STATUS: "]
[null,null,null,"SUBPRROGRAM: "]
[]
["PI: ",{"$f":"MID(INDIRECT(\"'ProjDataInput'!j\"&TEXT($N$2,\"###\")),1,999)","v":""},null,"EFFORT: "]
["AFFILIATION: ",{"$f":"MID(INDIRECT(\"'ProjDataInput'!k\"&TEXT($N$2,\"###\")),1,999)","v":""},null,"AFFIL. CODE: ",null,null,"Worksheet"]
[null,null,null,null,null,null,"tools:"]
["2nd PI: ",{"$f":"MID(INDIRECT(\"'ProjDataInput'!L\"&TEXT($N$2,\"###\")),1,999)","v":""},null,"EFFORT: "]
["AFFILIATION: ",{"$f":"MID(INDIRECT(\"'ProjDataInput'!m\"&TEXT($N$2,\"###\")),1,999)","v":""},null,"AFFIL. CODE: "]
[]
["3rd PI: ",{"$f":"MID(INDIRECT(\"'ProjDataInput'!n\"&TEXT($N$2,\"###\")),1,999)","v":""},null,"EFFORT: "]
["AFFILIATION: ",{"$f":"MID(INDIRECT(\"'ProjDataInput'!o\"&TEXT($N$2,\"###\")),1,999)","v":""},null,"AFFIL. CODE: "]
[]
["4th PI: ",{"$f":"MID(INDIRECT(\"'ProjDataInput'!p\"&TEXT($N$2,\"###\")),1,999)","v":""},null,"EFFORT: "]
["AFFILIATION: ",{"$f":"MID(INDIRECT(\"'ProjDataInput'!q\"&TEXT($N$2,\"###\")),1,999)","v":""},null,"AFFIL. CODE: "]
[]
["FEDERAL $ REQUEST: ",{"$f":"INDIRECT(\"'ProjDataInput'!h\"&TEXT($N$2,\"###\"))","v":0},null,"LAST YR FEDERAL: "]
["MATCH $: ",{"$f":"INDIRECT(\"'ProjDataInput'!i\"&TEXT($N$2,\"###\"))","v":0},null,"LAST YR MATCH: "]
[]
["CLASSIFICATION CODES: ",{"$f":"MID(INDIRECT(\"'ProjDataInput'!f\"&TEXT($N$2,\"###\")),1,999)","v":""},null,"RELATED PROJECTS: "]
[null,"(Primary Code First)",null,"PARENT PROJECTS: "]
["FOCUS AREAS: ",{"$f":"MID(INDIRECT(\"'ProjDataInput'!d\"&TEXT($N$2,\"###\")),1,999)","v":""}]
[null,"(Primary Focus Area First)"]
["PARTNERS: ",{"$f":"MID(INDIRECT(\"'ProjDataInput'!e\"&TEXT($N$2,\"###\")),1,999)","v":""},null,"KEYWORDS: "]
[]
["OBJECTIVES: ",{"$f":"MID(INDIRECT(\"'ProjDataInput'!g\"&TEXT($N$2,\"###\")),1,19999)","v":""},null,"MULTIPROGRAM? "]
[]
["METHODOLOGY: ",null,null,"OTHER INFORMATION: "]
[null,"(The Data Sharing Plan may be included in the Methodology section)"]
["RATIONALE: "]
[]
["DATA SHARING PLAN: ",{"$f":"MID(INDIRECT(\"'ProjDataInput'!r\"&TEXT($N$2,\"###\")),1,19999)","v":""}]

{"sheet":"S28","index":30,"n_rows":40,"n_cols":15,"rows_kept":40,"cut":false,"hidden":false,"merged":[]}
["This worksheet is:",{"$f":"MID(CELL(\"filename\",'S28'!B1),FIND(\"]\",CELL(\"filename\",'S28'!B1))+1,24)","v":"S28"},"OMB no. ","0648-0362, exp 10/31/14",null,null,null,null,null,null,null,null,null,"S28","(default worksheet name)"]
[null,null,"Don't use after","2013-12-31",null,null,null,null,null,null,null,null,null,{"$f":"IF(LEFT(N1,3)=\"S1 \",2,VALUE(MID(N1,2,99))+1)","v":29}]
[null,null,null,null,null,null,null,null,null,null,null,null,null,null,"(temp workspace for a current cell value)"]
[null,"SEA GRANT PROJECT SUMMARY FORM 90-2",null,null,"National Office does not track these fields:",null,"NSGO use only",null,null,null,null,null,null,null,"(temp workspace for a new selected value)"]
[null,null,null,null,null,null,null,null,null,null,null,null,null,{"$f":"IF(N3=\"\",IF(N4=\"\",\"\",N4),IF(N4=\"\",N3,N3&\"; \"&N4))","v":""},"(function to concatenate the above two cells)"]
["INSTITUTION (Program): ",{"$f":"LEFT('S1-Start Here'!B6,16)","v":"0"},null,"ICODE: "]
["TITLE: ",{"$f":"MID(INDIRECT(\"'ProjDataInput'!C\"&TEXT($N$2,\"###\")),1,999)","v":""},null,"REV. DATE:",null,null,null,null,null,null,null,null,null,{"$f":"IF('S17'!B6=\"\",\"\",'S17'!B6)","v":"0"},"(Program listed on first 90-2)"]
[null,null,null,"INIT. DATE:"]
["PREFIX (A,C,E,M,P or R): "," PROJECT NUMBER",null,"COMPL. DATE:"]
[{"$f":"LEFT(INDIRECT(\"'ProjDataInput'!b\"&TEXT($N$2,\"###\")),2)","v":""},{"$f":"MID(INDIRECT(\"'ProjDataInput'!b\"&TEXT($N$2,\"###\")),3,999)","v":""},null,"PROJECT STATUS: "]
[null,null,null,"SUBPRROGRAM: "]
[]
["PI: ",{"$f":"MID(INDIRECT(\"'ProjDataInput'!j\"&TEXT($N$2,\"###\")),1,999)","v":""},null,"EFFORT: "]
["AFFILIATION: ",{"$f":"MID(INDIRECT(\"'ProjDataInput'!k\"&TEXT($N$2,\"###\")),1,999)","v":""},null,"AFFIL. CODE: ",null,null,"Worksheet"]
[null,null,null,null,null,null,"tools:"]
["2nd PI: ",{"$f":"MID(INDIRECT(\"'ProjDataInput'!L\"&TEXT($N$2,\"###\")),1,999)","v":""},null,"EFFORT: "]
["AFFILIATION: ",{"$f":"MID(INDIRECT(\"'ProjDataInput'!m\"&TEXT($N$2,\"###\")),1,999)","v":""},null,"AFFIL. CODE: "]
[]
["3rd PI: ",{"$f":"MID(INDIRECT(\"'ProjDataInput'!n\"&TEXT($N$2,\"###\")),1,999)","v":""},null,"EFFORT: "]
["AFFILIATION: ",{"$f":"MID(INDIRECT(\"'ProjDataInput'!o\"&TEXT($N$2,\"###\")),1,999)","v":""},null,"AFFIL. CODE: "]
[]
["4th PI: ",{"$f":"MID(INDIRECT(\"'ProjDataInput'!p\"&TEXT($N$2,\"###\")),1,999)","v":""},null,"EFFORT: "]
["AFFILIATION: ",{"$f":"MID(INDIRECT(\"'ProjDataInput'!q\"&TEXT($N$2,\"###\")),1,999)","v":""},null,"AFFIL. CODE: "]
[]
["FEDERAL $ REQUEST: ",{"$f":"INDIRECT(\"'ProjDataInput'!h\"&TEXT($N$2,\"###\"))","v":0},null,"LAST YR FEDERAL: "]
["MATCH $: ",{"$f":"INDIRECT(\"'ProjDataInput'!i\"&TEXT($N$2,\"###\"))","v":0},null,"LAST YR MATCH: "]
[]
["CLASSIFICATION CODES: ",{"$f":"MID(INDIRECT(\"'ProjDataInput'!f\"&TEXT($N$2,\"###\")),1,999)","v":""},null,"RELATED PROJECTS: "]
[null,"(Primary Code First)",null,"PARENT PROJECTS: "]
["FOCUS AREAS: ",{"$f":"MID(INDIRECT(\"'ProjDataInput'!d\"&TEXT($N$2,\"###\")),1,999)","v":""}]
[null,"(Primary Focus Area First)"]
["PARTNERS: ",{"$f":"MID(INDIRECT(\"'ProjDataInput'!e\"&TEXT($N$2,\"###\")),1,999)","v":""},null,"KEYWORDS: "]
[]
["OBJECTIVES: ",{"$f":"MID(INDIRECT(\"'ProjDataInput'!g\"&TEXT($N$2,\"###\")),1,19999)","v":""},null,"MULTIPROGRAM? "]
[]
["METHODOLOGY: ",null,null,"OTHER INFORMATION: "]
[null,"(The Data Sharing Plan may be included in the Methodology section)"]
["RATIONALE: "]
[]
["DATA SHARING PLAN: ",{"$f":"MID(INDIRECT(\"'ProjDataInput'!r\"&TEXT($N$2,\"###\")),1,19999)","v":""}]

{"sheet":"S29","index":31,"n_rows":40,"n_cols":15,"rows_kept":40,"cut":false,"hidden":false,"merged":[]}
["This worksheet is:",{"$f":"MID(CELL(\"filename\",'S29'!B1),FIND(\"]\",CELL(\"filename\",'S29'!B1))+1,24)","v":"S29"},"OMB no. ","0648-0362, exp 10/31/14",null,null,null,null,null,null,null,null,null,"S29","(default worksheet name)"]
[null,null,"Don't use after","2013-12-31",null,null,null,null,null,null,null,null,null,{"$f":"IF(LEFT(N1,3)=\"S1 \",2,VALUE(MID(N1,2,99))+1)","v":30}]
[null,null,null,null,null,null,null,null,null,null,null,null,null,null,"(temp workspace for a current cell value)"]
[null,"SEA GRANT PROJECT SUMMARY FORM 90-2",null,null,"National Office does not track these fields:",null,"NSGO use only",null,null,null,null,null,null,null,"(temp workspace for a new selected value)"]
[null,null,null,null,null,null,null,null,null,null,null,null,null,{"$f":"IF(N3=\"\",IF(N4=\"\",\"\",N4),IF(N4=\"\",N3,N3&\"; \"&N4))","v":""},"(function to concatenate the above two cells)"]
["INSTITUTION (Program): ",{"$f":"LEFT('S1-Start Here'!B6,16)","v":"0"},null,"ICODE: "]
["TITLE: ",{"$f":"MID(INDIRECT(\"'ProjDataInput'!C\"&TEXT($N$2,\"###\")),1,999)","v":""},null,"REV. DATE:",null,null,null,null,null,null,null,null,null,{"$f":"IF('S17'!B6=\"\",\"\",'S17'!B6)","v":"0"},"(Program listed on first 90-2)"]
[null,null,null,"INIT. DATE:"]
["PREFIX (A,C,E,M,P or R): "," PROJECT NUMBER",null,"COMPL. DATE:"]
[{"$f":"LEFT(INDIRECT(\"'ProjDataInput'!b\"&TEXT($N$2,\"###\")),2)","v":""},{"$f":"MID(INDIRECT(\"'ProjDataInput'!b\"&TEXT($N$2,\"###\")),3,999)","v":""},null,"PROJECT STATUS: "]
[null,null,null,"SUBPRROGRAM: "]
[]
["PI: ",{"$f":"MID(INDIRECT(\"'ProjDataInput'!j\"&TEXT($N$2,\"###\")),1,999)","v":""},null,"EFFORT: "]
["AFFILIATION: ",{"$f":"MID(INDIRECT(\"'ProjDataInput'!k\"&TEXT($N$2,\"###\")),1,999)","v":""},null,"AFFIL. CODE: ",null,null,"Worksheet"]
[null,null,null,null,null,null,"tools:"]
["2nd PI: ",{"$f":"MID(INDIRECT(\"'ProjDataInput'!L\"&TEXT($N$2,\"###\")),1,999)","v":""},null,"EFFORT: "]
["AFFILIATION: ",{"$f":"MID(INDIRECT(\"'ProjDataInput'!m\"&TEXT($N$2,\"###\")),1,999)","v":""},null,"AFFIL. CODE: "]
[]
["3rd PI: ",{"$f":"MID(INDIRECT(\"'ProjDataInput'!n\"&TEXT($N$2,\"###\")),1,999)","v":""},null,"EFFORT: "]
["AFFILIATION: ",{"$f":"MID(INDIRECT(\"'ProjDataInput'!o\"&TEXT($N$2,\"###\")),1,999)","v":""},null,"AFFIL. CODE: "]
[]
["4th PI: ",{"$f":"MID(INDIRECT(\"'ProjDataInput'!p\"&TEXT($N$2,\"###\")),1,999)","v":""},null,"EFFORT: "]
["AFFILIATION: ",{"$f":"MID(INDIRECT(\"'ProjDataInput'!q\"&TEXT($N$2,\"###\")),1,999)","v":""},null,"AFFIL. CODE: "]
[]
["FEDERAL $ REQUEST: ",{"$f":"INDIRECT(\"'ProjDataInput'!h\"&TEXT($N$2,\"###\"))","v":0},null,"LAST YR FEDERAL: "]
["MATCH $: ",{"$f":"INDIRECT(\"'ProjDataInput'!i\"&TEXT($N$2,\"###\"))","v":0},null,"LAST YR MATCH: "]
[]
["CLASSIFICATION CODES: ",{"$f":"MID(INDIRECT(\"'ProjDataInput'!f\"&TEXT($N$2,\"###\")),1,999)","v":""},null,"RELATED PROJECTS: "]
[null,"(Primary Code First)",null,"PARENT PROJECTS: "]
["FOCUS AREAS: ",{"$f":"MID(INDIRECT(\"'ProjDataInput'!d\"&TEXT($N$2,\"###\")),1,999)","v":""}]
[null,"(Primary Focus Area First)"]
["PARTNERS: ",{"$f":"MID(INDIRECT(\"'ProjDataInput'!e\"&TEXT($N$2,\"###\")),1,999)","v":""},null,"KEYWORDS: "]
[]
["OBJECTIVES: ",{"$f":"MID(INDIRECT(\"'ProjDataInput'!g\"&TEXT($N$2,\"###\")),1,19999)","v":""},null,"MULTIPROGRAM? "]
[]
["METHODOLOGY: ",null,null,"OTHER INFORMATION: "]
[null,"(The Data Sharing Plan may be included in the Methodology section)"]
["RATIONALE: "]
[]
["DATA SHARING PLAN: ",{"$f":"MID(INDIRECT(\"'ProjDataInput'!r\"&TEXT($N$2,\"###\")),1,19999)","v":""}]

{"sheet":"S30","index":32,"n_rows":40,"n_cols":15,"rows_kept":40,"cut":false,"hidden":false,"merged":[]}
["This worksheet is:",{"$f":"MID(CELL(\"filename\",'S30'!B1),FIND(\"]\",CELL(\"filename\",'S30'!B1))+1,24)","v":"S30"},"OMB no. ","0648-0362, exp 10/31/14",null,null,null,null,null,null,null,null,null,"S30","(default worksheet name)"]
[null,null,"Don't use after","2013-12-31",null,null,null,null,null,null,null,null,null,{"$f":"IF(LEFT(N1,3)=\"S1 \",2,VALUE(MID(N1,2,99))+1)","v":31}]
[null,null,null,null,null,null,null,null,null,null,null,null,null,null,"(temp workspace for a current cell value)"]
[null,"SEA GRANT PROJECT SUMMARY FORM 90-2",null,null,"National Office does not track these fields:",null,"NSGO use only",null,null,null,null,null,null,null,"(temp workspace for a new selected value)"]
[null,null,null,null,null,null,null,null,null,null,null,null,null,{"$f":"IF(N3=\"\",IF(N4=\"\",\"\",N4),IF(N4=\"\",N3,N3&\"; \"&N4))","v":""},"(function to concatenate the above two cells)"]
["INSTITUTION (Program): ",{"$f":"LEFT('S1-Start Here'!B6,16)","v":"0"},null,"ICODE: "]
["TITLE: ",{"$f":"MID(INDIRECT(\"'ProjDataInput'!C\"&TEXT($N$2,\"###\")),1,999)","v":""},null,"REV. DATE:",null,null,null,null,null,null,null,null,null,{"$f":"IF('S17'!B6=\"\",\"\",'S17'!B6)","v":"0"},"(Program listed on first 90-2)"]
[null,null,null,"INIT. DATE:"]
["PREFIX (A,C,E,M,P or R): "," PROJECT NUMBER",null,"COMPL. DATE:"]
[{"$f":"LEFT(INDIRECT(\"'ProjDataInput'!b\"&TEXT($N$2,\"###\")),2)","v":""},{"$f":"MID(INDIRECT(\"'ProjDataInput'!b\"&TEXT($N$2,\"###\")),3,999)","v":""},null,"PROJECT STATUS: "]
[null,null,null,"SUBPRROGRAM: "]
[]
["PI: ",{"$f":"MID(INDIRECT(\"'ProjDataInput'!j\"&TEXT($N$2,\"###\")),1,999)","v":""},null,"EFFORT: "]
["AFFILIATION: ",{"$f":"MID(INDIRECT(\"'ProjDataInput'!k\"&TEXT($N$2,\"###\")),1,999)","v":""},null,"AFFIL. CODE: ",null,null,"Worksheet"]
[null,null,null,null,null,null,"tools:"]
["2nd PI: ",{"$f":"MID(INDIRECT(\"'ProjDataInput'!L\"&TEXT($N$2,\"###\")),1,999)","v":""},null,"EFFORT: "]
["AFFILIATION: ",{"$f":"MID(INDIRECT(\"'ProjDataInput'!m\"&TEXT($N$2,\"###\")),1,999)","v":""},null,"AFFIL. CODE: "]
[]
["3rd PI: ",{"$f":"MID(INDIRECT(\"'ProjDataInput'!n\"&TEXT($N$2,\"###\")),1,999)","v":""},null,"EFFORT: "]
["AFFILIATION: ",{"$f":"MID(INDIRECT(\"'ProjDataInput'!o\"&TEXT($N$2,\"###\")),1,999)","v":""},null,"AFFIL. CODE: "]
[]
["4th PI: ",{"$f":"MID(INDIRECT(\"'ProjDataInput'!p\"&TEXT($N$2,\"###\")),1,999)","v":""},null,"EFFORT: "]
["AFFILIATION: ",{"$f":"MID(INDIRECT(\"'ProjDataInput'!q\"&TEXT($N$2,\"###\")),1,999)","v":""},null,"AFFIL. CODE: "]
[]
["FEDERAL $ REQUEST: ",{"$f":"INDIRECT(\"'ProjDataInput'!h\"&TEXT($N$2,\"###\"))","v":0},null,"LAST YR FEDERAL: "]
["MATCH $: ",{"$f":"INDIRECT(\"'ProjDataInput'!i\"&TEXT($N$2,\"###\"))","v":0},null,"LAST YR MATCH: "]
[]
["CLASSIFICATION CODES: ",{"$f":"MID(INDIRECT(\"'ProjDataInput'!f\"&TEXT($N$2,\"###\")),1,999)","v":""},null,"RELATED PROJECTS: "]
[null,"(Primary Code First)",null,"PARENT PROJECTS: "]
["FOCUS AREAS: ",{"$f":"MID(INDIRECT(\"'ProjDataInput'!d\"&TEXT($N$2,\"###\")),1,999)","v":""}]
[null,"(Primary Focus Area First)"]
["PARTNERS: ",{"$f":"MID(INDIRECT(\"'ProjDataInput'!e\"&TEXT($N$2,\"###\")),1,999)","v":""},null,"KEYWORDS: "]
[]
["OBJECTIVES: ",{"$f":"MID(INDIRECT(\"'ProjDataInput'!g\"&TEXT($N$2,\"###\")),1,19999)","v":""},null,"MULTIPROGRAM? "]
[]
["METHODOLOGY: ",null,null,"OTHER INFORMATION: "]
[null,"(The Data Sharing Plan may be included in the Methodology section)"]
["RATIONALE: "]
[]
["DATA SHARING PLAN: ",{"$f":"MID(INDIRECT(\"'ProjDataInput'!r\"&TEXT($N$2,\"###\")),1,19999)","v":""}]

{"sheet":"S31","index":33,"n_rows":40,"n_cols":15,"rows_kept":40,"cut":false,"hidden":false,"merged":[]}
["This worksheet is:",{"$f":"MID(CELL(\"filename\",'S31'!B1),FIND(\"]\",CELL(\"filename\",'S31'!B1))+1,24)","v":"S31"},"OMB no. ","0648-0362, exp 10/31/14",null,null,null,null,null,null,null,null,null,"S31","(default worksheet name)"]
[null,null,"Don't use after","2013-12-31",null,null,null,null,null,null,null,null,null,{"$f":"IF(LEFT(N1,3)=\"S1 \",2,VALUE(MID(N1,2,99))+1)","v":32}]
[null,null,null,null,null,null,null,null,null,null,null,null,null,null,"(temp workspace for a current cell value)"]
[null,"SEA GRANT PROJECT SUMMARY FORM 90-2",null,null,"National Office does not track these fields:",null,"NSGO use only",null,null,null,null,null,null,null,"(temp workspace for a new selected value)"]
[null,null,null,null,null,null,null,null,null,null,null,null,null,{"$f":"IF(N3=\"\",IF(N4=\"\",\"\",N4),IF(N4=\"\",N3,N3&\"; \"&N4))","v":""},"(function to concatenate the above two cells)"]
["INSTITUTION (Program): ",{"$f":"LEFT('S1-Start Here'!B6,16)","v":"0"},null,"ICODE: "]
["TITLE: ",{"$f":"MID(INDIRECT(\"'ProjDataInput'!C\"&TEXT($N$2,\"###\")),1,999)","v":""},null,"REV. DATE:",null,null,null,null,null,null,null,null,null,{"$f":"IF('S17'!B6=\"\",\"\",'S17'!B6)","v":"0"},"(Program listed on first 90-2)"]
[null,null,null,"INIT. DATE:"]
["PREFIX (A,C,E,M,P or R): "," PROJECT NUMBER",null,"COMPL. DATE:"]
[{"$f":"LEFT(INDIRECT(\"'ProjDataInput'!b\"&TEXT($N$2,\"###\")),2)","v":""},{"$f":"MID(INDIRECT(\"'ProjDataInput'!b\"&TEXT($N$2,\"###\")),3,999)","v":""},null,"PROJECT STATUS: "]
[null,null,null,"SUBPRROGRAM: "]
[]
["PI: ",{"$f":"MID(INDIRECT(\"'ProjDataInput'!j\"&TEXT($N$2,\"###\")),1,999)","v":""},null,"EFFORT: "]
["AFFILIATION: ",{"$f":"MID(INDIRECT(\"'ProjDataInput'!k\"&TEXT($N$2,\"###\")),1,999)","v":""},null,"AFFIL. CODE: ",null,null,"Worksheet"]
[null,null,null,null,null,null,"tools:"]
["2nd PI: ",{"$f":"MID(INDIRECT(\"'ProjDataInput'!L\"&TEXT($N$2,\"###\")),1,999)","v":""},null,"EFFORT: "]
["AFFILIATION: ",{"$f":"MID(INDIRECT(\"'ProjDataInput'!m\"&TEXT($N$2,\"###\")),1,999)","v":""},null,"AFFIL. CODE: "]
[]
["3rd PI: ",{"$f":"MID(INDIRECT(\"'ProjDataInput'!n\"&TEXT($N$2,\"###\")),1,999)","v":""},null,"EFFORT: "]
["AFFILIATION: ",{"$f":"MID(INDIRECT(\"'ProjDataInput'!o\"&TEXT($N$2,\"###\")),1,999)","v":""},null,"AFFIL. CODE: "]
[]
["4th PI: ",{"$f":"MID(INDIRECT(\"'ProjDataInput'!p\"&TEXT($N$2,\"###\")),1,999)","v":""},null,"EFFORT: "]
["AFFILIATION: ",{"$f":"MID(INDIRECT(\"'ProjDataInput'!q\"&TEXT($N$2,\"###\")),1,999)","v":""},null,"AFFIL. CODE: "]
[]
["FEDERAL $ REQUEST: ",{"$f":"INDIRECT(\"'ProjDataInput'!h\"&TEXT($N$2,\"###\"))","v":0},null,"LAST YR FEDERAL: "]
["MATCH $: ",{"$f":"INDIRECT(\"'ProjDataInput'!i\"&TEXT($N$2,\"###\"))","v":0},null,"LAST YR MATCH: "]
[]
["CLASSIFICATION CODES: ",{"$f":"MID(INDIRECT(\"'ProjDataInput'!f\"&TEXT($N$2,\"###\")),1,999)","v":""},null,"RELATED PROJECTS: "]
[null,"(Primary Code First)",null,"PARENT PROJECTS: "]
["FOCUS AREAS: ",{"$f":"MID(INDIRECT(\"'ProjDataInput'!d\"&TEXT($N$2,\"###\")),1,999)","v":""}]
[null,"(Primary Focus Area First)"]
["PARTNERS: ",{"$f":"MID(INDIRECT(\"'ProjDataInput'!e\"&TEXT($N$2,\"###\")),1,999)","v":""},null,"KEYWORDS: "]
[]
["OBJECTIVES: ",{"$f":"MID(INDIRECT(\"'ProjDataInput'!g\"&TEXT($N$2,\"###\")),1,19999)","v":""},null,"MULTIPROGRAM? "]
[]
["METHODOLOGY: ",null,null,"OTHER INFORMATION: "]
[null,"(The Data Sharing Plan may be included in the Methodology section)"]
["RATIONALE: "]
[]
["DATA SHARING PLAN: ",{"$f":"MID(INDIRECT(\"'ProjDataInput'!r\"&TEXT($N$2,\"###\")),1,19999)","v":""}]

{"sheet":"S32","index":34,"n_rows":40,"n_cols":15,"rows_kept":40,"cut":false,"hidden":false,"merged":[]}
["This worksheet is:",{"$f":"MID(CELL(\"filename\",'S32'!B1),FIND(\"]\",CELL(\"filename\",'S32'!B1))+1,24)","v":"S32"},"OMB no. ","0648-0362, exp 10/31/14",null,null,null,null,null,null,null,null,null,"S32","(default worksheet name)"]
[null,null,"Don't use after","2013-12-31",null,null,null,null,null,null,null,null,null,{"$f":"IF(LEFT(N1,3)=\"S1 \",2,VALUE(MID(N1,2,99))+1)","v":33}]
[null,null,null,null,null,null,null,null,null,null,null,null,null,null,"(temp workspace for a current cell value)"]
[null,"SEA GRANT PROJECT SUMMARY FORM 90-2",null,null,"National Office does not track these fields:",null,"NSGO use only",null,null,null,null,null,null,null,"(temp workspace for a new selected value)"]
[null,null,null,null,null,null,null,null,null,null,null,null,null,{"$f":"IF(N3=\"\",IF(N4=\"\",\"\",N4),IF(N4=\"\",N3,N3&\"; \"&N4))","v":""},"(function to concatenate the above two cells)"]
["INSTITUTION (Program): ",{"$f":"LEFT('S1-Start Here'!B6,16)","v":"0"},null,"ICODE: "]
["TITLE: ",{"$f":"MID(INDIRECT(\"'ProjDataInput'!C\"&TEXT($N$2,\"###\")),1,999)","v":""},null,"REV. DATE:",null,null,null,null,null,null,null,null,null,{"$f":"IF('S17'!B6=\"\",\"\",'S17'!B6)","v":"0"},"(Program listed on first 90-2)"]
[null,null,null,"INIT. DATE:"]
["PREFIX (A,C,E,M,P or R): "," PROJECT NUMBER",null,"COMPL. DATE:"]
[{"$f":"LEFT(INDIRECT(\"'ProjDataInput'!b\"&TEXT($N$2,\"###\")),2)","v":""},{"$f":"MID(INDIRECT(\"'ProjDataInput'!b\"&TEXT($N$2,\"###\")),3,999)","v":""},null,"PROJECT STATUS: "]
[null,null,null,"SUBPRROGRAM: "]
[]
["PI: ",{"$f":"MID(INDIRECT(\"'ProjDataInput'!j\"&TEXT($N$2,\"###\")),1,999)","v":""},null,"EFFORT: "]
["AFFILIATION: ",{"$f":"MID(INDIRECT(\"'ProjDataInput'!k\"&TEXT($N$2,\"###\")),1,999)","v":""},null,"AFFIL. CODE: ",null,null,"Worksheet"]
[null,null,null,null,null,null,"tools:"]
["2nd PI: ",{"$f":"MID(INDIRECT(\"'ProjDataInput'!L\"&TEXT($N$2,\"###\")),1,999)","v":""},null,"EFFORT: "]
["AFFILIATION: ",{"$f":"MID(INDIRECT(\"'ProjDataInput'!m\"&TEXT($N$2,\"###\")),1,999)","v":""},null,"AFFIL. CODE: "]
[]
["3rd PI: ",{"$f":"MID(INDIRECT(\"'ProjDataInput'!n\"&TEXT($N$2,\"###\")),1,999)","v":""},null,"EFFORT: "]
["AFFILIATION: ",{"$f":"MID(INDIRECT(\"'ProjDataInput'!o\"&TEXT($N$2,\"###\")),1,999)","v":""},null,"AFFIL. CODE: "]
[]
["4th PI: ",{"$f":"MID(INDIRECT(\"'ProjDataInput'!p\"&TEXT($N$2,\"###\")),1,999)","v":""},null,"EFFORT: "]
["AFFILIATION: ",{"$f":"MID(INDIRECT(\"'ProjDataInput'!q\"&TEXT($N$2,\"###\")),1,999)","v":""},null,"AFFIL. CODE: "]
[]
["FEDERAL $ REQUEST: ",{"$f":"INDIRECT(\"'ProjDataInput'!h\"&TEXT($N$2,\"###\"))","v":0},null,"LAST YR FEDERAL: "]
["MATCH $: ",{"$f":"INDIRECT(\"'ProjDataInput'!i\"&TEXT($N$2,\"###\"))","v":0},null,"LAST YR MATCH: "]
[]
["CLASSIFICATION CODES: ",{"$f":"MID(INDIRECT(\"'ProjDataInput'!f\"&TEXT($N$2,\"###\")),1,999)","v":""},null,"RELATED PROJECTS: "]
[null,"(Primary Code First)",null,"PARENT PROJECTS: "]
["FOCUS AREAS: ",{"$f":"MID(INDIRECT(\"'ProjDataInput'!d\"&TEXT($N$2,\"###\")),1,999)","v":""}]
[null,"(Primary Focus Area First)"]
["PARTNERS: ",{"$f":"MID(INDIRECT(\"'ProjDataInput'!e\"&TEXT($N$2,\"###\")),1,999)","v":""},null,"KEYWORDS: "]
[]
["OBJECTIVES: ",{"$f":"MID(INDIRECT(\"'ProjDataInput'!g\"&TEXT($N$2,\"###\")),1,19999)","v":""},null,"MULTIPROGRAM? "]
[]
["METHODOLOGY: ",null,null,"OTHER INFORMATION: "]
[null,"(The Data Sharing Plan may be included in the Methodology section)"]
["RATIONALE: "]
[]
["DATA SHARING PLAN: ",{"$f":"MID(INDIRECT(\"'ProjDataInput'!r\"&TEXT($N$2,\"###\")),1,19999)","v":""}]

{"sheet":"S33","index":35,"n_rows":40,"n_cols":15,"rows_kept":40,"cut":false,"hidden":false,"merged":[]}
["This worksheet is:",{"$f":"MID(CELL(\"filename\",'S33'!B1),FIND(\"]\",CELL(\"filename\",'S33'!B1))+1,24)","v":"S33"},"OMB no. ","0648-0362, exp 10/31/14",null,null,null,null,null,null,null,null,null,"S33","(default worksheet name)"]
[null,null,"Don't use after","2013-12-31",null,null,null,null,null,null,null,null,null,{"$f":"IF(LEFT(N1,3)=\"S1 \",2,VALUE(MID(N1,2,99))+1)","v":34}]
[null,null,null,null,null,null,null,null,null,null,null,null,null,null,"(temp workspace for a current cell value)"]
[null,"SEA GRANT PROJECT SUMMARY FORM 90-2",null,null,"National Office does not track these fields:",null,"NSGO use only",null,null,null,null,null,null,null,"(temp workspace for a new selected value)"]
[null,null,null,null,null,null,null,null,null,null,null,null,null,{"$f":"IF(N3=\"\",IF(N4=\"\",\"\",N4),IF(N4=\"\",N3,N3&\"; \"&N4))","v":""},"(function to concatenate the above two cells)"]
["INSTITUTION (Program): ",{"$f":"LEFT('S1-Start Here'!B6,16)","v":"0"},null,"ICODE: "]
["TITLE: ",{"$f":"MID(INDIRECT(\"'ProjDataInput'!C\"&TEXT($N$2,\"###\")),1,999)","v":""},null,"REV. DATE:",null,null,null,null,null,null,null,null,null,{"$f":"IF('S1-Start Here'!B6=\"\",\"\",'S1-Start Here'!B6)","v":0},"(Program listed on first 90-2)"]
[null,null,null,"INIT. DATE:"]
["PREFIX (A,C,E,M,P or R): "," PROJECT NUMBER",null,"COMPL. DATE:"]
[{"$f":"LEFT(INDIRECT(\"'ProjDataInput'!b\"&TEXT($N$2,\"###\")),2)","v":""},{"$f":"MID(INDIRECT(\"'ProjDataInput'!b\"&TEXT($N$2,\"###\")),3,999)","v":""},null,"PROJECT STATUS: "]
[null,null,null,"SUBPRROGRAM: "]
[]
["PI: ",{"$f":"MID(INDIRECT(\"'ProjDataInput'!j\"&TEXT($N$2,\"###\")),1,999)","v":""},null,"EFFORT: "]
["AFFILIATION: ",{"$f":"MID(INDIRECT(\"'ProjDataInput'!k\"&TEXT($N$2,\"###\")),1,999)","v":""},null,"AFFIL. CODE: ",null,null,"Worksheet"]
[null,null,null,null,null,null,"tools:"]
["2nd PI: ",{"$f":"MID(INDIRECT(\"'ProjDataInput'!L\"&TEXT($N$2,\"###\")),1,999)","v":""},null,"EFFORT: "]
["AFFILIATION: ",{"$f":"MID(INDIRECT(\"'ProjDataInput'!m\"&TEXT($N$2,\"###\")),1,999)","v":""},null,"AFFIL. CODE: "]
[]
["3rd PI: ",{"$f":"MID(INDIRECT(\"'ProjDataInput'!n\"&TEXT($N$2,\"###\")),1,999)","v":""},null,"EFFORT: "]
["AFFILIATION: ",{"$f":"MID(INDIRECT(\"'ProjDataInput'!o\"&TEXT($N$2,\"###\")),1,999)","v":""},null,"AFFIL. CODE: "]
[]
["4th PI: ",{"$f":"MID(INDIRECT(\"'ProjDataInput'!p\"&TEXT($N$2,\"###\")),1,999)","v":""},null,"EFFORT: "]
["AFFILIATION: ",{"$f":"MID(INDIRECT(\"'ProjDataInput'!q\"&TEXT($N$2,\"###\")),1,999)","v":""},null,"AFFIL. CODE: "]
[]
["FEDERAL $ REQUEST: ",{"$f":"INDIRECT(\"'ProjDataInput'!h\"&TEXT($N$2,\"###\"))","v":0},null,"LAST YR FEDERAL: "]
["MATCH $: ",{"$f":"INDIRECT(\"'ProjDataInput'!i\"&TEXT($N$2,\"###\"))","v":0},null,"LAST YR MATCH: "]
[]
["CLASSIFICATION CODES: ",{"$f":"MID(INDIRECT(\"'ProjDataInput'!f\"&TEXT($N$2,\"###\")),1,999)","v":""},null,"RELATED PROJECTS: "]
[null,"(Primary Code First)",null,"PARENT PROJECTS: "]
["FOCUS AREAS: ",{"$f":"MID(INDIRECT(\"'ProjDataInput'!d\"&TEXT($N$2,\"###\")),1,999)","v":""}]
[null,"(Primary Focus Area First)"]
["PARTNERS: ",{"$f":"MID(INDIRECT(\"'ProjDataInput'!e\"&TEXT($N$2,\"###\")),1,999)","v":""},null,"KEYWORDS: "]
[]
["OBJECTIVES: ",{"$f":"MID(INDIRECT(\"'ProjDataInput'!g\"&TEXT($N$2,\"###\")),1,19999)","v":""},null,"MULTIPROGRAM? "]
[]
["METHODOLOGY: ",null,null,"OTHER INFORMATION: "]
[null,"(The Data Sharing Plan may be included in the Methodology section)"]
["RATIONALE: "]
[]
["DATA SHARING PLAN: ",{"$f":"MID(INDIRECT(\"'ProjDataInput'!r\"&TEXT($N$2,\"###\")),1,19999)","v":""}]

{"sheet":"S34","index":36,"n_rows":40,"n_cols":15,"rows_kept":40,"cut":false,"hidden":false,"merged":[]}
["This worksheet is:",{"$f":"MID(CELL(\"filename\",'S34'!B1),FIND(\"]\",CELL(\"filename\",'S34'!B1))+1,24)","v":"S34"},"OMB no. ","0648-0362, exp 10/31/14",null,null,null,null,null,null,null,null,null,"S34","(default worksheet name)"]
[null,null,"Don't use after","2013-12-31",null,null,null,null,null,null,null,null,null,{"$f":"IF(LEFT(N1,3)=\"S1 \",2,VALUE(MID(N1,2,99))+1)","v":35}]
[null,null,null,null,null,null,null,null,null,null,null,null,null,null,"(temp workspace for a current cell value)"]
[null,"SEA GRANT PROJECT SUMMARY FORM 90-2",null,null,"National Office does not track these fields:",null,"NSGO use only",null,null,null,null,null,null,null,"(temp workspace for a new selected value)"]
[null,null,null,null,null,null,null,null,null,null,null,null,null,{"$f":"IF(N3=\"\",IF(N4=\"\",\"\",N4),IF(N4=\"\",N3,N3&\"; \"&N4))","v":""},"(function to concatenate the above two cells)"]
["INSTITUTION (Program): ",{"$f":"LEFT('S1-Start Here'!B6,16)","v":"0"},null,"ICODE: "]
["TITLE: ",{"$f":"MID(INDIRECT(\"'ProjDataInput'!C\"&TEXT($N$2,\"###\")),1,999)","v":""},null,"REV. DATE:",null,null,null,null,null,null,null,null,null,{"$f":"IF('S1-Start Here'!B6=\"\",\"\",'S1-Start Here'!B6)","v":0},"(Program listed on first 90-2)"]
[null,null,null,"INIT. DATE:"]
["PREFIX (A,C,E,M,P or R): "," PROJECT NUMBER",null,"COMPL. DATE:"]
[{"$f":"LEFT(INDIRECT(\"'ProjDataInput'!b\"&TEXT($N$2,\"###\")),2)","v":""},{"$f":"MID(INDIRECT(\"'ProjDataInput'!b\"&TEXT($N$2,\"###\")),3,999)","v":""},null,"PROJECT STATUS: "]
[null,null,null,"SUBPRROGRAM: "]
[]
["PI: ",{"$f":"MID(INDIRECT(\"'ProjDataInput'!j\"&TEXT($N$2,\"###\")),1,999)","v":""},null,"EFFORT: "]
["AFFILIATION: ",{"$f":"MID(INDIRECT(\"'ProjDataInput'!k\"&TEXT($N$2,\"###\")),1,999)","v":""},null,"AFFIL. CODE: ",null,null,"Worksheet"]
[null,null,null,null,null,null,"tools:"]
["2nd PI: ",{"$f":"MID(INDIRECT(\"'ProjDataInput'!L\"&TEXT($N$2,\"###\")),1,999)","v":""},null,"EFFORT: "]
["AFFILIATION: ",{"$f":"MID(INDIRECT(\"'ProjDataInput'!m\"&TEXT($N$2,\"###\")),1,999)","v":""},null,"AFFIL. CODE: "]
[]
["3rd PI: ",{"$f":"MID(INDIRECT(\"'ProjDataInput'!n\"&TEXT($N$2,\"###\")),1,999)","v":""},null,"EFFORT: "]
["AFFILIATION: ",{"$f":"MID(INDIRECT(\"'ProjDataInput'!o\"&TEXT($N$2,\"###\")),1,999)","v":""},null,"AFFIL. CODE: "]
[]
["4th PI: ",{"$f":"MID(INDIRECT(\"'ProjDataInput'!p\"&TEXT($N$2,\"###\")),1,999)","v":""},null,"EFFORT: "]
["AFFILIATION: ",{"$f":"MID(INDIRECT(\"'ProjDataInput'!q\"&TEXT($N$2,\"###\")),1,999)","v":""},null,"AFFIL. CODE: "]
[]
["FEDERAL $ REQUEST: ",{"$f":"INDIRECT(\"'ProjDataInput'!h\"&TEXT($N$2,\"###\"))","v":0},null,"LAST YR FEDERAL: "]
["MATCH $: ",{"$f":"INDIRECT(\"'ProjDataInput'!i\"&TEXT($N$2,\"###\"))","v":0},null,"LAST YR MATCH: "]
[]
["CLASSIFICATION CODES: ",{"$f":"MID(INDIRECT(\"'ProjDataInput'!f\"&TEXT($N$2,\"###\")),1,999)","v":""},null,"RELATED PROJECTS: "]
[null,"(Primary Code First)",null,"PARENT PROJECTS: "]
["FOCUS AREAS: ",{"$f":"MID(INDIRECT(\"'ProjDataInput'!d\"&TEXT($N$2,\"###\")),1,999)","v":""}]
[null,"(Primary Focus Area First)"]
["PARTNERS: ",{"$f":"MID(INDIRECT(\"'ProjDataInput'!e\"&TEXT($N$2,\"###\")),1,999)","v":""},null,"KEYWORDS: "]
[]
["OBJECTIVES: ",{"$f":"MID(INDIRECT(\"'ProjDataInput'!g\"&TEXT($N$2,\"###\")),1,19999)","v":""},null,"MULTIPROGRAM? "]
[]
["METHODOLOGY: ",null,null,"OTHER INFORMATION: "]
[null,"(The Data Sharing Plan may be included in the Methodology section)"]
["RATIONALE: "]
[]
["DATA SHARING PLAN: ",{"$f":"MID(INDIRECT(\"'ProjDataInput'!r\"&TEXT($N$2,\"###\")),1,19999)","v":""}]

{"sheet":"S35","index":37,"n_rows":40,"n_cols":15,"rows_kept":40,"cut":false,"hidden":false,"merged":[]}
["This worksheet is:",{"$f":"MID(CELL(\"filename\",'S35'!B1),FIND(\"]\",CELL(\"filename\",'S35'!B1))+1,24)","v":"S35"},"OMB no. ","0648-0362, exp 10/31/14",null,null,null,null,null,null,null,null,null,"S35","(default worksheet name)"]
[null,null,"Don't use after","2013-12-31",null,null,null,null,null,null,null,null,null,{"$f":"IF(LEFT(N1,3)=\"S1 \",2,VALUE(MID(N1,2,99))+1)","v":36}]
[null,null,null,null,null,null,null,null,null,null,null,null,null,"Ecosystem-Based Fisheries Management","(temp workspace for a current cell value)"]
[null,"SEA GRANT PROJECT SUMMARY FORM 90-2",null,null,"National Office does not track these fields:",null,"NSGO use only",null,null,null,null,null,null,null,"(temp workspace for a new selected value)"]
[null,null,null,null,null,null,null,null,null,null,null,null,null,{"$f":"IF(N3=\"\",IF(N4=\"\",\"\",N4),IF(N4=\"\",N3,N3&\"; \"&N4))","v":"Ecosystem-Based Fisheries Management"},"(function to concatenate the above two cells)"]
["INSTITUTION (Program): ",{"$f":"LEFT('S1-Start Here'!B6,16)","v":"0"},null,"ICODE: "]
["TITLE: ",{"$f":"MID(INDIRECT(\"'ProjDataInput'!C\"&TEXT($N$2,\"###\")),1,999)","v":""},null,"REV. DATE:",null,null,null,null,null,null,null,null,null,{"$f":"IF('S1-Start Here'!B6=\"\",\"\",'S1-Start Here'!B6)","v":0},"(Program listed on first 90-2)"]
[null,null,null,"INIT. DATE:"]
["PREFIX (A,C,E,M,P or R): "," PROJECT NUMBER",null,"COMPL. DATE:"]
[{"$f":"LEFT(INDIRECT(\"'ProjDataInput'!b\"&TEXT($N$2,\"###\")),2)","v":""},{"$f":"MID(INDIRECT(\"'ProjDataInput'!b\"&TEXT($N$2,\"###\")),3,999)","v":""},null,"PROJECT STATUS: "]
[null,null,null,"SUBPRROGRAM: "]
[]
["PI: ",{"$f":"MID(INDIRECT(\"'ProjDataInput'!j\"&TEXT($N$2,\"###\")),1,999)","v":""},null,"EFFORT: "]
["AFFILIATION: ",{"$f":"MID(INDIRECT(\"'ProjDataInput'!k\"&TEXT($N$2,\"###\")),1,999)","v":""},null,"AFFIL. CODE: ",null,null,"Worksheet"]
[null,null,null,null,null,null,"tools:"]
["2nd PI: ",{"$f":"MID(INDIRECT(\"'ProjDataInput'!L\"&TEXT($N$2,\"###\")),1,999)","v":""},null,"EFFORT: "]
["AFFILIATION: ",{"$f":"MID(INDIRECT(\"'ProjDataInput'!m\"&TEXT($N$2,\"###\")),1,999)","v":""},null,"AFFIL. CODE: "]
[]
["3rd PI: ",{"$f":"MID(INDIRECT(\"'ProjDataInput'!n\"&TEXT($N$2,\"###\")),1,999)","v":""},null,"EFFORT: "]
["AFFILIATION: ",{"$f":"MID(INDIRECT(\"'ProjDataInput'!o\"&TEXT($N$2,\"###\")),1,999)","v":""},null,"AFFIL. CODE: "]
[]
["4th PI: ",{"$f":"MID(INDIRECT(\"'ProjDataInput'!p\"&TEXT($N$2,\"###\")),1,999)","v":""},null,"EFFORT: "]
["AFFILIATION: ",{"$f":"MID(INDIRECT(\"'ProjDataInput'!q\"&TEXT($N$2,\"###\")),1,999)","v":""},null,"AFFIL. CODE: "]
[]
["FEDERAL $ REQUEST: ",{"$f":"INDIRECT(\"'ProjDataInput'!h\"&TEXT($N$2,\"###\"))","v":0},null,"LAST YR FEDERAL: "]
["MATCH $: ",{"$f":"INDIRECT(\"'ProjDataInput'!i\"&TEXT($N$2,\"###\"))","v":0},null,"LAST YR MATCH: "]
[]
["CLASSIFICATION CODES: ",{"$f":"MID(INDIRECT(\"'ProjDataInput'!f\"&TEXT($N$2,\"###\")),1,999)","v":""},null,"RELATED PROJECTS: "]
[null,"(Primary Code First)",null,"PARENT PROJECTS: "]
["FOCUS AREAS: ",{"$f":"MID(INDIRECT(\"'ProjDataInput'!d\"&TEXT($N$2,\"###\")),1,999)","v":""}]
[null,"(Primary Focus Area First)"]
["PARTNERS: ",{"$f":"MID(INDIRECT(\"'ProjDataInput'!e\"&TEXT($N$2,\"###\")),1,999)","v":""},null,"KEYWORDS: "]
[]
["OBJECTIVES: ",{"$f":"MID(INDIRECT(\"'ProjDataInput'!g\"&TEXT($N$2,\"###\")),1,19999)","v":""},null,"MULTIPROGRAM? "]
[]
["METHODOLOGY: ",null,null,"OTHER INFORMATION: "]
[null,"(The Data Sharing Plan may be included in the Methodology section)"]
["RATIONALE: "]
[]
["DATA SHARING PLAN: ",{"$f":"MID(INDIRECT(\"'ProjDataInput'!r\"&TEXT($N$2,\"###\")),1,19999)","v":""}]

{"sheet":"S36","index":38,"n_rows":40,"n_cols":15,"rows_kept":40,"cut":false,"hidden":false,"merged":[]}
["This worksheet is:",{"$f":"MID(CELL(\"filename\",'S36'!B1),FIND(\"]\",CELL(\"filename\",'S36'!B1))+1,24)","v":"S36"},"OMB no. ","0648-0362, exp 10/31/14",null,null,null,null,null,null,null,null,null,"S36","(default worksheet name)"]
[null,null,"Don't use after","2013-12-31",null,null,null,null,null,null,null,null,null,{"$f":"IF(LEFT(N1,3)=\"S1 \",2,VALUE(MID(N1,2,99))+1)","v":37}]
[null,null,null,null,null,null,null,null,null,null,null,null,null,null,"(temp workspace for a current cell value)"]
[null,"SEA GRANT PROJECT SUMMARY FORM 90-2",null,null,"National Office does not track these fields:",null,"NSGO use only",null,null,null,null,null,null,null,"(temp workspace for a new selected value)"]
[null,null,null,null,null,null,null,null,null,null,null,null,null,{"$f":"IF(N3=\"\",IF(N4=\"\",\"\",N4),IF(N4=\"\",N3,N3&\"; \"&N4))","v":""},"(function to concatenate the above two cells)"]
["INSTITUTION (Program): ",{"$f":"LEFT('S1-Start Here'!B6,16)","v":"0"},null,"ICODE: "]
["TITLE: ",{"$f":"MID(INDIRECT(\"'ProjDataInput'!C\"&TEXT($N$2,\"###\")),1,999)","v":""},null,"REV. DATE:",null,null,null,null,null,null,null,null,null,{"$f":"IF('S1-Start Here'!B6=\"\",\"\",'S1-Start Here'!B6)","v":0},"(Program listed on first 90-2)"]
[null,null,null,"INIT. DATE:"]
["PREFIX (A,C,E,M,P or R): "," PROJECT NUMBER",null,"COMPL. DATE:"]
[{"$f":"LEFT(INDIRECT(\"'ProjDataInput'!b\"&TEXT($N$2,\"###\")),2)","v":""},{"$f":"MID(INDIRECT(\"'ProjDataInput'!b\"&TEXT($N$2,\"###\")),3,999)","v":""},null,"PROJECT STATUS: "]
[null,null,null,"SUBPRROGRAM: "]
[]
["PI: ",{"$f":"MID(INDIRECT(\"'ProjDataInput'!j\"&TEXT($N$2,\"###\")),1,999)","v":""},null,"EFFORT: "]
["AFFILIATION: ",{"$f":"MID(INDIRECT(\"'ProjDataInput'!k\"&TEXT($N$2,\"###\")),1,999)","v":""},null,"AFFIL. CODE: ",null,null,"Worksheet"]
[null,null,null,null,null,null,"tools:"]
["2nd PI: ",{"$f":"MID(INDIRECT(\"'ProjDataInput'!L\"&TEXT($N$2,\"###\")),1,999)","v":""},null,"EFFORT: "]
["AFFILIATION: ",{"$f":"MID(INDIRECT(\"'ProjDataInput'!m\"&TEXT($N$2,\"###\")),1,999)","v":""},null,"AFFIL. CODE: "]
[]
["3rd PI: ",{"$f":"MID(INDIRECT(\"'ProjDataInput'!n\"&TEXT($N$2,\"###\")),1,999)","v":""},null,"EFFORT: "]
["AFFILIATION: ",{"$f":"MID(INDIRECT(\"'ProjDataInput'!o\"&TEXT($N$2,\"###\")),1,999)","v":""},null,"AFFIL. CODE: "]
[]
["4th PI: ",{"$f":"MID(INDIRECT(\"'ProjDataInput'!p\"&TEXT($N$2,\"###\")),1,999)","v":""},null,"EFFORT: "]
["AFFILIATION: ",{"$f":"MID(INDIRECT(\"'ProjDataInput'!q\"&TEXT($N$2,\"###\")),1,999)","v":""},null,"AFFIL. CODE: "]
[]
["FEDERAL $ REQUEST: ",{"$f":"INDIRECT(\"'ProjDataInput'!h\"&TEXT($N$2,\"###\"))","v":0},null,"LAST YR FEDERAL: "]
["MATCH $: ",{"$f":"INDIRECT(\"'ProjDataInput'!i\"&TEXT($N$2,\"###\"))","v":0},null,"LAST YR MATCH: "]
[]
["CLASSIFICATION CODES: ",{"$f":"MID(INDIRECT(\"'ProjDataInput'!f\"&TEXT($N$2,\"###\")),1,999)","v":""},null,"RELATED PROJECTS: "]
[null,"(Primary Code First)",null,"PARENT PROJECTS: "]
["FOCUS AREAS: ",{"$f":"MID(INDIRECT(\"'ProjDataInput'!d\"&TEXT($N$2,\"###\")),1,999)","v":""}]
[null,"(Primary Focus Area First)"]
["PARTNERS: ",{"$f":"MID(INDIRECT(\"'ProjDataInput'!e\"&TEXT($N$2,\"###\")),1,999)","v":""},null,"KEYWORDS: "]
[]
["OBJECTIVES: ",{"$f":"MID(INDIRECT(\"'ProjDataInput'!g\"&TEXT($N$2,\"###\")),1,19999)","v":""},null,"MULTIPROGRAM? "]
[]
["METHODOLOGY: ",null,null,"OTHER INFORMATION: "]
[null,"(The Data Sharing Plan may be included in the Methodology section)"]
["RATIONALE: "]
[]
["DATA SHARING PLAN: ",{"$f":"MID(INDIRECT(\"'ProjDataInput'!r\"&TEXT($N$2,\"###\")),1,19999)","v":""}]

{"sheet":"S37","index":39,"n_rows":40,"n_cols":15,"rows_kept":40,"cut":false,"hidden":false,"merged":[]}
["This worksheet is:",{"$f":"MID(CELL(\"filename\",'S37'!B1),FIND(\"]\",CELL(\"filename\",'S37'!B1))+1,24)","v":"S37"},"OMB no. ","0648-0362, exp 10/31/14",null,null,null,null,null,null,null,null,null,"S37","(default worksheet name)"]
[null,null,"Don't use after","2013-12-31",null,null,null,null,null,null,null,null,null,{"$f":"IF(LEFT(N1,3)=\"S1 \",2,VALUE(MID(N1,2,99))+1)","v":38}]
[null,null,null,null,null,null,null,null,null,null,null,null,null,null,"(temp workspace for a current cell value)"]
[null,"SEA GRANT PROJECT SUMMARY FORM 90-2",null,null,"National Office does not track these fields:",null,"NSGO use only",null,null,null,null,null,null,null,"(temp workspace for a new selected value)"]
[null,null,null,null,null,null,null,null,null,null,null,null,null,{"$f":"IF(N3=\"\",IF(N4=\"\",\"\",N4),IF(N4=\"\",N3,N3&\"; \"&N4))","v":""},"(function to concatenate the above two cells)"]
["INSTITUTION (Program): ",{"$f":"LEFT('S1-Start Here'!B6,16)","v":"0"},null,"ICODE: "]
["TITLE: ",{"$f":"MID(INDIRECT(\"'ProjDataInput'!C\"&TEXT($N$2,\"###\")),1,999)","v":""},null,"REV. DATE:",null,null,null,null,null,null,null,null,null,{"$f":"IF('S1-Start Here'!B6=\"\",\"\",'S1-Start Here'!B6)","v":0},"(Program listed on first 90-2)"]
[null,null,null,"INIT. DATE:"]
["PREFIX (A,C,E,M,P or R): "," PROJECT NUMBER",null,"COMPL. DATE:"]
[{"$f":"LEFT(INDIRECT(\"'ProjDataInput'!b\"&TEXT($N$2,\"###\")),2)","v":""},{"$f":"MID(INDIRECT(\"'ProjDataInput'!b\"&TEXT($N$2,\"###\")),3,999)","v":""},null,"PROJECT STATUS: "]
[null,null,null,"SUBPRROGRAM: "]
[]
["PI: ",{"$f":"MID(INDIRECT(\"'ProjDataInput'!j\"&TEXT($N$2,\"###\")),1,999)","v":""},null,"EFFORT: "]
["AFFILIATION: ",{"$f":"MID(INDIRECT(\"'ProjDataInput'!k\"&TEXT($N$2,\"###\")),1,999)","v":""},null,"AFFIL. CODE: ",null,null,"Worksheet"]
[null,null,null,null,null,null,"tools:"]
["2nd PI: ",{"$f":"MID(INDIRECT(\"'ProjDataInput'!L\"&TEXT($N$2,\"###\")),1,999)","v":""},null,"EFFORT: "]
["AFFILIATION: ",{"$f":"MID(INDIRECT(\"'ProjDataInput'!m\"&TEXT($N$2,\"###\")),1,999)","v":""},null,"AFFIL. CODE: "]
[]
["3rd PI: ",{"$f":"MID(INDIRECT(\"'ProjDataInput'!n\"&TEXT($N$2,\"###\")),1,999)","v":""},null,"EFFORT: "]
["AFFILIATION: ",{"$f":"MID(INDIRECT(\"'ProjDataInput'!o\"&TEXT($N$2,\"###\")),1,999)","v":""},null,"AFFIL. CODE: "]
[]
["4th PI: ",{"$f":"MID(INDIRECT(\"'ProjDataInput'!p\"&TEXT($N$2,\"###\")),1,999)","v":""},null,"EFFORT: "]
["AFFILIATION: ",{"$f":"MID(INDIRECT(\"'ProjDataInput'!q\"&TEXT($N$2,\"###\")),1,999)","v":""},null,"AFFIL. CODE: "]
[]
["FEDERAL $ REQUEST: ",{"$f":"INDIRECT(\"'ProjDataInput'!h\"&TEXT($N$2,\"###\"))","v":0},null,"LAST YR FEDERAL: "]
["MATCH $: ",{"$f":"INDIRECT(\"'ProjDataInput'!i\"&TEXT($N$2,\"###\"))","v":0},null,"LAST YR MATCH: "]
[]
["CLASSIFICATION CODES: ",{"$f":"MID(INDIRECT(\"'ProjDataInput'!f\"&TEXT($N$2,\"###\")),1,999)","v":""},null,"RELATED PROJECTS: "]
[null,"(Primary Code First)",null,"PARENT PROJECTS: "]
["FOCUS AREAS: ",{"$f":"MID(INDIRECT(\"'ProjDataInput'!d\"&TEXT($N$2,\"###\")),1,999)","v":""}]
[null,"(Primary Focus Area First)"]
["PARTNERS: ",{"$f":"MID(INDIRECT(\"'ProjDataInput'!e\"&TEXT($N$2,\"###\")),1,999)","v":""},null,"KEYWORDS: "]
[]
["OBJECTIVES: ",{"$f":"MID(INDIRECT(\"'ProjDataInput'!g\"&TEXT($N$2,\"###\")),1,19999)","v":""},null,"MULTIPROGRAM? "]
[]
["METHODOLOGY: ",null,null,"OTHER INFORMATION: "]
[null,"(The Data Sharing Plan may be included in the Methodology section)"]
["RATIONALE: "]
[]
["DATA SHARING PLAN: ",{"$f":"MID(INDIRECT(\"'ProjDataInput'!r\"&TEXT($N$2,\"###\")),1,19999)","v":""}]

{"sheet":"S38","index":40,"n_rows":40,"n_cols":15,"rows_kept":40,"cut":false,"hidden":false,"merged":[]}
["This worksheet is:",{"$f":"MID(CELL(\"filename\",'S38'!B1),FIND(\"]\",CELL(\"filename\",'S38'!B1))+1,24)","v":"S38"},"OMB no. ","0648-0362, exp 10/31/14",null,null,null,null,null,null,null,null,null,"S38","(default worksheet name)"]
[null,null,"Don't use after","2013-12-31",null,null,null,null,null,null,null,null,null,{"$f":"IF(LEFT(N1,3)=\"S1 \",2,VALUE(MID(N1,2,99))+1)","v":39}]
[null,null,null,null,null,null,null,null,null,null,null,null,null,null,"(temp workspace for a current cell value)"]
[null,"SEA GRANT PROJECT SUMMARY FORM 90-2",null,null,"National Office does not track these fields:",null,"NSGO use only",null,null,null,null,null,null,null,"(temp workspace for a new selected value)"]
[null,null,null,null,null,null,null,null,null,null,null,null,null,{"$f":"IF(N3=\"\",IF(N4=\"\",\"\",N4),IF(N4=\"\",N3,N3&\"; \"&N4))","v":""},"(function to concatenate the above two cells)"]
["INSTITUTION (Program): ",{"$f":"LEFT('S1-Start Here'!B6,16)","v":"0"},null,"ICODE: "]
["TITLE: ",{"$f":"MID(INDIRECT(\"'ProjDataInput'!C\"&TEXT($N$2,\"###\")),1,999)","v":""},null,"REV. DATE:",null,null,null,null,null,null,null,null,null,{"$f":"IF('S1-Start Here'!B6=\"\",\"\",'S1-Start Here'!B6)","v":0},"(Program listed on first 90-2)"]
[null,null,null,"INIT. DATE:"]
["PREFIX (A,C,E,M,P or R): "," PROJECT NUMBER",null,"COMPL. DATE:"]
[{"$f":"LEFT(INDIRECT(\"'ProjDataInput'!b\"&TEXT($N$2,\"###\")),2)","v":""},{"$f":"MID(INDIRECT(\"'ProjDataInput'!b\"&TEXT($N$2,\"###\")),3,999)","v":""},null,"PROJECT STATUS: "]
[null,null,null,"SUBPRROGRAM: "]
[]
["PI: ",{"$f":"MID(INDIRECT(\"'ProjDataInput'!j\"&TEXT($N$2,\"###\")),1,999)","v":""},null,"EFFORT: "]
["AFFILIATION: ",{"$f":"MID(INDIRECT(\"'ProjDataInput'!k\"&TEXT($N$2,\"###\")),1,999)","v":""},null,"AFFIL. CODE: ",null,null,"Worksheet"]
[null,null,null,null,null,null,"tools:"]
["2nd PI: ",{"$f":"MID(INDIRECT(\"'ProjDataInput'!L\"&TEXT($N$2,\"###\")),1,999)","v":""},null,"EFFORT: "]
["AFFILIATION: ",{"$f":"MID(INDIRECT(\"'ProjDataInput'!m\"&TEXT($N$2,\"###\")),1,999)","v":""},null,"AFFIL. CODE: "]
[]
["3rd PI: ",{"$f":"MID(INDIRECT(\"'ProjDataInput'!n\"&TEXT($N$2,\"###\")),1,999)","v":""},null,"EFFORT: "]
["AFFILIATION: ",{"$f":"MID(INDIRECT(\"'ProjDataInput'!o\"&TEXT($N$2,\"###\")),1,999)","v":""},null,"AFFIL. CODE: "]
[]
["4th PI: ",{"$f":"MID(INDIRECT(\"'ProjDataInput'!p\"&TEXT($N$2,\"###\")),1,999)","v":""},null,"EFFORT: "]
["AFFILIATION: ",{"$f":"MID(INDIRECT(\"'ProjDataInput'!q\"&TEXT($N$2,\"###\")),1,999)","v":""},null,"AFFIL. CODE: "]
[]
["FEDERAL $ REQUEST: ",{"$f":"INDIRECT(\"'ProjDataInput'!h\"&TEXT($N$2,\"###\"))","v":0},null,"LAST YR FEDERAL: "]
["MATCH $: ",{"$f":"INDIRECT(\"'ProjDataInput'!i\"&TEXT($N$2,\"###\"))","v":0},null,"LAST YR MATCH: "]
[]
["CLASSIFICATION CODES: ",{"$f":"MID(INDIRECT(\"'ProjDataInput'!f\"&TEXT($N$2,\"###\")),1,999)","v":""},null,"RELATED PROJECTS: "]
[null,"(Primary Code First)",null,"PARENT PROJECTS: "]
["FOCUS AREAS: ",{"$f":"MID(INDIRECT(\"'ProjDataInput'!d\"&TEXT($N$2,\"###\")),1,999)","v":""}]
[null,"(Primary Focus Area First)"]
["PARTNERS: ",{"$f":"MID(INDIRECT(\"'ProjDataInput'!e\"&TEXT($N$2,\"###\")),1,999)","v":""},null,"KEYWORDS: "]
[]
["OBJECTIVES: ",{"$f":"MID(INDIRECT(\"'ProjDataInput'!g\"&TEXT($N$2,\"###\")),1,19999)","v":""},null,"MULTIPROGRAM? "]
[]
["METHODOLOGY: ",null,null,"OTHER INFORMATION: "]
[null,"(The Data Sharing Plan may be included in the Methodology section)"]
["RATIONALE: "]
[]
["DATA SHARING PLAN: ",{"$f":"MID(INDIRECT(\"'ProjDataInput'!r\"&TEXT($N$2,\"###\")),1,19999)","v":""}]

{"sheet":"S39","index":41,"n_rows":40,"n_cols":15,"rows_kept":40,"cut":false,"hidden":false,"merged":[]}
["This worksheet is:",{"$f":"MID(CELL(\"filename\",'S39'!B1),FIND(\"]\",CELL(\"filename\",'S39'!B1))+1,24)","v":"S39"},"OMB no. ","0648-0362, exp 10/31/14",null,null,null,null,null,null,null,null,null,"S39","(default worksheet name)"]
[null,null,"Don't use after","2013-12-31",null,null,null,null,null,null,null,null,null,{"$f":"IF(LEFT(N1,3)=\"S1 \",2,VALUE(MID(N1,2,99))+1)","v":40}]
[null,null,null,null,null,null,null,null,null,null,null,null,null,null,"(temp workspace for a current cell value)"]
[null,"SEA GRANT PROJECT SUMMARY FORM 90-2",null,null,"National Office does not track these fields:",null,"NSGO use only",null,null,null,null,null,null,null,"(temp workspace for a new selected value)"]
[null,null,null,null,null,null,null,null,null,null,null,null,null,{"$f":"IF(N3=\"\",IF(N4=\"\",\"\",N4),IF(N4=\"\",N3,N3&\"; \"&N4))","v":""},"(function to concatenate the above two cells)"]
["INSTITUTION (Program): ",{"$f":"LEFT('S1-Start Here'!B6,16)","v":"0"},null,"ICODE: "]
["TITLE: ",{"$f":"MID(INDIRECT(\"'ProjDataInput'!C\"&TEXT($N$2,\"###\")),1,999)","v":""},null,"REV. DATE:",null,null,null,null,null,null,null,null,null,{"$f":"IF('S1-Start Here'!B6=\"\",\"\",'S1-Start Here'!B6)","v":0},"(Program listed on first 90-2)"]
[null,null,null,"INIT. DATE:"]
["PREFIX (A,C,E,M,P or R): "," PROJECT NUMBER",null,"COMPL. DATE:"]
[{"$f":"LEFT(INDIRECT(\"'ProjDataInput'!b\"&TEXT($N$2,\"###\")),2)","v":""},{"$f":"MID(INDIRECT(\"'ProjDataInput'!b\"&TEXT($N$2,\"###\")),3,999)","v":""},null,"PROJECT STATUS: "]
[null,null,null,"SUBPRROGRAM: "]
[]
["PI: ",{"$f":"MID(INDIRECT(\"'ProjDataInput'!j\"&TEXT($N$2,\"###\")),1,999)","v":""},null,"EFFORT: "]
["AFFILIATION: ",{"$f":"MID(INDIRECT(\"'ProjDataInput'!k\"&TEXT($N$2,\"###\")),1,999)","v":""},null,"AFFIL. CODE: ",null,null,"Worksheet"]
[null,null,null,null,null,null,"tools:"]
["2nd PI: ",{"$f":"MID(INDIRECT(\"'ProjDataInput'!L\"&TEXT($N$2,\"###\")),1,999)","v":""},null,"EFFORT: "]
["AFFILIATION: ",{"$f":"MID(INDIRECT(\"'ProjDataInput'!m\"&TEXT($N$2,\"###\")),1,999)","v":""},null,"AFFIL. CODE: "]
[]
["3rd PI: ",{"$f":"MID(INDIRECT(\"'ProjDataInput'!n\"&TEXT($N$2,\"###\")),1,999)","v":""},null,"EFFORT: "]
["AFFILIATION: ",{"$f":"MID(INDIRECT(\"'ProjDataInput'!o\"&TEXT($N$2,\"###\")),1,999)","v":""},null,"AFFIL. CODE: "]
[]
["4th PI: ",{"$f":"MID(INDIRECT(\"'ProjDataInput'!p\"&TEXT($N$2,\"###\")),1,999)","v":""},null,"EFFORT: "]
["AFFILIATION: ",{"$f":"MID(INDIRECT(\"'ProjDataInput'!q\"&TEXT($N$2,\"###\")),1,999)","v":""},null,"AFFIL. CODE: "]
[]
["FEDERAL $ REQUEST: ",{"$f":"INDIRECT(\"'ProjDataInput'!h\"&TEXT($N$2,\"###\"))","v":0},null,"LAST YR FEDERAL: "]
["MATCH $: ",{"$f":"INDIRECT(\"'ProjDataInput'!i\"&TEXT($N$2,\"###\"))","v":0},null,"LAST YR MATCH: "]
[]
["CLASSIFICATION CODES: ",{"$f":"MID(INDIRECT(\"'ProjDataInput'!f\"&TEXT($N$2,\"###\")),1,999)","v":""},null,"RELATED PROJECTS: "]
[null,"(Primary Code First)",null,"PARENT PROJECTS: "]
["FOCUS AREAS: ",{"$f":"MID(INDIRECT(\"'ProjDataInput'!d\"&TEXT($N$2,\"###\")),1,999)","v":""}]
[null,"(Primary Focus Area First)"]
["PARTNERS: ",{"$f":"MID(INDIRECT(\"'ProjDataInput'!e\"&TEXT($N$2,\"###\")),1,999)","v":""},null,"KEYWORDS: "]
[]
["OBJECTIVES: ",{"$f":"MID(INDIRECT(\"'ProjDataInput'!g\"&TEXT($N$2,\"###\")),1,19999)","v":""},null,"MULTIPROGRAM? "]
[]
["METHODOLOGY: ",null,null,"OTHER INFORMATION: "]
[null,"(The Data Sharing Plan may be included in the Methodology section)"]
["RATIONALE: "]
[]
["DATA SHARING PLAN: ",{"$f":"MID(INDIRECT(\"'ProjDataInput'!r\"&TEXT($N$2,\"###\")),1,19999)","v":""}]

{"sheet":"S40","index":42,"n_rows":40,"n_cols":15,"rows_kept":40,"cut":false,"hidden":false,"merged":[]}
["This worksheet is:",{"$f":"MID(CELL(\"filename\",'S40'!B1),FIND(\"]\",CELL(\"filename\",'S40'!B1))+1,24)","v":"S40"},"OMB no. ","0648-0362, exp 10/31/14",null,null,null,null,null,null,null,null,null,"S40","(default worksheet name)"]
[null,null,"Don't use after","2013-12-31",null,null,null,null,null,null,null,null,null,{"$f":"IF(LEFT(N1,3)=\"S1 \",2,VALUE(MID(N1,2,99))+1)","v":41}]
[null,null,null,null,null,null,null,null,null,null,null,null,null,null,"(temp workspace for a current cell value)"]
[null,"SEA GRANT PROJECT SUMMARY FORM 90-2",null,null,"National Office does not track these fields:",null,"NSGO use only",null,null,null,null,null,null,null,"(temp workspace for a new selected value)"]
[null,null,null,null,null,null,null,null,null,null,null,null,null,{"$f":"IF(N3=\"\",IF(N4=\"\",\"\",N4),IF(N4=\"\",N3,N3&\"; \"&N4))","v":""},"(function to concatenate the above two cells)"]
["INSTITUTION (Program): ",{"$f":"LEFT('S1-Start Here'!B6,16)","v":"0"},null,"ICODE: "]
["TITLE: ",{"$f":"MID(INDIRECT(\"'ProjDataInput'!C\"&TEXT($N$2,\"###\")),1,999)","v":""},null,"REV. DATE:",null,null,null,null,null,null,null,null,null,{"$f":"IF('S1-Start Here'!B6=\"\",\"\",'S1-Start Here'!B6)","v":0},"(Program listed on first 90-2)"]
[null,null,null,"INIT. DATE:"]
["PREFIX (A,C,E,M,P or R): "," PROJECT NUMBER",null,"COMPL. DATE:"]
[{"$f":"LEFT(INDIRECT(\"'ProjDataInput'!b\"&TEXT($N$2,\"###\")),2)","v":""},{"$f":"MID(INDIRECT(\"'ProjDataInput'!b\"&TEXT($N$2,\"###\")),3,999)","v":""},null,"PROJECT STATUS: "]
[null,null,null,"SUBPRROGRAM: "]
[]
["PI: ",{"$f":"MID(INDIRECT(\"'ProjDataInput'!j\"&TEXT($N$2,\"###\")),1,999)","v":""},null,"EFFORT: "]
["AFFILIATION: ",{"$f":"MID(INDIRECT(\"'ProjDataInput'!k\"&TEXT($N$2,\"###\")),1,999)","v":""},null,"AFFIL. CODE: ",null,null,"Worksheet"]
[null,null,null,null,null,null,"tools:"]
["2nd PI: ",{"$f":"MID(INDIRECT(\"'ProjDataInput'!L\"&TEXT($N$2,\"###\")),1,999)","v":""},null,"EFFORT: "]
["AFFILIATION: ",{"$f":"MID(INDIRECT(\"'ProjDataInput'!m\"&TEXT($N$2,\"###\")),1,999)","v":""},null,"AFFIL. CODE: "]
[]
["3rd PI: ",{"$f":"MID(INDIRECT(\"'ProjDataInput'!n\"&TEXT($N$2,\"###\")),1,999)","v":""},null,"EFFORT: "]
["AFFILIATION: ",{"$f":"MID(INDIRECT(\"'ProjDataInput'!o\"&TEXT($N$2,\"###\")),1,999)","v":""},null,"AFFIL. CODE: "]
[]
["4th PI: ",{"$f":"MID(INDIRECT(\"'ProjDataInput'!p\"&TEXT($N$2,\"###\")),1,999)","v":""},null,"EFFORT: "]
["AFFILIATION: ",{"$f":"MID(INDIRECT(\"'ProjDataInput'!q\"&TEXT($N$2,\"###\")),1,999)","v":""},null,"AFFIL. CODE: "]
[]
["FEDERAL $ REQUEST: ",{"$f":"INDIRECT(\"'ProjDataInput'!h\"&TEXT($N$2,\"###\"))","v":0},null,"LAST YR FEDERAL: "]
["MATCH $: ",{"$f":"INDIRECT(\"'ProjDataInput'!i\"&TEXT($N$2,\"###\"))","v":0},null,"LAST YR MATCH: "]
[]
["CLASSIFICATION CODES: ",{"$f":"MID(INDIRECT(\"'ProjDataInput'!f\"&TEXT($N$2,\"###\")),1,999)","v":""},null,"RELATED PROJECTS: "]
[null,"(Primary Code First)",null,"PARENT PROJECTS: "]
["FOCUS AREAS: ",{"$f":"MID(INDIRECT(\"'ProjDataInput'!d\"&TEXT($N$2,\"###\")),1,999)","v":""}]
[null,"(Primary Focus Area First)"]
["PARTNERS: ",{"$f":"MID(INDIRECT(\"'ProjDataInput'!e\"&TEXT($N$2,\"###\")),1,999)","v":""},null,"KEYWORDS: "]
[]
["OBJECTIVES: ",{"$f":"MID(INDIRECT(\"'ProjDataInput'!g\"&TEXT($N$2,\"###\")),1,19999)","v":""},null,"MULTIPROGRAM? "]
[]
["METHODOLOGY: ",null,null,"OTHER INFORMATION: "]
[null,"(The Data Sharing Plan may be included in the Methodology section)"]
["RATIONALE: "]
[]
["DATA SHARING PLAN: ",{"$f":"MID(INDIRECT(\"'ProjDataInput'!r\"&TEXT($N$2,\"###\")),1,19999)","v":""}]

{"sheet":"S41","index":43,"n_rows":40,"n_cols":15,"rows_kept":40,"cut":false,"hidden":false,"merged":[]}
["This worksheet is:",{"$f":"MID(CELL(\"filename\",'S41'!B1),FIND(\"]\",CELL(\"filename\",'S41'!B1))+1,24)","v":"S41"},"OMB no. ","0648-0362, exp 10/31/14",null,null,null,null,null,null,null,null,null,"S41","(default worksheet name)"]
[null,null,"Don't use after","2013-12-31",null,null,null,null,null,null,null,null,null,{"$f":"IF(LEFT(N1,3)=\"S1 \",2,VALUE(MID(N1,2,99))+1)","v":42}]
[null,null,null,null,null,null,null,null,null,null,null,null,null,null,"(temp workspace for a current cell value)"]
[null,"SEA GRANT PROJECT SUMMARY FORM 90-2",null,null,"National Office does not track these fields:",null,"NSGO use only",null,null,null,null,null,null,null,"(temp workspace for a new selected value)"]
[null,null,null,null,null,null,null,null,null,null,null,null,null,{"$f":"IF(N3=\"\",IF(N4=\"\",\"\",N4),IF(N4=\"\",N3,N3&\"; \"&N4))","v":""},"(function to concatenate the above two cells)"]
["INSTITUTION (Program): ",{"$f":"LEFT('S1-Start Here'!B6,16)","v":"0"},null,"ICODE: "]
["TITLE: ",{"$f":"MID(INDIRECT(\"'ProjDataInput'!C\"&TEXT($N$2,\"###\")),1,999)","v":""},null,"REV. DATE:",null,null,null,null,null,null,null,null,null,{"$f":"IF('S1-Start Here'!B6=\"\",\"\",'S1-Start Here'!B6)","v":0},"(Program listed on first 90-2)"]
[null,null,null,"INIT. DATE:"]
["PREFIX (A,C,E,M,P or R): "," PROJECT NUMBER",null,"COMPL. DATE:"]
[{"$f":"LEFT(INDIRECT(\"'ProjDataInput'!b\"&TEXT($N$2,\"###\")),2)","v":""},{"$f":"MID(INDIRECT(\"'ProjDataInput'!b\"&TEXT($N$2,\"###\")),3,999)","v":""},null,"PROJECT STATUS: "]
[null,null,null,"SUBPRROGRAM: "]
[]
["PI: ",{"$f":"MID(INDIRECT(\"'ProjDataInput'!j\"&TEXT($N$2,\"###\")),1,999)","v":""},null,"EFFORT: "]
["AFFILIATION: ",{"$f":"MID(INDIRECT(\"'ProjDataInput'!k\"&TEXT($N$2,\"###\")),1,999)","v":""},null,"AFFIL. CODE: ",null,null,"Worksheet"]
[null,null,null,null,null,null,"tools:"]
["2nd PI: ",{"$f":"MID(INDIRECT(\"'ProjDataInput'!L\"&TEXT($N$2,\"###\")),1,999)","v":""},null,"EFFORT: "]
["AFFILIATION: ",{"$f":"MID(INDIRECT(\"'ProjDataInput'!m\"&TEXT($N$2,\"###\")),1,999)","v":""},null,"AFFIL. CODE: "]
[]
["3rd PI: ",{"$f":"MID(INDIRECT(\"'ProjDataInput'!n\"&TEXT($N$2,\"###\")),1,999)","v":""},null,"EFFORT: "]
["AFFILIATION: ",{"$f":"MID(INDIRECT(\"'ProjDataInput'!o\"&TEXT($N$2,\"###\")),1,999)","v":""},null,"AFFIL. CODE: "]
[]
["4th PI: ",{"$f":"MID(INDIRECT(\"'ProjDataInput'!p\"&TEXT($N$2,\"###\")),1,999)","v":""},null,"EFFORT: "]
["AFFILIATION: ",{"$f":"MID(INDIRECT(\"'ProjDataInput'!q\"&TEXT($N$2,\"###\")),1,999)","v":""},null,"AFFIL. CODE: "]
[]
["FEDERAL $ REQUEST: ",{"$f":"INDIRECT(\"'ProjDataInput'!h\"&TEXT($N$2,\"###\"))","v":0},null,"LAST YR FEDERAL: "]
["MATCH $: ",{"$f":"INDIRECT(\"'ProjDataInput'!i\"&TEXT($N$2,\"###\"))","v":0},null,"LAST YR MATCH: "]
[]
["CLASSIFICATION CODES: ",{"$f":"MID(INDIRECT(\"'ProjDataInput'!f\"&TEXT($N$2,\"###\")),1,999)","v":""},null,"RELATED PROJECTS: "]
[null,"(Primary Code First)",null,"PARENT PROJECTS: "]
["FOCUS AREAS: ",{"$f":"MID(INDIRECT(\"'ProjDataInput'!d\"&TEXT($N$2,\"###\")),1,999)","v":""}]
[null,"(Primary Focus Area First)"]
["PARTNERS: ",{"$f":"MID(INDIRECT(\"'ProjDataInput'!e\"&TEXT($N$2,\"###\")),1,999)","v":""},null,"KEYWORDS: "]
[]
["OBJECTIVES: ",{"$f":"MID(INDIRECT(\"'ProjDataInput'!g\"&TEXT($N$2,\"###\")),1,19999)","v":""},null,"MULTIPROGRAM? "]
[]
["METHODOLOGY: ",null,null,"OTHER INFORMATION: "]
[null,"(The Data Sharing Plan may be included in the Methodology section)"]
["RATIONALE: "]
[]
["DATA SHARING PLAN: ",{"$f":"MID(INDIRECT(\"'ProjDataInput'!r\"&TEXT($N$2,\"###\")),1,19999)","v":""}]

{"sheet":"S42","index":44,"n_rows":40,"n_cols":15,"rows_kept":40,"cut":false,"hidden":false,"merged":[]}
["This worksheet is:",{"$f":"MID(CELL(\"filename\",'S42'!B1),FIND(\"]\",CELL(\"filename\",'S42'!B1))+1,24)","v":"S42"},"OMB no. ","0648-0362, exp 10/31/14",null,null,null,null,null,null,null,null,null,"S42","(default worksheet name)"]
[null,null,"Don't use after","2013-12-31",null,null,null,null,null,null,null,null,null,{"$f":"IF(LEFT(N1,3)=\"S1 \",2,VALUE(MID(N1,2,99))+1)","v":43}]
[null,null,null,null,null,null,null,null,null,null,null,null,null,null,"(temp workspace for a current cell value)"]
[null,"SEA GRANT PROJECT SUMMARY FORM 90-2",null,null,"National Office does not track these fields:",null,"NSGO use only",null,null,null,null,null,null,null,"(temp workspace for a new selected value)"]
[null,null,null,null,null,null,null,null,null,null,null,null,null,{"$f":"IF(N3=\"\",IF(N4=\"\",\"\",N4),IF(N4=\"\",N3,N3&\"; \"&N4))","v":""},"(function to concatenate the above two cells)"]
["INSTITUTION (Program): ",{"$f":"LEFT('S1-Start Here'!B6,16)","v":"0"},null,"ICODE: "]
["TITLE: ",{"$f":"MID(INDIRECT(\"'ProjDataInput'!C\"&TEXT($N$2,\"###\")),1,999)","v":""},null,"REV. DATE:",null,null,null,null,null,null,null,null,null,{"$f":"IF('S1-Start Here'!B6=\"\",\"\",'S1-Start Here'!B6)","v":0},"(Program listed on first 90-2)"]
[null,null,null,"INIT. DATE:"]
["PREFIX (A,C,E,M,P or R): "," PROJECT NUMBER",null,"COMPL. DATE:"]
[{"$f":"LEFT(INDIRECT(\"'ProjDataInput'!b\"&TEXT($N$2,\"###\")),2)","v":""},{"$f":"MID(INDIRECT(\"'ProjDataInput'!b\"&TEXT($N$2,\"###\")),3,999)","v":""},null,"PROJECT STATUS: "]
[null,null,null,"SUBPRROGRAM: "]
[]
["PI: ",{"$f":"MID(INDIRECT(\"'ProjDataInput'!j\"&TEXT($N$2,\"###\")),1,999)","v":""},null,"EFFORT: "]
["AFFILIATION: ",{"$f":"MID(INDIRECT(\"'ProjDataInput'!k\"&TEXT($N$2,\"###\")),1,999)","v":""},null,"AFFIL. CODE: ",null,null,"Worksheet"]
[null,null,null,null,null,null,"tools:"]
["2nd PI: ",{"$f":"MID(INDIRECT(\"'ProjDataInput'!L\"&TEXT($N$2,\"###\")),1,999)","v":""},null,"EFFORT: "]
["AFFILIATION: ",{"$f":"MID(INDIRECT(\"'ProjDataInput'!m\"&TEXT($N$2,\"###\")),1,999)","v":""},null,"AFFIL. CODE: "]
[]
["3rd PI: ",{"$f":"MID(INDIRECT(\"'ProjDataInput'!n\"&TEXT($N$2,\"###\")),1,999)","v":""},null,"EFFORT: "]
["AFFILIATION: ",{"$f":"MID(INDIRECT(\"'ProjDataInput'!o\"&TEXT($N$2,\"###\")),1,999)","v":""},null,"AFFIL. CODE: "]
[]
["4th PI: ",{"$f":"MID(INDIRECT(\"'ProjDataInput'!p\"&TEXT($N$2,\"###\")),1,999)","v":""},null,"EFFORT: "]
["AFFILIATION: ",{"$f":"MID(INDIRECT(\"'ProjDataInput'!q\"&TEXT($N$2,\"###\")),1,999)","v":""},null,"AFFIL. CODE: "]
[]
["FEDERAL $ REQUEST: ",{"$f":"INDIRECT(\"'ProjDataInput'!h\"&TEXT($N$2,\"###\"))","v":0},null,"LAST YR FEDERAL: "]
["MATCH $: ",{"$f":"INDIRECT(\"'ProjDataInput'!i\"&TEXT($N$2,\"###\"))","v":0},null,"LAST YR MATCH: "]
[]
["CLASSIFICATION CODES: ",{"$f":"MID(INDIRECT(\"'ProjDataInput'!f\"&TEXT($N$2,\"###\")),1,999)","v":""},null,"RELATED PROJECTS: "]
[null,"(Primary Code First)",null,"PARENT PROJECTS: "]
["FOCUS AREAS: ",{"$f":"MID(INDIRECT(\"'ProjDataInput'!d\"&TEXT($N$2,\"###\")),1,999)","v":""}]
[null,"(Primary Focus Area First)"]
["PARTNERS: ",{"$f":"MID(INDIRECT(\"'ProjDataInput'!e\"&TEXT($N$2,\"###\")),1,999)","v":""},null,"KEYWORDS: "]
[]
["OBJECTIVES: ",{"$f":"MID(INDIRECT(\"'ProjDataInput'!g\"&TEXT($N$2,\"###\")),1,19999)","v":""},null,"MULTIPROGRAM? "]
[]
["METHODOLOGY: ",null,null,"OTHER INFORMATION: "]
[null,"(The Data Sharing Plan may be included in the Methodology section)"]
["RATIONALE: "]
[]
["DATA SHARING PLAN: ",{"$f":"MID(INDIRECT(\"'ProjDataInput'!r\"&TEXT($N$2,\"###\")),1,19999)","v":""}]

{"sheet":"S43","index":45,"n_rows":40,"n_cols":15,"rows_kept":40,"cut":false,"hidden":false,"merged":[]}
["This worksheet is:",{"$f":"MID(CELL(\"filename\",'S43'!B1),FIND(\"]\",CELL(\"filename\",'S43'!B1))+1,24)","v":"S43"},"OMB no. ","0648-0362, exp 10/31/14",null,null,null,null,null,null,null,null,null,"S43","(default worksheet name)"]
[null,null,"Don't use after","2013-12-31",null,null,null,null,null,null,null,null,null,{"$f":"IF(LEFT(N1,3)=\"S1 \",2,VALUE(MID(N1,2,99))+1)","v":44}]
[null,null,null,null,null,null,null,null,null,null,null,null,null,null,"(temp workspace for a current cell value)"]
[null,"SEA GRANT PROJECT SUMMARY FORM 90-2",null,null,"National Office does not track these fields:",null,"NSGO use only",null,null,null,null,null,null,null,"(temp workspace for a new selected value)"]
[null,null,null,null,null,null,null,null,null,null,null,null,null,{"$f":"IF(N3=\"\",IF(N4=\"\",\"\",N4),IF(N4=\"\",N3,N3&\"; \"&N4))","v":""},"(function to concatenate the above two cells)"]
["INSTITUTION (Program): ",{"$f":"LEFT('S1-Start Here'!B6,16)","v":"0"},null,"ICODE: "]
["TITLE: ",{"$f":"MID(INDIRECT(\"'ProjDataInput'!C\"&TEXT($N$2,\"###\")),1,999)","v":""},null,"REV. DATE:",null,null,null,null,null,null,null,null,null,{"$f":"IF('S1-Start Here'!B6=\"\",\"\",'S1-Start Here'!B6)","v":0},"(Program listed on first 90-2)"]
[null,null,null,"INIT. DATE:"]
["PREFIX (A,C,E,M,P or R): "," PROJECT NUMBER",null,"COMPL. DATE:"]
[{"$f":"LEFT(INDIRECT(\"'ProjDataInput'!b\"&TEXT($N$2,\"###\")),2)","v":""},{"$f":"MID(INDIRECT(\"'ProjDataInput'!b\"&TEXT($N$2,\"###\")),3,999)","v":""},null,"PROJECT STATUS: "]
[null,null,null,"SUBPRROGRAM: "]
[]
["PI: ",{"$f":"MID(INDIRECT(\"'ProjDataInput'!j\"&TEXT($N$2,\"###\")),1,999)","v":""},null,"EFFORT: "]
["AFFILIATION: ",{"$f":"MID(INDIRECT(\"'ProjDataInput'!k\"&TEXT($N$2,\"###\")),1,999)","v":""},null,"AFFIL. CODE: ",null,null,"Worksheet"]
[null,null,null,null,null,null,"tools:"]
["2nd PI: ",{"$f":"MID(INDIRECT(\"'ProjDataInput'!L\"&TEXT($N$2,\"###\")),1,999)","v":""},null,"EFFORT: "]
["AFFILIATION: ",{"$f":"MID(INDIRECT(\"'ProjDataInput'!m\"&TEXT($N$2,\"###\")),1,999)","v":""},null,"AFFIL. CODE: "]
[]
["3rd PI: ",{"$f":"MID(INDIRECT(\"'ProjDataInput'!n\"&TEXT($N$2,\"###\")),1,999)","v":""},null,"EFFORT: "]
["AFFILIATION: ",{"$f":"MID(INDIRECT(\"'ProjDataInput'!o\"&TEXT($N$2,\"###\")),1,999)","v":""},null,"AFFIL. CODE: "]
[]
["4th PI: ",{"$f":"MID(INDIRECT(\"'ProjDataInput'!p\"&TEXT($N$2,\"###\")),1,999)","v":""},null,"EFFORT: "]
["AFFILIATION: ",{"$f":"MID(INDIRECT(\"'ProjDataInput'!q\"&TEXT($N$2,\"###\")),1,999)","v":""},null,"AFFIL. CODE: "]
[]
["FEDERAL $ REQUEST: ",{"$f":"INDIRECT(\"'ProjDataInput'!h\"&TEXT($N$2,\"###\"))","v":0},null,"LAST YR FEDERAL: "]
["MATCH $: ",{"$f":"INDIRECT(\"'ProjDataInput'!i\"&TEXT($N$2,\"###\"))","v":0},null,"LAST YR MATCH: "]
[]
["CLASSIFICATION CODES: ",{"$f":"MID(INDIRECT(\"'ProjDataInput'!f\"&TEXT($N$2,\"###\")),1,999)","v":""},null,"RELATED PROJECTS: "]
[null,"(Primary Code First)",null,"PARENT PROJECTS: "]
["FOCUS AREAS: ",{"$f":"MID(INDIRECT(\"'ProjDataInput'!d\"&TEXT($N$2,\"###\")),1,999)","v":""}]
[null,"(Primary Focus Area First)"]
["PARTNERS: ",{"$f":"MID(INDIRECT(\"'ProjDataInput'!e\"&TEXT($N$2,\"###\")),1,999)","v":""},null,"KEYWORDS: "]
[]
["OBJECTIVES: ",{"$f":"MID(INDIRECT(\"'ProjDataInput'!g\"&TEXT($N$2,\"###\")),1,19999)","v":""},null,"MULTIPROGRAM? "]
[]
["METHODOLOGY: ",null,null,"OTHER INFORMATION: "]
[null,"(The Data Sharing Plan may be included in the Methodology section)"]
["RATIONALE: "]
[]
["DATA SHARING PLAN: ",{"$f":"MID(INDIRECT(\"'ProjDataInput'!r\"&TEXT($N$2,\"###\")),1,19999)","v":""}]

{"sheet":"S44","index":46,"n_rows":40,"n_cols":15,"rows_kept":40,"cut":false,"hidden":false,"merged":[]}
["This worksheet is:",{"$f":"MID(CELL(\"filename\",'S44'!B1),FIND(\"]\",CELL(\"filename\",'S44'!B1))+1,24)","v":"S44"},"OMB no. ","0648-0362, exp 10/31/14",null,null,null,null,null,null,null,null,null,"S44","(default worksheet name)"]
[null,null,"Don't use after","2013-12-31",null,null,null,null,null,null,null,null,null,{"$f":"IF(LEFT(N1,3)=\"S1 \",2,VALUE(MID(N1,2,99))+1)","v":45}]
[null,null,null,null,null,null,null,null,null,null,null,null,null,null,"(temp workspace for a current cell value)"]
[null,"SEA GRANT PROJECT SUMMARY FORM 90-2",null,null,"National Office does not track these fields:",null,"NSGO use only",null,null,null,null,null,null,null,"(temp workspace for a new selected value)"]
[null,null,null,null,null,null,null,null,null,null,null,null,null,{"$f":"IF(N3=\"\",IF(N4=\"\",\"\",N4),IF(N4=\"\",N3,N3&\"; \"&N4))","v":""},"(function to concatenate the above two cells)"]
["INSTITUTION (Program): ",{"$f":"LEFT('S1-Start Here'!B6,16)","v":"0"},null,"ICODE: "]
["TITLE: ",{"$f":"MID(INDIRECT(\"'ProjDataInput'!C\"&TEXT($N$2,\"###\")),1,999)","v":""},null,"REV. DATE:",null,null,null,null,null,null,null,null,null,{"$f":"IF('S1-Start Here'!B6=\"\",\"\",'S1-Start Here'!B6)","v":0},"(Program listed on first 90-2)"]
[null,null,null,"INIT. DATE:"]
["PREFIX (A,C,E,M,P or R): "," PROJECT NUMBER",null,"COMPL. DATE:"]
[{"$f":"LEFT(INDIRECT(\"'ProjDataInput'!b\"&TEXT($N$2,\"###\")),2)","v":""},{"$f":"MID(INDIRECT(\"'ProjDataInput'!b\"&TEXT($N$2,\"###\")),3,999)","v":""},null,"PROJECT STATUS: "]
[null,null,null,"SUBPRROGRAM: "]
[]
["PI: ",{"$f":"MID(INDIRECT(\"'ProjDataInput'!j\"&TEXT($N$2,\"###\")),1,999)","v":""},null,"EFFORT: "]
["AFFILIATION: ",{"$f":"MID(INDIRECT(\"'ProjDataInput'!k\"&TEXT($N$2,\"###\")),1,999)","v":""},null,"AFFIL. CODE: ",null,null,"Worksheet"]
[null,null,null,null,null,null,"tools:"]
["2nd PI: ",{"$f":"MID(INDIRECT(\"'ProjDataInput'!L\"&TEXT($N$2,\"###\")),1,999)","v":""},null,"EFFORT: "]
["AFFILIATION: ",{"$f":"MID(INDIRECT(\"'ProjDataInput'!m\"&TEXT($N$2,\"###\")),1,999)","v":""},null,"AFFIL. CODE: "]
[]
["3rd PI: ",{"$f":"MID(INDIRECT(\"'ProjDataInput'!n\"&TEXT($N$2,\"###\")),1,999)","v":""},null,"EFFORT: "]
["AFFILIATION: ",{"$f":"MID(INDIRECT(\"'ProjDataInput'!o\"&TEXT($N$2,\"###\")),1,999)","v":""},null,"AFFIL. CODE: "]
[]
["4th PI: ",{"$f":"MID(INDIRECT(\"'ProjDataInput'!p\"&TEXT($N$2,\"###\")),1,999)","v":""},null,"EFFORT: "]
["AFFILIATION: ",{"$f":"MID(INDIRECT(\"'ProjDataInput'!q\"&TEXT($N$2,\"###\")),1,999)","v":""},null,"AFFIL. CODE: "]
[]
["FEDERAL $ REQUEST: ",{"$f":"INDIRECT(\"'ProjDataInput'!h\"&TEXT($N$2,\"###\"))","v":0},null,"LAST YR FEDERAL: "]
["MATCH $: ",{"$f":"INDIRECT(\"'ProjDataInput'!i\"&TEXT($N$2,\"###\"))","v":0},null,"LAST YR MATCH: "]
[]
["CLASSIFICATION CODES: ",{"$f":"MID(INDIRECT(\"'ProjDataInput'!f\"&TEXT($N$2,\"###\")),1,999)","v":""},null,"RELATED PROJECTS: "]
[null,"(Primary Code First)",null,"PARENT PROJECTS: "]
["FOCUS AREAS: ",{"$f":"MID(INDIRECT(\"'ProjDataInput'!d\"&TEXT($N$2,\"###\")),1,999)","v":""}]
[null,"(Primary Focus Area First)"]
["PARTNERS: ",{"$f":"MID(INDIRECT(\"'ProjDataInput'!e\"&TEXT($N$2,\"###\")),1,999)","v":""},null,"KEYWORDS: "]
[]
["OBJECTIVES: ",{"$f":"MID(INDIRECT(\"'ProjDataInput'!g\"&TEXT($N$2,\"###\")),1,19999)","v":""},null,"MULTIPROGRAM? "]
[]
["METHODOLOGY: ",null,null,"OTHER INFORMATION: "]
[null,"(The Data Sharing Plan may be included in the Methodology section)"]
["RATIONALE: "]
[]
["DATA SHARING PLAN: ",{"$f":"MID(INDIRECT(\"'ProjDataInput'!r\"&TEXT($N$2,\"###\")),1,19999)","v":""}]

{"sheet":"S45","index":47,"n_rows":40,"n_cols":15,"rows_kept":40,"cut":false,"hidden":false,"merged":[]}
["This worksheet is:",{"$f":"MID(CELL(\"filename\",'S45'!B1),FIND(\"]\",CELL(\"filename\",'S45'!B1))+1,24)","v":"S45"},"OMB no. ","0648-0362, exp 10/31/14",null,null,null,null,null,null,null,null,null,"S45","(default worksheet name)"]
[null,null,"Don't use after","2013-12-31",null,null,null,null,null,null,null,null,null,{"$f":"IF(LEFT(N1,3)=\"S1 \",2,VALUE(MID(N1,2,99))+1)","v":46}]
[null,null,null,null,null,null,null,null,null,null,null,null,null,null,"(temp workspace for a current cell value)"]
[null,"SEA GRANT PROJECT SUMMARY FORM 90-2",null,null,"National Office does not track these fields:",null,"NSGO use only",null,null,null,null,null,null,null,"(temp workspace for a new selected value)"]
[null,null,null,null,null,null,null,null,null,null,null,null,null,{"$f":"IF(N3=\"\",IF(N4=\"\",\"\",N4),IF(N4=\"\",N3,N3&\"; \"&N4))","v":""},"(function to concatenate the above two cells)"]
["INSTITUTION (Program): ",{"$f":"LEFT('S1-Start Here'!B6,16)","v":"0"},null,"ICODE: "]
["TITLE: ",{"$f":"MID(INDIRECT(\"'ProjDataInput'!C\"&TEXT($N$2,\"###\")),1,999)","v":""},null,"REV. DATE:",null,null,null,null,null,null,null,null,null,{"$f":"IF('S1-Start Here'!B6=\"\",\"\",'S1-Start Here'!B6)","v":0},"(Program listed on first 90-2)"]
[null,null,null,"INIT. DATE:"]
["PREFIX (A,C,E,M,P or R): "," PROJECT NUMBER",null,"COMPL. DATE:"]
[{"$f":"LEFT(INDIRECT(\"'ProjDataInput'!b\"&TEXT($N$2,\"###\")),2)","v":""},{"$f":"MID(INDIRECT(\"'ProjDataInput'!b\"&TEXT($N$2,\"###\")),3,999)","v":""},null,"PROJECT STATUS: "]
[null,null,null,"SUBPRROGRAM: "]
[]
["PI: ",{"$f":"MID(INDIRECT(\"'ProjDataInput'!j\"&TEXT($N$2,\"###\")),1,999)","v":""},null,"EFFORT: "]
["AFFILIATION: ",{"$f":"MID(INDIRECT(\"'ProjDataInput'!k\"&TEXT($N$2,\"###\")),1,999)","v":""},null,"AFFIL. CODE: ",null,null,"Worksheet"]
[null,null,null,null,null,null,"tools:"]
["2nd PI: ",{"$f":"MID(INDIRECT(\"'ProjDataInput'!L\"&TEXT($N$2,\"###\")),1,999)","v":""},null,"EFFORT: "]
["AFFILIATION: ",{"$f":"MID(INDIRECT(\"'ProjDataInput'!m\"&TEXT($N$2,\"###\")),1,999)","v":""},null,"AFFIL. CODE: "]
[]
["3rd PI: ",{"$f":"MID(INDIRECT(\"'ProjDataInput'!n\"&TEXT($N$2,\"###\")),1,999)","v":""},null,"EFFORT: "]
["AFFILIATION: ",{"$f":"MID(INDIRECT(\"'ProjDataInput'!o\"&TEXT($N$2,\"###\")),1,999)","v":""},null,"AFFIL. CODE: "]
[]
["4th PI: ",{"$f":"MID(INDIRECT(\"'ProjDataInput'!p\"&TEXT($N$2,\"###\")),1,999)","v":""},null,"EFFORT: "]
["AFFILIATION: ",{"$f":"MID(INDIRECT(\"'ProjDataInput'!q\"&TEXT($N$2,\"###\")),1,999)","v":""},null,"AFFIL. CODE: "]
[]
["FEDERAL $ REQUEST: ",{"$f":"INDIRECT(\"'ProjDataInput'!h\"&TEXT($N$2,\"###\"))","v":0},null,"LAST YR FEDERAL: "]
["MATCH $: ",{"$f":"INDIRECT(\"'ProjDataInput'!i\"&TEXT($N$2,\"###\"))","v":0},null,"LAST YR MATCH: "]
[]
["CLASSIFICATION CODES: ",{"$f":"MID(INDIRECT(\"'ProjDataInput'!f\"&TEXT($N$2,\"###\")),1,999)","v":""},null,"RELATED PROJECTS: "]
[null,"(Primary Code First)",null,"PARENT PROJECTS: "]
["FOCUS AREAS: ",{"$f":"MID(INDIRECT(\"'ProjDataInput'!d\"&TEXT($N$2,\"###\")),1,999)","v":""}]
[null,"(Primary Focus Area First)"]
["PARTNERS: ",{"$f":"MID(INDIRECT(\"'ProjDataInput'!e\"&TEXT($N$2,\"###\")),1,999)","v":""},null,"KEYWORDS: "]
[]
["OBJECTIVES: ",{"$f":"MID(INDIRECT(\"'ProjDataInput'!g\"&TEXT($N$2,\"###\")),1,19999)","v":""},null,"MULTIPROGRAM? "]
[]
["METHODOLOGY: ",null,null,"OTHER INFORMATION: "]
[null,"(The Data Sharing Plan may be included in the Methodology section)"]
["RATIONALE: "]
[]
["DATA SHARING PLAN: ",{"$f":"MID(INDIRECT(\"'ProjDataInput'!r\"&TEXT($N$2,\"###\")),1,19999)","v":""}]

{"sheet":"S46","index":48,"n_rows":40,"n_cols":15,"rows_kept":40,"cut":false,"hidden":false,"merged":[]}
["This worksheet is:",{"$f":"MID(CELL(\"filename\",'S46'!B1),FIND(\"]\",CELL(\"filename\",'S46'!B1))+1,24)","v":"S46"},"OMB no. ","0648-0362, exp 10/31/14",null,null,null,null,null,null,null,null,null,"S46","(default worksheet name)"]
[null,null,"Don't use after","2013-12-31",null,null,null,null,null,null,null,null,null,{"$f":"IF(LEFT(N1,3)=\"S1 \",2,VALUE(MID(N1,2,99))+1)","v":47}]
[null,null,null,null,null,null,null,null,null,null,null,null,null,null,"(temp workspace for a current cell value)"]
[null,"SEA GRANT PROJECT SUMMARY FORM 90-2",null,null,"National Office does not track these fields:",null,"NSGO use only",null,null,null,null,null,null,null,"(temp workspace for a new selected value)"]
[null,null,null,null,null,null,null,null,null,null,null,null,null,{"$f":"IF(N3=\"\",IF(N4=\"\",\"\",N4),IF(N4=\"\",N3,N3&\"; \"&N4))","v":""},"(function to concatenate the above two cells)"]
["INSTITUTION (Program): ",{"$f":"LEFT('S1-Start Here'!B6,16)","v":"0"},null,"ICODE: "]
["TITLE: ",{"$f":"MID(INDIRECT(\"'ProjDataInput'!C\"&TEXT($N$2,\"###\")),1,999)","v":""},null,"REV. DATE:",null,null,null,null,null,null,null,null,null,{"$f":"IF('S1-Start Here'!B6=\"\",\"\",'S1-Start Here'!B6)","v":0},"(Program listed on first 90-2)"]
[null,null,null,"INIT. DATE:"]
["PREFIX (A,C,E,M,P or R): "," PROJECT NUMBER",null,"COMPL. DATE:"]
[{"$f":"LEFT(INDIRECT(\"'ProjDataInput'!b\"&TEXT($N$2,\"###\")),2)","v":""},{"$f":"MID(INDIRECT(\"'ProjDataInput'!b\"&TEXT($N$2,\"###\")),3,999)","v":""},null,"PROJECT STATUS: "]
[null,null,null,"SUBPRROGRAM: "]
[]
["PI: ",{"$f":"MID(INDIRECT(\"'ProjDataInput'!j\"&TEXT($N$2,\"###\")),1,999)","v":""},null,"EFFORT: "]
["AFFILIATION: ",{"$f":"MID(INDIRECT(\"'ProjDataInput'!k\"&TEXT($N$2,\"###\")),1,999)","v":""},null,"AFFIL. CODE: ",null,null,"Worksheet"]
[null,null,null,null,null,null,"tools:"]
["2nd PI: ",{"$f":"MID(INDIRECT(\"'ProjDataInput'!L\"&TEXT($N$2,\"###\")),1,999)","v":""},null,"EFFORT: "]
["AFFILIATION: ",{"$f":"MID(INDIRECT(\"'ProjDataInput'!m\"&TEXT($N$2,\"###\")),1,999)","v":""},null,"AFFIL. CODE: "]
[]
["3rd PI: ",{"$f":"MID(INDIRECT(\"'ProjDataInput'!n\"&TEXT($N$2,\"###\")),1,999)","v":""},null,"EFFORT: "]
["AFFILIATION: ",{"$f":"MID(INDIRECT(\"'ProjDataInput'!o\"&TEXT($N$2,\"###\")),1,999)","v":""},null,"AFFIL. CODE: "]
[]
["4th PI: ",{"$f":"MID(INDIRECT(\"'ProjDataInput'!p\"&TEXT($N$2,\"###\")),1,999)","v":""},null,"EFFORT: "]
["AFFILIATION: ",{"$f":"MID(INDIRECT(\"'ProjDataInput'!q\"&TEXT($N$2,\"###\")),1,999)","v":""},null,"AFFIL. CODE: "]
[]
["FEDERAL $ REQUEST: ",{"$f":"INDIRECT(\"'ProjDataInput'!h\"&TEXT($N$2,\"###\"))","v":0},null,"LAST YR FEDERAL: "]
["MATCH $: ",{"$f":"INDIRECT(\"'ProjDataInput'!i\"&TEXT($N$2,\"###\"))","v":0},null,"LAST YR MATCH: "]
[]
["CLASSIFICATION CODES: ",{"$f":"MID(INDIRECT(\"'ProjDataInput'!f\"&TEXT($N$2,\"###\")),1,999)","v":""},null,"RELATED PROJECTS: "]
[null,"(Primary Code First)",null,"PARENT PROJECTS: "]
["FOCUS AREAS: ",{"$f":"MID(INDIRECT(\"'ProjDataInput'!d\"&TEXT($N$2,\"###\")),1,999)","v":""}]
[null,"(Primary Focus Area First)"]
["PARTNERS: ",{"$f":"MID(INDIRECT(\"'ProjDataInput'!e\"&TEXT($N$2,\"###\")),1,999)","v":""},null,"KEYWORDS: "]
[]
["OBJECTIVES: ",{"$f":"MID(INDIRECT(\"'ProjDataInput'!g\"&TEXT($N$2,\"###\")),1,19999)","v":""},null,"MULTIPROGRAM? "]
[]
["METHODOLOGY: ",null,null,"OTHER INFORMATION: "]
[null,"(The Data Sharing Plan may be included in the Methodology section)"]
["RATIONALE: "]
[]
["DATA SHARING PLAN: ",{"$f":"MID(INDIRECT(\"'ProjDataInput'!r\"&TEXT($N$2,\"###\")),1,19999)","v":""}]

{"sheet":"S47","index":49,"n_rows":40,"n_cols":15,"rows_kept":40,"cut":false,"hidden":false,"merged":[]}
["This worksheet is:",{"$f":"MID(CELL(\"filename\",'S47'!B1),FIND(\"]\",CELL(\"filename\",'S47'!B1))+1,24)","v":"S47"},"OMB no. ","0648-0362, exp 10/31/14",null,null,null,null,null,null,null,null,null,"S47","(default worksheet name)"]
[null,null,"Don't use after","2013-12-31",null,null,null,null,null,null,null,null,null,{"$f":"IF(LEFT(N1,3)=\"S1 \",2,VALUE(MID(N1,2,99))+1)","v":48}]
[null,null,null,null,null,null,null,null,null,null,null,null,null,null,"(temp workspace for a current cell value)"]
[null,"SEA GRANT PROJECT SUMMARY FORM 90-2",null,null,"National Office does not track these fields:",null,"NSGO use only",null,null,null,null,null,null,null,"(temp workspace for a new selected value)"]
[null,null,null,null,null,null,null,null,null,null,null,null,null,{"$f":"IF(N3=\"\",IF(N4=\"\",\"\",N4),IF(N4=\"\",N3,N3&\"; \"&N4))","v":""},"(function to concatenate the above two cells)"]
["INSTITUTION (Program): ",{"$f":"LEFT('S1-Start Here'!B6,16)","v":"0"},null,"ICODE: "]
["TITLE: ",{"$f":"MID(INDIRECT(\"'ProjDataInput'!C\"&TEXT($N$2,\"###\")),1,999)","v":""},null,"REV. DATE:",null,null,null,null,null,null,null,null,null,{"$f":"IF('S1-Start Here'!B6=\"\",\"\",'S1-Start Here'!B6)","v":0},"(Program listed on first 90-2)"]
[null,null,null,"INIT. DATE:"]
["PREFIX (A,C,E,M,P or R): "," PROJECT NUMBER",null,"COMPL. DATE:"]
[{"$f":"LEFT(INDIRECT(\"'ProjDataInput'!b\"&TEXT($N$2,\"###\")),2)","v":""},{"$f":"MID(INDIRECT(\"'ProjDataInput'!b\"&TEXT($N$2,\"###\")),3,999)","v":""},null,"PROJECT STATUS: "]
[null,null,null,"SUBPRROGRAM: "]
[]
["PI: ",{"$f":"MID(INDIRECT(\"'ProjDataInput'!j\"&TEXT($N$2,\"###\")),1,999)","v":""},null,"EFFORT: "]
["AFFILIATION: ",{"$f":"MID(INDIRECT(\"'ProjDataInput'!k\"&TEXT($N$2,\"###\")),1,999)","v":""},null,"AFFIL. CODE: ",null,null,"Worksheet"]
[null,null,null,null,null,null,"tools:"]
["2nd PI: ",{"$f":"MID(INDIRECT(\"'ProjDataInput'!L\"&TEXT($N$2,\"###\")),1,999)","v":""},null,"EFFORT: "]
["AFFILIATION: ",{"$f":"MID(INDIRECT(\"'ProjDataInput'!m\"&TEXT($N$2,\"###\")),1,999)","v":""},null,"AFFIL. CODE: "]
[]
["3rd PI: ",{"$f":"MID(INDIRECT(\"'ProjDataInput'!n\"&TEXT($N$2,\"###\")),1,999)","v":""},null,"EFFORT: "]
["AFFILIATION: ",{"$f":"MID(INDIRECT(\"'ProjDataInput'!o\"&TEXT($N$2,\"###\")),1,999)","v":""},null,"AFFIL. CODE: "]
[]
["4th PI: ",{"$f":"MID(INDIRECT(\"'ProjDataInput'!p\"&TEXT($N$2,\"###\")),1,999)","v":""},null,"EFFORT: "]
["AFFILIATION: ",{"$f":"MID(INDIRECT(\"'ProjDataInput'!q\"&TEXT($N$2,\"###\")),1,999)","v":""},null,"AFFIL. CODE: "]
[]
["FEDERAL $ REQUEST: ",{"$f":"INDIRECT(\"'ProjDataInput'!h\"&TEXT($N$2,\"###\"))","v":0},null,"LAST YR FEDERAL: "]
["MATCH $: ",{"$f":"INDIRECT(\"'ProjDataInput'!i\"&TEXT($N$2,\"###\"))","v":0},null,"LAST YR MATCH: "]
[]
["CLASSIFICATION CODES: ",{"$f":"MID(INDIRECT(\"'ProjDataInput'!f\"&TEXT($N$2,\"###\")),1,999)","v":""},null,"RELATED PROJECTS: "]
[null,"(Primary Code First)",null,"PARENT PROJECTS: "]
["FOCUS AREAS: ",{"$f":"MID(INDIRECT(\"'ProjDataInput'!d\"&TEXT($N$2,\"###\")),1,999)","v":""}]
[null,"(Primary Focus Area First)"]
["PARTNERS: ",{"$f":"MID(INDIRECT(\"'ProjDataInput'!e\"&TEXT($N$2,\"###\")),1,999)","v":""},null,"KEYWORDS: "]
[]
["OBJECTIVES: ",{"$f":"MID(INDIRECT(\"'ProjDataInput'!g\"&TEXT($N$2,\"###\")),1,19999)","v":""},null,"MULTIPROGRAM? "]
[]
["METHODOLOGY: ",null,null,"OTHER INFORMATION: "]
[null,"(The Data Sharing Plan may be included in the Methodology section)"]
["RATIONALE: "]
[]
["DATA SHARING PLAN: ",{"$f":"MID(INDIRECT(\"'ProjDataInput'!r\"&TEXT($N$2,\"###\")),1,19999)","v":""}]

{"sheet":"S48","index":50,"n_rows":40,"n_cols":15,"rows_kept":40,"cut":false,"hidden":false,"merged":[]}
["This worksheet is:",{"$f":"MID(CELL(\"filename\",'S48'!B1),FIND(\"]\",CELL(\"filename\",'S48'!B1))+1,24)","v":"S48"},"OMB no. ","0648-0362, exp 10/31/14",null,null,null,null,null,null,null,null,null,"S48","(default worksheet name)"]
[null,null,"Don't use after","2013-12-31",null,null,null,null,null,null,null,null,null,{"$f":"IF(LEFT(N1,3)=\"S1 \",2,VALUE(MID(N1,2,99))+1)","v":49}]
[null,null,null,null,null,null,null,null,null,null,null,null,null,null,"(temp workspace for a current cell value)"]
[null,"SEA GRANT PROJECT SUMMARY FORM 90-2",null,null,"National Office does not track these fields:",null,"NSGO use only",null,null,null,null,null,null,null,"(temp workspace for a new selected value)"]
[null,null,null,null,null,null,null,null,null,null,null,null,null,{"$f":"IF(N3=\"\",IF(N4=\"\",\"\",N4),IF(N4=\"\",N3,N3&\"; \"&N4))","v":""},"(function to concatenate the above two cells)"]
["INSTITUTION (Program): ",{"$f":"LEFT('S1-Start Here'!B6,16)","v":"0"},null,"ICODE: "]
["TITLE: ",{"$f":"MID(INDIRECT(\"'ProjDataInput'!C\"&TEXT($N$2,\"###\")),1,999)","v":""},null,"REV. DATE:",null,null,null,null,null,null,null,null,null,{"$f":"IF('S48'!B6=\"\",\"\",'S48'!B6)","v":"0"},"(Program listed on first 90-2)"]
[null,null,null,"INIT. DATE:"]
["PREFIX (A,C,E,M,P or R): "," PROJECT NUMBER",null,"COMPL. DATE:"]
[{"$f":"LEFT(INDIRECT(\"'ProjDataInput'!b\"&TEXT($N$2,\"###\")),2)","v":""},{"$f":"MID(INDIRECT(\"'ProjDataInput'!b\"&TEXT($N$2,\"###\")),3,999)","v":""},null,"PROJECT STATUS: "]
[null,null,null,"SUBPRROGRAM: "]
[]
["PI: ",{"$f":"MID(INDIRECT(\"'ProjDataInput'!j\"&TEXT($N$2,\"###\")),1,999)","v":""},null,"EFFORT: "]
["AFFILIATION: ",{"$f":"MID(INDIRECT(\"'ProjDataInput'!k\"&TEXT($N$2,\"###\")),1,999)","v":""},null,"AFFIL. CODE: ",null,null,"Worksheet"]
[null,null,null,null,null,null,"tools:"]
["2nd PI: ",{"$f":"MID(INDIRECT(\"'ProjDataInput'!L\"&TEXT($N$2,\"###\")),1,999)","v":""},null,"EFFORT: "]
["AFFILIATION: ",{"$f":"MID(INDIRECT(\"'ProjDataInput'!m\"&TEXT($N$2,\"###\")),1,999)","v":""},null,"AFFIL. CODE: "]
[]
["3rd PI: ",{"$f":"MID(INDIRECT(\"'ProjDataInput'!n\"&TEXT($N$2,\"###\")),1,999)","v":""},null,"EFFORT: "]
["AFFILIATION: ",{"$f":"MID(INDIRECT(\"'ProjDataInput'!o\"&TEXT($N$2,\"###\")),1,999)","v":""},null,"AFFIL. CODE: "]
[]
["4th PI: ",{"$f":"MID(INDIRECT(\"'ProjDataInput'!p\"&TEXT($N$2,\"###\")),1,999)","v":""},null,"EFFORT: "]
["AFFILIATION: ",{"$f":"MID(INDIRECT(\"'ProjDataInput'!q\"&TEXT($N$2,\"###\")),1,999)","v":""},null,"AFFIL. CODE: "]
[]
["FEDERAL $ REQUEST: ",{"$f":"INDIRECT(\"'ProjDataInput'!h\"&TEXT($N$2,\"###\"))","v":0},null,"LAST YR FEDERAL: "]
["MATCH $: ",{"$f":"INDIRECT(\"'ProjDataInput'!i\"&TEXT($N$2,\"###\"))","v":0},null,"LAST YR MATCH: "]
[]
["CLASSIFICATION CODES: ",{"$f":"MID(INDIRECT(\"'ProjDataInput'!f\"&TEXT($N$2,\"###\")),1,999)","v":""},null,"RELATED PROJECTS: "]
[null,"(Primary Code First)",null,"PARENT PROJECTS: "]
["FOCUS AREAS: ",{"$f":"MID(INDIRECT(\"'ProjDataInput'!d\"&TEXT($N$2,\"###\")),1,999)","v":""}]
[null,"(Primary Focus Area First)"]
["PARTNERS: ",{"$f":"MID(INDIRECT(\"'ProjDataInput'!e\"&TEXT($N$2,\"###\")),1,999)","v":""},null,"KEYWORDS: "]
[]
["OBJECTIVES: ",{"$f":"MID(INDIRECT(\"'ProjDataInput'!g\"&TEXT($N$2,\"###\")),1,19999)","v":""},null,"MULTIPROGRAM? "]
[]
["METHODOLOGY: ",null,null,"OTHER INFORMATION: "]
[null,"(The Data Sharing Plan may be included in the Methodology section)"]
["RATIONALE: "]
[]
["DATA SHARING PLAN: ",{"$f":"MID(INDIRECT(\"'ProjDataInput'!r\"&TEXT($N$2,\"###\")),1,19999)","v":""}]

{"sheet":"S49","index":51,"n_rows":40,"n_cols":15,"rows_kept":40,"cut":false,"hidden":false,"merged":[]}
["This worksheet is:",{"$f":"MID(CELL(\"filename\",'S49'!B1),FIND(\"]\",CELL(\"filename\",'S49'!B1))+1,24)","v":"S49"},"OMB no. ","0648-0362, exp 10/31/14",null,null,null,null,null,null,null,null,null,"S49","(default worksheet name)"]
[null,null,"Don't use after","2013-12-31",null,null,null,null,null,null,null,null,null,{"$f":"IF(LEFT(N1,3)=\"S1 \",2,VALUE(MID(N1,2,99))+1)","v":50}]
[null,null,null,null,null,null,null,null,null,null,null,null,null,null,"(temp workspace for a current cell value)"]
[null,"SEA GRANT PROJECT SUMMARY FORM 90-2",null,null,"National Office does not track these fields:",null,"NSGO use only",null,null,null,null,null,null,null,"(temp workspace for a new selected value)"]
[null,null,null,null,null,null,null,null,null,null,null,null,null,{"$f":"IF(N3=\"\",IF(N4=\"\",\"\",N4),IF(N4=\"\",N3,N3&\"; \"&N4))","v":""},"(function to concatenate the above two cells)"]
["INSTITUTION (Program): ",{"$f":"LEFT('S1-Start Here'!B6,16)","v":"0"},null,"ICODE: "]
["TITLE: ",{"$f":"MID(INDIRECT(\"'ProjDataInput'!C\"&TEXT($N$2,\"###\")),1,999)","v":""},null,"REV. DATE:",null,null,null,null,null,null,null,null,null,{"$f":"IF('S48'!B6=\"\",\"\",'S48'!B6)","v":"0"},"(Program listed on first 90-2)"]
[null,null,null,"INIT. DATE:"]
["PREFIX (A,C,E,M,P or R): "," PROJECT NUMBER",null,"COMPL. DATE:"]
[{"$f":"LEFT(INDIRECT(\"'ProjDataInput'!b\"&TEXT($N$2,\"###\")),2)","v":""},{"$f":"MID(INDIRECT(\"'ProjDataInput'!b\"&TEXT($N$2,\"###\")),3,999)","v":""},null,"PROJECT STATUS: "]
[null,null,null,"SUBPRROGRAM: "]
[]
["PI: ",{"$f":"MID(INDIRECT(\"'ProjDataInput'!j\"&TEXT($N$2,\"###\")),1,999)","v":""},null,"EFFORT: "]
["AFFILIATION: ",{"$f":"MID(INDIRECT(\"'ProjDataInput'!k\"&TEXT($N$2,\"###\")),1,999)","v":""},null,"AFFIL. CODE: ",null,null,"Worksheet"]
[null,null,null,null,null,null,"tools:"]
["2nd PI: ",{"$f":"MID(INDIRECT(\"'ProjDataInput'!L\"&TEXT($N$2,\"###\")),1,999)","v":""},null,"EFFORT: "]
["AFFILIATION: ",{"$f":"MID(INDIRECT(\"'ProjDataInput'!m\"&TEXT($N$2,\"###\")),1,999)","v":""},null,"AFFIL. CODE: "]
[]
["3rd PI: ",{"$f":"MID(INDIRECT(\"'ProjDataInput'!n\"&TEXT($N$2,\"###\")),1,999)","v":""},null,"EFFORT: "]
["AFFILIATION: ",{"$f":"MID(INDIRECT(\"'ProjDataInput'!o\"&TEXT($N$2,\"###\")),1,999)","v":""},null,"AFFIL. CODE: "]
[]
["4th PI: ",{"$f":"MID(INDIRECT(\"'ProjDataInput'!p\"&TEXT($N$2,\"###\")),1,999)","v":""},null,"EFFORT: "]
["AFFILIATION: ",{"$f":"MID(INDIRECT(\"'ProjDataInput'!q\"&TEXT($N$2,\"###\")),1,999)","v":""},null,"AFFIL. CODE: "]
[]
["FEDERAL $ REQUEST: ",{"$f":"INDIRECT(\"'ProjDataInput'!h\"&TEXT($N$2,\"###\"))","v":0},null,"LAST YR FEDERAL: "]
["MATCH $: ",{"$f":"INDIRECT(\"'ProjDataInput'!i\"&TEXT($N$2,\"###\"))","v":0},null,"LAST YR MATCH: "]
[]
["CLASSIFICATION CODES: ",{"$f":"MID(INDIRECT(\"'ProjDataInput'!f\"&TEXT($N$2,\"###\")),1,999)","v":""},null,"RELATED PROJECTS: "]
[null,"(Primary Code First)",null,"PARENT PROJECTS: "]
["FOCUS AREAS: ",{"$f":"MID(INDIRECT(\"'ProjDataInput'!d\"&TEXT($N$2,\"###\")),1,999)","v":""}]
[null,"(Primary Focus Area First)"]
["PARTNERS: ",{"$f":"MID(INDIRECT(\"'ProjDataInput'!e\"&TEXT($N$2,\"###\")),1,999)","v":""},null,"KEYWORDS: "]
[]
["OBJECTIVES: ",{"$f":"MID(INDIRECT(\"'ProjDataInput'!g\"&TEXT($N$2,\"###\")),1,19999)","v":""},null,"MULTIPROGRAM? "]
[]
["METHODOLOGY: ",null,null,"OTHER INFORMATION: "]
[null,"(The Data Sharing Plan may be included in the Methodology section)"]
["RATIONALE: "]
[]
["DATA SHARING PLAN: ",{"$f":"MID(INDIRECT(\"'ProjDataInput'!r\"&TEXT($N$2,\"###\")),1,19999)","v":""}]

{"sheet":"S50","index":52,"n_rows":40,"n_cols":15,"rows_kept":40,"cut":false,"hidden":false,"merged":[]}
["This worksheet is:",{"$f":"MID(CELL(\"filename\",'S50'!B1),FIND(\"]\",CELL(\"filename\",'S50'!B1))+1,24)","v":"S50"},"OMB no. ","0648-0362, exp 10/31/14",null,null,null,null,null,null,null,null,null,"S50","(default worksheet name)"]
[null,null,"Don't use after","2013-12-31",null,null,null,null,null,null,null,null,null,{"$f":"IF(LEFT(N1,3)=\"S1 \",2,VALUE(MID(N1,2,99))+1)","v":51}]
[null,null,null,null,null,null,null,null,null,null,null,null,null,null,"(temp workspace for a current cell value)"]
[null,"SEA GRANT PROJECT SUMMARY FORM 90-2",null,null,"National Office does not track these fields:",null,"NSGO use only",null,null,null,null,null,null,null,"(temp workspace for a new selected value)"]
[null,null,null,null,null,null,null,null,null,null,null,null,null,{"$f":"IF(N3=\"\",IF(N4=\"\",\"\",N4),IF(N4=\"\",N3,N3&\"; \"&N4))","v":""},"(function to concatenate the above two cells)"]
["INSTITUTION (Program): ",{"$f":"LEFT('S1-Start Here'!B6,16)","v":"0"},null,"ICODE: "]
["TITLE: ",{"$f":"MID(INDIRECT(\"'ProjDataInput'!C\"&TEXT($N$2,\"###\")),1,999)","v":""},null,"REV. DATE:",null,null,null,null,null,null,null,null,null,{"$f":"IF('S48'!B6=\"\",\"\",'S48'!B6)","v":"0"},"(Program listed on first 90-2)"]
[null,null,null,"INIT. DATE:"]
["PREFIX (A,C,E,M,P or R): "," PROJECT NUMBER",null,"COMPL. DATE:"]
[{"$f":"LEFT(INDIRECT(\"'ProjDataInput'!b\"&TEXT($N$2,\"###\")),2)","v":""},{"$f":"MID(INDIRECT(\"'ProjDataInput'!b\"&TEXT($N$2,\"###\")),3,999)","v":""},null,"PROJECT STATUS: "]
[null,null,null,"SUBPRROGRAM: "]
[]
["PI: ",{"$f":"MID(INDIRECT(\"'ProjDataInput'!j\"&TEXT($N$2,\"###\")),1,999)","v":""},null,"EFFORT: "]
["AFFILIATION: ",{"$f":"MID(INDIRECT(\"'ProjDataInput'!k\"&TEXT($N$2,\"###\")),1,999)","v":""},null,"AFFIL. CODE: ",null,null,"Worksheet"]
[null,null,null,null,null,null,"tools:"]
["2nd PI: ",{"$f":"MID(INDIRECT(\"'ProjDataInput'!L\"&TEXT($N$2,\"###\")),1,999)","v":""},null,"EFFORT: "]
["AFFILIATION: ",{"$f":"MID(INDIRECT(\"'ProjDataInput'!m\"&TEXT($N$2,\"###\")),1,999)","v":""},null,"AFFIL. CODE: "]
[]
["3rd PI: ",{"$f":"MID(INDIRECT(\"'ProjDataInput'!n\"&TEXT($N$2,\"###\")),1,999)","v":""},null,"EFFORT: "]
["AFFILIATION: ",{"$f":"MID(INDIRECT(\"'ProjDataInput'!o\"&TEXT($N$2,\"###\")),1,999)","v":""},null,"AFFIL. CODE: "]
[]
["4th PI: ",{"$f":"MID(INDIRECT(\"'ProjDataInput'!p\"&TEXT($N$2,\"###\")),1,999)","v":""},null,"EFFORT: "]
["AFFILIATION: ",{"$f":"MID(INDIRECT(\"'ProjDataInput'!q\"&TEXT($N$2,\"###\")),1,999)","v":""},null,"AFFIL. CODE: "]
[]
["FEDERAL $ REQUEST: ",{"$f":"INDIRECT(\"'ProjDataInput'!h\"&TEXT($N$2,\"###\"))","v":0},null,"LAST YR FEDERAL: "]
["MATCH $: ",{"$f":"INDIRECT(\"'ProjDataInput'!i\"&TEXT($N$2,\"###\"))","v":0},null,"LAST YR MATCH: "]
[]
["CLASSIFICATION CODES: ",{"$f":"MID(INDIRECT(\"'ProjDataInput'!f\"&TEXT($N$2,\"###\")),1,999)","v":""},null,"RELATED PROJECTS: "]
[null,"(Primary Code First)",null,"PARENT PROJECTS: "]
["FOCUS AREAS: ",{"$f":"MID(INDIRECT(\"'ProjDataInput'!d\"&TEXT($N$2,\"###\")),1,999)","v":""}]
[null,"(Primary Focus Area First)"]
["PARTNERS: ",{"$f":"MID(INDIRECT(\"'ProjDataInput'!e\"&TEXT($N$2,\"###\")),1,999)","v":""},null,"KEYWORDS: "]
[]
["OBJECTIVES: ",{"$f":"MID(INDIRECT(\"'ProjDataInput'!g\"&TEXT($N$2,\"###\")),1,19999)","v":""},null,"MULTIPROGRAM? "]
[]
["METHODOLOGY: ",null,null,"OTHER INFORMATION: "]
[null,"(The Data Sharing Plan may be included in the Methodology section)"]
["RATIONALE: "]
[]
["DATA SHARING PLAN: ",{"$f":"MID(INDIRECT(\"'ProjDataInput'!r\"&TEXT($N$2,\"###\")),1,19999)","v":""}]

{"sheet":"NewPartner","index":53,"n_rows":14,"n_cols":16,"rows_kept":14,"cut":false,"hidden":false,"merged":[]}
[null,"ADD A NEW PARTNER",null,null,null,null,null,null,null,null,null,null,null,null,"S2","(worksheet that called the macro)"]
[null,"Use this page after you have tried unsuccessfully to search for your Partner or Affiliation on",null,null,null,null,null,null,null,null,null,null,null,null,32,"(row to paste the result into)"]
[null,"the search page. If you haven't searched yet, hit \"Cancel\" and start over. ",null,null,null,null,null,null,null,null,null,null,null,null,{"$f":"IF(O2=-1,\"'\"&O1&\"'!F17\",\"'\"&O1&\"'!B\"&O2)","v":"'S2'!B32"},"(full formula of where the result is pasted into)"]
[null,null,null,null,null,null,null,null,null,null,null,null,null,null,{"$f":"HYPERLINK(INDIRECT(O3),\"return\")","v":"return"}]
[null,null,null,"(2) Answer these questions:",null,null,null,null,null,null,null,null,null,null,{"$f":"\"00000 \"&B7&\" (\"&D7&\") (\"&E7&\")\"","v":"00000  (State) (Other)"}]
[null,"(1) Write the name of the new partner below:",null,"Scale?","Type?"]
[null,null,null,"State","Other"]
[null,"Standard Naming Convention:"]
[null,"o Governmental - Office Name or Organization Name Spelled Out (Department ",null,"(3) Hit \"Add\" to add your new Partner"]
[null,"Abbreviation, Agency Abbreviation, Line Abbreviation, Office Abbreviation)"]
[null,"Example: Coastal Services Center (DOC, NOAA, NOS, CSC)"]
[null,"o Academic – University, Office Name or Organization Name Spelled Out (University ",null,"or hit \"Cancel\" if you change your mind."]
[null,"Abbreviation)"]
[null,"Example: University of Hawaii at Manoa, Department of Zoology (UHM)"]

{"sheet":"PartnerSearch","index":54,"n_rows":8849,"n_cols":20,"rows_kept":4500,"cut":true,"hidden":false,"merged":[],"bounds":{"rows_first":2000,"rows_last":500,"rows_between":2000,"halvings":0}}
[null,"AFFILIATION LOOKUP. Use the search function to find your institutional affiliation. ",null,"Partner info downloaded from PIER on:",null,null,null,null,null,null,null,null,"2013-06-24",null,"P-0","(worksheet that called the macro)"]
[null,"SEARCH DIRECTIONS: (1) put in search words or parts of words below; (2) click on \"Search\":",null,null,null,null,null,null,null,null,null,null,null,null,32,"(row to paste the result into)"]
[null,"(3) Select one affiliation (single-click on that cell), then hit \"Add\":",null,null,null,null,null,null,null,null,null,null,null,null,{"$f":"IF(O2=-1,\"'\"&O1&\"'!F17\",\"'\"&O1&\"'!B\"&O2)","v":"'P-0'!B32"},"(full formula of where the result is pasted into)"]
[null,"To return without adding a partner, hit \"Cancel\":",null,null,null,null,null,null,null,null,null,null,null,null,{"$f":"HYPERLINK(INDIRECT(O3),\"return\")","v":{"$error":"#REF!"}}]
[]
[null,"SEARCH TERMS:  Institution name contains:"]
[null,null,"AND"]
[null,"(entering NAT will get you NATIONAL, natural, International, etc )","BUT NOT"]
[]
[null,"IF YOU'RE SURE your Partner or Affiliation is not in the list below, click on the \"****Add New Partner****\" button."]
[]
[null,null,"Can also search scale and type. Hit \"Show All Partners\" to clear."]
[null,"Names","Scales","Types","x","y",null,null,null,null,null,null,"found?",null,null,null,null,null,"IDs","Names"]
[null,"113 Calhoun Street Foundation ","LOCAL","NGO",5,1,null,null,null,null,null,null,{"$f":"AND(  NOT(ISERROR(FIND(UPPER($B$7),UPPER($B14),1))),  OR($D$7=\"\",NOT(ISERROR(FIND(UPPER($D$7),UPPER($B14),1)))),    OR($D$8=\"\",(ISERROR(FIND(UPPER($D$8),UPPER($B14),1))))           )","v":true},null,null,null,null,null,0,"UNKNOWN"]
[null,"29 Radio Stations that carry Sea Talk","LOCAL","NGO",5,1,null,null,null,null,null,null,true,null,null,null,null,null,1,"LOCAL"]
[null,"A Living Museum","LOCAL","NGO",5,1,null,null,null,null,null,null,true,null,null,null,null,null,2,"STATE"]
[null,"A.S. Fiskevegn","INTERNATIONAL","INDUSTRY AND BUSINESS",5,5,null,null,null,null,null,null,true,null,null,null,null,null,3,"REGIONAL"]
[null,"A-1 Quality Designs","LOCAL","INDUSTRY AND BUSINESS",5,1,null,null,null,null,null,null,true,null,null,null,null,null,4,"FEDERAL or NATIONAL"]
[null,"AAA Septic Service","LOCAL","INDUSTRY AND BUSINESS",5,null,null,null,null,null,null,null,true,null,null,null,null,null,5,"INTERNATIONAL"]
[null,"ABC Mussel Company, Ltd.","STATE","INDUSTRY AND BUSINESS",5,2,null,null,null,null,null,null,true,null,null,null,null,null,13,"TRIBAL"]
[null,"ABC Research Co.","FEDERAL or NATIONAL","INDUSTRY AND BUSINESS",5,4,null,null,null,null,null,null,true]
[null,"Abt Associates, Inc.","LOCAL","INDUSTRY AND BUSINESS",5,1,null,null,null,null,null,null,true]
[null,"Acadia National Park","FEDERAL or NATIONAL","GOVERNMENT",5,4,null,null,null,null,null,null,true,null,null,null,null,null,"IDs","Names"]
[null,"Adopt-a-Wetlands","FEDERAL or NATIONAL","NGO",5,4,null,null,null,null,null,null,true,null,null,null,null,null,0,"Unknown"]
[null,"AdvaMed ","LOCAL","NGO",5,1,null,null,null,null,null,null,true,null,null,null,null,null,1,"GOVERNMENT"]
[null,"Advanced BioNutrition Corporation","INTERNATIONAL","INDUSTRY AND BUSINESS",5,5,null,null,null,null,null,null,true,null,null,null,null,null,2,"NGO"]
[null,"AE Fisheries","LOCAL","INDUSTRY AND BUSINESS",5,1,null,null,null,null,null,null,true,null,null,null,null,null,3,"INDUSTRY AND BUSINESS"]
[null,"Agency for Toxic Substance and Disease Registry (US HHS)","FEDERAL or NATIONAL","GOVERNMENT",5,4,null,null,null,null,null,null,true,null,null,null,null,null,4,"ACADEMIC INSTITUTION"]
[null,"Agricultural Marketing Service (USDA)","FEDERAL or NATIONAL","GOVERNMENT",5,4,null,null,null,null,null,null,true,null,null,null,null,null,5,"SEA GRANT PROGRAMS"]
[null,"Agricultural Network Information Center (AgNIC)","INTERNATIONAL","OTHER PARTNERS",5,5,null,null,null,null,null,null,true,null,null,null,null,null,6,"OTHER"]
[null,"Agricultural University of Norway","INTERNATIONAL","ACADEMIC INSTITUTION",5,5,null,null,null,null,null,null,true]
[null,"Agriculture in the Classroom","FEDERAL or NATIONAL","OTHER PARTNERS",5,4,null,null,null,null,null,null,true]
[null,"Agriculture Research Service (USDA, ARS)","FEDERAL or NATIONAL","GOVERNMENT",5,4,null,null,null,null,null,null,true]
[null,"AI Land Trust","LOCAL","INDUSTRY AND BUSINESS",5,1,null,null,null,null,null,null,true]
[null,"Akwesasne Task Force on the Environment","LOCAL","NGO",5,1,null,null,null,null,null,null,true]
[null,"Alabama Agricultural Experiment Station","STATE","GOVERNMENT",5,2,null,null,null,null,null,null,true]
[null,"Alabama Aquatic Nuisance Species Task Force (ANS)","STATE","GOVERNMENT",5,2,null,null,null,null,null,null,true]
[null,"Alabama Center for Estuarine Studies","STATE","GOVERNMENT",5,2,null,null,null,null,null,null,true]
[null,"Alabama Clean Water Partnership","STATE","NGO",5,2,null,null,null,null,null,null,true]
[null,"Alabama Coastal Foundation","STATE","NGO",5,2,null,null,null,null,null,null,true]
[null,"Alabama Cooperative Extension System","STATE","GOVERNMENT",5,2,null,null,null,null,null,null,true]
[null,"Alabama Department of Conservation and Natural Resources, Coastal Programs (AL DNR)","STATE","GOVERNMENT",5,2,null,null,null,null,null,null,true]
[null,"Alabama Department of Conservation and Natural Resources, Division of Wildlife and Fisheries (AL DNR)","STATE","GOVERNMENT",5,2,null,null,null,null,null,null,true]
[null,"Alabama Department of Conservation and Natural Resources, Marine Resource Division (AL DNR)","STATE","GOVERNMENT",5,2,null,null,null,null,null,null,true]
[null,"Alabama Department of Education (AL ED)","STATE","GOVERNMENT",5,2,null,null,null,null,null,null,true]
[null,"Alabama Department of Environmental Management (AL DEM)","STATE","GOVERNMENT",5,2,null,null,null,null,null,null,true]
[null,"Alabama Department of Natural Resources (AL DNR)","STATE","GOVERNMENT",5,2,null,null,null,null,null,null,true]
[null,"Alabama Department of Transportation (AL DOT)","STATE","GOVERNMENT",5,2,null,null,null,null,null,null,true]
[null,"Alabama Fisheries Association","STATE","NGO",5,2,null,null,null,null,null,null,true]
[null,"Alabama Forestry Commission","STATE","GOVERNMENT",5,2,null,null,null,null,null,null,true]
[null,"Alabama Gulf Coast Area Chamber of Commerce","STATE","INDUSTRY AND BUSINESS",5,2,null,null,null,null,null,null,true]
[null,"Alabama Gulf Coast Convention and Visitor’s Bureau","STATE","NGO",5,2,null,null,null,null,null,null,true]
[null,"Alabama Partners Against Litter","STATE","NGO",5,2,null,null,null,null,null,null,true]
[null,"Alabama Seafood Association","STATE","INDUSTRY AND BUSINESS",5,2,null,null,null,null,null,null,true]
[null,"Alabama Water Watch Association","STATE","NGO",5,2,null,null,null,null,null,null,true]
[null,"Alabama-Mississippi Clean Marina Program","STATE","GOVERNMENT",5,2,null,null,null,null,null,null,true]
[null,"Alaska Aerospace Development Corporation","STATE","NGO",5,2,null,null,null,null,null,null,true]
[null,"Alaska Aqua Farms","STATE","INDUSTRY AND BUSINESS",5,2,null,null,null,null,null,null,true]
[null,"Alaska Association of Harbormasters and Port Administrators","STATE","NGO",5,2,null,null,null,null,null,null,true]
[null,"Alaska Center for the Environment","STATE","NGO",5,2,null,null,null,null,null,null,true]
[null,"Alaska Coastal Management Program Division of Governmental Coordination","STATE","GOVERNMENT",5,2,null,null,null,null,null,null,true]
[null,"Alaska Commercial Fisheries Entry Commission","STATE","GOVERNMENT",5,2,null,null,null,null,null,null,true]
[null,"Alaska Commercial Fishing and Agriculture Bank","STATE","GOVERNMENT",5,2,null,null,null,null,null,null,true]
[null,"Alaska Community Action on Toxics","STATE","NGO",5,2,null,null,null,null,null,null,true]
[null,"Alaska Conservation Foundation","STATE","NGO",5,2,null,null,null,null,null,null,true]
[null,"Alaska Department of Commerce, Community and Economic Development (AK DOC)","STATE","GOVERNMENT",5,2,null,null,null,null,null,null,true]
[null,"Alaska Department of Education and Early Development (AK ED)","STATE","GOVERNMENT",5,2,null,null,null,null,null,null,true]
[null,"Alaska Department of Environmental Conservation (AK DEC)","STATE","GOVERNMENT",5,2,null,null,null,null,null,null,true]
[null,"Alaska Department of Fish and Game (AK DFG)","STATE","GOVERNMENT",5,2,null,null,null,null,null,null,true]
[null,"Alaska Department of Natural Resources (AK DNR)","STATE","GOVERNMENT",5,2,null,null,null,null,null,null,true]
[null,"Alaska Department of Natural Resources Division of Oil and Gas (AK DNR DOG)","STATE","GOVERNMENT",5,2,null,null,null,null,null,null,true]
[null,"Alaska Department of Transportation (AK DOT)","STATE","GOVERNMENT",5,2,null,null,null,null,null,null,true]
[null,"Alaska Division of Emergency Services (AK DES)","STATE","GOVERNMENT",5,2,null,null,null,null,null,null,true]
[null,"Alaska Division of Governmental Coordination Coastal Zone Management Program (AK CZMP)","STATE","GOVERNMENT",5,2,null,null,null,null,null,null,true]
[null,"Alaska Division of Homeland Security and Emergency Management (AK DHS and EM)","STATE","GOVERNMENT",5,2,null,null,null,null,null,null,true]
[null,"Alaska Draggers Association","STATE","GOVERNMENT",5,2,null,null,null,null,null,null,true]
[null,"Alaska Fisheries Development Foundation","STATE","NGO",5,2,null,null,null,null,null,null,true]
[null,"Alaska Fisheries Revitalization Strategy","STATE","GOVERNMENT",5,2,null,null,null,null,null,null,{"$f":"AND(  NOT(ISERROR(FIND(UPPER($B$7),UPPER($B78),1))),  OR($D$7=\"\",NOT(ISERROR(FIND(UPPER($D$7),UPPER($B78),1)))),    OR($D$8=\"\",(ISERROR(FIND(UPPER($D$8),UPPER($B78),1))))           )","v":true}]
[null,"Alaska Fisheries Science Center (US DOC, NOAA, NMFS)","FEDERAL or NATIONAL","GOVERNMENT",5,4,null,null,null,null,null,null,true]
[null,"Alaska Fishermen’s Union","STATE","INDUSTRY AND BUSINESS",5,2,null,null,null,null,null,null,true]
[null,"Alaska Fishing Industry Relief Mission","STATE","NGO",5,2,null,null,null,null,null,null,true]
[null,"Alaska Forum for Environmental Responsibility","STATE","NGO",5,2,null,null,null,null,null,null,true]
[null,"Alaska Groundfish Data Bank","STATE","NGO",5,2,null,null,null,null,null,null,true]
[null,"Alaska Groundfish Forum","STATE","NGO",5,2,null,null,null,null,null,null,true]
[null,"Alaska Legislative Salmon Industry Task Force","STATE","GOVERNMENT",5,2,null,null,null,null,null,null,true]
[null,"Alaska Longline Fishermen's Association","STATE","INDUSTRY AND BUSINESS",5,2,null,null,null,null,null,null,true]
[null,"Alaska Marine Conservation Council","STATE","NGO",5,2,null,null,null,null,null,null,true]
[null,"Alaska Marine Safety Education Association","STATE","NGO",5,2,null,null,null,null,null,null,true]
[null,"Alaska Natural History Association","STATE","NGO",5,2,null,null,null,null,null,null,true]
[null,"Alaska Natural Resource and Outdoor Education","STATE","NGO",5,2,null,null,null,null,null,null,true]
[null,"Alaska Ocean Observing System (AOOS)","STATE","NGO",5,2,null,null,null,null,null,null,true]
[null,"Alaska Oceans Network","STATE","NGO",5,2,null,null,null,null,null,null,true]
[null,"Alaska Oceans Program","STATE","NGO",5,2,null,null,null,null,null,null,true]
[null,"Alaska Office of Boating Safety","STATE","GOVERNMENT",5,2,null,null,null,null,null,null,true]
[null,"Alaska Pacific University (APU)","STATE","ACADEMIC INSTITUTION",5,2,null,null,null,null,null,null,true]
[null,"Alaska Regional Marine Research Program (US DOC, NOAA, OAR, NSGCP, RMRP)","REGIONAL","GOVERNMENT",5,3,null,null,null,null,null,null,true]
[null,"Alaska Regional Office (US DOC, NOAA, NMFS)","FEDERAL or NATIONAL","GOVERNMENT",5,4,null,null,null,null,null,null,true]
[null,"Alaska Science and Technology Foundation","STATE","NGO",5,2,null,null,null,null,null,null,true]
[null,"Alaska Science Consortium","STATE","NGO",5,2,null,null,null,null,null,null,true]
[null,"Alaska Sea Otter and Steller Sea Lion Commission","STATE","GOVERNMENT",5,2,null,null,null,null,null,null,true]
[null,"Alaska Seafood Interna-tional","STATE","INDUSTRY AND BUSINESS",5,2,null,null,null,null,null,null,true]
[null,"Alaska Seafood Marketing Institute","STATE","INDUSTRY AND BUSINESS",5,2,null,null,null,null,null,null,true]
[null,"Alaska SeaLife Center","STATE","NGO",5,2,null,null,null,null,null,null,true]
[null,"Alaska Shellfish Growers Association","STATE","NGO",5,2,null,null,null,null,null,null,true]
[null,"Alaska Small Business Development Center","STATE","GOVERNMENT",5,2,null,null,null,null,null,null,true]
[null,"Alaska Tide Book Company","STATE","INDUSTRY AND BUSINESS",5,2,null,null,null,null,null,null,true]
[null,"Alaska Underwater Science Foundation","STATE","NGO",5,2,null,null,null,null,null,null,true]
[null,"Alaska Vocational Technical Education Center","STATE","ACADEMIC INSTITUTION",5,2,null,null,null,null,null,null,true]
[null,"Alaska Wildlife Alliance","STATE","NGO",5,2,null,null,null,null,null,null,true]
[null,"Alba Middle School","LOCAL","ACADEMIC INSTITUTION",5,1,null,null,null,null,null,null,true]
[null,"Albemarle-Pamlico National Estuary Program (US EPA, NEP)","FEDERAL or NATIONAL","GOVERNMENT",5,4,null,null,null,null,null,null,true]
[null,"Alderbrook Resort and Spa","LOCAL","INDUSTRY AND BUSINESS",5,1,null,null,null,null,null,null,true]
[null,"Aldo Leopold Wilderness Research Institute","FEDERAL or NATIONAL","NGO",5,4,null,null,null,null,null,null,true]
[null,"Aleut Corporation","LOCAL","NGO",5,1,null,null,null,null,null,null,true]
[null,"Aleutian Pribilof Island Association","LOCAL","NGO",5,1,null,null,null,null,null,null,true]
[null,"Aleutian Pribilof Island Community Development Association","LOCAL","NGO",5,1,null,null,null,null,null,null,true]
[null,"Alex C. Walker Foundation","LOCAL","NGO",5,1,null,null,null,null,null,null,true]
[null,"Algoma City Department of Recreation","LOCAL","GOVERNMENT",5,1,null,null,null,null,null,null,true]
[null,"Alki Salmon Team","LOCAL","NGO",5,1,null,null,null,null,null,null,true]
[null,"Alliance for Coastal Technology","LOCAL","ACADEMIC INSTITUTION",5,1,null,null,null,null,null,null,true]
[null,"Alliance for the Chesapeake Bay","REGIONAL","NGO",5,3,null,null,null,null,null,null,true]
[null,"Alliance for the Great Lakes","REGIONAL","NGO",5,3,null,null,null,null,null,null,true]
[null,"Al-Lou’s Fish","LOCAL","INDUSTRY AND BUSINESS",5,1,null,null,null,null,null,null,true]
[null,"Alltech Inc.","STATE","INDUSTRY AND BUSINESS",5,2,null,null,null,null,null,null,true]
[null,"Alma Bryant High School","LOCAL","ACADEMIC INSTITUTION",5,1,null,null,null,null,null,null,true]
[null,"Alpena-Montmorency-Alcona ESD","LOCAL","ACADEMIC INSTITUTION",5,1,null,null,null,null,null,null,true]
[null,"Altamaha Riverkeeper","REGIONAL","NGO",5,3,null,null,null,null,null,null,true]
[null,"Alternatives Northwest","LOCAL","INDUSTRY AND BUSINESS",5,1,null,null,null,null,null,null,true]
[null,"Alutiiq Pride Shellfish Hatchery","LOCAL","INDUSTRY AND BUSINESS",5,1,null,null,null,null,null,null,true]
[null,"Amazon","INTERNATIONAL","INDUSTRY AND BUSINESS",5,5,null,null,null,null,null,null,true]
[null,"American Academy of Family Physicians","FEDERAL or NATIONAL","NGO",5,4,null,null,null,null,null,null,true]
[null,"American Association for the Study of Liver Diseases","FEDERAL or NATIONAL","NGO",5,4,null,null,null,null,null,null,true]
[null,"American Association of Clinical Endocrinologists","FEDERAL or NATIONAL","NGO",5,4,null,null,null,null,null,null,true]
[null,"American Association for the Advancement of Science (AAAS)","FEDERAL or NATIONAL","OTHER PARTNERS",5,4,null,null,null,null,null,null,true]
[null,"American Association of Diabetes Educators ","FEDERAL or NATIONAL","NGO",5,4,null,null,null,null,null,null,true]
[null,"American Association of University Women","FEDERAL or NATIONAL","OTHER PARTNERS",5,4,null,null,null,null,null,null,true]
[null,"American Bird Conservancy","FEDERAL or NATIONAL","NGO",5,4,null,null,null,null,null,null,true]
[null,"American Bureau of Shipping","FEDERAL or NATIONAL","INDUSTRY AND BUSINESS",5,4,null,null,null,null,null,null,true]
[null,"American Cetacean Society","FEDERAL or NATIONAL","NGO",5,4,null,null,null,null,null,null,true]
[null,"American College of Emergency Physicians","FEDERAL or NATIONAL","ACADEMIC INSTITUTION",5,4,null,null,null,null,null,null,true]
[null,"American College of Gastroenterology","FEDERAL or NATIONAL","ACADEMIC INSTITUTION",5,4,null,null,null,null,null,null,true]
[null,"American Culinary Federation","FEDERAL or NATIONAL","NGO",5,4,null,null,null,null,null,null,{"$f":"AND(  NOT(ISERROR(FIND(UPPER($B$7),UPPER($B142),1))),  OR($D$7=\"\",NOT(ISERROR(FIND(UPPER($D$7),UPPER($B142),1)))),    OR($D$8=\"\",(ISERROR(FIND(UPPER($D$8),UPPER($B142),1))))           )","v":true}]
[null,"American Farm Trust","FEDERAL or NATIONAL","NGO",5,4,null,null,null,null,null,null,true]
[null,"American Fisheries Association","FEDERAL or NATIONAL","NGO",5,4,null,null,null,null,null,null,true]
[null,"American Fisheries Society (AFS)","FEDERAL or NATIONAL","NGO",5,4,null,null,null,null,null,null,true]
[null,"American Gastroenterological Association","FEDERAL or NATIONAL","NGO",5,4,null,null,null,null,null,null,true]
[null,"American Institute of Architects Honolulu Chapter","FEDERAL or NATIONAL","INDUSTRY AND BUSINESS",5,4,null,null,null,null,null,null,true]
[null,"American Meteorological Society (AMS)","FEDERAL or NATIONAL","NGO",5,4,null,null,null,null,null,null,true]
[null,"American Nursery Landscape Association","FEDERAL or NATIONAL","NGO",5,4,null,null,null,null,null,null,true]
[null,"American Nurses Association ","FEDERAL or NATIONAL","NGO",5,4,null,null,null,null,null,null,true]
[null,"American Samoa Community College ","STATE","ACADEMIC INSTITUTION",5,2,null,null,null,null,null,null,true]
[null,"American Samoa Department of Education (AS ED)","REGIONAL","GOVERNMENT",5,3,null,null,null,null,null,null,true]
[null,"American Samoa Government Coral Reef Advisory Group","REGIONAL","GOVERNMENT",5,3,null,null,null,null,null,null,true]
[null,"American Samoa Resource, Conservation and Development Council","STATE","NGO",5,2,null,null,null,null,null,null,true]
[null,"American School for the Deaf","FEDERAL or NATIONAL","ACADEMIC INSTITUTION",5,4,null,null,null,null,null,null,true]
[null,"American Society of Civil Engineers (ASCE)","FEDERAL or NATIONAL","INDUSTRY AND BUSINESS",5,4,null,null,null,null,null,null,true]
[null,"American Society of Civil Engineers, Coastal Practice Team (ASCE, CPT)","FEDERAL or NATIONAL","NGO",5,4,null,null,null,null,null,null,true]
[null,"American Society of Civil Engineers, Dredging Team (ASCE, DT)","FEDERAL or NATIONAL","NGO",5,4,null,null,null,null,null,null,true]
[null,"American Society of Limnology and Oceanography (ASLO)","FEDERAL or NATIONAL","NGO",5,4,null,null,null,null,null,null,true]
[null,"American Society of Pharmacognosy","FEDERAL or NATIONAL","NGO",5,4,null,null,null,null,null,null,true]
[null,"American Veterinary Medical Association","FEDERAL or NATIONAL","NGO",5,4,null,null,null,null,null,null,true]
[null,"American Water Resources Association","FEDERAL or NATIONAL","NGO",5,4,null,null,null,null,null,null,true]
[null,"American Waterways Association - West Coast Towboat Industry","FEDERAL or NATIONAL","INDUSTRY AND BUSINESS",5,4,null,null,null,null,null,null,true]
[null,"American Waterways Operators","FEDERAL or NATIONAL","INDUSTRY AND BUSINESS",5,4,null,null,null,null,null,null,true]
[null,"AMI Consulting Engineers","LOCAL","INDUSTRY AND BUSINESS",5,1,null,null,null,null,null,null,true]
[null,"AmTest Laboratories","LOCAL","INDUSTRY AND BUSINESS",5,1,null,null,null,null,null,null,true]
[null,"Anacostia Watershed Association","REGIONAL","NGO",5,3,null,null,null,null,null,null,true]
[null,"Anchorage International Airport","LOCAL","INDUSTRY AND BUSINESS",5,1,null,null,null,null,null,null,true]
[null,"Anchorage School District","LOCAL","GOVERNMENT",5,1,null,null,null,null,null,null,true]
[null,"Anita Purves Nature Center","LOCAL","OTHER PARTNERS",5,1,null,null,null,null,null,null,true]
[null,"Apostle Islands National Lakeshore, National Park Service (US DOI, NPS)","FEDERAL or NATIONAL","GOVERNMENT",5,4,null,null,null,null,null,null,true]
[null,"Apostle Islands Sport Fisherman Assn.","LOCAL","NGO",5,1,null,null,null,null,null,null,true]
[null,"Appalachian State University (AppState)","STATE","ACADEMIC INSTITUTION",5,2,null,null,null,null,null,null,true]
[null,"Applied Phytogenetics, Inc. ","FEDERAL or NATIONAL","INDUSTRY AND BUSINESS",5,4,null,null,null,null,null,null,true]
[null,"Applied Research Associates Bachem","FEDERAL or NATIONAL","INDUSTRY AND BUSINESS",5,4,null,null,null,null,null,null,true]
[null,"Applied Sustainable Aquaculture","FEDERAL or NATIONAL","INDUSTRY AND BUSINESS",5,4,null,null,null,null,null,null,true]
[null,"Applied Technology and Management, Inc.","FEDERAL or NATIONAL","INDUSTRY AND BUSINESS",5,4,null,null,null,null,null,null,true]
[null,"Aqua Bounty Pacific, Inc., San Diego, California","FEDERAL or NATIONAL","INDUSTRY AND BUSINESS",5,4,null,null,null,null,null,null,true]
[null,"Aquaculture Center of the Florida Keys, Inc.","FEDERAL or NATIONAL","INDUSTRY AND BUSINESS",5,4,null,null,null,null,null,null,true]
[null,"Aquaculture Demonstration Facility","FEDERAL or NATIONAL","ACADEMIC INSTITUTION",5,4,null,null,null,null,null,null,true]
[null,"Aquaculture Industry","FEDERAL or NATIONAL","INDUSTRY AND BUSINESS",5,4,null,null,null,null,null,null,true]
[null,"Aquaculture Systems Technologies, LLC ","FEDERAL or NATIONAL","INDUSTRY AND BUSINESS",5,4,null,null,null,null,null,null,true]
[null,"Aqualider Maricultura Ltda.","INTERNATIONAL","INDUSTRY AND BUSINESS",5,5,null,null,null,null,null,null,true]
[null,"Aquarion Water Company","FEDERAL or NATIONAL","INDUSTRY AND BUSINESS",5,4,null,null,null,null,null,null,true]
[null,"Aquarium of Niagara","REGIONAL","OTHER PARTNERS",5,3,null,null,null,null,null,null,true]
[null,"Aquarium Pharmaceuticals, Inc.","FEDERAL or NATIONAL","INDUSTRY AND BUSINESS",5,4,null,null,null,null,null,null,true]
[null,"AquaTechnics, Inc.","FEDERAL or NATIONAL","INDUSTRY AND BUSINESS",5,4,null,null,null,null,null,null,true]
[null,"Aquatic Control Technology","FEDERAL or NATIONAL","INDUSTRY AND BUSINESS",5,4,null,null,null,null,null,null,true]
[null,"Aquatic Farms","FEDERAL or NATIONAL","INDUSTRY AND BUSINESS",5,4,null,null,null,null,null,null,true]
[null,"Aquatic Invasive Species, Mid-Atlantic Regional Panel (AIS)","REGIONAL","NGO",5,3,null,null,null,null,null,null,true]
[null,"Aquatic Nuisance Species Task Force (ANS)","FEDERAL or NATIONAL","GOVERNMENT",5,4,null,null,null,null,null,null,true]
[null,"Aquatic Plant Management Society","INTERNATIONAL","NGO",5,5,null,null,null,null,null,null,true]
[null,"Aquidneck Island Planning Commission","REGIONAL","NGO",5,3,null,null,null,null,null,null,true]
[null,"Aquionics, Inc","FEDERAL or NATIONAL","INDUSTRY AND BUSINESS",5,4,null,null,null,null,null,null,true]
[null,"Arcadia Point Seafoods","REGIONAL","INDUSTRY AND BUSINESS",5,3,null,null,null,null,null,null,true]
[null,"Arctic Region Super-computing Center","REGIONAL","ACADEMIC INSTITUTION",5,3,null,null,null,null,null,null,true]
[null,"Arctic Studies Center, Smithsonian Institution (SI)","FEDERAL or NATIONAL","GOVERNMENT",5,4,null,null,null,null,null,null,true]
[null,"Arctic Yukon Kuskokwim Sustainable","REGIONAL","NGO",5,3,null,null,null,null,null,null,true]
[null,"Arizona Game and Fish Department","STATE","GOVERNMENT",5,2,null,null,null,null,null,null,true]
[null,"Armstrong Atlantic State University (AASU)","STATE","ACADEMIC INSTITUTION",5,2,null,null,null,null,null,null,true]
[null,"Arrow Excavating","LOCAL","INDUSTRY AND BUSINESS",5,1,null,null,null,null,null,null,true]
[null,"Arrow Septic Service","LOCAL","INDUSTRY AND BUSINESS",5,1,null,null,null,null,null,null,true]
[null,"Arrowhead Regional Development Commission","LOCAL","GOVERNMENT",5,1,null,null,null,null,null,null,true]
[null,"Arrowhead Water Quality Team","LOCAL","ACADEMIC INSTITUTION",5,1,null,null,null,null,null,null,true]
[null,"Ashland City Engineer","LOCAL","GOVERNMENT",5,1,null,null,null,null,null,null,true]
[null,"Ashland County","LOCAL","GOVERNMENT",5,1,null,null,null,null,null,null,{"$f":"AND(  NOT(ISERROR(FIND(UPPER($B$7),UPPER($B206),1))),  OR($D$7=\"\",NOT(ISERROR(FIND(UPPER($D$7),UPPER($B206),1)))),    OR($D$8=\"\",(ISERROR(FIND(UPPER($D$8),UPPER($B206),1))))           )","v":true}]
[null,"Ashland Fishery Resources Office (US DOI, FWS)","FEDERAL or NATIONAL","GOVERNMENT",5,4,null,null,null,null,null,null,true]
[null,"Ashley Scenic River Advisory Council ","LOCAL","NGO",5,1,null,null,null,null,null,null,true]
[null,"Asia Pacific Economic Group","INTERNATIONAL","NGO",5,5,null,null,null,null,null,null,true]
[null,"Asociacion ANAI","INTERNATIONAL","NGO",5,5,null,null,null,null,null,null,true]
[null,"Associated Packaging Technologies","INTERNATIONAL","INDUSTRY AND BUSINESS",5,5,null,null,null,null,null,null,true]
[null,"Association County Commissioners of Georgia (ACCG)","LOCAL","GOVERNMENT",5,1,null,null,null,null,null,null,true]
[null,"Association for the Protection of Hammersley, Eld and Totten Inlets","LOCAL","NGO",5,1,null,null,null,null,null,null,true]
[null,"Association of Food and Drug Officials (AFDO)","INTERNATIONAL","NGO",5,5,null,null,null,null,null,null,true]
[null,"Association of Minnesota Counties","LOCAL","GOVERNMENT",5,1,null,null,null,null,null,null,true]
[null,"Association of Natural Resource Extension Professionals","INTERNATIONAL","ACADEMIC INSTITUTION",5,5,null,null,null,null,null,null,true]
[null,"Association Réunionnaise de Development de l'Aquaculture (ARDA)","INTERNATIONAL","NGO",5,5,null,null,null,null,null,null,true]
[null,"Astoria Fire Department","LOCAL","GOVERNMENT",5,1,null,null,null,null,null,null,true]
[null,"Atlanta Regional Commission","LOCAL","GOVERNMENT",5,1,null,null,null,null,null,null,true]
[null,"Atlantic Boat and Yacht Trades School","LOCAL","ACADEMIC INSTITUTION",5,1,null,null,null,null,null,null,true]
[null,"Atlantic Seabass Inc.","INTERNATIONAL","INDUSTRY AND BUSINESS",5,5,null,null,null,null,null,null,true]
[null,"Atlantic States Marine Fisheries Commission (ASMFC)","REGIONAL","NGO",5,3,null,null,null,null,null,null,true]
[null,"Atomic Shellfish","STATE","INDUSTRY AND BUSINESS",5,2,null,null,null,null,null,null,true]
[null,"At-Sea Processors Association","FEDERAL or NATIONAL","INDUSTRY AND BUSINESS",5,4,null,null,null,null,null,null,true]
[null,"Auburn University (AU)","STATE","ACADEMIC INSTITUTION",5,2,null,null,null,null,null,null,true]
[null,"Audubon Society","INTERNATIONAL","NGO",5,5,null,null,null,null,null,null,true]
[null,"Auke Bay Laboratory (US DOC, NOAA, NMFS)","FEDERAL or NATIONAL","GOVERNMENT",5,4,null,null,null,null,null,null,true]
[null,"Australian Antarctic Division","INTERNATIONAL","GOVERNMENT",5,5,null,null,null,null,null,null,true]
[null,"Avery Point campus administration, University of Connecticut (UCONN)","STATE","OTHER PARTNERS",5,2,null,null,null,null,null,null,true]
[null,"Avure Technologies, Inc.","FEDERAL or NATIONAL","INDUSTRY AND BUSINESS",5,4,null,null,null,null,null,null,true]
[null,"Aylesworth Foundation","LOCAL","NGO",5,1,null,null,null,null,null,null,true]
[null,"B.E. Feist","FEDERAL or NATIONAL","INDUSTRY AND BUSINESS",5,4,null,null,null,null,null,null,true]
[null,"Babylon Town Sport Fishing Education Center","LOCAL","GOVERNMENT",5,1,null,null,null,null,null,null,true]
[null,"Bad River Tribe of Lake Superior Chippewa","Tribal","GOVERNMENT",5,13,null,null,null,null,null,null,true]
[null,"Bainbridge Island Land Trust","LOCAL","NGO",5,1,null,null,null,null,null,null,true]
[null,"Baird and Associates","FEDERAL or NATIONAL","INDUSTRY AND BUSINESS",5,4,null,null,null,null,null,null,true]
[null,"Bait Association of Ontario","INTERNATIONAL","INDUSTRY AND BUSINESS",5,5,null,null,null,null,null,null,true]
[null,"Baja Naval","INTERNATIONAL","INDUSTRY AND BUSINESS",5,5,null,null,null,null,null,null,true]
[null,"Baker Fishery, Inc.","FEDERAL or NATIONAL","INDUSTRY AND BUSINESS",5,4,null,null,null,null,null,null,true]
[null,"Baldwin and Mobile County Soil and Water Conservation Districts","LOCAL","GOVERNMENT",5,1,null,null,null,null,null,null,true]
[null,"Baldwin County High School ","LOCAL","GOVERNMENT",5,1,null,null,null,null,null,null,true]
[null,"Baldwin County Planning and Zoning Department ","LOCAL","GOVERNMENT",5,1,null,null,null,null,null,null,true]
[null,"Baldwin County Wetlands and Watershed Protection ","LOCAL","GOVERNMENT",5,1,null,null,null,null,null,null,true]
[null,"Baldwin-Wallace College","STATE","ACADEMIC INSTITUTION",5,2,null,null,null,null,null,null,true]
[null,"Ball State University (BSU)","STATE","ACADEMIC INSTITUTION",5,2,null,null,null,null,null,null,true]
[null,"Baltimore Department of Transportation (Balt. DOT)","LOCAL","GOVERNMENT",5,1,null,null,null,null,null,null,true]
[null,"Bandon Mariculture","REGIONAL","INDUSTRY AND BUSINESS",5,3,null,null,null,null,null,null,true]
[null,"Barbare Brothers, Inc.","STATE","INDUSTRY AND BUSINESS",5,2,null,null,null,null,null,null,true]
[null,"Barnes and Noble","INTERNATIONAL","INDUSTRY AND BUSINESS",5,5,null,null,null,null,null,null,true]
[null,"Barrierisland.net","INTERNATIONAL","INDUSTRY AND BUSINESS",5,5,null,null,null,null,null,null,true]
[null,"Barrow Arctic Science Consortium","FEDERAL or NATIONAL","NGO",5,4,null,null,null,null,null,null,true]
[null,"BASF ","INTERNATIONAL","INDUSTRY AND BUSINESS",5,5,null,null,null,null,null,null,true]
[null,"Bass Haven","LOCAL","INDUSTRY AND BUSINESS",5,1,null,null,null,null,null,null,true]
[null,"Bass Pro Shops","INTERNATIONAL","INDUSTRY AND BUSINESS",5,5,null,null,null,null,null,null,true]
[null,"Bates College","STATE","ACADEMIC INSTITUTION",5,2,null,null,null,null,null,null,true]
[null,"Pacific Northwest National Laboratory, Marine Sciences Laboratory (US DOE)","FEDERAL or NATIONAL","GOVERNMENT",5,4,null,null,null,null,null,null,true]
[null,"Battery Park Marina","LOCAL","INDUSTRY AND BUSINESS",5,1,null,null,null,null,null,null,true]
[null,"Bay Center Mariculture Company","REGIONAL","INDUSTRY AND BUSINESS",5,3,null,null,null,null,null,null,true]
[null,"Bay Foundation of Morro Bay","FEDERAL or NATIONAL","NGO",5,4,null,null,null,null,null,null,true]
[null,"Bay Mills Tribe","Tribal","GOVERNMENT",5,13,null,null,null,null,null,null,true]
[null,"Bayfield County","LOCAL","GOVERNMENT",5,1,null,null,null,null,null,null,true]
[null,"Bay-Lake Regional Planning Commission","LOCAL","GOVERNMENT",5,1,null,null,null,null,null,null,true]
[null,"Bayou LaBatre Chamber of Commerce","LOCAL","INDUSTRY AND BUSINESS",5,1,null,null,null,null,null,null,true]
[null,"Bayou Segnette Boaters Association","FEDERAL or NATIONAL","NGO",5,4,null,null,null,null,null,null,true]
[null,"Baywater, Inc.","REGIONAL","INDUSTRY AND BUSINESS",5,3,null,null,null,null,null,null,true]
[null,"Beaufort County Open Land Trust ","LOCAL","NGO",5,1,null,null,null,null,null,null,true]
[null,"Beaufort County Water Quality Task Force ","LOCAL","NGO",5,1,null,null,null,null,null,null,true]
[null,"Beaufort Lab (US DOC, NOAA, NMFS, SEFSC)","FEDERAL or NATIONAL","GOVERNMENT",5,4,null,null,null,null,null,null,true]
[null,"Beaver Park Marina","LOCAL","INDUSTRY AND BUSINESS",5,1,null,null,null,null,null,null,true]
[null,"Beaver Park North","LOCAL","INDUSTRY AND BUSINESS",5,1,null,null,null,null,null,null,{"$f":"AND(  NOT(ISERROR(FIND(UPPER($B$7),UPPER($B270),1))),  OR($D$7=\"\",NOT(ISERROR(FIND(UPPER($D$7),UPPER($B270),1)))),    OR($D$8=\"\",(ISERROR(FIND(UPPER($D$8),UPPER($B270),1))))           )","v":true}]
[null,"Bechtel Power Company","FEDERAL or NATIONAL","INDUSTRY AND BUSINESS",5,4,null,null,null,null,null,null,true]
[null,"Beijer International Institute of Ecological Economics, Stockholm, Sweden","INTERNATIONAL","ACADEMIC INSTITUTION",5,5,null,null,null,null,null,null,true]
[null,"Belize Department of Fisheries  ","INTERNATIONAL","GOVERNMENT",5,5,null,null,null,null,null,null,true]
[null,"Bell’s Fisheries","FEDERAL or NATIONAL","INDUSTRY AND BUSINESS",5,4,null,null,null,null,null,null,true]
[null,"Bellingham Cold Storage","REGIONAL","INDUSTRY AND BUSINESS",5,3,null,null,null,null,null,null,true]
[null,"Bennett-Martinen Tidelands","STATE","INDUSTRY AND BUSINESS",5,2,null,null,null,null,null,null,true]
[null,"Bering Sea Fishermen’s Association","STATE","NGO",5,2,null,null,null,null,null,null,true]
[null,"Berkeley Electric Cooperative ","FEDERAL or NATIONAL","INDUSTRY AND BUSINESS",5,4,null,null,null,null,null,null,true]
[null,"Berkeley-Charleston-Dorchester Council of Governments ","LOCAL","GOVERNMENT",5,1,null,null,null,null,null,null,true]
[null,"Bermuda Biological Station for Research","INTERNATIONAL","ACADEMIC INSTITUTION",5,5,null,null,null,null,null,null,true]
[null,"Bernie’s Conch","LOCAL","INDUSTRY AND BUSINESS",5,1,null,null,null,null,null,null,true]
[null,"Bevan's Oyster Company","FEDERAL or NATIONAL","INDUSTRY AND BUSINESS",5,4,null,null,null,null,null,null,true]
[null,"BHP Billiton, Limited","FEDERAL or NATIONAL","INDUSTRY AND BUSINESS",5,4,null,null,null,null,null,null,true]
[null,"Big Bay de Noc Fishery","FEDERAL or NATIONAL","INDUSTRY AND BUSINESS",5,4,null,null,null,null,null,null,true]
[null,"Big Stone Bay Fish Company","FEDERAL or NATIONAL","INDUSTRY AND BUSINESS",5,4,null,null,null,null,null,null,true]
[null,"Bigelow Laboratory for Ocean Sciences","STATE","OTHER PARTNERS",5,2,null,null,null,null,null,null,true]
[null,"Bill Russell Company","STATE","INDUSTRY AND BUSINESS",5,2,null,null,null,null,null,null,true]
[null,"Biloxi Port Commission ","LOCAL","GOVERNMENT",5,1,null,null,null,null,null,null,true]
[null,"BioFlorida","STATE","NGO",5,2,null,null,null,null,null,null,true]
[null,"Biological Resources Division National Center (US DOI, USGS)","FEDERAL or NATIONAL","GOVERNMENT",5,4,null,null,null,null,null,null,true]
[null,"Biological Resources Division, Ohio State (US DOI, USGS)","FEDERAL or NATIONAL","GOVERNMENT",5,4,null,null,null,null,null,null,true]
[null,"Biological Science","FEDERAL or NATIONAL","ACADEMIC INSTITUTION",5,4,null,null,null,null,null,null,true]
[null,"University of Maryland, Biology Department (UMD)","STATE","ACADEMIC INSTITUTION",5,2,null,null,null,null,null,null,true]
[null,"Biotechnology Industry Organization","INTERNATIONAL","INDUSTRY AND BUSINESS",5,5,null,null,null,null,null,null,true]
[null,"bird conservation organizations","Unknown","NGO",5,0,null,null,null,null,null,null,true]
[null,"Bistro By-The-Sea","LOCAL","INDUSTRY AND BUSINESS",5,1,null,null,null,null,null,null,true]
[null,"BJ Seafood Farm","REGIONAL","INDUSTRY AND BUSINESS",5,3,null,null,null,null,null,null,true]
[null,"Blau Oyster Company","REGIONAL","INDUSTRY AND BUSINESS",5,3,null,null,null,null,null,null,true]
[null,"B-Line Construction","STATE","INDUSTRY AND BUSINESS",5,2,null,null,null,null,null,null,true]
[null,"Blue Bear Productions","FEDERAL or NATIONAL","INDUSTRY AND BUSINESS",5,4,null,null,null,null,null,null,true]
[null,"Blue Green Golf Development","FEDERAL or NATIONAL","NGO",5,4,null,null,null,null,null,null,true]
[null,"Blue Ocean Institute","INTERNATIONAL","NGO",5,5,null,null,null,null,null,null,true]
[null,"Blue Ocean Society","INTERNATIONAL","NGO",5,5,null,null,null,null,null,null,true]
[null,"Blue Ridge Aquaculture","FEDERAL or NATIONAL","INDUSTRY AND BUSINESS",5,4,null,null,null,null,null,null,true]
[null,"Blue Talon Bistro","FEDERAL or NATIONAL","INDUSTRY AND BUSINESS",5,4,null,null,null,null,null,null,true]
[null,"Blue Water Condominiums","FEDERAL or NATIONAL","INDUSTRY AND BUSINESS",5,4,null,null,null,null,null,null,true]
[null,"Blue Water Science","FEDERAL or NATIONAL","INDUSTRY AND BUSINESS",5,4,null,null,null,null,null,null,true]
[null,"Blue, Land, Water Interface","FEDERAL or NATIONAL","INDUSTRY AND BUSINESS",5,4,null,null,null,null,null,null,true]
[null,"BMW Manufacturing Corp. ","FEDERAL or NATIONAL","INDUSTRY AND BUSINESS",5,4,null,null,null,null,null,null,true]
[null,"Board Of Cooperative Educational Services of Nassau County (Nassau BOCES)","LOCAL","ACADEMIC INSTITUTION",5,1,null,null,null,null,null,null,true]
[null,"Board of the Friends of Shepard State Park","FEDERAL or NATIONAL","NGO",5,4,null,null,null,null,null,null,true]
[null,"Boat U.S.","FEDERAL or NATIONAL","NGO",5,4,null,null,null,null,null,null,true]
[null,"Boating Industry Association of upstate New York","LOCAL","NGO",5,1,null,null,null,null,null,null,true]
[null,"Bodega Marine Laboratory, University of California, Davis (UCD BML)","STATE","ACADEMIC INSTITUTION",5,2,null,null,null,null,null,null,true]
[null,"Bodin Fisheries","FEDERAL or NATIONAL","INDUSTRY AND BUSINESS",5,4,null,null,null,null,null,null,true]
[null,"Bolsa Chica Reserve","LOCAL","GOVERNMENT",5,1,null,null,null,null,null,null,true]
[null,"Bon Secour Fisheries Inc.","FEDERAL or NATIONAL","INDUSTRY AND BUSINESS",5,4,null,null,null,null,null,null,true]
[null,"Bon Secour National Wildlife Refuge (US DOI, FWS, NWRS)","FEDERAL or NATIONAL","GOVERNMENT",5,4,null,null,null,null,null,null,true]
[null,"Bornstein Seafoods","FEDERAL or NATIONAL","INDUSTRY AND BUSINESS",5,4,null,null,null,null,null,null,true]
[null,"BowUS DOIn College Coastal Studies Center,,,,,","STATE","ACADEMIC INSTITUTION",5,2,null,null,null,null,null,null,true]
[null,"Bowling Green State University (BGSU)","STATE","ACADEMIC INSTITUTION",5,2,null,null,null,null,null,null,true]
[null,"Boy Scouts of America (BSA)","FEDERAL or NATIONAL","NGO",5,4,null,null,null,null,null,null,true]
[null,"BP Cooper River Plant ","FEDERAL or NATIONAL","INDUSTRY AND BUSINESS",5,4,null,null,null,null,null,null,true]
[null,"Brainerd Area Chamber of Commerce","LOCAL","INDUSTRY AND BUSINESS",5,1,null,null,null,null,null,null,true]
[null,"Brantley County","LOCAL","GOVERNMENT",5,1,null,null,null,null,null,null,true]
[null,"Kitsap Sun","LOCAL","INDUSTRY AND BUSINESS",5,1,null,null,null,null,null,null,true]
[null,"Brenner Marine, Toledo","FEDERAL or NATIONAL","INDUSTRY AND BUSINESS",5,4,null,null,null,null,null,null,true]
[null,"Brenner Oyster Company","REGIONAL","INDUSTRY AND BUSINESS",5,3,null,null,null,null,null,null,true]
[null,"Bridgeport and Port Jefferson Steamboat Co.","FEDERAL or NATIONAL","INDUSTRY AND BUSINESS",5,4,null,null,null,null,null,null,true]
[null,"Bridgeport Regional Vocational Aquaculture School","FEDERAL or NATIONAL","ACADEMIC INSTITUTION",5,4,null,null,null,null,null,null,true]
[null,"Brigham and Women's Hospital","FEDERAL or NATIONAL","ACADEMIC INSTITUTION",5,4,null,null,null,null,null,null,true]
[null,"Bristol Bay Economic Development Corporation","LOCAL","INDUSTRY AND BUSINESS",5,1,null,null,null,null,null,null,true]
[null,"Bristol Bay Native Association","LOCAL","NGO",5,1,null,null,null,null,null,null,true]
[null,"Bristol Bay Science and Research Institute","LOCAL","NGO",5,1,null,null,null,null,null,null,{"$f":"AND(  NOT(ISERROR(FIND(UPPER($B$7),UPPER($B334),1))),  OR($D$7=\"\",NOT(ISERROR(FIND(UPPER($D$7),UPPER($B334),1)))),    OR($D$8=\"\",(ISERROR(FIND(UPPER($D$8),UPPER($B334),1))))           )","v":true}]
[null,"British Columbia Association of Salmon Farmers, Canada","INTERNATIONAL","INDUSTRY AND BUSINESS",5,5,null,null,null,null,null,null,true]
[null,"British Columbia Centre for Disease Control, Canada","INTERNATIONAL","GOVERNMENT",5,5,null,null,null,null,null,null,true]
[null,"British Columbia Ministry of Fisheries, Canada","INTERNATIONAL","GOVERNMENT",5,5,null,null,null,null,null,null,true]
[null,"British Columbia Shellfish Growers Association, Canada","INTERNATIONAL","INDUSTRY AND BUSINESS",5,5,null,null,null,null,null,null,true]
[null,"Brookhaven National Laboratory","FEDERAL or NATIONAL","GOVERNMENT",5,4,null,null,null,null,null,null,true]
[null,"Brookhaven Science Associates","FEDERAL or NATIONAL","INDUSTRY AND BUSINESS",5,4,null,null,null,null,null,null,true]
[null,"Brookings Fishery Committee","FEDERAL or NATIONAL","NGO",5,4,null,null,null,null,null,null,true]
[null,"Brown University (BROWN)","STATE","ACADEMIC INSTITUTION",5,2,null,null,null,null,null,null,true]
[null,"Bryan County","LOCAL","GOVERNMENT",5,1,null,null,null,null,null,null,true]
[null,"Bryn Athyn College","STATE","ACADEMIC INSTITUTION",5,2,null,null,null,null,null,null,true]
[null,"Buffalo District (DoD, Army, USACE)","FEDERAL or NATIONAL","GOVERNMENT",5,4,null,null,null,null,null,null,true]
[null,"Building Industry Association","FEDERAL or NATIONAL","INDUSTRY AND BUSINESS",5,4,null,null,null,null,null,null,true]
[null,"Bulan's Boatyard","LOCAL","INDUSTRY AND BUSINESS",5,1,null,null,null,null,null,null,true]
[null,"Bull’s Bay Seafood ","FEDERAL or NATIONAL","INDUSTRY AND BUSINESS",5,4,null,null,null,null,null,null,true]
[null,"Bumblebee Foods LLC","INTERNATIONAL","INDUSTRY AND BUSINESS",5,5,null,null,null,null,null,null,true]
[null,"Bureau of Indian Affairs (US DOI, BIA)","FEDERAL or NATIONAL","GOVERNMENT",5,4,null,null,null,null,null,null,true]
[null,"Bureau of Land Management (US DOI, BLM)","FEDERAL or NATIONAL","GOVERNMENT",5,4,null,null,null,null,null,null,true]
[null,"Butch's Bulldozing","LOCAL","INDUSTRY AND BUSINESS",5,1,null,null,null,null,null,null,true]
[null,"C. E. Lindsay Oyster Farm","STATE","INDUSTRY AND BUSINESS",5,2,null,null,null,null,null,null,true]
[null,"Cabrillo Marine Aquarium","LOCAL","OTHER PARTNERS",5,1,null,null,null,null,null,null,true]
[null,"Calcasieu Parish Planning Department","LOCAL","GOVERNMENT",5,1,null,null,null,null,null,null,true]
[null,"Calcasieu Parish School Board","LOCAL","ACADEMIC INSTITUTION",5,1,null,null,null,null,null,null,true]
[null,"CalFed Bay-Delta Authority","REGIONAL","INDUSTRY AND BUSINESS",5,3,null,null,null,null,null,null,true]
[null,"California Aquaculture Association","STATE","NGO",5,2,null,null,null,null,null,null,true]
[null,"California Association of Harbor Masters and Port Captains","STATE","INDUSTRY AND BUSINESS",5,2,null,null,null,null,null,null,true]
[null,"California Association of Port Authorities","STATE","INDUSTRY AND BUSINESS",5,2,null,null,null,null,null,null,true]
[null,"California Coastal Coalition","STATE","NGO",5,2,null,null,null,null,null,null,true]
[null,"California Coastal Commission (CA RESOURCES, CCC)","STATE","GOVERNMENT",5,2,null,null,null,null,null,null,true]
[null,"California Coastal Conservancy","STATE","NGO",5,2,null,null,null,null,null,null,true]
[null,"California Coastal Invasive Species Center (AIS)","STATE","GOVERNMENT",5,2,null,null,null,null,null,null,true]
[null,"California Cooperative Oceanic Fisheries Investigation (CalCOFI)","STATE","NGO",5,2,null,null,null,null,null,null,true]
[null,"California Department of Boating and Waterways (CA RESOURCES, CA DBW)","STATE","GOVERNMENT",5,2,null,null,null,null,null,null,true]
[null,"California Department of Conservation (CA RESOURCES, CA CONSERVATION)","STATE","GOVERNMENT",5,2,null,null,null,null,null,null,true]
[null,"California Department of Education (CA ED)","STATE","GOVERNMENT",5,2,null,null,null,null,null,null,true]
[null,"California Department of Energy (CA DOE)","STATE","GOVERNMENT",5,2,null,null,null,null,null,null,true]
[null,"California Department of Fish and Game (CA RESOURCES, CA DFG)","STATE","GOVERNMENT",5,2,null,null,null,null,null,null,true]
[null,"California Department of Food and Agriculture (CA CDFA)","STATE","GOVERNMENT",5,2,null,null,null,null,null,null,true]
[null,"California Department of Health Services (CA CDHS)","STATE","GOVERNMENT",5,2,null,null,null,null,null,null,true]
[null,"California Department of Health Services, Food and Drug Branch (CA CDHS)","STATE","GOVERNMENT",5,2,null,null,null,null,null,null,true]
[null,"California Department of Parks and Recreation (CA RESOURCES, CA DPR)","STATE","GOVERNMENT",5,2,null,null,null,null,null,null,true]
[null,"California Department of Pesticide Regulation (CA CDPR)","STATE","GOVERNMENT",5,2,null,null,null,null,null,null,true]
[null,"California Department of Water Resources (CA RESOURCES, CA DWR)","STATE","GOVERNMENT",5,2,null,null,null,null,null,null,true]
[null,"California Environmental Protection Agency (CA CalEPA)","STATE","GOVERNMENT",5,2,null,null,null,null,null,null,true]
[null,"California Fisheries and Seafood Institute","STATE","NGO",5,2,null,null,null,null,null,null,true]
[null,"California Ocean Science Trust","STATE","GOVERNMENT",5,2,null,null,null,null,null,null,true]
[null,"California Office of Oil Spill Prevention and Response (CA RESOURCES)","STATE","GOVERNMENT",5,2,null,null,null,null,null,null,true]
[null,"California Polytechnic State University, San Luis Obispo (Cal Poly)","STATE","ACADEMIC INSTITUTION",5,2,null,null,null,null,null,null,true]
[null,"California Regional Water Quality Board","STATE","GOVERNMENT",5,2,null,null,null,null,null,null,true]
[null,"California Resources Agency","STATE","GOVERNMENT",5,2,null,null,null,null,null,null,true]
[null,"California Salmon Council","STATE","NGO",5,2,null,null,null,null,null,null,true]
[null,"California Science Center","STATE","NGO",5,2,null,null,null,null,null,null,true]
[null,"California Sea Urchin Commission","STATE","NGO",5,2,null,null,null,null,null,null,true]
[null,"California Shore and Beach Preservation Association","STATE","NGO",5,2,null,null,null,null,null,null,true]
[null,"California State Assembly","STATE","GOVERNMENT",5,2,null,null,null,null,null,null,true]
[null,"California State Lands Commission","STATE","GOVERNMENT",5,2,null,null,null,null,null,null,true]
[null,"California State Lands Commission (CA RESOURCES)","STATE","GOVERNMENT",5,2,null,null,null,null,null,null,true]
[null,"California State Parks","STATE","GOVERNMENT",5,2,null,null,null,null,null,null,true]
[null,"California State Senate","STATE","GOVERNMENT",5,2,null,null,null,null,null,null,true]
[null,"California State University (CSU)","STATE","ACADEMIC INSTITUTION",5,2,null,null,null,null,null,null,true]
[null,"California State University Maritime Academy (CSU)","STATE","ACADEMIC INSTITUTION",5,2,null,null,null,null,null,null,true]
[null,"California State University, Fresno (CSUFresno)","STATE","ACADEMIC INSTITUTION",5,2,null,null,null,null,null,null,true]
[null,"California State University, Fullerton (CSUF)","STATE","ACADEMIC INSTITUTION",5,2,null,null,null,null,null,null,true]
[null,"California State University, Long Beach (CSULB)","STATE","ACADEMIC INSTITUTION",5,2,null,null,null,null,null,null,true]
[null,"College of Natural Sciences and Mathematics, California State University, Long Beach (CSULB)","STATE","ACADEMIC INSTITUTION",5,2,null,null,null,null,null,null,{"$f":"AND(  NOT(ISERROR(FIND(UPPER($B$7),UPPER($B398),1))),  OR($D$7=\"\",NOT(ISERROR(FIND(UPPER($D$7),UPPER($B398),1)))),    OR($D$8=\"\",(ISERROR(FIND(UPPER($D$8),UPPER($B398),1))))           )","v":true}]
[null,"Ocean Studies Institute, California State University, Long Beach (CSULB)","STATE","ACADEMIC INSTITUTION",5,2,null,null,null,null,null,null,true]
[null,"California State University, Los Angeles (CSULA)","STATE","ACADEMIC INSTITUTION",5,2,null,null,null,null,null,null,true]
[null,"California State University, Monterey Bay (CSUMB)","STATE","ACADEMIC INSTITUTION",5,2,null,null,null,null,null,null,true]
[null,"Tiburon Marine Laboratory, California State University, San Francisco  (CSUSF)","STATE","ACADEMIC INSTITUTION",5,2,null,null,null,null,null,null,true]
[null,"Department of Biological Sciences, California State Univserity, Long Beach (CSULB)","STATE","ACADEMIC INSTITUTION",5,2,null,null,null,null,null,null,true]
[null,"California State Water Resources Control Board","STATE","GOVERNMENT",5,2,null,null,null,null,null,null,true]
[null,"California State Water Resources Control Board (CA RESOURCES, WRCB)","STATE","GOVERNMENT",5,2,null,null,null,null,null,null,true]
[null,"California Superintendent of Education","STATE","GOVERNMENT",5,2,null,null,null,null,null,null,true]
[null,"California Water Resources Control Board","STATE","GOVERNMENT",5,2,null,null,null,null,null,null,true]
[null,"Calista Corporation","FEDERAL or NATIONAL","INDUSTRY AND BUSINESS",5,4,null,null,null,null,null,null,true]
[null,"Camden County","LOCAL","GOVERNMENT",5,1,null,null,null,null,null,null,true]
[null,"Cameron Parish School Board","LOCAL","ACADEMIC INSTITUTION",5,1,null,null,null,null,null,null,true]
[null,"Camp Berachah","LOCAL","NGO",5,1,null,null,null,null,null,null,true]
[null,"Can Tho Agricultural and Animal Products (IMEX Company)","INTERNATIONAL","INDUSTRY AND BUSINESS",5,5,null,null,null,null,null,null,true]
[null,"Canada Center for Inland Waters","INTERNATIONAL","GOVERNMENT",5,5,null,null,null,null,null,null,true]
[null,"Fisheries and Oceans Canada (DFO)","INTERNATIONAL","GOVERNMENT",5,5,null,null,null,null,null,null,true]
[null,"Canadian Food Inspection Agency","INTERNATIONAL","GOVERNMENT",5,5,null,null,null,null,null,null,true]
[null,"Capable Construction Company","LOCAL","INDUSTRY AND BUSINESS",5,1,null,null,null,null,null,null,true]
[null,"Cape Hatteras National Seashore, National Park Service (US DOI, NPS)","FEDERAL or NATIONAL","GOVERNMENT",5,4,null,null,null,null,null,null,true]
[null,"Cape May County","LOCAL","GOVERNMENT",5,1,null,null,null,null,null,null,true]
[null,"Capitol Land Trust","FEDERAL or NATIONAL","NGO",5,4,null,null,null,null,null,null,true]
[null,"Caribbean Marine Research Center","REGIONAL","OTHER PARTNERS",5,3,null,null,null,null,null,null,true]
[null,"Carlson Media","FEDERAL or NATIONAL","INDUSTRY AND BUSINESS",5,4,null,null,null,null,null,null,true]
[null,"Carolina Fisheries","FEDERAL or NATIONAL","INDUSTRY AND BUSINESS",5,4,null,null,null,null,null,null,true]
[null,"Carolinas Beach Vitex Task Force","REGIONAL","NGO",5,3,null,null,null,null,null,null,true]
[null,"Carolinas Coastal Ocean Observing and Prediction System (Caro-COOPS)","REGIONAL","GOVERNMENT",5,3,null,null,null,null,null,null,true]
[null,"Caroline County Commissioners","LOCAL","GOVERNMENT",5,1,null,null,null,null,null,null,true]
[null,"Caroline County Municipalities","LOCAL","GOVERNMENT",5,1,null,null,null,null,null,null,true]
[null,"Carroll College","STATE","ACADEMIC INSTITUTION",5,2,null,null,null,null,null,null,true]
[null,"Carteret Catch, Morehead City","STATE","NGO",5,2,null,null,null,null,null,null,true]
[null,"Carteret Community College","STATE","ACADEMIC INSTITUTION",5,2,null,null,null,null,null,null,true]
[null,"Carteret County Chamber of Commerce","LOCAL","INDUSTRY AND BUSINESS",5,1,null,null,null,null,null,null,true]
[null,"Carteret County Chapter of the American Culinary Federation","LOCAL","NGO",5,1,null,null,null,null,null,null,true]
[null,"Carteret County Economic Development Council","LOCAL","GOVERNMENT",5,1,null,null,null,null,null,null,true]
[null,"Carteret County Fishermen's Association","LOCAL","GOVERNMENT",5,1,null,null,null,null,null,null,true]
[null,"Carteret County Shore Protection Office","LOCAL","GOVERNMENT",5,1,null,null,null,null,null,null,true]
[null,"Casco Bay Estuary Project","LOCAL","NGO",5,1,null,null,null,null,null,null,true]
[null,"Case Western Reserve University (CASE)","STATE","ACADEMIC INSTITUTION",5,2,null,null,null,null,null,null,true]
[null,"Casey’s Seafood","FEDERAL or NATIONAL","INDUSTRY AND BUSINESS",5,4,null,null,null,null,null,null,true]
[null,"Castaway Bay","LOCAL","INDUSTRY AND BUSINESS",5,1,null,null,null,null,null,null,true]
[null,"Caw Caw Interpretative Center","LOCAL","OTHER PARTNERS",5,1,null,null,null,null,null,null,true]
[null,"Cedar Point Amusement Park","LOCAL","INDUSTRY AND BUSINESS",5,1,null,null,null,null,null,null,true]
[null,"Cedar Point Marina","LOCAL","INDUSTRY AND BUSINESS",5,1,null,null,null,null,null,null,true]
[null,"Census for Marine Life (CoML)","INTERNATIONAL","NGO",5,5,null,null,null,null,null,null,true]
[null,"Center for Alaskan Coastal Studies","REGIONAL","NGO",5,3,null,null,null,null,null,null,true]
[null,"Center for Great Lakes Environmental Education","REGIONAL","ACADEMIC INSTITUTION",5,3,null,null,null,null,null,null,true]
[null,"Center for Heritage Resources Study","FEDERAL or NATIONAL","OTHER PARTNERS",5,4,null,null,null,null,null,null,true]
[null,"Center for Marine Conservation","FEDERAL or NATIONAL","NGO",5,4,null,null,null,null,null,null,true]
[null,"Center for Tropical and Subtropical Aquaculture","REGIONAL","NGO",5,3,null,null,null,null,null,null,true]
[null,"Center for Watershed Protection","FEDERAL or NATIONAL","OTHER PARTNERS",5,4,null,null,null,null,null,null,true]
[null,"Center of Excellence for Great Lakes and Human Health (US DOC, NOAA, OAR, GLERL, CEGLHH)","FEDERAL or NATIONAL","GOVERNMENT",5,4,null,null,null,null,null,null,true]
[null,"Centers for Ocean Sciences Education Excellence (COSEE)","FEDERAL or NATIONAL","ACADEMIC INSTITUTION",5,4,null,null,null,null,null,null,true]
[null,"Central American University","INTERNATIONAL","ACADEMIC INSTITUTION",5,5,null,null,null,null,null,null,true]
[null,"Central Bering Sea Fishermen’s Association","LOCAL","NGO",5,1,null,null,null,null,null,null,true]
[null,"Central Council: Tlingit and Haida Indian Tribes of Alaska","Tribal","GOVERNMENT",5,13,null,null,null,null,null,null,true]
[null,"Central Lake Superior Watershed Partnership","LOCAL","GOVERNMENT",5,1,null,null,null,null,null,null,true]
[null,"Central Michigan University (CMICH)","STATE","ACADEMIC INSTITUTION",5,2,null,null,null,null,null,null,true]
[null,"Channel Islands National Marine Sanctuary (US DOC, NOAA, NOS, ONMS)","FEDERAL or NATIONAL","GOVERNMENT",5,4,null,null,null,null,null,null,true]
[null,"Channel Park Marina","LOCAL","INDUSTRY AND BUSINESS",5,1,null,null,null,null,null,null,true]
[null,"Charleston County Parks and Recreation Commission ","LOCAL","GOVERNMENT",5,1,null,null,null,null,null,null,true]
[null,"Charleston Homeownership Center ","LOCAL","NGO",5,1,null,null,null,null,null,null,true]
[null,"Charleston Metro Chamber of Commerce ","LOCAL","INDUSTRY AND BUSINESS",5,1,null,null,null,null,null,null,true]
[null,"Charlier Associates, Inc.","FEDERAL or NATIONAL","INDUSTRY AND BUSINESS",5,4,null,null,null,null,null,null,true]
[null,"Chatham County","LOCAL","GOVERNMENT",5,1,null,null,null,null,null,null,{"$f":"AND(  NOT(ISERROR(FIND(UPPER($B$7),UPPER($B462),1))),  OR($D$7=\"\",NOT(ISERROR(FIND(UPPER($D$7),UPPER($B462),1)))),    OR($D$8=\"\",(ISERROR(FIND(UPPER($D$8),UPPER($B462),1))))           )","v":true}]
[null,"Chatham County Chatham County - Savannah Metropolitan Planning Commission","LOCAL","GOVERNMENT",5,1,null,null,null,null,null,null,true]
[null,"Chef John Maxwell","LOCAL","INDUSTRY AND BUSINESS",5,1,null,null,null,null,null,null,true]
[null,"Chehalis Tribe","Tribal","GOVERNMENT",5,13,null,null,null,null,null,null,true]
[null,"Chelsea Farms","LOCAL","INDUSTRY AND BUSINESS",5,1,null,null,null,null,null,null,true]
[null,"Chemeketa Community College","STATE","ACADEMIC INSTITUTION",5,2,null,null,null,null,null,null,true]
[null,"Cherrystone Aquafarms","FEDERAL or NATIONAL","INDUSTRY AND BUSINESS",5,4,null,null,null,null,null,null,true]
[null,"Chesapeake Bay Field Office (US DOI, FWS)","FEDERAL or NATIONAL","GOVERNMENT",5,4,null,null,null,null,null,null,true]
[null,"Chesapeake Bay Foundation","REGIONAL","NGO",5,3,null,null,null,null,null,null,true]
[null,"Chesapeake Bay Governor’s School","STATE","ACADEMIC INSTITUTION",5,2,null,null,null,null,null,null,true]
[null,"Chesapeake Bay National Estuarine Research Reserve (US DOC, NOAA, NOS, NERRS)","FEDERAL or NATIONAL","GOVERNMENT",5,4,null,null,null,null,null,null,true]
[null,"Chesapeake Bay NEMO","FEDERAL or NATIONAL","OTHER PARTNERS",5,4,null,null,null,null,null,null,true]
[null,"Chesapeake Bay Program","FEDERAL or NATIONAL","OTHER PARTNERS",5,4,null,null,null,null,null,null,true]
[null,"Chesapeake Bay Region Technical Center for Excellence","REGIONAL","OTHER PARTNERS",5,3,null,null,null,null,null,null,true]
[null,"Chesapeake Bay Trust","REGIONAL","NGO",5,3,null,null,null,null,null,null,true]
[null,"Chevron","INTERNATIONAL","INDUSTRY AND BUSINESS",5,5,null,null,null,null,null,null,true]
[null,"Chevron Refineries","INTERNATIONAL","INDUSTRY AND BUSINESS",5,5,null,null,null,null,null,null,true]
[null,"Chewonki Foundation","FEDERAL or NATIONAL","NGO",5,4,null,null,null,null,null,null,true]
[null,"Chicago Botanic Garden","LOCAL","OTHER PARTNERS",5,1,null,null,null,null,null,null,true]
[null,"Chicago Department of the Environment","LOCAL","GOVERNMENT",5,1,null,null,null,null,null,null,true]
[null,"Chicago District (DoD, Army, USACE)","FEDERAL or NATIONAL","GOVERNMENT",5,4,null,null,null,null,null,null,true]
[null,"Chicago Park District","LOCAL","GOVERNMENT",5,1,null,null,null,null,null,null,true]
[null,"Chicago Public Schools","LOCAL","GOVERNMENT",5,1,null,null,null,null,null,null,true]
[null,"Chicago State University (CSU)","STATE","ACADEMIC INSTITUTION",5,2,null,null,null,null,null,null,true]
[null,"Chicago Wilderness","LOCAL","NGO",5,1,null,null,null,null,null,null,true]
[null,"Chignik Salmon Cooperative","LOCAL","NGO",5,1,null,null,null,null,null,null,true]
[null,"Chinese Academy of Sciences","INTERNATIONAL","GOVERNMENT",5,5,null,null,null,null,null,null,true]
[null,"Chippewa Ottawa Resources Authority (CORA)","FEDERAL or NATIONAL","OTHER PARTNERS",5,4,null,null,null,null,null,null,true]
[null,"Chris Woolaway and Associates, LLC","LOCAL","INDUSTRY AND BUSINESS",5,1,null,null,null,null,null,null,true]
[null,"Christie Printing Company","LOCAL","INDUSTRY AND BUSINESS",5,1,null,null,null,null,null,null,true]
[null,"Chuckanut Shellfish, Inc.","LOCAL","INDUSTRY AND BUSINESS",5,1,null,null,null,null,null,null,true]
[null,"Citizens of Kitsap County","LOCAL","NGO",5,1,null,null,null,null,null,null,true]
[null,"City and County of Honolulu, Board of Water Supply","LOCAL","GOVERNMENT",5,1,null,null,null,null,null,null,true]
[null,"City and County of Honolulu, Department of Environmental Services","LOCAL","GOVERNMENT",5,1,null,null,null,null,null,null,true]
[null,"City and County of Honolulu, Office of the Mayor","LOCAL","GOVERNMENT",5,1,null,null,null,null,null,null,true]
[null,"City and County of Honolulu, Water Safety Division","LOCAL","GOVERNMENT",5,1,null,null,null,null,null,null,true]
[null,"City and County of Honolulu, Design and Construction","LOCAL","GOVERNMENT",5,1,null,null,null,null,null,null,true]
[null,"City and County of Honolulu, Environmental Services","LOCAL","GOVERNMENT",5,1,null,null,null,null,null,null,true]
[null,"City and County of Honolulu, Parks and Recreation Department","LOCAL","GOVERNMENT",5,1,null,null,null,null,null,null,true]
[null,"City and County of Honolulu, Planning Department","LOCAL","GOVERNMENT",5,1,null,null,null,null,null,null,true]
[null,"City of Arcata, CA","LOCAL","GOVERNMENT",5,1,null,null,null,null,null,null,true]
[null,"City of Ashtabula, OH","LOCAL","GOVERNMENT",5,1,null,null,null,null,null,null,true]
[null,"City of Biloxi, MS","LOCAL","GOVERNMENT",5,1,null,null,null,null,null,null,true]
[null,"City of Calabasas, CA","LOCAL","GOVERNMENT",5,1,null,null,null,null,null,null,true]
[null,"City of Chester, PA","LOCAL","GOVERNMENT",5,1,null,null,null,null,null,null,true]
[null,"City of Chicago, IL","LOCAL","GOVERNMENT",5,1,null,null,null,null,null,null,true]
[null,"City of Cleveland, OH","LOCAL","GOVERNMENT",5,1,null,null,null,null,null,null,true]
[null,"City of Coronado, CA","LOCAL","GOVERNMENT",5,1,null,null,null,null,null,null,true]
[null,"City of Costa Mesa, CA","LOCAL","GOVERNMENT",5,1,null,null,null,null,null,null,true]
[null,"City of Craig, AK","LOCAL","GOVERNMENT",5,1,null,null,null,null,null,null,true]
[null,"City of Cranston, RI","LOCAL","GOVERNMENT",5,1,null,null,null,null,null,null,true]
[null,"City of Dana Point, CA","LOCAL","GOVERNMENT",5,1,null,null,null,null,null,null,true]
[null,"City of Darien, CT","LOCAL","GOVERNMENT",5,1,null,null,null,null,null,null,true]
[null,"City of Duluth, MN","LOCAL","GOVERNMENT",5,1,null,null,null,null,null,null,true]
[null,"City of Duluth, MN School District","LOCAL","GOVERNMENT",5,1,null,null,null,null,null,null,true]
[null,"City of Eagan, MN","LOCAL","GOVERNMENT",5,1,null,null,null,null,null,null,true]
[null,"City of East Greenwich, RI","LOCAL","GOVERNMENT",5,1,null,null,null,null,null,null,true]
[null,"City of East Providence, RI","LOCAL","GOVERNMENT",5,1,null,null,null,null,null,null,true]
[null,"City of Encinitas, CA","LOCAL","GOVERNMENT",5,1,null,null,null,null,null,null,true]
[null,"City of Eureka, CA","LOCAL","GOVERNMENT",5,1,null,null,null,null,null,null,true]
[null,"City of Fairbanks, AK","LOCAL","GOVERNMENT",5,1,null,null,null,null,null,null,true]
[null,"City of Foley, AL","LOCAL","GOVERNMENT",5,1,null,null,null,null,null,null,true]
[null,"City of Gulf Shores, AL","LOCAL","GOVERNMENT",5,1,null,null,null,null,null,null,true]
[null,"City of Hermantown, MN","LOCAL","GOVERNMENT",5,1,null,null,null,null,null,null,true]
[null,"City of Huntington Beach, CA","LOCAL","GOVERNMENT",5,1,null,null,null,null,null,null,{"$f":"AND(  NOT(ISERROR(FIND(UPPER($B$7),UPPER($B526),1))),  OR($D$7=\"\",NOT(ISERROR(FIND(UPPER($D$7),UPPER($B526),1)))),    OR($D$8=\"\",(ISERROR(FIND(UPPER($D$8),UPPER($B526),1))))           )","v":true}]
[null,"City of Huron, OH Boat Basin","LOCAL","GOVERNMENT",5,1,null,null,null,null,null,null,true]
[null,"City of Laguna Beach, CA","LOCAL","GOVERNMENT",5,1,null,null,null,null,null,null,true]
[null,"City of Lorain, OH","LOCAL","GOVERNMENT",5,1,null,null,null,null,null,null,true]
[null,"City of Los Angeles, CA Bureau of Sanitation","LOCAL","GOVERNMENT",5,1,null,null,null,null,null,null,true]
[null,"City of Los Angeles, CA Environmental Monitoring Division","LOCAL","GOVERNMENT",5,1,null,null,null,null,null,null,true]
[null,"City of Los Angeles, CA Hyperion Sewage Treatment Plant","LOCAL","GOVERNMENT",5,1,null,null,null,null,null,null,true]
[null,"City of Los Angeles, CA Public Works Agency","LOCAL","GOVERNMENT",5,1,null,null,null,null,null,null,true]
[null,"City of Malibu, CA","LOCAL","GOVERNMENT",5,1,null,null,null,null,null,null,true]
[null,"City of Mentor, OH","LOCAL","GOVERNMENT",5,1,null,null,null,null,null,null,true]
[null,"City of Moss Point, MS","LOCAL","GOVERNMENT",5,1,null,null,null,null,null,null,true]
[null,"City of New York, NY Department of Environmental Protection (NYC DEP)","LOCAL","GOVERNMENT",5,1,null,null,null,null,null,null,true]
[null,"City of Newport Beach, CA","LOCAL","GOVERNMENT",5,1,null,null,null,null,null,null,true]
[null,"City of Newport, RI","LOCAL","GOVERNMENT",5,1,null,null,null,null,null,null,true]
[null,"City of Ocean Springs, MS","LOCAL","GOVERNMENT",5,1,null,null,null,null,null,null,true]
[null,"City of Orange Beach, AL ","LOCAL","GOVERNMENT",5,1,null,null,null,null,null,null,true]
[null,"City of Oxnard, CA","LOCAL","GOVERNMENT",5,1,null,null,null,null,null,null,true]
[null,"City of Pawtucket, RI","LOCAL","GOVERNMENT",5,1,null,null,null,null,null,null,true]
[null,"City of Port Clinton, OH","LOCAL","GOVERNMENT",5,1,null,null,null,null,null,null,true]
[null,"City of Port Hueneme, CA","LOCAL","GOVERNMENT",5,1,null,null,null,null,null,null,true]
[null,"City of Proctor, MN","LOCAL","GOVERNMENT",5,1,null,null,null,null,null,null,true]
[null,"City of Providence, RI","LOCAL","GOVERNMENT",5,1,null,null,null,null,null,null,true]
[null,"City of Salem, MA","LOCAL","GOVERNMENT",5,1,null,null,null,null,null,null,true]
[null,"City of San Clemente, CA","LOCAL","GOVERNMENT",5,1,null,null,null,null,null,null,true]
[null,"City of San Diego, CA","LOCAL","GOVERNMENT",5,1,null,null,null,null,null,null,true]
[null,"City of San Diego, CA Metro Wastewater Department","LOCAL","GOVERNMENT",5,1,null,null,null,null,null,null,true]
[null,"City of Sandusky, OH","LOCAL","GOVERNMENT",5,1,null,null,null,null,null,null,true]
[null,"City of Santa Monica, CA","LOCAL","GOVERNMENT",5,1,null,null,null,null,null,null,true]
[null,"City of Superior, WI","LOCAL","GOVERNMENT",5,1,null,null,null,null,null,null,true]
[null,"City of Toledo, OH","LOCAL","GOVERNMENT",5,1,null,null,null,null,null,null,true]
[null,"City of Ventura, CA","LOCAL","GOVERNMENT",5,1,null,null,null,null,null,null,true]
[null,"City of Warwick, RI","LOCAL","GOVERNMENT",5,1,null,null,null,null,null,null,true]
[null,"City Park– New Orleans, LA","LOCAL","GOVERNMENT",5,1,null,null,null,null,null,null,true]
[null,"City/Borough of Juneau, AK School District","LOCAL","GOVERNMENT",5,1,null,null,null,null,null,null,true]
[null,"Clackamas Community Farmer's Market","LOCAL","OTHER PARTNERS",5,1,null,null,null,null,null,null,true]
[null,"Clackamas County, MA","LOCAL","GOVERNMENT",5,1,null,null,null,null,null,null,true]
[null,"Clam Acres","LOCAL","INDUSTRY AND BUSINESS",5,1,null,null,null,null,null,null,true]
[null,"Clark University","STATE","ACADEMIC INSTITUTION",5,2,null,null,null,null,null,null,true]
[null,"Clarke School of Math and Science","LOCAL","ACADEMIC INSTITUTION",5,1,null,null,null,null,null,null,true]
[null,"Clatsop Community College","STATE","ACADEMIC INSTITUTION",5,2,null,null,null,null,null,null,true]
[null,"Clatsop County","LOCAL","GOVERNMENT",5,1,null,null,null,null,null,null,true]
[null,"Clatsop Economic Development Council","LOCAL","GOVERNMENT",5,1,null,null,null,null,null,null,true]
[null,"Clean Beaches Council","FEDERAL or NATIONAL","NGO",5,4,null,null,null,null,null,null,true]
[null,"Clean Marina Program","FEDERAL or NATIONAL","GOVERNMENT",5,4,null,null,null,null,null,null,true]
[null,"Clean Water Action Alliance of Minnesota","STATE","NGO",5,2,null,null,null,null,null,null,true]
[null,"Clean Wisconsin","STATE","NGO",5,2,null,null,null,null,null,null,true]
[null,"Clemson University","STATE","ACADEMIC INSTITUTION",5,2,null,null,null,null,null,null,true]
[null,"Cleveland Museum of Natural History","LOCAL","NGO",5,1,null,null,null,null,null,null,true]
[null,"Cleveland State University (CSUOhio)","STATE","ACADEMIC INSTITUTION",5,2,null,null,null,null,null,null,true]
[null,"Club Caribbean Dive and Travel","LOCAL","INDUSTRY AND BUSINESS",5,1,null,null,null,null,null,null,true]
[null,"Coalition of Washington Ocean Fishermen","STATE","INDUSTRY AND BUSINESS",5,2,null,null,null,null,null,null,true]
[null,"Coalition to Save Coastal Louisiana","STATE","NGO",5,2,null,null,null,null,null,null,true]
[null,"Coast Seafoods, Co.","REGIONAL","INDUSTRY AND BUSINESS",5,3,null,null,null,null,null,null,true]
[null,"Coastal Advisory Council (GA DNR, CAC)","STATE","GOVERNMENT",5,2,null,null,null,null,null,null,true]
[null,"Coastal America","FEDERAL or NATIONAL","OTHER PARTNERS",5,4,null,null,null,null,null,null,true]
[null,"Coastal and Marine Geology Program (US DOI, USGS, CMGP)","FEDERAL or NATIONAL","ACADEMIC INSTITUTION",5,4,null,null,null,null,null,null,true]
[null,"Coastal Carolina University (CCU)","STATE","ACADEMIC INSTITUTION",5,2,null,null,null,null,null,null,true]
[null,"Coastal Conservation Association","FEDERAL or NATIONAL","NGO",5,4,null,null,null,null,null,null,true]
[null,"Coastal Data Information Project, University of Califorinia, San Diego, Scripps Institute of Oceanography (UCSD)","STATE","ACADEMIC INSTITUTION",5,2,null,null,null,null,null,null,true]
[null,"Coastal Discovery Museum ","LOCAL","INDUSTRY AND BUSINESS",5,1,null,null,null,null,null,null,true]
[null,"Coastal Expeditions","LOCAL","INDUSTRY AND BUSINESS",5,1,null,null,null,null,null,null,true]
[null,"Coastal Georgia Regional Development Center","REGIONAL","NGO",5,3,null,null,null,null,null,null,true]
[null,"Coastal Hazards Working Group","FEDERAL or NATIONAL","OTHER PARTNERS",5,4,null,null,null,null,null,null,true]
[null,"Coastal Land Trust","FEDERAL or NATIONAL","NGO",5,4,null,null,null,null,null,null,true]
[null,"Coastal Landscape Construction ","STATE","INDUSTRY AND BUSINESS",5,2,null,null,null,null,null,null,{"$f":"AND(  NOT(ISERROR(FIND(UPPER($B$7),UPPER($B590),1))),  OR($D$7=\"\",NOT(ISERROR(FIND(UPPER($D$7),UPPER($B590),1)))),    OR($D$8=\"\",(ISERROR(FIND(UPPER($D$8),UPPER($B590),1))))           )","v":true}]
[null,"Coastal Model Development Center (US DOC, NOAA, NESDIS, NODC, NCDDC)","FEDERAL or NATIONAL","GOVERNMENT",5,4,null,null,null,null,null,null,true]
[null,"Coastal Ocean Program (US DOC, NOAA, NOS, NCCOS, COP)","FEDERAL or NATIONAL","GOVERNMENT",5,4,null,null,null,null,null,null,true]
[null,"Coastal Resources Alliance","FEDERAL or NATIONAL","NGO",5,4,null,null,null,null,null,null,true]
[null,"Coastal Services Center (US DOC, NOAA, NOS, CSC)","FEDERAL or NATIONAL","GOVERNMENT",5,4,null,null,null,null,null,null,true]
[null,"Coastal States Organization (CSO)","FEDERAL or NATIONAL","NGO",5,4,null,null,null,null,null,null,true]
[null,"Coastal Training Program (US DOC, NOAA, NOS, NERRS)","FEDERAL or NATIONAL","GOVERNMENT",5,4,null,null,null,null,null,null,true]
[null,"Coastal Villages Region Fund","FEDERAL or NATIONAL","NGO",5,4,null,null,null,null,null,null,true]
[null,"CoastWatch","FEDERAL or NATIONAL","NGO",5,4,null,null,null,null,null,null,true]
[null,"Cobscook Bay Resource Center","REGIONAL","NGO",5,3,null,null,null,null,null,null,true]
[null,"Coca-Cola Bottling Company of Mobile ","INTERNATIONAL","INDUSTRY AND BUSINESS",5,5,null,null,null,null,null,null,true]
[null,"Coleman and Castle","LOCAL","INDUSTRY AND BUSINESS",5,1,null,null,null,null,null,null,true]
[null,"College of Charleston","STATE","ACADEMIC INSTITUTION",5,2,null,null,null,null,null,null,true]
[null,"College of Marin","STATE","ACADEMIC INSTITUTION",5,2,null,null,null,null,null,null,true]
[null,"College of St. Scholastica","STATE","ACADEMIC INSTITUTION",5,2,null,null,null,null,null,null,true]
[null,"College of Staten Island (CUNY)","STATE","ACADEMIC INSTITUTION",5,2,null,null,null,null,null,null,true]
[null,"College of the Atlantic","STATE","ACADEMIC INSTITUTION",5,2,null,null,null,null,null,null,true]
[null,"College of the Marshall Islands","STATE","ACADEMIC INSTITUTION",5,2,null,null,null,null,null,null,true]
[null,"Columbia County","LOCAL","GOVERNMENT",5,1,null,null,null,null,null,null,true]
[null,"Columbia Environmental Research Center (US DOI, USGS)","FEDERAL or NATIONAL","GOVERNMENT",5,4,null,null,null,null,null,null,true]
[null,"Columbia River Bar Pilots Association","LOCAL","INDUSTRY AND BUSINESS",5,1,null,null,null,null,null,null,true]
[null,"Columbia River Crab Fishermen's Association","LOCAL","INDUSTRY AND BUSINESS",5,1,null,null,null,null,null,null,true]
[null,"Columbia River Estuary Task Force","LOCAL","NGO",5,1,null,null,null,null,null,null,true]
[null,"Columbia River Fish Farm","REGIONAL","INDUSTRY AND BUSINESS",5,3,null,null,null,null,null,null,true]
[null,"Columbus Foundation","FEDERAL or NATIONAL","NGO",5,4,null,null,null,null,null,null,true]
[null,"Commander Islands Nature Protection Association","INTERNATIONAL","GOVERNMENT",5,5,null,null,null,null,null,null,true]
[null,"Commercial Fisheries News","FEDERAL or NATIONAL","INDUSTRY AND BUSINESS",5,4,null,null,null,null,null,null,true]
[null,"Commercial lobstermen in Connecticut and New York","REGIONAL","INDUSTRY AND BUSINESS",5,3,null,null,null,null,null,null,true]
[null,"Committee on the Environment","INTERNATIONAL","OTHER PARTNERS",5,5,null,null,null,null,null,null,true]
[null,"Commonwealth of Massachusetts","STATE","GOVERNMENT",5,2,null,null,null,null,null,null,true]
[null,"Community Foundation of Monterey Bay ","INTERNATIONAL","NGO",5,5,null,null,null,null,null,null,true]
[null,"Community Seafood Initiative","INTERNATIONAL","NGO",5,5,null,null,null,null,null,null,true]
[null,"Computer Science Corporation","LOCAL","INDUSTRY AND BUSINESS",5,1,null,null,null,null,null,null,true]
[null,"Confederated Tribes of Coos","Tribal","GOVERNMENT",5,13,null,null,null,null,null,null,true]
[null,"Confederated Tribes of the Siletz Tribal Council","Tribal","GOVERNMENT",5,13,null,null,null,null,null,null,true]
[null,"Confederated Tribes of the Umatilla Indian Reservation","Tribal","GOVERNMENT",5,13,null,null,null,null,null,null,true]
[null,"Connecticut Agricultural Experiment Station (CAES)","STATE","GOVERNMENT",5,2,null,null,null,null,null,null,true]
[null,"Connecticut Bar Association","STATE","OTHER PARTNERS",5,2,null,null,null,null,null,null,true]
[null,"Connecticut Chapter of the American Planning Institute","STATE","OTHER PARTNERS",5,2,null,null,null,null,null,null,true]
[null,"Connecticut College","STATE","ACADEMIC INSTITUTION",5,2,null,null,null,null,null,null,true]
[null,"Connecticut College Arboretum","LOCAL","NGO",5,1,null,null,null,null,null,null,true]
[null,"Connecticut Department of Agriculture, Bureau of Aquaculture  (CT CTDA)","STATE","GOVERNMENT",5,2,null,null,null,null,null,null,true]
[null,"Connecticut Department of Agriculture, Bureau of Marketing / Promotion (CT CTDA)","STATE","GOVERNMENT",5,2,null,null,null,null,null,null,true]
[null,"Connecticut Department of Environmental Protection—Boating Program (CT DEP)","STATE","GOVERNMENT",5,2,null,null,null,null,null,null,true]
[null,"Connecticut Department of Environmental Protection—Inland Fisheries Program (CT DEP)","STATE","GOVERNMENT",5,2,null,null,null,null,null,null,true]
[null,"Connecticut Department of Environmental Protection—Marine Fisheries Program (CT DEP)","STATE","GOVERNMENT",5,2,null,null,null,null,null,null,true]
[null,"Connecticut Department of Environmental Protection—Office of Long Island Sound Programs (CT DEP)","STATE","GOVERNMENT",5,2,null,null,null,null,null,null,true]
[null,"Connecticut Department of Environmental Protection—Pesticides Program (CT DEP)","STATE","GOVERNMENT",5,2,null,null,null,null,null,null,true]
[null,"Connecticut Department of Environmental Protection—Water Management Program (CT DEP)","STATE","GOVERNMENT",5,2,null,null,null,null,null,null,true]
[null,"Connecticut Department of Environmental Protection—Wildlife Program (CT DEP)","STATE","GOVERNMENT",5,2,null,null,null,null,null,null,true]
[null,"Connecticut District (US DOI, USGS)","FEDERAL or NATIONAL","GOVERNMENT",5,4,null,null,null,null,null,null,true]
[null,"Connecticut Farm Bureau","STATE","INDUSTRY AND BUSINESS",5,2,null,null,null,null,null,null,true]
[null,"Connecticut Federation of Lakes","STATE","OTHER PARTNERS",5,2,null,null,null,null,null,null,true]
[null,"Connecticut Institute of Water Resources","STATE","ACADEMIC INSTITUTION",5,2,null,null,null,null,null,null,true]
[null,"Connecticut Invasive Plant Working Group (AIS)","STATE","OTHER PARTNERS",5,2,null,null,null,null,null,null,true]
[null,"Connecticut Invasive Plants Council (AIS)","STATE","OTHER PARTNERS",5,2,null,null,null,null,null,null,true]
[null,"Connecticut municipal commissions","STATE","GOVERNMENT",5,2,null,null,null,null,null,null,true]
[null,"Connecticut school districts and teachers","STATE","ACADEMIC INSTITUTION",5,2,null,null,null,null,null,null,true]
[null,"Connecticut Seafood Council","STATE","INDUSTRY AND BUSINESS",5,2,null,null,null,null,null,null,true]
[null,"Connecticut Shellfish Aquaculture Industry","STATE","INDUSTRY AND BUSINESS",5,2,null,null,null,null,null,null,true]
[null,"Connecticut State Department of Education (CT ED)","STATE","GOVERNMENT",5,2,null,null,null,null,null,null,true]
[null,"Connecticut Working Lands Alliance","STATE","NGO",5,2,null,null,null,null,null,null,true]
[null,"Conservation Society of Pohnpei","LOCAL","OTHER PARTNERS",5,1,null,null,null,null,null,null,true]
[null,"Consortium for Ocean Leadership","FEDERAL or NATIONAL","NGO",5,4,null,null,null,null,null,null,true]
[null,"Consumer Center","Unknown2","OTHER PARTNERS",5,6,null,null,null,null,null,null,{"$f":"AND(  NOT(ISERROR(FIND(UPPER($B$7),UPPER($B654),1))),  OR($D$7=\"\",NOT(ISERROR(FIND(UPPER($D$7),UPPER($B654),1)))),    OR($D$8=\"\",(ISERROR(FIND(UPPER($D$8),UPPER($B654),1))))           )","v":true}]
[null,"Consumer Protection Division (GA AGR)","STATE","GOVERNMENT",5,2,null,null,null,null,null,null,true]
[null,"Cook County Forest Preserve","LOCAL","GOVERNMENT",5,1,null,null,null,null,null,null,true]
[null,"Cook Inlet Books","LOCAL","INDUSTRY AND BUSINESS",5,1,null,null,null,null,null,null,true]
[null,"Cooperative Institute for Marine Resources","FEDERAL or NATIONAL","NGO",5,4,null,null,null,null,null,null,true]
[null,"Cooperative Institute for Oceanographic Satellite Studies (CIOSS)","FEDERAL or NATIONAL","NGO",5,4,null,null,null,null,null,null,true]
[null,"Cooperative Research Unit, Penn State (US DOI, FWS)","FEDERAL or NATIONAL","GOVERNMENT",5,4,null,null,null,null,null,null,true]
[null,"Cooperative State Research, Education and Extension Service (USDA, CSREES)","FEDERAL or NATIONAL","GOVERNMENT",5,4,null,null,null,null,null,null,true]
[null,"Cooperative State Research, Education, and Extension Service (USDA)","FEDERAL or NATIONAL","GOVERNMENT",5,4,null,null,null,null,null,null,true]
[null,"Coos Bay Shellfish Task Force","LOCAL","NGO",5,1,null,null,null,null,null,null,true]
[null,"Coos County","LOCAL","GOVERNMENT",5,1,null,null,null,null,null,null,true]
[null,"Coos Watershed Association","LOCAL","GOVERNMENT",5,1,null,null,null,null,null,null,true]
[null,"Copper Station","Unknown2","OTHER PARTNERS",5,6,null,null,null,null,null,null,true]
[null,"Coquille Watershed Association","LOCAL","NGO",5,1,null,null,null,null,null,null,true]
[null,"Coral Reef Ecosystem Division (US DOC, NOAA, NMFS, PIFSC)","FEDERAL or NATIONAL","GOVERNMENT",5,4,null,null,null,null,null,null,true]
[null,"Cordova District Fishermen United","LOCAL","INDUSTRY AND BUSINESS",5,1,null,null,null,null,null,null,true]
[null,"Cordova High School","LOCAL","ACADEMIC INSTITUTION",5,1,null,null,null,null,null,null,true]
[null,"Core Sound Waterfowl Museum","LOCAL","NGO",5,1,null,null,null,null,null,null,true]
[null,"Cornell College of Veterinary Medicine","STATE","ACADEMIC INSTITUTION",5,2,null,null,null,null,null,null,true]
[null,"Cornell Cooperative Extension","STATE","ACADEMIC INSTITUTION",5,2,null,null,null,null,null,null,true]
[null,"Cornell University","STATE","ACADEMIC INSTITUTION",5,2,null,null,null,null,null,null,true]
[null,"Cornell University School of Ornithology","STATE","ACADEMIC INSTITUTION",5,2,null,null,null,null,null,null,true]
[null,"Council of Great Lakes Governors","REGIONAL","GOVERNMENT",5,3,null,null,null,null,null,null,true]
[null,"Council of Great Lakes Research Managers","INTERNATIONAL","GOVERNMENT",5,5,null,null,null,null,null,null,true]
[null,"Council on Environmental Quality (CEQ)","FEDERAL or NATIONAL","GOVERNMENT",5,4,null,null,null,null,null,null,true]
[null,"COUNTIES (MANY)","LOCAL","GOVERNMENT",5,1,null,null,null,null,null,null,true]
[null,"County Commissioners from all eight coastal counties","Unknown","Unknown",5,0,null,null,null,null,null,null,true]
[null,"County of Los Angeles, CA Department of Public Works","LOCAL","GOVERNMENT",5,1,null,null,null,null,null,null,true]
[null,"County of Monterey, CA Office of Economic Development (OED)","LOCAL","GOVERNMENT",5,1,null,null,null,null,null,null,true]
[null,"County of Orange, CA Heath Care Agency","LOCAL","GOVERNMENT",5,1,null,null,null,null,null,null,true]
[null,"County of San Diego, CA","LOCAL","GOVERNMENT",5,1,null,null,null,null,null,null,true]
[null,"Covanta Energy","FEDERAL or NATIONAL","INDUSTRY AND BUSINESS",5,4,null,null,null,null,null,null,true]
[null,"Cowart Seafood Corp.","FEDERAL or NATIONAL","INDUSTRY AND BUSINESS",5,4,null,null,null,null,null,null,true]
[null,"Creative Caretaking","LOCAL","INDUSTRY AND BUSINESS",5,1,null,null,null,null,null,null,true]
[null,"Crescent City Farmers' Market","LOCAL","INDUSTRY AND BUSINESS",5,1,null,null,null,null,null,null,true]
[null,"Crockett’s Oyster Farm","FEDERAL or NATIONAL","INDUSTRY AND BUSINESS",5,4,null,null,null,null,null,null,true]
[null,"Cross Lake Association","LOCAL","NGO",5,1,null,null,null,null,null,null,true]
[null,"Cross Sound Ferries Services, Inc.","LOCAL","INDUSTRY AND BUSINESS",5,1,null,null,null,null,null,null,true]
[null,"Cross’ Mills Public Library","LOCAL","GOVERNMENT",5,1,null,null,null,null,null,null,true]
[null,"Crowley Marine","LOCAL","OTHER PARTNERS",5,1,null,null,null,null,null,null,true]
[null,"Cryovac","LOCAL","INDUSTRY AND BUSINESS",5,1,null,null,null,null,null,null,true]
[null,"Crystal Coast Fisheries","LOCAL","INDUSTRY AND BUSINESS",5,1,null,null,null,null,null,null,true]
[null,"Crystal Pierz Marine","LOCAL","INDUSTRY AND BUSINESS",5,1,null,null,null,null,null,null,true]
[null,"Cumberland Island National Seashore","FEDERAL or NATIONAL","GOVERNMENT",5,4,null,null,null,null,null,null,true]
[null,"Curry County","LOCAL","GOVERNMENT",5,1,null,null,null,null,null,null,true]
[null,"CyberLynx (homeschool program)","STATE","NGO",5,2,null,null,null,null,null,null,true]
[null,"Czech Academy of Sciences","INTERNATIONAL","GOVERNMENT",5,5,null,null,null,null,null,null,true]
[null,"D and E Septic Service Inc.","LOCAL","INDUSTRY AND BUSINESS",5,1,null,null,null,null,null,null,true]
[null,"Dahman Shellfish Company","STATE","INDUSTRY AND BUSINESS",5,2,null,null,null,null,null,null,true]
[null,"Dancing Salmon Fisheries","FEDERAL or NATIONAL","INDUSTRY AND BUSINESS",5,4,null,null,null,null,null,null,true]
[null,"Danish Institute for Fisheries Research","INTERNATIONAL","GOVERNMENT",5,5,null,null,null,null,null,null,true]
[null,"Daphne Field Office  (US DOI, FWS)","FEDERAL or NATIONAL","GOVERNMENT",5,4,null,null,null,null,null,null,true]
[null,"Daphne High School ","STATE","ACADEMIC INSTITUTION",5,2,null,null,null,null,null,null,true]
[null,"Dare County Emergency Management","LOCAL","GOVERNMENT",5,1,null,null,null,null,null,null,true]
[null,"Dartmouth College","STATE","ACADEMIC INSTITUTION",5,2,null,null,null,null,null,null,true]
[null,"Dartmouth University ","STATE","ACADEMIC INSTITUTION",5,2,null,null,null,null,null,null,true]
[null,"Dauphin Island Chamber of Commerce","LOCAL","INDUSTRY AND BUSINESS",5,1,null,null,null,null,null,null,true]
[null,"Dauphin Island Parks and Beach Board/Fort Gaines ","LOCAL","GOVERNMENT",5,1,null,null,null,null,null,null,true]
[null,"Dauphin Island Sea Lab","FEDERAL or NATIONAL","ACADEMIC INSTITUTION",5,4,null,null,null,null,null,null,true]
[null,"Day2 Enterprises","LOCAL","INDUSTRY AND BUSINESS",5,1,null,null,null,null,null,null,true]
[null,"DeeDee Paschal Barrier Island Trust","LOCAL","NGO",5,1,null,null,null,null,null,null,true]
[null,"Deep Sea Fishermen’s Union","FEDERAL or NATIONAL","NGO",5,4,null,null,null,null,null,null,true]
[null,"DeGraff Nature Center","LOCAL","NGO",5,1,null,null,null,null,null,null,true]
[null,"Degussa Corporation ","FEDERAL or NATIONAL","INDUSTRY AND BUSINESS",5,4,null,null,null,null,null,null,true]
[null,"Del Norte County Resource Conservation District","LOCAL","GOVERNMENT",5,1,null,null,null,null,null,null,{"$f":"AND(  NOT(ISERROR(FIND(UPPER($B$7),UPPER($B718),1))),  OR($D$7=\"\",NOT(ISERROR(FIND(UPPER($D$7),UPPER($B718),1)))),    OR($D$8=\"\",(ISERROR(FIND(UPPER($D$8),UPPER($B718),1))))           )","v":true}]
[null,"Del Tech Community College","STATE","ACADEMIC INSTITUTION",5,2,null,null,null,null,null,null,true]
[null,"Delaware Biotechnology Institute","STATE","ACADEMIC INSTITUTION",5,2,null,null,null,null,null,null,true]
[null,"Division of Fish and Wildlife (DE DNREC DFW)","STATE","GOVERNMENT",5,2,null,null,null,null,null,null,true]
[null,"Delaware Department of State, Lewes Maritime Archaeology Project","STATE","GOVERNMENT",5,2,null,null,null,null,null,null,true]
[null,"Delaware Museum of Natural History","STATE","GOVERNMENT",5,2,null,null,null,null,null,null,true]
[null,"Delaware River and Bay Authority (DRBA)","REGIONAL","GOVERNMENT",5,3,null,null,null,null,null,null,true]
[null,"Delaware State","STATE","GOVERNMENT",5,2,null,null,null,null,null,null,true]
[null,"Delaware State Parks (DNREC)","STATE","GOVERNMENT",5,2,null,null,null,null,null,null,true]
[null,"Delaware State University (DSU)","STATE","ACADEMIC INSTITUTION",5,2,null,null,null,null,null,null,true]
[null,"Delaware, Geological Survey, Dewey Beach, City of Wilmington","STATE","GOVERNMENT",5,2,null,null,null,null,null,null,true]
[null,"Delmarva Broadcasting Co.","FEDERAL or NATIONAL","INDUSTRY AND BUSINESS",5,4,null,null,null,null,null,null,true]
[null,"Denbigh High School","LOCAL","ACADEMIC INSTITUTION",5,1,null,null,null,null,null,null,true]
[null,"Desotelle Consulting","LOCAL","INDUSTRY AND BUSINESS",5,1,null,null,null,null,null,null,true]
[null,"Detroit District (DoD, Army, USACE)","FEDERAL or NATIONAL","GOVERNMENT",5,4,null,null,null,null,null,null,true]
[null,"Detroit River International Wildlife Refuge (US DOI, FWS, NWRS)","FEDERAL or NATIONAL","GOVERNMENT",5,4,null,null,null,null,null,null,true]
[null,"Detroit Riverfront Conservancy","LOCAL","NGO",5,1,null,null,null,null,null,null,true]
[null,"Detroit/Wayne County Port Authority","LOCAL","GOVERNMENT",5,1,null,null,null,null,null,null,true]
[null,"Dewees Island Development ","LOCAL","INDUSTRY AND BUSINESS",5,1,null,null,null,null,null,null,true]
[null,"Digital Library for Earth Systems Education (DLESE)","FEDERAL or NATIONAL","NGO",5,4,null,null,null,null,null,null,true]
[null,"Digital Observer, Inc","FEDERAL or NATIONAL","INDUSTRY AND BUSINESS",5,4,null,null,null,null,null,null,true]
[null,"Dillingham Planning Commission","LOCAL","GOVERNMENT",5,1,null,null,null,null,null,null,true]
[null,"Discovery Place","FEDERAL or NATIONAL","OTHER PARTNERS",5,4,null,null,null,null,null,null,true]
[null,"Discovery World at PIER Wisconsin","FEDERAL or NATIONAL","NGO",5,4,null,null,null,null,null,null,true]
[null,"Divers Alert Network (DAN)","FEDERAL or NATIONAL","NGO",5,4,null,null,null,null,null,null,true]
[null,"Dog River Clear Water Revival","LOCAL","NGO",5,1,null,null,null,null,null,null,true]
[null,"Dominion Nuclear Millstone Environmental Laboratory","FEDERAL or NATIONAL","INDUSTRY AND BUSINESS",5,4,null,null,null,null,null,null,true]
[null,"Dominion Virginia Power","FEDERAL or NATIONAL","INDUSTRY AND BUSINESS",5,4,null,null,null,null,null,null,true]
[null,"Door County Maritime Museum","LOCAL","NGO",5,1,null,null,null,null,null,null,true]
[null,"Doppler Enterprises","LOCAL","INDUSTRY AND BUSINESS",5,1,null,null,null,null,null,null,true]
[null,"Douglas County, WI","LOCAL","GOVERNMENT",5,1,null,null,null,null,null,null,true]
[null,"Douglas Island Pink and Chum Inc.","LOCAL","NGO",5,1,null,null,null,null,null,null,true]
[null,"Dow Corning ","FEDERAL or NATIONAL","INDUSTRY AND BUSINESS",5,4,null,null,null,null,null,null,true]
[null,"Vacationland Resources Committee, Downeast Resource Conservation and Development (USDA)","LOCAL","GOVERNMENT",5,1,null,null,null,null,null,null,true]
[null,"Drexel University ","STATE","ACADEMIC INSTITUTION",5,2,null,null,null,null,null,null,true]
[null,"DTE Energy","FEDERAL or NATIONAL","INDUSTRY AND BUSINESS",5,4,null,null,null,null,null,null,true]
[null,"Ducks Unlimited","INTERNATIONAL","NGO",5,5,null,null,null,null,null,null,true]
[null,"Duke Power Company ","FEDERAL or NATIONAL","INDUSTRY AND BUSINESS",5,4,null,null,null,null,null,null,true]
[null,"Duke University","STATE","ACADEMIC INSTITUTION",5,2,null,null,null,null,null,null,true]
[null,"Duke University, Marine Laboratory","STATE","ACADEMIC INSTITUTION",5,2,null,null,null,null,null,null,true]
[null,"Duluth Port Authority","LOCAL","INDUSTRY AND BUSINESS",5,1,null,null,null,null,null,null,true]
[null,"Dunes Properties®","FEDERAL or NATIONAL","OTHER PARTNERS",5,4,null,null,null,null,null,null,true]
[null,"DuPont Corporation","INTERNATIONAL","INDUSTRY AND BUSINESS",5,5,null,null,null,null,null,null,true]
[null,"E. I. DuPont, Teijin Films Division","INTERNATIONAL","INDUSTRY AND BUSINESS",5,5,null,null,null,null,null,null,true]
[null,"Earth Echo","INTERNATIONAL","NGO",5,5,null,null,null,null,null,null,true]
[null,"Earthjustice","INTERNATIONAL","NGO",5,5,null,null,null,null,null,null,true]
[null,"East Carolina University (ECU)","STATE","ACADEMIC INSTITUTION",5,2,null,null,null,null,null,null,true]
[null,"East Coast Shellfish Growers Association","REGIONAL","INDUSTRY AND BUSINESS",5,3,null,null,null,null,null,null,true]
[null,"Eastern Connecticut Resource Conservation and Development Council","LOCAL","NGO",5,1,null,null,null,null,null,null,true]
[null,"Eastern Oregon University (EOU)","STATE","ACADEMIC INSTITUTION",5,2,null,null,null,null,null,null,true]
[null,"Eastern Shore Art Center","STATE","NGO",5,2,null,null,null,null,null,null,true]
[null,"Eastern Shore Chamber Foundation","FEDERAL or NATIONAL","NGO",5,4,null,null,null,null,null,null,true]
[null,"Eastern Shore Composites","FEDERAL or NATIONAL","INDUSTRY AND BUSINESS",5,4,null,null,null,null,null,null,true]
[null,"Eastman’s Fishing Fleet","FEDERAL or NATIONAL","INDUSTRY AND BUSINESS",5,4,null,null,null,null,null,null,true]
[null,"Ecole des Mines de Paris, Centre de Geostatistic","INTERNATIONAL","GOVERNMENT",5,5,null,null,null,null,null,null,true]
[null,"Ecological Monitoring and Assessment","INTERNATIONAL","INDUSTRY AND BUSINESS",5,5,null,null,null,null,null,null,true]
[null,"Ecological Society of America (ESA)","INTERNATIONAL","NGO",5,5,null,null,null,null,null,null,true]
[null,"EcoMicrobials, LLS ","FEDERAL or NATIONAL","INDUSTRY AND BUSINESS",5,4,null,null,null,null,null,null,true]
[null,"Ecosystems Management  Associates","FEDERAL or NATIONAL","OTHER PARTNERS",5,4,null,null,null,null,null,null,true]
[null,"Ecotrust","INTERNATIONAL","NGO",5,5,null,null,null,null,null,null,true]
[null,"ECRF","Unknown","NGO",5,0,null,null,null,null,null,null,true]
[null,"EDAW Inc.","FEDERAL or NATIONAL","INDUSTRY AND BUSINESS",5,4,null,null,null,null,null,null,true]
[null,"Edgewater Yacht Club, Cleveland","LOCAL","INDUSTRY AND BUSINESS",5,1,null,null,null,null,null,null,true]
[null,"Edinboro University of Pennsylvania","STATE","ACADEMIC INSTITUTION",5,2,null,null,null,null,null,null,true]
[null,"Edisto Beach Community ","LOCAL","OTHER PARTNERS",5,1,null,null,null,null,null,null,{"$f":"AND(  NOT(ISERROR(FIND(UPPER($B$7),UPPER($B782),1))),  OR($D$7=\"\",NOT(ISERROR(FIND(UPPER($D$7),UPPER($B782),1)))),    OR($D$8=\"\",(ISERROR(FIND(UPPER($D$8),UPPER($B782),1))))           )","v":true}]
[null,"Educational Resources Information Center (ED)","FEDERAL or NATIONAL","GOVERNMENT",5,4,null,null,null,null,null,null,true]
[null,"Educational Solutions","FEDERAL or NATIONAL","NGO",5,4,null,null,null,null,null,null,true]
[null,"Educational Training Co.","FEDERAL or NATIONAL","NGO",5,4,null,null,null,null,null,null,true]
[null,"Elkhorn Slough National Estuarine Research Reserve (US DOC, NOAA, NOS, NERRS)","FEDERAL or NATIONAL","GOVERNMENT",5,4,null,null,null,null,null,null,true]
[null,"Emory School of Medicine","STATE","ACADEMIC INSTITUTION",5,2,null,null,null,null,null,null,true]
[null,"Emory University","STATE","ACADEMIC INSTITUTION",5,2,null,null,null,null,null,null,true]
[null,"Empire State College","STATE","ACADEMIC INSTITUTION",5,2,null,null,null,null,null,null,true]
[null,"Empire State Marine Trade Association","STATE","NGO",5,2,null,null,null,null,null,null,true]
[null,"Engineering Technology Industry Council","STATE","NGO",5,2,null,null,null,null,null,null,true]
[null,"Englund Marine Supply, Inc.","REGIONAL","INDUSTRY AND BUSINESS",5,3,null,null,null,null,null,null,true]
[null,"Environment Canada","INTERNATIONAL","NGO",5,5,null,null,null,null,null,null,true]
[null,"Environmental Association for Great Lakes Education","REGIONAL","NGO",5,3,null,null,null,null,null,null,true]
[null,"Environmental Communications","FEDERAL or NATIONAL","NGO",5,4,null,null,null,null,null,null,true]
[null,"Environmental Defense Fund (EDF)","INTERNATIONAL","NGO",5,5,null,null,null,null,null,null,true]
[null,"Environmental Effects Research Laboratory (US EPA)","FEDERAL or NATIONAL","GOVERNMENT",5,4,null,null,null,null,null,null,true]
[null,"Environmental Entrepreneurship Program for Minority Serving Institutions","FEDERAL or NATIONAL","NGO",5,4,null,null,null,null,null,null,true]
[null,"Environmental Law Institute","INTERNATIONAL","NGO",5,5,null,null,null,null,null,null,true]
[null,"Environmental Research Center, Smithsonian Institution (SI)","FEDERAL or NATIONAL","GOVERNMENT",5,4,null,null,null,null,null,null,true]
[null,"Enviro-Pak Smoking Ovens","INTERNATIONAL","INDUSTRY AND BUSINESS",5,5,null,null,null,null,null,null,true]
[null,"Erie Co. Environmental Coalition","REGIONAL","ACADEMIC INSTITUTION",5,3,null,null,null,null,null,null,true]
[null,"Erie Community Foundation","REGIONAL","ACADEMIC INSTITUTION",5,3,null,null,null,null,null,null,true]
[null,"Erie Convention and Visitors Bureau","REGIONAL","ACADEMIC INSTITUTION",5,3,null,null,null,null,null,null,true]
[null,"Erie County Environmental Education Institute","REGIONAL","ACADEMIC INSTITUTION",5,3,null,null,null,null,null,null,true]
[null,"Erie Insurance Company","REGIONAL","ACADEMIC INSTITUTION",5,3,null,null,null,null,null,null,true]
[null,"Erie International Institute","REGIONAL","ACADEMIC INSTITUTION",5,3,null,null,null,null,null,null,true]
[null,"Erie Maritime Museum","REGIONAL","ACADEMIC INSTITUTION",5,3,null,null,null,null,null,null,true]
[null,"Erie Metropolitan Planning Organization","REGIONAL","ACADEMIC INSTITUTION",5,3,null,null,null,null,null,null,true]
[null,"Erie Neighborhood Watch Council","REGIONAL","ACADEMIC INSTITUTION",5,3,null,null,null,null,null,null,true]
[null,"Erie/Sandusky County Community Foundation","LOCAL","NGO",5,1,null,null,null,null,null,null,true]
[null,"Erie-Western Port Authority","REGIONAL","ACADEMIC INSTITUTION",5,3,null,null,null,null,null,null,true]
[null,"Ernst Conservation Seed Co.","FEDERAL or NATIONAL","ACADEMIC INSTITUTION",5,4,null,null,null,null,null,null,true]
[null,"Ekone Oyster Company","REGIONAL","INDUSTRY AND BUSINESS",5,3,null,null,null,null,null,null,true]
[null,"ESA Consulting","REGIONAL","INDUSTRY AND BUSINESS",5,3,null,null,null,null,null,null,true]
[null,"Escanaba Electric Plant","FEDERAL or NATIONAL","INDUSTRY AND BUSINESS",5,4,null,null,null,null,null,null,true]
[null,"Estuarine Research Federation","FEDERAL or NATIONAL","NGO",5,4,null,null,null,null,null,null,true]
[null,"Eucumenical Housing Association","LOCAL","OTHER PARTNERS",5,1,null,null,null,null,null,null,true]
[null,"Evergreen State College","STATE","ACADEMIC INSTITUTION",5,2,null,null,null,null,null,null,true]
[null,"Exxon Mobil Corporation","INTERNATIONAL","INDUSTRY AND BUSINESS",5,5,null,null,null,null,null,null,true]
[null,"Exxon Valdez Trustee Council","INTERNATIONAL","NGO",5,5,null,null,null,null,null,null,true]
[null,"F/V Desire","LOCAL","INDUSTRY AND BUSINESS",5,1,null,null,null,null,null,null,true]
[null,"F/V Stormy Seas","LOCAL","INDUSTRY AND BUSINESS",5,1,null,null,null,null,null,null,true]
[null,"FA Hughes Construction","LOCAL","INDUSTRY AND BUSINESS",5,1,null,null,null,null,null,null,true]
[null,"Fagatele Bay National Marine Sanctuary Program (US DOC, NOAA, NOS, ONMS)","FEDERAL or NATIONAL","GOVERNMENT",5,4,null,null,null,null,null,null,true]
[null,"Fairbanks North Star Borough School District","LOCAL","GOVERNMENT",5,1,null,null,null,null,null,null,true]
[null,"Fairfield University","STATE","ACADEMIC INSTITUTION",5,2,null,null,null,null,null,null,true]
[null,"Fairhope High School ","LOCAL","ACADEMIC INSTITUTION",5,1,null,null,null,null,null,null,true]
[null,"Fairview Township","LOCAL","OTHER PARTNERS",5,1,null,null,null,null,null,null,true]
[null,"FAN Seafoods, Canada","INTERNATIONAL","INDUSTRY AND BUSINESS",5,5,null,null,null,null,null,null,true]
[null,"Fanny Bay Oysters Ltd., Canada","INTERNATIONAL","INDUSTRY AND BUSINESS",5,5,null,null,null,null,null,null,true]
[null,"Farmers Alliance Network","FEDERAL or NATIONAL","NGO",5,4,null,null,null,null,null,null,true]
[null,"Faulkner State Community College ","STATE","ACADEMIC INSTITUTION",5,2,null,null,null,null,null,null,true]
[null,"Favco Seafood","FEDERAL or NATIONAL","INDUSTRY AND BUSINESS",5,4,null,null,null,null,null,null,true]
[null,"Federal Emergency Management Agency (US DHS, FEMA)","FEDERAL or NATIONAL","GOVERNMENT",5,4,null,null,null,null,null,null,true]
[null,"Federal Highway Administration (US DOT, FHA)","FEDERAL or NATIONAL","GOVERNMENT",5,4,null,null,null,null,null,null,true]
[null,"FermiLab","FEDERAL or NATIONAL","NGO",5,4,null,null,null,null,null,null,true]
[null,"Fernbank Science Center","LOCAL","OTHER PARTNERS",5,1,null,null,null,null,null,null,true]
[null,"Field Museum, Chicago","LOCAL","NGO",5,1,null,null,null,null,null,null,true]
[null,"Fife Plantation ","FEDERAL or NATIONAL","OTHER PARTNERS",5,4,null,null,null,null,null,null,true]
[null,"First Pioneer Farm Credit","FEDERAL or NATIONAL","INDUSTRY AND BUSINESS",5,4,null,null,null,null,null,null,true]
[null,"Fish Mart, Inc.","FEDERAL or NATIONAL","INDUSTRY AND BUSINESS",5,4,null,null,null,null,null,null,true]
[null,"Fisheries Canada, Nanaimo Lab.","FEDERAL or NATIONAL","OTHER PARTNERS",5,4,null,null,null,null,null,null,true]
[null,"Fisheries Research Agency, Hokkaido National Fisheries Research Institute (HNF)","INTERNATIONAL","GOVERNMENT",5,5,null,null,null,null,null,null,true]
[null,"Fisherman’s Wharf Marina","LOCAL","INDUSTRY AND BUSINESS",5,1,null,null,null,null,null,null,true]
[null,"Fishermen and Friends of Westport","LOCAL","INDUSTRY AND BUSINESS",5,1,null,null,null,null,null,null,{"$f":"AND(  NOT(ISERROR(FIND(UPPER($B$7),UPPER($B846),1))),  OR($D$7=\"\",NOT(ISERROR(FIND(UPPER($D$7),UPPER($B846),1)))),    OR($D$8=\"\",(ISERROR(FIND(UPPER($D$8),UPPER($B846),1))))           )","v":true}]
[null,"Seattle Fishermen's Memorial Committee","LOCAL","NGO",5,1,null,null,null,null,null,null,true]
[null,"Fishing Vessel Owner's Association","REGIONAL","INDUSTRY AND BUSINESS",5,3,null,null,null,null,null,null,true]
[null,"Fleet Refrigeration","LOCAL","INDUSTRY AND BUSINESS",5,1,null,null,null,null,null,null,true]
[null,"Florida A&M University (FAMU)","STATE","ACADEMIC INSTITUTION",5,2,null,null,null,null,null,null,true]
[null,"Florida Academy of Family Physicians ","STATE","NGO",5,2,null,null,null,null,null,null,true]
[null,"Florida Aquarium","STATE","OTHER PARTNERS",5,2,null,null,null,null,null,null,true]
[null,"Florida Atlantic University (FAU)","STATE","ACADEMIC INSTITUTION",5,2,null,null,null,null,null,null,true]
[null,"Florida Clean Marina Partnership Board","STATE","NGO",5,2,null,null,null,null,null,null,true]
[null,"Florida Department of Agriculture and Consumer Services (FL DACS)","STATE","GOVERNMENT",5,2,null,null,null,null,null,null,true]
[null,"Florida Department of Education (FL ED)","STATE","GOVERNMENT",5,2,null,null,null,null,null,null,true]
[null,"Florida Gulf Coast University (FGCU)","STATE","ACADEMIC INSTITUTION",5,2,null,null,null,null,null,null,true]
[null,"Florida Institute of Technology (FIT)","STATE","ACADEMIC INSTITUTION",5,2,null,null,null,null,null,null,true]
[null,"Florida International University (FIU)","STATE","ACADEMIC INSTITUTION",5,2,null,null,null,null,null,null,true]
[null,"Florida Marine Research Institute (FL FWCC)","STATE","GOVERNMENT",5,2,null,null,null,null,null,null,true]
[null,"Florida Ocean Alliance","STATE","NGO",5,2,null,null,null,null,null,null,true]
[null,"Florida Ocean and Coastal Resources Council","STATE","NGO",5,2,null,null,null,null,null,null,true]
[null,"Florida State University (FSU)","STATE","ACADEMIC INSTITUTION",5,2,null,null,null,null,null,null,true]
[null,"Edward Ball Marine Laboratory at Turkey Bayou, Florida State University (FSU)","STATE","ACADEMIC INSTITUTION",5,2,null,null,null,null,null,null,true]
[null,"Folly Beach County Park ","LOCAL","GOVERNMENT",5,1,null,null,null,null,null,null,true]
[null,"Fond du Lac Band Natural Resources Department","LOCAL","OTHER PARTNERS",5,1,null,null,null,null,null,null,true]
[null,"Fond du Lac Tribal and Community College","Tribal","GOVERNMENT",5,13,null,null,null,null,null,null,true]
[null,"Food Circus","FEDERAL or NATIONAL","INDUSTRY AND BUSINESS",5,4,null,null,null,null,null,null,true]
[null,"Food Products Association","FEDERAL or NATIONAL","NGO",5,4,null,null,null,null,null,null,true]
[null,"Forest City Yacht Club, Cleveland","LOCAL","INDUSTRY AND BUSINESS",5,1,null,null,null,null,null,null,true]
[null,"Fort Morgan Marina ","LOCAL","INDUSTRY AND BUSINESS",5,1,null,null,null,null,null,null,true]
[null,"Fort Pulaski National Monument.  ","FEDERAL or NATIONAL","GOVERNMENT",5,4,null,null,null,null,null,null,true]
[null,"Four County Land and Water Departments (Douglas-Bayfield-Ashland-Iron counties, Wis.)","Unknown","Unknown",5,0,null,null,null,null,null,null,true]
[null,"Fox River Navigation System Authority","LOCAL","NGO",5,1,null,null,null,null,null,null,true]
[null,"Frank M. Flower and Sons Inc.","FEDERAL or NATIONAL","INDUSTRY AND BUSINESS",5,4,null,null,null,null,null,null,true]
[null,"Franklin Institute in Philadelphia","LOCAL","NGO",5,1,null,null,null,null,null,null,true]
[null,"Frazier Fisheries","LOCAL","INDUSTRY AND BUSINESS",5,1,null,null,null,null,null,null,true]
[null,"French Creek Project","LOCAL","ACADEMIC INSTITUTION",5,1,null,null,null,null,null,null,true]
[null,"French Research Institute for Exploitation of the Sea (IFREMER)","INTERNATIONAL","GOVERNMENT",5,5,null,null,null,null,null,null,true]
[null,"Freshwater Society","INTERNATIONAL","NGO",5,5,null,null,null,null,null,null,true]
[null,"Friends of Casco Bay","LOCAL","NGO",5,1,null,null,null,null,null,null,true]
[null,"Friends of Hanauma Bay","LOCAL","NGO",5,1,null,null,null,null,null,null,true]
[null,"Friends of Hunting Island ","LOCAL","NGO",5,1,null,null,null,null,null,null,true]
[null,"Friends of Nature, Placencia","LOCAL","NGO",5,1,null,null,null,null,null,null,true]
[null,"Friends of the Detroit River ","LOCAL","NGO",5,1,null,null,null,null,null,null,true]
[null,"Friends of the Edisto ","LOCAL","NGO",5,1,null,null,null,null,null,null,true]
[null,"Friends of the Fox River","LOCAL","NGO",5,1,null,null,null,null,null,null,true]
[null,"Friends of the Mississippi River","LOCAL","NGO",5,1,null,null,null,null,null,null,true]
[null,"Friends of the Rivers  ","LOCAL","NGO",5,1,null,null,null,null,null,null,true]
[null,"Friends of the State Parks","LOCAL","NGO",5,1,null,null,null,null,null,null,true]
[null,"Friends of Wind Point Lighthouse","LOCAL","NGO",5,1,null,null,null,null,null,null,true]
[null,"Fundy Fixed Gear Council","LOCAL","NGO",5,1,null,null,null,null,null,null,true]
[null,"Gadsden State Community College","STATE","ACADEMIC INSTITUTION",5,2,null,null,null,null,null,null,true]
[null,"Galway County, Ireland","INTERNATIONAL","GOVERNMENT",5,5,null,null,null,null,null,null,true]
[null,"Gannon University","STATE","ACADEMIC INSTITUTION",5,2,null,null,null,null,null,null,true]
[null,"Gas Technology Institute","FEDERAL or NATIONAL","INDUSTRY AND BUSINESS",5,4,null,null,null,null,null,null,true]
[null,"Gauthier-Spaulding Fisheries","FEDERAL or NATIONAL","INDUSTRY AND BUSINESS",5,4,null,null,null,null,null,null,true]
[null,"General Council (US DOC, NOAA, GC)","FEDERAL or NATIONAL","GOVERNMENT",5,4,null,null,null,null,null,null,true]
[null,"General Electric","INTERNATIONAL","INDUSTRY AND BUSINESS",5,5,null,null,null,null,null,null,true]
[null,"General Electric Transportation Systems","INTERNATIONAL","ACADEMIC INSTITUTION",5,5,null,null,null,null,null,null,true]
[null,"General Ship Repair","FEDERAL or NATIONAL","INDUSTRY AND BUSINESS",5,4,null,null,null,null,null,null,true]
[null,"Genessee Valley Land Trust","LOCAL","NGO",5,1,null,null,null,null,null,null,true]
[null,"George Mason University (GMU)","STATE","ACADEMIC INSTITUTION",5,2,null,null,null,null,null,null,true]
[null,"George Washington University Medical Center (GW)","STATE","ACADEMIC INSTITUTION",5,2,null,null,null,null,null,null,true]
[null,"Georgia Academy of Family Physicians","STATE","NGO",5,2,null,null,null,null,null,null,true]
[null,"Georgia Aquarium ","STATE","OTHER PARTNERS",5,2,null,null,null,null,null,null,true]
[null,"Georgia Association of Stormwater Management Agencies ","STATE","GOVERNMENT",5,2,null,null,null,null,null,null,true]
[null,"Georgia College and State University (GCSU)","STATE","ACADEMIC INSTITUTION",5,2,null,null,null,null,null,null,true]
[null,"Georgia Department of Community Affairs (GA DCA)","STATE","GOVERNMENT",5,2,null,null,null,null,null,null,true]
[null,"Georgia Department of Natural Resources (GA DNR)","STATE","GOVERNMENT",5,2,null,null,null,null,null,null,{"$f":"AND(  NOT(ISERROR(FIND(UPPER($B$7),UPPER($B910),1))),  OR($D$7=\"\",NOT(ISERROR(FIND(UPPER($D$7),UPPER($B910),1)))),    OR($D$8=\"\",(ISERROR(FIND(UPPER($D$8),UPPER($B910),1))))           )","v":true}]
[null,"Georgia Department of Natural Resources, Coastal Resources Division (GA DNR, CRD)","STATE","GOVERNMENT",5,2,null,null,null,null,null,null,true]
[null,"Georgia Division of Public Health (GA DHR)","STATE","GOVERNMENT",5,2,null,null,null,null,null,null,true]
[null,"Georgia Environmental Facilities Authority","STATE","GOVERNMENT",5,2,null,null,null,null,null,null,true]
[null,"Georgia Environmental Protection Division (GA EPD)","STATE","GOVERNMENT",5,2,null,null,null,null,null,null,true]
[null,"Georgia Environmental Protection Division, Coastal Branch (GA EPD)","STATE","GOVERNMENT",5,2,null,null,null,null,null,null,true]
[null,"Georgia Epidemiology Report ","STATE","NGO",5,2,null,null,null,null,null,null,true]
[null,"Georgia Institute of Technology","STATE","ACADEMIC INSTITUTION",5,2,null,null,null,null,null,null,true]
[null,"Georgia Marine Businesses Association","STATE","INDUSTRY AND BUSINESS",5,2,null,null,null,null,null,null,true]
[null,"Georgia Municipal Association ","STATE","GOVERNMENT",5,2,null,null,null,null,null,null,true]
[null,"Georgia Public Schools","STATE","GOVERNMENT",5,2,null,null,null,null,null,null,true]
[null,"Georgia Public Shrimp Council","STATE","GOVERNMENT",5,2,null,null,null,null,null,null,true]
[null,"Georgia Shrimp Association","STATE","NGO",5,2,null,null,null,null,null,null,true]
[null,"Georgia Soil and Water Conservation Society ","STATE","NGO",5,2,null,null,null,null,null,null,true]
[null,"Georgia Southern University (GSU)","STATE","ACADEMIC INSTITUTION",5,2,null,null,null,null,null,null,true]
[null,"Georgia Space Grant Consortium ","STATE","GOVERNMENT",5,2,null,null,null,null,null,null,true]
[null,"Georgia State University (GSU)","STATE","ACADEMIC INSTITUTION",5,2,null,null,null,null,null,null,true]
[null,"Georgia Wildlife Federation","STATE","NGO",5,2,null,null,null,null,null,null,true]
[null,"Georgian Court University","STATE","ACADEMIC INSTITUTION",5,2,null,null,null,null,null,null,true]
[null,"Gilson Marine Farms","STATE","INDUSTRY AND BUSINESS",5,2,null,null,null,null,null,null,true]
[null,"Girard Township","LOCAL","OTHER PARTNERS",5,1,null,null,null,null,null,null,true]
[null,"Girl Scouts of America","STATE","NGO",5,2,null,null,null,null,null,null,true]
[null,"Glenn-Gibson Council","LOCAL","GOVERNMENT",5,1,null,null,null,null,null,null,true]
[null,"Global Ecosystem Dynamics","FEDERAL or NATIONAL","INDUSTRY AND BUSINESS",5,4,null,null,null,null,null,null,true]
[null,"Global Ocean Ecosystems Dynamics – Northeast Pacific Program","FEDERAL or NATIONAL","NGO",5,4,null,null,null,null,null,null,true]
[null,"Glynn County Engineering","LOCAL","GOVERNMENT",5,1,null,null,null,null,null,null,true]
[null,"Glynn County Government","LOCAL","GOVERNMENT",5,1,null,null,null,null,null,null,true]
[null,"Gold Kist, Inc. ","FEDERAL or NATIONAL","INDUSTRY AND BUSINESS",5,4,null,null,null,null,null,null,true]
[null,"Gondol Research Institute","INTERNATIONAL","ACADEMIC INSTITUTION",5,5,null,null,null,null,null,null,true]
[null,"Good Hope Plantation and Corporation ","FEDERAL or NATIONAL","OTHER PARTNERS",5,4,null,null,null,null,null,null,true]
[null,"Gordon and Betty Moore Foundation","FEDERAL or NATIONAL","NGO",5,4,null,null,null,null,null,null,true]
[null,"Governor’s Ocean Policy Cabinet","FEDERAL or NATIONAL","GOVERNMENT",5,4,null,null,null,null,null,null,true]
[null,"Graham and Rollins Seafood","FEDERAL or NATIONAL","INDUSTRY AND BUSINESS",5,4,null,null,null,null,null,null,true]
[null,"Grand Bay National Estuarine Research Reserve (US DOC, NOAA, NOS, NERRS)","FEDERAL or NATIONAL","GOVERNMENT",5,4,null,null,null,null,null,null,true]
[null,"Grand Isle Port Commission","LOCAL","GOVERNMENT",5,1,null,null,null,null,null,null,true]
[null,"Grand Portage Band of Chippewa","FEDERAL or NATIONAL","NGO",5,4,null,null,null,null,null,null,true]
[null,"Grand Traverse Band of Ottawa and Chippewa Indians","FEDERAL or NATIONAL","NGO",5,4,null,null,null,null,null,null,true]
[null,"Grand Valley State University (GVSU)","STATE","ACADEMIC INSTITUTION",5,2,null,null,null,null,null,null,true]
[null,"Grass Creek Oyster Company","REGIONAL","INDUSTRY AND BUSINESS",5,3,null,null,null,null,null,null,true]
[null,"Grass Roots, Inc.","FEDERAL or NATIONAL","INDUSTRY AND BUSINESS",5,4,null,null,null,null,null,null,true]
[null,"Grays Harbor College","LOCAL","ACADEMIC INSTITUTION",5,1,null,null,null,null,null,null,true]
[null,"Grays Harbor Oyster Growers Association","LOCAL","INDUSTRY AND BUSINESS",5,1,null,null,null,null,null,null,true]
[null,"Gray's Reef National Marine Sanctuary, Skidaway Island, GA (US DOC, NOAA, NOS, ONMS)","FEDERAL or NATIONAL","GOVERNMENT",5,4,null,null,null,null,null,null,true]
[null,"Graystar Pacific Seafood Ltd.","FEDERAL or NATIONAL","INDUSTRY AND BUSINESS",5,4,null,null,null,null,null,null,true]
[null,"Great Alaskan Seafood Company","FEDERAL or NATIONAL","INDUSTRY AND BUSINESS",5,4,null,null,null,null,null,null,true]
[null,"Great Bay Aquaculture, LLC","FEDERAL or NATIONAL","INDUSTRY AND BUSINESS",5,4,null,null,null,null,null,null,true]
[null,"Great Bay Estuary Commission","LOCAL","GOVERNMENT",5,1,null,null,null,null,null,null,true]
[null,"Great Bay Farms","FEDERAL or NATIONAL","INDUSTRY AND BUSINESS",5,4,null,null,null,null,null,null,true]
[null,"Great Bay National Estuarine Research Reserve (US DOC, NOAA, NOS, NERRS)","FEDERAL or NATIONAL","GOVERNMENT",5,4,null,null,null,null,null,null,true]
[null,"Great Bay Resource Protection Partnership","LOCAL","NGO",5,1,null,null,null,null,null,null,true]
[null,"Great Bay Stewards","LOCAL","NGO",5,1,null,null,null,null,null,null,true]
[null,"Great Lakes Aquarium","FEDERAL or NATIONAL","OTHER PARTNERS",5,4,null,null,null,null,null,null,true]
[null,"Great Lakes Children’s Museum","FEDERAL or NATIONAL","NGO",5,4,null,null,null,null,null,null,true]
[null,"Great Lakes Cities Initiative ","REGIONAL","GOVERNMENT",5,3,null,null,null,null,null,null,true]
[null,"Great Lakes Commission","REGIONAL","GOVERNMENT",5,3,null,null,null,null,null,null,true]
[null,"Great Lakes Environmental Research Laboratory (US DOC, NOAA, OAR, GLERL)","FEDERAL or NATIONAL","GOVERNMENT",5,4,null,null,null,null,null,null,true]
[null,"Great Lakes Fishery Commission (GLFC)","REGIONAL","GOVERNMENT",5,3,null,null,null,null,null,null,true]
[null,"Great Lakes Fishery Commission, Lake Superior Technical Committee (GLFC)","REGIONAL","GOVERNMENT",5,3,null,null,null,null,null,null,true]
[null,"Great Lakes Fishery Trust","REGIONAL","NGO",5,3,null,null,null,null,null,null,true]
[null,"Great Lakes Indian Fish and Wildlife Commission (GLIFWC)","REGIONAL","GOVERNMENT",5,3,null,null,null,null,null,null,true]
[null,"Great Lakes Information Network","REGIONAL","ACADEMIC INSTITUTION",5,3,null,null,null,null,null,null,true]
[null,"Great Lakes Institute for Environmental Research ","REGIONAL","ACADEMIC INSTITUTION",5,3,null,null,null,null,null,null,true]
[null,"Great Lakes National Program Office (US EPA)","FEDERAL or NATIONAL","GOVERNMENT",5,4,null,null,null,null,null,null,true]
[null,"Great Lakes Panel on Aquatic Nuisance Species (ANS)","REGIONAL","GOVERNMENT",5,3,null,null,null,null,null,null,true]
[null,"Great Lakes Protection Fund","REGIONAL","NGO",5,3,null,null,null,null,null,null,{"$f":"AND(  NOT(ISERROR(FIND(UPPER($B$7),UPPER($B974),1))),  OR($D$7=\"\",NOT(ISERROR(FIND(UPPER($D$7),UPPER($B974),1)))),    OR($D$8=\"\",(ISERROR(FIND(UPPER($D$8),UPPER($B974),1))))           )","v":true}]
[null,"Great Lakes Regional Collaboration (GLRC)","REGIONAL","NGO",5,3,null,null,null,null,null,null,true]
[null,"Great Lakes Research Consortium","REGIONAL","NGO",5,3,null,null,null,null,null,null,true]
[null,"Great Lakes Restoration Regional Association","REGIONAL","NGO",5,3,null,null,null,null,null,null,true]
[null,"Great Lakes Schoolship Consortium","REGIONAL","ACADEMIC INSTITUTION",5,3,null,null,null,null,null,null,true]
[null,"Great Lakes Science Center (US DOI, USGS)","FEDERAL or NATIONAL","GOVERNMENT",5,4,null,null,null,null,null,null,true]
[null,"Great Lakes Sea Grant Network","REGIONAL","SEA GRANT PROGRAMS",5,3,null,null,null,null,null,null,true]
[null,"Great Lakes Shipwreck Preservation Society","REGIONAL","NGO",5,3,null,null,null,null,null,null,true]
[null,"Great Lakes Shipwrecks Research Foundation, Inc.","REGIONAL","NGO",5,3,null,null,null,null,null,null,true]
[null,"Great Lakes Sport Fishing Council","REGIONAL","NGO",5,3,null,null,null,null,null,null,true]
[null,"Great Lakes United","REGIONAL","NGO",5,3,null,null,null,null,null,null,true]
[null,"Great Peninsula Conservancy ","LOCAL","NGO",5,1,null,null,null,null,null,null,true]
[null,"Greater Downtown Partnership","LOCAL","NGO",5,1,null,null,null,null,null,null,true]
[null,"Greater Peninsula Land Trust","LOCAL","NGO",5,1,null,null,null,null,null,null,true]
[null,"Green Bay Office (US DOI, FWS)","FEDERAL or NATIONAL","GOVERNMENT",5,4,null,null,null,null,null,null,true]
[null,"Green Bay Port Authority","LOCAL","INDUSTRY AND BUSINESS",5,1,null,null,null,null,null,null,true]
[null,"Green Diamond Resource Company","REGIONAL","INDUSTRY AND BUSINESS",5,3,null,null,null,null,null,null,true]
[null,"Green Fire Productions","LOCAL","INDUSTRY AND BUSINESS",5,1,null,null,null,null,null,null,true]
[null,"Greenpeace USA Inc.","INTERNATIONAL","NGO",5,5,null,null,null,null,null,null,true]
[null,"Grenada Fisheries Division","INTERNATIONAL","GOVERNMENT",5,5,null,null,null,null,null,null,true]
[null,"Griffin BioSafe Systems ","FEDERAL or NATIONAL","INDUSTRY AND BUSINESS",5,4,null,null,null,null,null,null,true]
[null,"Group 70 Foundation","FEDERAL or NATIONAL","INDUSTRY AND BUSINESS",5,4,null,null,null,null,null,null,true]
[null,"Grow Smart RI","STATE","INDUSTRY AND BUSINESS",5,2,null,null,null,null,null,null,true]
[null,"Guana Tolomato Matanzas National Estuarine Research Reserve (US DOC, NOAA, NOS, NERRS)","FEDERAL or NATIONAL","GOVERNMENT",5,4,null,null,null,null,null,null,true]
[null,"Guernsey Sea Farms, UK","INTERNATIONAL","INDUSTRY AND BUSINESS",5,5,null,null,null,null,null,null,true]
[null,"Gulf and Caribbean Fisheries Institute","REGIONAL","ACADEMIC INSTITUTION",5,3,null,null,null,null,null,null,true]
[null,"Gulf and South Atlantic Fisheries Development Foundation","REGIONAL","ACADEMIC INSTITUTION",5,3,null,null,null,null,null,null,true]
[null,"Gulf Breeze Lab (US EPA)","FEDERAL or NATIONAL","GOVERNMENT",5,4,null,null,null,null,null,null,true]
[null,"Gulf Islands National Seashore (US DOI, NPS)","FEDERAL or NATIONAL","GOVERNMENT",5,4,null,null,null,null,null,null,true]
[null,"Gulf of Alaska Coastal Communities Coalition","REGIONAL","NGO",5,3,null,null,null,null,null,null,true]
[null,"Gulf of Alaska Monitoring Program","REGIONAL","NGO",5,3,null,null,null,null,null,null,true]
[null,"Gulf of Maine","REGIONAL","Unknown",5,3,null,null,null,null,null,null,true]
[null,"Gulf of Maine Council on the Marine Environment","REGIONAL","GOVERNMENT",5,3,null,null,null,null,null,null,true]
[null,"Gulf of Maine Marine Education Association","REGIONAL","NGO",5,3,null,null,null,null,null,null,true]
[null,"Gulf of Mexico Alliance (GOMA)","REGIONAL","NGO",5,3,null,null,null,null,null,null,true]
[null,"Gulf of Mexico Coastal Ocean Observing System (GCOOS)","REGIONAL","NGO",5,3,null,null,null,null,null,null,true]
[null,"Gulf of Mexico Fishery Management Council (GMFMC)","FEDERAL or NATIONAL","GOVERNMENT",5,4,null,null,null,null,null,null,true]
[null,"Gulf of Mexico Foundation","REGIONAL","NGO",5,3,null,null,null,null,null,null,true]
[null,"Gulf of Mexico Program (US EPA)","FEDERAL or NATIONAL","GOVERNMENT",5,4,null,null,null,null,null,null,true]
[null,"Gulf of Mexico Regional Aquatic Nuisance Species Task Force (ANS)","REGIONAL","GOVERNMENT",5,3,null,null,null,null,null,null,true]
[null,"Gulf of Mexico Regional Fishery Management Council","REGIONAL","GOVERNMENT",5,3,null,null,null,null,null,null,true]
[null,"Gulf Restoration Network","REGIONAL","NGO",5,3,null,null,null,null,null,null,true]
[null,"Gulf States Marine Fisheries Commission (GSMFC)","REGIONAL","NGO",5,3,null,null,null,null,null,null,true]
[null,"Gundalow Project","FEDERAL or NATIONAL","NGO",5,4,null,null,null,null,null,null,true]
[null,"Gunston Day School","LOCAL","ACADEMIC INSTITUTION",5,1,null,null,null,null,null,null,true]
[null,"Gustafson Design, Inc.","FEDERAL or NATIONAL","INDUSTRY AND BUSINESS",5,4,null,null,null,null,null,null,true]
[null,"Guy Harvey Research Institute","INTERNATIONAL","INDUSTRY AND BUSINESS",5,5,null,null,null,null,null,null,true]
[null,"Gwinnett County","LOCAL","GOVERNMENT",5,1,null,null,null,null,null,null,true]
[null,"Gwinnett County Department of Public Utilities","LOCAL","GOVERNMENT",5,1,null,null,null,null,null,null,true]
[null,"H. H. Backer and Associates","FEDERAL or NATIONAL","INDUSTRY AND BUSINESS",5,4,null,null,null,null,null,null,true]
[null,"Habersham Development","LOCAL","GOVERNMENT",5,1,null,null,null,null,null,null,true]
[null,"Habitat Conservation Division (US DOC, NOAA, NMFS, PIFSC)","FEDERAL or NATIONAL","GOVERNMENT",5,4,null,null,null,null,null,null,true]
[null,"Habitat Solutions ","FEDERAL or NATIONAL","INDUSTRY AND BUSINESS",5,4,null,null,null,null,null,null,true]
[null,"Hallmark Fisheries","FEDERAL or NATIONAL","INDUSTRY AND BUSINESS",5,4,null,null,null,null,null,null,true]
[null,"Hama Hama Oyster Company","REGIONAL","INDUSTRY AND BUSINESS",5,3,null,null,null,null,null,null,true]
[null,"Hamburg University of Applied Science","INTERNATIONAL","ACADEMIC INSTITUTION",5,5,null,null,null,null,null,null,true]
[null,"Hamline University","STATE","ACADEMIC INSTITUTION",5,2,null,null,null,null,null,null,true]
[null,"Hampton High School","LOCAL","ACADEMIC INSTITUTION",5,1,null,null,null,null,null,null,true]
[null,"Hampton University","STATE","ACADEMIC INSTITUTION",5,2,null,null,null,null,null,null,true]
[null,"Hanalei Watershed Hui","LOCAL","NGO",5,1,null,null,null,null,null,null,true]
[null,"Harbor Branch Oceanographic Institute (HBOI)","STATE","ACADEMIC INSTITUTION",5,2,null,null,null,null,null,null,true]
[null,"Harbor North, Huron","LOCAL","INDUSTRY AND BUSINESS",5,1,null,null,null,null,null,null,true]
[null,"Harbor Technical Advisory Committee","REGIONAL","GOVERNMENT",5,3,null,null,null,null,null,null,true]
[null,"Harborcreek Chamber of Commerce","LOCAL","INDUSTRY AND BUSINESS",5,1,null,null,null,null,null,null,true]
[null,"Harborcreek Township","LOCAL","GOVERNMENT",5,1,null,null,null,null,null,null,{"$f":"AND(  NOT(ISERROR(FIND(UPPER($B$7),UPPER($B1038),1))),  OR($D$7=\"\",NOT(ISERROR(FIND(UPPER($D$7),UPPER($B1038),1)))),    OR($D$8=\"\",(ISERROR(FIND(UPPER($D$8),UPPER($B1038),1))))           )","v":true}]
[null,"Harmony Hill Retreat","LOCAL","NGO",5,1,null,null,null,null,null,null,true]
[null,"Harrington Beach State Park, Belgium","STATE","GOVERNMENT",5,2,null,null,null,null,null,null,true]
[null,"Harrison Marina, Toledo","LOCAL","INDUSTRY AND BUSINESS",5,1,null,null,null,null,null,null,true]
[null,"Harstine Island Theatre Company","LOCAL","NGO",5,1,null,null,null,null,null,null,true]
[null,"Harstine Oyster Company","REGIONAL","INDUSTRY AND BUSINESS",5,3,null,null,null,null,null,null,true]
[null,"Hartley Nature Center","LOCAL","NGO",5,1,null,null,null,null,null,null,true]
[null,"Harvard School of Public Health","STATE","ACADEMIC INSTITUTION",5,2,null,null,null,null,null,null,true]
[null,"Harvest Studio","FEDERAL or NATIONAL","INDUSTRY AND BUSINESS",5,4,null,null,null,null,null,null,true]
[null,"Hauula Neighborhood Board","LOCAL","OTHER PARTNERS",5,1,null,null,null,null,null,null,true]
[null,"Hawaii 1000 Friends","STATE","NGO",5,2,null,null,null,null,null,null,true]
[null,"Hawaii Aquaculture Association","STATE","INDUSTRY AND BUSINESS",5,2,null,null,null,null,null,null,true]
[null,"Hawaii Aquaculture Development Program","STATE","GOVERNMENT",5,2,null,null,null,null,null,null,true]
[null,"Hawaii Aquaculture Health Management Program, Anuenue Fisheries Research Center","STATE","GOVERNMENT",5,2,null,null,null,null,null,null,true]
[null,"Hawaii Asphalt Paving Industry ","STATE","INDUSTRY AND BUSINESS",5,2,null,null,null,null,null,null,true]
[null,"Hawaii Clean Water Branch (HI DOH)","STATE","GOVERNMENT",5,2,null,null,null,null,null,null,true]
[null,"Hawaii Coastal Zone Management Program (HI CZM)","STATE","GOVERNMENT",5,2,null,null,null,null,null,null,true]
[null,"Hawaii Community College","STATE","ACADEMIC INSTITUTION",5,2,null,null,null,null,null,null,true]
[null,"Hawaii County Council","LOCAL","GOVERNMENT",5,1,null,null,null,null,null,null,true]
[null,"Hawaii County Department of Parks and Recreation","LOCAL","GOVERNMENT",5,1,null,null,null,null,null,null,true]
[null,"Hawaii County Department of Planning","LOCAL","GOVERNMENT",5,1,null,null,null,null,null,null,true]
[null,"Hawaii County Department of Public Works","LOCAL","GOVERNMENT",5,1,null,null,null,null,null,null,true]
[null,"Hawaii County Department of Research and Development","LOCAL","GOVERNMENT",5,1,null,null,null,null,null,null,true]
[null,"Hawaii County Planning Department","LOCAL","GOVERNMENT",5,1,null,null,null,null,null,null,true]
[null,"Hawaii Department of Agriculture (HI HIDA)","STATE","GOVERNMENT",5,2,null,null,null,null,null,null,true]
[null,"Hawaii Department of Agriculture Plant Quarantine Branch (HI HIDA)","STATE","GOVERNMENT",5,2,null,null,null,null,null,null,true]
[null,"Hawaii Department of Business, Economic Development and Tourism (HI DBEDT)","STATE","GOVERNMENT",5,2,null,null,null,null,null,null,true]
[null,"Hawaii Department of Education (HI ED)","STATE","GOVERNMENT",5,2,null,null,null,null,null,null,true]
[null,"Hawaii Department of Land and Natural Resources, Department of Accounting and General Services (HI DLNR)","STATE","GOVERNMENT",5,2,null,null,null,null,null,null,true]
[null,"Hawaii Department of Transportation, Harbors Division (HI DOT)","STATE","GOVERNMENT",5,2,null,null,null,null,null,null,true]
[null,"Hawaii Division of Aquatic Resources (HI DLNR)","STATE","GOVERNMENT",5,2,null,null,null,null,null,null,true]
[null,"Hawaii Division of Boating and Ocean Recreation (HI DLNR)","STATE","GOVERNMENT",5,2,null,null,null,null,null,null,true]
[null,"Hawaii Division of State Parks (HI DLNR)","STATE","GOVERNMENT",5,2,null,null,null,null,null,null,true]
[null,"Hawaii Environmental Planning Office (HI DOH)","STATE","GOVERNMENT",5,2,null,null,null,null,null,null,true]
[null,"Hawaii Fish Company","FEDERAL or NATIONAL","INDUSTRY AND BUSINESS",5,4,null,null,null,null,null,null,true]
[null,"Hawaii Food and Drug Branch (HI DOH)","STATE","GOVERNMENT",5,2,null,null,null,null,null,null,true]
[null,"Hawaii Institute for Public Affairs (HIPA)","STATE","NGO",5,2,null,null,null,null,null,null,true]
[null,"Hawaii Land Division (HI DLNR)","STATE","GOVERNMENT",5,2,null,null,null,null,null,null,true]
[null,"Hawaii Land Surveyors Association","STATE","INDUSTRY AND BUSINESS",5,2,null,null,null,null,null,null,true]
[null,"Hawaii Longline Association","REGIONAL","NGO",5,3,null,null,null,null,null,null,true]
[null,"Hawaii Office of Conservation and Coastal Lands (HI DLNR)","STATE","GOVERNMENT",5,2,null,null,null,null,null,null,true]
[null,"Hawaii Office of Planning","STATE","GOVERNMENT",5,2,null,null,null,null,null,null,true]
[null,"Hawaii Pacific University (HPU)","STATE","ACADEMIC INSTITUTION",5,2,null,null,null,null,null,null,true]
[null,"Hawaii State Historic Preservation Division (HI DLNR)","STATE","GOVERNMENT",5,2,null,null,null,null,null,null,true]
[null,"Hawaii Wildlife Foundation","STATE","NGO",5,2,null,null,null,null,null,null,true]
[null,"Hawaiian Electric Company","STATE","INDUSTRY AND BUSINESS",5,2,null,null,null,null,null,null,true]
[null,"Hawaiian Electric Industries","STATE","INDUSTRY AND BUSINESS",5,2,null,null,null,null,null,null,true]
[null,"Hawaiian Islands Humpback Whale National Marine Sanctuary (US DOC, NOAA, NOS, ONMS)","FEDERAL or NATIONAL","GOVERNMENT",5,4,null,null,null,null,null,null,true]
[null,"Heal the Bay","LOCAL","NGO",5,1,null,null,null,null,null,null,true]
[null,"Health Research, Inc.","FEDERAL or NATIONAL","NGO",5,4,null,null,null,null,null,null,true]
[null,"Healthy Waters Institute","Unknown2","NGO",5,6,null,null,null,null,null,null,true]
[null,"Hearthside Books","LOCAL","INDUSTRY AND BUSINESS",5,1,null,null,null,null,null,null,true]
[null,"Hedberg Aggregates","STATE","INDUSTRY AND BUSINESS",5,2,null,null,null,null,null,null,true]
[null,"Heidelberg College","STATE","ACADEMIC INSTITUTION",5,2,null,null,null,null,null,null,true]
[null,"Heinz Center","Unknown2","NGO",5,6,null,null,null,null,null,null,true]
[null,"Henderson Inlet Community Shellfish Farm","LOCAL","INDUSTRY AND BUSINESS",5,1,null,null,null,null,null,null,true]
[null,"Henderson Lake Advisory Committee","LOCAL","GOVERNMENT",5,1,null,null,null,null,null,null,true]
[null,"Hennepin County Parks and Recreation","LOCAL","GOVERNMENT",5,1,null,null,null,null,null,null,true]
[null,"Henrico County Schools","LOCAL","ACADEMIC INSTITUTION",5,1,null,null,null,null,null,null,true]
[null,"Heritage Conservancy","STATE","ACADEMIC INSTITUTION",5,2,null,null,null,null,null,null,true]
[null,"Hermitage Technical Center Culinary Progarm","LOCAL","ACADEMIC INSTITUTION",5,1,null,null,null,null,null,null,true]
[null,"Hewlett-Packard ","INTERNATIONAL","INDUSTRY AND BUSINESS",5,5,null,null,null,null,null,null,true]
[null,"Hiawatha Sportsman’s Club","LOCAL","INDUSTRY AND BUSINESS",5,1,null,null,null,null,null,null,true]
[null,"High Tide Seafoods","STATE","INDUSTRY AND BUSINESS",5,2,null,null,null,null,null,null,true]
[null,"Hilex-Poly, Inc.","Unknown2","INDUSTRY AND BUSINESS",5,6,null,null,null,null,null,null,{"$f":"AND(  NOT(ISERROR(FIND(UPPER($B$7),UPPER($B1102),1))),  OR($D$7=\"\",NOT(ISERROR(FIND(UPPER($D$7),UPPER($B1102),1)))),    OR($D$8=\"\",(ISERROR(FIND(UPPER($D$8),UPPER($B1102),1))))           )","v":true}]
[null,"Hilo Bay Watershed Advisory Group ","LOCAL","NGO",5,1,null,null,null,null,null,null,true]
[null,"Hilton Head Sportfishing Club ","LOCAL","OTHER PARTNERS",5,1,null,null,null,null,null,null,true]
[null,"Historic Ocean Springs Saltwater Fly Fishing Club","LOCAL","NGO",5,1,null,null,null,null,null,null,true]
[null,"Historic Ricefields Association ","LOCAL","NGO",5,1,null,null,null,null,null,null,true]
[null,"Hodgson Brook Restoration Project","LOCAL","GOVERNMENT",5,1,null,null,null,null,null,null,true]
[null,"Hog Island Oyster Company","LOCAL","INDUSTRY AND BUSINESS",5,1,null,null,null,null,null,null,true]
[null,"Hokkaido University, Faculty of Fisheries","INTERNATIONAL","ACADEMIC INSTITUTION",5,5,null,null,null,null,null,null,true]
[null,"Holiday Harbor Marina, Huron","LOCAL","INDUSTRY AND BUSINESS",5,1,null,null,null,null,null,null,true]
[null,"Honam Sea Grant (Korea Sea Grant)","INTERNATIONAL","SEA GRANT PROGRAMS",5,5,null,null,null,null,null,null,true]
[null,"Honeywell (Durham, NC)","Unknown2","INDUSTRY AND BUSINESS",5,6,null,null,null,null,null,null,true]
[null,"Hong Kong Environmental Protection Agency","INTERNATIONAL","GOVERNMENT",5,5,null,null,null,null,null,null,true]
[null,"Honolulu Outdoor Circle","LOCAL","NGO",5,1,null,null,null,null,null,null,true]
[null,"Honomu Aquatics","LOCAL","INDUSTRY AND BUSINESS",5,1,null,null,null,null,null,null,true]
[null,"Hood Canal Aquanuts","LOCAL","NGO",5,1,null,null,null,null,null,null,true]
[null,"Hood Canal Coordinating Council","LOCAL","NGO",5,1,null,null,null,null,null,null,true]
[null,"Hood Canal Environmental Council","LOCAL","NGO",5,1,null,null,null,null,null,null,true]
[null,"Hood Canal Land Trust","LOCAL","NGO",5,1,null,null,null,null,null,null,true]
[null,"Hood Canal Salmon Enhancement Group","LOCAL","NGO",5,1,null,null,null,null,null,null,true]
[null,"Hood Canal Shell Fish","LOCAL","INDUSTRY AND BUSINESS",5,1,null,null,null,null,null,null,true]
[null,"Hood Sport 'n Dive","LOCAL","INDUSTRY AND BUSINESS",5,1,null,null,null,null,null,null,true]
[null,"Hoodsport Winery","LOCAL","INDUSTRY AND BUSINESS",5,1,null,null,null,null,null,null,true]
[null,"Hoosier Heartland RCandD Council","LOCAL","NGO",5,1,null,null,null,null,null,null,true]
[null,"Horn Point Laboratory (UMD)","STATE","ACADEMIC INSTITUTION",5,2,null,null,null,null,null,null,true]
[null,"Horsley Witten Group","Unknown2","INDUSTRY AND BUSINESS",5,6,null,null,null,null,null,null,true]
[null,"Hospital Concepcion, Mayaguez, PR","LOCAL","OTHER PARTNERS",5,1,null,null,null,null,null,null,true]
[null,"Hospital Perea, Mayaguez, PR","LOCAL","OTHER PARTNERS",5,1,null,null,null,null,null,null,true]
[null,"Hoty Marina - Son Rise, Sandusky","LOCAL","INDUSTRY AND BUSINESS",5,1,null,null,null,null,null,null,true]
[null,"House Brothers Construction","LOCAL","INDUSTRY AND BUSINESS",5,1,null,null,null,null,null,null,true]
[null,"Housing and Community Development Corporation of Hawaii, State of Hawaii","STATE","GOVERNMENT",5,2,null,null,null,null,null,null,true]
[null,"HPM Hyewon Packmaster International (Seoul Korea and Florence, KY) ","INTERNATIONAL","INDUSTRY AND BUSINESS",5,5,null,null,null,null,null,null,true]
[null,"Hubbs-SeaWorld Research Institute","Unknown2","NGO",5,6,null,null,null,null,null,null,true]
[null,"Hudson River Estuary Program (NYSDEC)","LOCAL","GOVERNMENT",5,1,null,null,null,null,null,null,true]
[null,"Hudson River National Estuarine Research Reserve (US DOC, NOAA, NOS, NERRS)","LOCAL","GOVERNMENT",5,1,null,null,null,null,null,null,true]
[null,"Hudsonia","LOCAL","NGO",5,1,null,null,null,null,null,null,true]
[null,"Hui Laulima Foundation","FEDERAL or NATIONAL","NGO",5,4,null,null,null,null,null,null,true]
[null,"Humboldt Bay Harbor, Recreation and Conservation District","LOCAL","GOVERNMENT",5,1,null,null,null,null,null,null,true]
[null,"Humboldt Bay National Wildlife Refuge (US DOI, FWS, NWRS)","FEDERAL or NATIONAL","GOVERNMENT",5,4,null,null,null,null,null,null,true]
[null,"Humboldt Bay Stewards","LOCAL","NGO",5,1,null,null,null,null,null,null,true]
[null,"Humboldt County","LOCAL","GOVERNMENT",5,1,null,null,null,null,null,null,true]
[null,"Humboldt State University (HSU)","STATE","ACADEMIC INSTITUTION",5,2,null,null,null,null,null,null,true]
[null,"Humbolt State University, Department of Biological Sciences (HSU)","STATE","ACADEMIC INSTITUTION",5,2,null,null,null,null,null,null,true]
[null,"Humbolt State University, Department of Wildlife Management (HSU)","STATE","ACADEMIC INSTITUTION",5,2,null,null,null,null,null,null,true]
[null,"Hunter College","STATE","ACADEMIC INSTITUTION",5,2,null,null,null,null,null,null,true]
[null,"Huron Lagoons Marina, Huron","LOCAL","INDUSTRY AND BUSINESS",5,1,null,null,null,null,null,null,true]
[null,"Huron-Clinton Metroparks Authority","LOCAL","OTHER PARTNERS",5,1,null,null,null,null,null,null,true]
[null,"Hyde Marine, Inc.","INTERNATIONAL","INDUSTRY AND BUSINESS",5,5,null,null,null,null,null,null,true]
[null,"Hydraulics Laboratory (DoD, Army, USACE)","FEDERAL or NATIONAL","GOVERNMENT",5,4,null,null,null,null,null,null,true]
[null,"Hydroqual, Inc.","FEDERAL or NATIONAL","INDUSTRY AND BUSINESS",5,4,null,null,null,null,null,null,true]
[null,"Iberia Parish School Board","LOCAL","ACADEMIC INSTITUTION",5,1,null,null,null,null,null,null,true]
[null,"Iceberg Seafood Company","FEDERAL or NATIONAL","INDUSTRY AND BUSINESS",5,4,null,null,null,null,null,null,true]
[null,"Icicle Seafoods Inc.","FEDERAL or NATIONAL","INDUSTRY AND BUSINESS",5,4,null,null,null,null,null,null,true]
[null,"Icy Strait Seafood","LOCAL","INDUSTRY AND BUSINESS",5,1,null,null,null,null,null,null,true]
[null,"Illinois Department of Natural Resources (IL DNR)","STATE","GOVERNMENT",5,2,null,null,null,null,null,null,true]
[null,"Illinois Environmental Protection Agency (IL EPA)","STATE","GOVERNMENT",5,2,null,null,null,null,null,null,true]
[null,"Illinois Lake Management Association","STATE","NGO",5,2,null,null,null,null,null,null,true]
[null,"Illinois Natural History Survey (IL NHS)","STATE","ACADEMIC INSTITUTION",5,2,null,null,null,null,null,null,true]
[null,"Illinois State Geological Survey (IL SGS)","STATE","GOVERNMENT",5,2,null,null,null,null,null,null,true]
[null,"Illinois State Water Survey","STATE","GOVERNMENT",5,2,null,null,null,null,null,null,true]
[null,"Indian General Assistance Programs (US EPA, IGAP)","FEDERAL or NATIONAL","GOVERNMENT",5,4,null,null,null,null,null,null,true]
[null,"Indian Valley Meats","LOCAL","INDUSTRY AND BUSINESS",5,1,null,null,null,null,null,null,true]
[null,"Indiana Aquaculture Association, Inc.","STATE","INDUSTRY AND BUSINESS",5,2,null,null,null,null,null,null,true]
[null,"Indiana Department of Environmental Management (IL DEM)","STATE","GOVERNMENT",5,2,null,null,null,null,null,null,true]
[null,"Indiana Department of Natural Resources (ID DNR)","STATE","GOVERNMENT",5,2,null,null,null,null,null,null,true]
[null,"Indiana Dunes National Lakeshore","FEDERAL or NATIONAL","GOVERNMENT",5,4,null,null,null,null,null,null,{"$f":"AND(  NOT(ISERROR(FIND(UPPER($B$7),UPPER($B1166),1))),  OR($D$7=\"\",NOT(ISERROR(FIND(UPPER($D$7),UPPER($B1166),1)))),    OR($D$8=\"\",(ISERROR(FIND(UPPER($D$8),UPPER($B1166),1))))           )","v":true}]
[null,"Indiana Farm Bureau, Inc.","STATE","INDUSTRY AND BUSINESS",5,2,null,null,null,null,null,null,true]
[null,"Indiana Lake Management Society","STATE","NGO",5,2,null,null,null,null,null,null,true]
[null,"Indiana Land Use Consortium","STATE","NGO",5,2,null,null,null,null,null,null,true]
[null,"Indiana Planning Commission","STATE","NGO",5,2,null,null,null,null,null,null,true]
[null,"Indiana State University","STATE","ACADEMIC INSTITUTION",5,2,null,null,null,null,null,null,true]
[null,"Indiana University (IU)","STATE","ACADEMIC INSTITUTION",5,2,null,null,null,null,null,null,true]
[null,"Industrial Economics, Inc.","FEDERAL or NATIONAL","INDUSTRY AND BUSINESS",5,4,null,null,null,null,null,null,true]
[null,"Infectious Diseases Society of America ","FEDERAL or NATIONAL","NGO",5,4,null,null,null,null,null,null,true]
[null,"Inform, Inc.","FEDERAL or NATIONAL","NGO",5,4,null,null,null,null,null,null,true]
[null,"Infratab, Inc.","FEDERAL or NATIONAL","INDUSTRY AND BUSINESS",5,4,null,null,null,null,null,null,true]
[null,"Inland Seas Education Association","REGIONAL","ACADEMIC INSTITUTION",5,3,null,null,null,null,null,null,true]
[null,"Inland Seas School of Expeditionary Learning","REGIONAL","NGO",5,3,null,null,null,null,null,null,true]
[null,"Innovative Aquaculture Products Ltd., Canada","INTERNATIONAL","INDUSTRY AND BUSINESS",5,5,null,null,null,null,null,null,true]
[null,"Innovative Mosquito Management, Inc.","STATE","INDUSTRY AND BUSINESS",5,2,null,null,null,null,null,null,true]
[null,"Institut Superieur Agricole de Beauvais","INTERNATIONAL","ACADEMIC INSTITUTION",5,5,null,null,null,null,null,null,true]
[null,"Institute for Applied Geospatial Technology","Unknown2","ACADEMIC INSTITUTION",5,6,null,null,null,null,null,null,true]
[null,"Institute for Fisheries Resources","FEDERAL or NATIONAL","NGO",5,4,null,null,null,null,null,null,true]
[null,"Institute for Learning Innovation","Unknown2","OTHER PARTNERS",5,6,null,null,null,null,null,null,true]
[null,"Institute of Business and Home Safety (IBHS)","Unknown2","INDUSTRY AND BUSINESS",5,6,null,null,null,null,null,null,true]
[null,"Institute of Food Technologists","Unknown2","NGO",5,6,null,null,null,null,null,null,true]
[null,"Institute of Food Technologists - Aquatic Food Products Division","Unknown2","NGO",5,6,null,null,null,null,null,null,true]
[null,"Institute of Food Technologists - International Division","Unknown2","NGO",5,6,null,null,null,null,null,null,true]
[null,"Institute of Geology and Geophysics at Chinese Academy of Science","INTERNATIONAL","ACADEMIC INSTITUTION",5,5,null,null,null,null,null,null,true]
[null,"Instituto de Catalisis y Petroleoquimica, Campus de Cantoblanco, Madrid, Spain ","INTERNATIONAL","ACADEMIC INSTITUTION",5,5,null,null,null,null,null,null,true]
[null,"Instituto Tecnologico de Veracruz (Mexico)","INTERNATIONAL","ACADEMIC INSTITUTION",5,5,null,null,null,null,null,null,true]
[null,"Integrated Science and Engineering, Inc.","FEDERAL or NATIONAL","INDUSTRY AND BUSINESS",5,4,null,null,null,null,null,null,true]
[null,"Interior Distance Education of Alaska","STATE","NGO",5,2,null,null,null,null,null,null,true]
[null,"Internaional Association of Fish Inspectors ","INTERNATIONAL","NGO",5,5,null,null,null,null,null,null,true]
[null,"International Association for Great Lakes Research","INTERNATIONAL","NGO",5,5,null,null,null,null,null,null,true]
[null,"International Association of Aquaculture Economics and Management","INTERNATIONAL","NGO",5,5,null,null,null,null,null,null,true]
[null,"International Association of Fish and Wildlife Agencies","INTERNATIONAL","NGO",5,5,null,null,null,null,null,null,true]
[null,"International Association of Great Lakes Research","INTERNATIONAL","NGO",5,5,null,null,null,null,null,null,true]
[null,"International Bering Sea Forum","INTERNATIONAL","NGO",5,5,null,null,null,null,null,null,true]
[null,"International Bird Rescue and Research Center","INTERNATIONAL","NGO",5,5,null,null,null,null,null,null,true]
[null,"International Center for Advanced Agronomic Studies ","INTERNATIONAL","NGO",5,5,null,null,null,null,null,null,true]
[null,"International Chemical Congress of Pacific Basin Societies (Pacifichem)","INTERNATIONAL","NGO",5,5,null,null,null,null,null,null,true]
[null,"International City / County Mgmt Association","INTERNATIONAL","NGO",5,5,null,null,null,null,null,null,true]
[null,"International Conference on Shellfish Restoration  ","INTERNATIONAL","NGO",5,5,null,null,null,null,null,null,true]
[null,"International Council for Exploration of the Seas (ICES)","INTERNATIONAL","NGO",5,5,null,null,null,null,null,null,true]
[null,"International Game Fish Association","INTERNATIONAL","NGO",5,5,null,null,null,null,null,null,true]
[null,"International Gullah / Geechee Coalition","INTERNATIONAL","NGO",5,5,null,null,null,null,null,null,true]
[null,"International Joint Commission","INTERNATIONAL","NGO",5,5,null,null,null,null,null,null,true]
[null,"International Maritime Organization","INTERNATIONAL","NGO",5,5,null,null,null,null,null,null,true]
[null,"International Pacific Halibut Commission","INTERNATIONAL","OTHER PARTNERS",5,5,null,null,null,null,null,null,true]
[null,"International WorkBoat Show","INTERNATIONAL","INDUSTRY AND BUSINESS",5,5,null,null,null,null,null,null,true]
[null,"Interstate Environmental Commission","REGIONAL","NGO",5,3,null,null,null,null,null,null,true]
[null,"Interstate Shellfish Sanitation Conference (ISSC)","FEDERAL or NATIONAL","NGO",5,4,null,null,null,null,null,null,true]
[null,"Intrinsic LifeSciences","INTERNATIONAL","INDUSTRY AND BUSINESS",5,5,null,null,null,null,null,null,true]
[null,"INVE Aquaculture (Denermonde, Belgium)","INTERNATIONAL","INDUSTRY AND BUSINESS",5,5,null,null,null,null,null,null,true]
[null,"Iosco County Regional Educational Services Agency","REGIONAL","ACADEMIC INSTITUTION",5,3,null,null,null,null,null,null,true]
[null,"Iowa Department of Natural Resources (IA DNR)","STATE","GOVERNMENT",5,2,null,null,null,null,null,null,true]
[null,"Ireland Department of Environment, Heritage and Local Government","INTERNATIONAL","GOVERNMENT",5,5,null,null,null,null,null,null,true]
[null,"Martin Ryan Marine Sciences Institute, National University of Ireland (Ireland)","INTERNATIONAL","ACADEMIC INSTITUTION",5,5,null,null,null,null,null,null,true]
[null,"Iron County","LOCAL","GOVERNMENT",5,1,null,null,null,null,null,null,true]
[null,"Iroquois School District","LOCAL","ACADEMIC INSTITUTION",5,1,null,null,null,null,null,null,true]
[null,"Island Food Community (Pohnpei)","INTERNATIONAL","NGO",5,5,null,null,null,null,null,null,true]
[null,"Island Fresh Seafood","Unknown2","INDUSTRY AND BUSINESS",5,6,null,null,null,null,null,null,true]
[null,"Island Institute","STATE","NGO",5,2,null,null,null,null,null,null,true]
[null,"Izaak Walton League","FEDERAL or NATIONAL","NGO",5,4,null,null,null,null,null,null,true]
[null,"J and B Aquafood","FEDERAL or NATIONAL","INDUSTRY AND BUSINESS",5,4,null,null,null,null,null,null,true]
[null,"J.M. Clayton and Sons","FEDERAL or NATIONAL","INDUSTRY AND BUSINESS",5,4,null,null,null,null,null,null,true]
[null,"Jackson State University (JSU)","STATE","ACADEMIC INSTITUTION",5,2,null,null,null,null,null,null,true]
[null,"Jacksonport Historical Society","LOCAL","NGO",5,1,null,null,null,null,null,null,true]
[null,"Jacksonville Shell Club","LOCAL","NGO",5,1,null,null,null,null,null,null,{"$f":"AND(  NOT(ISERROR(FIND(UPPER($B$7),UPPER($B1230),1))),  OR($D$7=\"\",NOT(ISERROR(FIND(UPPER($D$7),UPPER($B1230),1)))),    OR($D$8=\"\",(ISERROR(FIND(UPPER($D$8),UPPER($B1230),1))))           )","v":true}]
[null,"James Madison University (JMU)","STATE","ACADEMIC INSTITUTION",5,2,null,null,null,null,null,null,true]
[null,"Jamestown Seafood","LOCAL","INDUSTRY AND BUSINESS",5,1,null,null,null,null,null,null,true]
[null,"Jamestown S'Klallam Tribe","Tribal","GOVERNMENT",5,13,null,null,null,null,null,null,true]
[null,"JASON Project","FEDERAL or NATIONAL","OTHER PARTNERS",5,4,null,null,null,null,null,null,true]
[null,"Jasper Soil and Water Conservation District ","LOCAL","GOVERNMENT",5,1,null,null,null,null,null,null,true]
[null,"Jefferson Greenways","Unknown2","NGO",5,6,null,null,null,null,null,null,true]
[null,"Jefferson Parish Marine Fisheries Advisory Board","LOCAL","NGO",5,1,null,null,null,null,null,null,true]
[null,"Jefferson Parish School Board","LOCAL","ACADEMIC INSTITUTION",5,1,null,null,null,null,null,null,true]
[null,"Jekyll Island Authority","LOCAL","NGO",5,1,null,null,null,null,null,null,true]
[null,"Jekyll Island Driftwood Nature Center and 4-H Facility","LOCAL","NGO",5,1,null,null,null,null,null,null,true]
[null,"Jellett Biotek Ltd.","FEDERAL or NATIONAL","INDUSTRY AND BUSINESS",5,4,null,null,null,null,null,null,true]
[null,"Jellett Rapid Testing","STATE","INDUSTRY AND BUSINESS",5,2,null,null,null,null,null,null,true]
[null,"Jensen Fishery","FEDERAL or NATIONAL","INDUSTRY AND BUSINESS",5,4,null,null,null,null,null,null,true]
[null,"Jerry's Seafood","FEDERAL or NATIONAL","INDUSTRY AND BUSINESS",5,4,null,null,null,null,null,null,true]
[null,"Jersey Central Power and Light Company (JCPandL) ","STATE","INDUSTRY AND BUSINESS",5,2,null,null,null,null,null,null,true]
[null,"Jersey Shore Partnership","STATE","NGO",5,2,null,null,null,null,null,null,true]
[null,"Jesse McClanahan Construction","LOCAL","INDUSTRY AND BUSINESS",5,1,null,null,null,null,null,null,true]
[null,"JJR Engineering","Unknown2","INDUSTRY AND BUSINESS",5,6,null,null,null,null,null,null,true]
[null,"JMB International, Ltd. (Thailand)","INTERNATIONAL","INDUSTRY AND BUSINESS",5,5,null,null,null,null,null,null,true]
[null,"Joe's Septic Tank Service","LOCAL","INDUSTRY AND BUSINESS",5,1,null,null,null,null,null,null,true]
[null,"John Carroll University (JCU)","STATE","ACADEMIC INSTITUTION",5,2,null,null,null,null,null,null,true]
[null,"John G. Shedd Aquarium","LOCAL","OTHER PARTNERS",5,1,null,null,null,null,null,null,true]
[null,"John Heinz National Wildlife Refuge (US DOI, FWS, NWRS)","FEDERAL or NATIONAL","GOVERNMENT",5,4,null,null,null,null,null,null,true]
[null,"Johns Hopkins University (JHU)","STATE","ACADEMIC INSTITUTION",5,2,null,null,null,null,null,null,true]
[null,"Johnson Creek Watershed Council","LOCAL","NGO",5,1,null,null,null,null,null,null,true]
[null,"Joint Subcommittee on Aquaculture (USDA, US DOC, US DOI, US DOE, US HHS, US EPA)","FEDERAL or NATIONAL","GOVERNMENT",5,4,null,null,null,null,null,null,true]
[null,"Joint Subcommittee on Effluents (US EPA, USDA)","FEDERAL or NATIONAL","GOVERNMENT",5,4,null,null,null,null,null,null,true]
[null,"Joma Wild Seafoods","Unknown2","INDUSTRY AND BUSINESS",5,6,null,null,null,null,null,null,true]
[null,"Joycraft Marine Safety Equipment","Unknown2","INDUSTRY AND BUSINESS",5,6,null,null,null,null,null,null,true]
[null,"Jug Bay Wetlands Sanctuary, Anne Arundel County Department of Recreation and Parks","LOCAL","GOVERNMENT",5,1,null,null,null,null,null,null,true]
[null,"Jurica-Suchy Nature Museum ","LOCAL","NGO",5,1,null,null,null,null,null,null,true]
[null,"Kabbes Engineering Company","Unknown2","INDUSTRY AND BUSINESS",5,6,null,null,null,null,null,null,true]
[null,"Kachemak Bay National Estuarine Research Reserve (US DOC, NOAA, NOS, NERRS)","FEDERAL or NATIONAL","GOVERNMENT",5,4,null,null,null,null,null,null,true]
[null,"Kachemak Shellfish Mariculture Association","LOCAL","NGO",5,1,null,null,null,null,null,null,true]
[null,"Kai Makana","LOCAL","NGO",5,1,null,null,null,null,null,null,true]
[null,"Kailua Bay Advisory Council","LOCAL","NGO",5,1,null,null,null,null,null,null,true]
[null,"Kailua Chamber of Commerce","LOCAL","INDUSTRY AND BUSINESS",5,1,null,null,null,null,null,null,true]
[null,"Kailua Historic Society","LOCAL","NGO",5,1,null,null,null,null,null,null,true]
[null,"Kailua Neighborhood Board","LOCAL","OTHER PARTNERS",5,1,null,null,null,null,null,null,true]
[null,"Kailua Urban Design Task Force","LOCAL","NGO",5,1,null,null,null,null,null,null,true]
[null,"Kamchatka Institute of Ecology and Nature Protection","INTERNATIONAL","NGO",5,5,null,null,null,null,null,null,true]
[null,"Kamehameha Schools","LOCAL","ACADEMIC INSTITUTION",5,1,null,null,null,null,null,null,true]
[null,"Kamilche Sea Farms","STATE","INDUSTRY AND BUSINESS",5,2,null,null,null,null,null,null,true]
[null,"Kaneohe Neighborhood Board ","LOCAL","GOVERNMENT",5,1,null,null,null,null,null,null,true]
[null,"Kaneohe Ranch","FEDERAL or NATIONAL","INDUSTRY AND BUSINESS",5,4,null,null,null,null,null,null,true]
[null,"Kapiolani Community College Culinary Institute of the Pacific  ","STATE","ACADEMIC INSTITUTION",5,2,null,null,null,null,null,null,true]
[null,"Kauai County Department of Parks and Recreation","LOCAL","GOVERNMENT",5,1,null,null,null,null,null,null,true]
[null,"Kauai County Office of the Mayor","LOCAL","GOVERNMENT",5,1,null,null,null,null,null,null,true]
[null,"Kauai County Planning Department","LOCAL","GOVERNMENT",5,1,null,null,null,null,null,null,true]
[null,"Kauai Sustainable Agroecological Systems","Unknown2","INDUSTRY AND BUSINESS",5,6,null,null,null,null,null,null,true]
[null,"Kawainui Heritage Society","LOCAL","NGO",5,1,null,null,null,null,null,null,true]
[null,"Keep it Kailua","LOCAL","NGO",5,1,null,null,null,null,null,null,true]
[null,"Keep South Carolina Beautiful ","STATE","NGO",5,2,null,null,null,null,null,null,true]
[null,"Keiki O ka Aina","Unknown2","NGO",5,6,null,null,null,null,null,null,true]
[null,"Keizer City Council","LOCAL","GOVERNMENT",5,1,null,null,null,null,null,null,true]
[null,"Kellogg Foundation","FEDERAL or NATIONAL","NGO",5,4,null,null,null,null,null,null,true]
[null,"Kenai Fjords Tours","STATE","INDUSTRY AND BUSINESS",5,2,null,null,null,null,null,null,true]
[null,"Kenai Peninsula College","STATE","ACADEMIC INSTITUTION",5,2,null,null,null,null,null,null,true]
[null,"Kenai River Professional Guide Association","LOCAL","NGO",5,1,null,null,null,null,null,null,true]
[null,"Kenai River Sportfishing Association","LOCAL","NGO",5,1,null,null,null,null,null,null,true]
[null,"Kennesaw State Univ","STATE","ACADEMIC INSTITUTION",5,2,null,null,null,null,null,null,true]
[null,"Kenosha City Parks","LOCAL","GOVERNMENT",5,1,null,null,null,null,null,null,true]
[null,"Kenosha Public Museum","LOCAL","NGO",5,1,null,null,null,null,null,null,true]
[null,"Kent SeaTech Corporation","Unknown2","INDUSTRY AND BUSINESS",5,6,null,null,null,null,null,null,{"$f":"AND(  NOT(ISERROR(FIND(UPPER($B$7),UPPER($B1294),1))),  OR($D$7=\"\",NOT(ISERROR(FIND(UPPER($D$7),UPPER($B1294),1)))),    OR($D$8=\"\",(ISERROR(FIND(UPPER($D$8),UPPER($B1294),1))))           )","v":true}]
[null,"Kent State University","STATE","ACADEMIC INSTITUTION",5,2,null,null,null,null,null,null,true]
[null,"Kewaunee City Parks","LOCAL","GOVERNMENT",5,1,null,null,null,null,null,null,true]
[null,"Keweenaw Bay Indian Community ","FEDERAL or NATIONAL","GOVERNMENT",5,4,null,null,null,null,null,null,true]
[null,"Kiawah Island Community Association ","LOCAL","NGO",5,1,null,null,null,null,null,null,true]
[null,"King and Prince Seafood Corporation","Unknown2","INDUSTRY AND BUSINESS",5,6,null,null,null,null,null,null,true]
[null,"King’s Fisheries","Unknown2","INDUSTRY AND BUSINESS",5,6,null,null,null,null,null,null,true]
[null,"Kinghorn Insurance Services ","Unknown2","INDUSTRY AND BUSINESS",5,6,null,null,null,null,null,null,true]
[null,"Kingzett Professional Services, Ltd., Canada","INTERNATIONAL","INDUSTRY AND BUSINESS",5,5,null,null,null,null,null,null,true]
[null,"Kirby Kids Fossil Museum","LOCAL","OTHER PARTNERS",5,1,null,null,null,null,null,null,true]
[null,"Kitsap Alliance of Property Owners","LOCAL","NGO",5,1,null,null,null,null,null,null,true]
[null,"Kitsap Divers","LOCAL","NGO",5,1,null,null,null,null,null,null,true]
[null,"Kitty Hawk Fire Department","LOCAL","GOVERNMENT",5,1,null,null,null,null,null,null,true]
[null,"KMAS Radio, Shelton, WA","LOCAL","INDUSTRY AND BUSINESS",5,1,null,null,null,null,null,null,true]
[null,"Knight-Abbey Print","Unknown2","INDUSTRY AND BUSINESS",5,6,null,null,null,null,null,null,true]
[null,"Kodiak Chamber of Commerce","LOCAL","INDUSTRY AND BUSINESS",5,1,null,null,null,null,null,null,true]
[null,"Kodiak ComFish Alaska","Unknown2","INDUSTRY AND BUSINESS",5,6,null,null,null,null,null,null,true]
[null,"Kodiak Fish Company","Unknown2","INDUSTRY AND BUSINESS",5,6,null,null,null,null,null,null,true]
[null,"Kodiak Fisheries Research Center (US DOC, NOAA, NMFS)","FEDERAL or NATIONAL","GOVERNMENT",5,4,null,null,null,null,null,null,true]
[null,"Koep Fisheries","Unknown2","INDUSTRY AND BUSINESS",5,6,null,null,null,null,null,null,true]
[null,"Kohler-Andrae State Park, Sheboygan","STATE","GOVERNMENT",5,2,null,null,null,null,null,null,true]
[null,"Kona Reef Divers Club","LOCAL","OTHER PARTNERS",5,1,null,null,null,null,null,null,true]
[null,"Kona Soil and Water Conservation District Advisory Group","LOCAL","NGO",5,1,null,null,null,null,null,null,true]
[null,"Kona Underwater Photography Society","LOCAL","OTHER PARTNERS",5,1,null,null,null,null,null,null,true]
[null,"Kona-Kohala Chamber of Commerce","LOCAL","INDUSTRY AND BUSINESS",5,1,null,null,null,null,null,null,true]
[null,"Korea University","INTERNATIONAL","ACADEMIC INSTITUTION",5,5,null,null,null,null,null,null,true]
[null,"Krech Ojard and Association Consulting Engineers","Unknown2","INDUSTRY AND BUSINESS",5,6,null,null,null,null,null,null,true]
[null,"Kulpa Fisheries","Unknown2","INDUSTRY AND BUSINESS",5,6,null,null,null,null,null,null,true]
[null,"KUMD Radio","Unknown2","ACADEMIC INSTITUTION",5,6,null,null,null,null,null,null,true]
[null,"Kuskokwim River Fishermen’s Management Working Group","LOCAL","NGO",5,1,null,null,null,null,null,null,true]
[null,"Kyushu University","INTERNATIONAL","ACADEMIC INSTITUTION",5,5,null,null,null,null,null,null,true]
[null,"La Tremblade Laboratory (France)","INTERNATIONAL","OTHER PARTNERS",5,5,null,null,null,null,null,null,true]
[null,"Lac Courte Oreilles Ojibwe Community College","STATE","ACADEMIC INSTITUTION",5,2,null,null,null,null,null,null,true]
[null,"Lafourche Parish School Board","LOCAL","ACADEMIC INSTITUTION",5,1,null,null,null,null,null,null,true]
[null,"Lafreniere Park–Metairie, Jefferson Parish","LOCAL","GOVERNMENT",5,1,null,null,null,null,null,null,true]
[null,"Lake Carriers Association","INTERNATIONAL","INDUSTRY AND BUSINESS",5,5,null,null,null,null,null,null,true]
[null,"Lake County Forest Preserve","STATE","GOVERNMENT",5,2,null,null,null,null,null,null,true]
[null,"Lake County Health Department","LOCAL","GOVERNMENT",5,1,null,null,null,null,null,null,true]
[null,"Lake County Yacht Club, Eastlake","LOCAL","INDUSTRY AND BUSINESS",5,1,null,null,null,null,null,null,true]
[null,"Lake Dauterive Advisory Committee","LOCAL","OTHER PARTNERS",5,1,null,null,null,null,null,null,true]
[null,"Lake Erie Charter Boat Association","LOCAL","INDUSTRY AND BUSINESS",5,1,null,null,null,null,null,null,true]
[null,"Lake Erie Coastal Ohio, Inc.","FEDERAL or NATIONAL","NGO",5,4,null,null,null,null,null,null,true]
[null,"Lake Erie Marine Trades Association","STATE","INDUSTRY AND BUSINESS",5,2,null,null,null,null,null,null,true]
[null,"Lake Erie Millennium Network","REGIONAL","NGO",5,3,null,null,null,null,null,null,true]
[null,"Lake Erie Nature and Science Center","Unknown2","NGO",5,6,null,null,null,null,null,null,true]
[null,"Lake Erie Protection Fund, Ohio Lake Erie Commission","STATE","GOVERNMENT",5,2,null,null,null,null,null,null,true]
[null,"Lake Erie Regional Conservancy","LOCAL","NGO",5,1,null,null,null,null,null,null,true]
[null,"Lake Kinneret Limnological Lab, Israel","INTERNATIONAL","ACADEMIC INSTITUTION",5,5,null,null,null,null,null,null,true]
[null,"Lake Limerick Country Club","LOCAL","NGO",5,1,null,null,null,null,null,null,true]
[null,"Lake Michigan Car Ferry Company","REGIONAL","INDUSTRY AND BUSINESS",5,3,null,null,null,null,null,null,true]
[null,"Lake Michigan Lakewide Management Plan Forum","REGIONAL","NGO",5,3,null,null,null,null,null,null,true]
[null,"Lake Michigan Monitoring Coordinating Council","REGIONAL","NGO",5,3,null,null,null,null,null,null,true]
[null,"Lake Minnetonka Association","LOCAL","NGO",5,1,null,null,null,null,null,null,true]
[null,"Lake Minnetonka Conservation District","LOCAL","GOVERNMENT",5,1,null,null,null,null,null,null,true]
[null,"Lake Pontchartrain Basin Foundation","LOCAL","NGO",5,1,null,null,null,null,null,null,true]
[null,"Lake Pontchartrain Fishermen's Association","LOCAL","INDUSTRY AND BUSINESS",5,1,null,null,null,null,null,null,true]
[null,"Lake Sturgeon Bowl, Great Lakes WATER Institute (UWM)","REGIONAL","ACADEMIC INSTITUTION",5,3,null,null,null,null,null,null,true]
[null,"Lake Superior Binational Program","INTERNATIONAL","GOVERNMENT",5,5,null,null,null,null,null,null,true]
[null,"Lake Superior College","STATE","ACADEMIC INSTITUTION",5,2,null,null,null,null,null,null,true]
[null,"Lake Superior Fisheries","REGIONAL","INDUSTRY AND BUSINESS",5,3,null,null,null,null,null,null,true]
[null,"Lake Superior Medical Society","REGIONAL","NGO",5,3,null,null,null,null,null,null,true]
[null,"Lake Superior Research Institute","REGIONAL","ACADEMIC INSTITUTION",5,3,null,null,null,null,null,null,true]
[null,"Lake Superior State University (LSSU)","STATE","ACADEMIC INSTITUTION",5,2,null,null,null,null,null,null,true]
[null,"Lake Superior State University, Fish and Wildlife Club (LSSU)","STATE","NGO",5,2,null,null,null,null,null,null,true]
[null,"Lake Superior Steelhead Association","REGIONAL","NGO",5,3,null,null,null,null,null,null,{"$f":"AND(  NOT(ISERROR(FIND(UPPER($B$7),UPPER($B1358),1))),  OR($D$7=\"\",NOT(ISERROR(FIND(UPPER($D$7),UPPER($B1358),1)))),    OR($D$8=\"\",(ISERROR(FIND(UPPER($D$8),UPPER($B1358),1))))           )","v":true}]
[null,"Lake Superior Zoo","STATE","NGO",5,2,null,null,null,null,null,null,true]
[null,"Lake Waramaug Association","LOCAL","NGO",5,1,null,null,null,null,null,null,true]
[null,"Lakefront Marina, Port Clinton","LOCAL","INDUSTRY AND BUSINESS",5,1,null,null,null,null,null,null,true]
[null,"Lakeshore and Lower Fox River Basin Partnerships","LOCAL","NGO",5,1,null,null,null,null,null,null,true]
[null,"Land Trust for the Mississippi Coastal Plain","LOCAL","NGO",5,1,null,null,null,null,null,null,true]
[null,"Laura Ritter, consumer marketing consultant","LOCAL","INDUSTRY AND BUSINESS",5,1,null,null,null,null,null,null,true]
[null,"Lawrence Berkeley National Laboratory (US DOE)","FEDERAL or NATIONAL","GOVERNMENT",5,4,null,null,null,null,null,null,true]
[null,"Lawrence Park Township","LOCAL","GOVERNMENT",5,1,null,null,null,null,null,null,true]
[null,"Law's Nursery","Unknown2","INDUSTRY AND BUSINESS",5,6,null,null,null,null,null,null,true]
[null,"Leadership South Carolina ","STATE","ACADEMIC INSTITUTION",5,2,null,null,null,null,null,null,true]
[null,"League for Innovation in Community Colleges","INTERNATIONAL","OTHER PARTNERS",5,5,null,null,null,null,null,null,true]
[null,"League of Women Voters","FEDERAL or NATIONAL","NGO",5,4,null,null,null,null,null,null,true]
[null,"Leech Lake Band of Ojibwe","INTERNATIONAL","GOVERNMENT",5,5,null,null,null,null,null,null,true]
[null,"Legislative Commission on L.I. Water Resources","LOCAL","GOVERNMENT",5,1,null,null,null,null,null,null,true]
[null,"Legislative Commission on Minnesota Resources","STATE","GOVERNMENT",5,2,null,null,null,null,null,null,true]
[null,"Lehigh University","STATE","ACADEMIC INSTITUTION",5,2,null,null,null,null,null,null,true]
[null,"Leonards Restaurant","LOCAL","INDUSTRY AND BUSINESS",5,1,null,null,null,null,null,null,true]
[null,"Lewes Chamber of Commerce","LOCAL","INDUSTRY AND BUSINESS",5,1,null,null,null,null,null,null,true]
[null,"LGL Limited","Unknown2","INDUSTRY AND BUSINESS",5,6,null,null,null,null,null,null,true]
[null,"Liberty Bay Foundation","LOCAL","NGO",5,1,null,null,null,null,null,null,true]
[null,"Lilly Foundation","Unknown2","OTHER PARTNERS",5,6,null,null,null,null,null,null,true]
[null,"Limberis Seafood Processing Ltd., Canada","INTERNATIONAL","INDUSTRY AND BUSINESS",5,5,null,null,null,null,null,null,true]
[null,"Limno-Tech, Inc.","Unknown2","INDUSTRY AND BUSINESS",5,6,null,null,null,null,null,null,true]
[null,"LiMPETS Program  (US DOC, NOAA, NOS, ONMS)","FEDERAL or NATIONAL","GOVERNMENT",5,4,null,null,null,null,null,null,true]
[null,"Lincoln County Historical Society","LOCAL","OTHER PARTNERS",5,1,null,null,null,null,null,null,true]
[null,"Little River Band ","FEDERAL or NATIONAL","OTHER PARTNERS",5,4,null,null,null,null,null,null,true]
[null,"Little River Seafood (Reedville, VA)","Unknown2","INDUSTRY AND BUSINESS",5,6,null,null,null,null,null,null,true]
[null,"Little Skookum Shellfish Growers","FEDERAL or NATIONAL","INDUSTRY AND BUSINESS",5,4,null,null,null,null,null,null,true]
[null,"Little Traverse Bay Bands of Odawa","FEDERAL or NATIONAL","GOVERNMENT",5,4,null,null,null,null,null,null,true]
[null,"Litton Industries/Ingalls Shipbuilding","Unknown2","INDUSTRY AND BUSINESS",5,6,null,null,null,null,null,null,true]
[null,"Living Classroom Foundation","Unknown2","OTHER PARTNERS",5,6,null,null,null,null,null,null,true]
[null,"Lockhart Environmental","Unknown2","INDUSTRY AND BUSINESS",5,6,null,null,null,null,null,null,true]
[null,"Lockheed Corporation ","Unknown2","INDUSTRY AND BUSINESS",5,6,null,null,null,null,null,null,true]
[null,"LoGuidice Educational Center","LOCAL","ACADEMIC INSTITUTION",5,1,null,null,null,null,null,null,true]
[null,"Long Bay Pointe Tackle","Unknown2","INDUSTRY AND BUSINESS",5,6,null,null,null,null,null,null,true]
[null,"Long Beach Aquarium of the Pacific","LOCAL","OTHER PARTNERS",5,1,null,null,null,null,null,null,true]
[null,"Long Island Sound Foundation","REGIONAL","NGO",5,3,null,null,null,null,null,null,true]
[null,"Long Island Sound Study (US EPA, NEP, LISS)","FEDERAL or NATIONAL","GOVERNMENT",5,4,null,null,null,null,null,null,true]
[null,"Long Island Sound Watershed Alliance","REGIONAL","NGO",5,3,null,null,null,null,null,null,true]
[null,"Long Island University, Southampton College (LIU)","STATE","ACADEMIC INSTITUTION",5,2,null,null,null,null,null,null,true]
[null,"Long Tom Watershed Council","LOCAL","OTHER PARTNERS",5,1,null,null,null,null,null,null,true]
[null,"Los Alamos National Laboratory (US DOE)","FEDERAL or NATIONAL","GOVERNMENT",5,4,null,null,null,null,null,null,true]
[null,"Los Angeles County Fire Department, Lifeguard Division","LOCAL","GOVERNMENT",5,1,null,null,null,null,null,null,true]
[null,"Los Angeles County Museum of Natural History","LOCAL","GOVERNMENT",5,1,null,null,null,null,null,null,true]
[null,"Los Angeles County Office of Education","LOCAL","GOVERNMENT",5,1,null,null,null,null,null,null,true]
[null,"Los Angeles County,  Redondo Beach School District","LOCAL","ACADEMIC INSTITUTION",5,1,null,null,null,null,null,null,true]
[null,"Los Angeles County, El Segundo School District","LOCAL","ACADEMIC INSTITUTION",5,1,null,null,null,null,null,null,true]
[null,"Los Angeles County, Hawthorne School District","LOCAL","ACADEMIC INSTITUTION",5,1,null,null,null,null,null,null,true]
[null,"Los Angeles County, L.A. Unified School District","LOCAL","ACADEMIC INSTITUTION",5,1,null,null,null,null,null,null,true]
[null,"Los Angeles County, Lawndale School District","LOCAL","ACADEMIC INSTITUTION",5,1,null,null,null,null,null,null,true]
[null,"Los Angeles County, Maniatan Beach Unified School District","LOCAL","ACADEMIC INSTITUTION",5,1,null,null,null,null,null,null,true]
[null,"Los Angeles County, Museum of Natural History","LOCAL","NGO",5,1,null,null,null,null,null,null,true]
[null,"Los Angeles County, Palos Verdes Unified School District","LOCAL","ACADEMIC INSTITUTION",5,1,null,null,null,null,null,null,true]
[null,"Los Angeles County, Sheriff’s Department","LOCAL","GOVERNMENT",5,1,null,null,null,null,null,null,true]
[null,"Los Angeles Department of Beaches and Harbors (LA DBH)","LOCAL","GOVERNMENT",5,1,null,null,null,null,null,null,true]
[null,"Los Angeles Department of Environmental Affairs (LA DEA)","LOCAL","GOVERNMENT",5,1,null,null,null,null,null,null,true]
[null,"Los Angeles District (US HHS, FDA)","FEDERAL or NATIONAL","GOVERNMENT",5,4,null,null,null,null,null,null,true]
[null,"Los Angeles Harbor Department","LOCAL","GOVERNMENT",5,1,null,null,null,null,null,null,true]
[null,"Louisiana Department of Agriculture and Forestry (LA DAF)","STATE","GOVERNMENT",5,2,null,null,null,null,null,null,true]
[null,"Louisiana Department of Culture, Recreation and Tourism  (LA DCRT)","STATE","GOVERNMENT",5,2,null,null,null,null,null,null,true]
[null,"Louisiana Department of Economic Development (LA DED)","STATE","GOVERNMENT",5,2,null,null,null,null,null,null,true]
[null,"Louisiana Department of Education (LA ED)","STATE","GOVERNMENT",5,2,null,null,null,null,null,null,true]
[null,"Louisiana Department of Environmental Quality (LA DEQ)","STATE","GOVERNMENT",5,2,null,null,null,null,null,null,true]
[null,"Louisiana Department of Natural Resources (LA DNR)","STATE","GOVERNMENT",5,2,null,null,null,null,null,null,{"$f":"AND(  NOT(ISERROR(FIND(UPPER($B$7),UPPER($B1422),1))),  OR($D$7=\"\",NOT(ISERROR(FIND(UPPER($D$7),UPPER($B1422),1)))),    OR($D$8=\"\",(ISERROR(FIND(UPPER($D$8),UPPER($B1422),1))))           )","v":true}]
[null,"Louisiana Department of Public Education (LA ED)","STATE","GOVERNMENT",5,2,null,null,null,null,null,null,true]
[null,"Louisiana Department of Wildlife and Fisheries (LA DFW)","STATE","GOVERNMENT",5,2,null,null,null,null,null,null,true]
[null,"Louisiana Geological Survey (LSU)","STATE","GOVERNMENT",5,2,null,null,null,null,null,null,true]
[null,"Louisiana Marine Fisheries Museum Task Force","STATE","GOVERNMENT",5,2,null,null,null,null,null,null,true]
[null,"Louisiana Natural Freshwater Catfish Association","Unknown2","INDUSTRY AND BUSINESS",5,6,null,null,null,null,null,null,true]
[null,"Louisiana Office of Emergency Preparedness ","STATE","GOVERNMENT",5,2,null,null,null,null,null,null,true]
[null,"Louisiana Office of the Attorney General","STATE","GOVERNMENT",5,2,null,null,null,null,null,null,true]
[null,"Louisiana Office of the Secretary of State","STATE","GOVERNMENT",5,2,null,null,null,null,null,null,true]
[null,"Louisiana Outdoor Writers Association","STATE","NGO",5,2,null,null,null,null,null,null,true]
[null,"Louisiana Oyster Industry Council","Unknown2","INDUSTRY AND BUSINESS",5,6,null,null,null,null,null,null,true]
[null,"Louisiana Restaurant Association","Unknown2","INDUSTRY AND BUSINESS",5,6,null,null,null,null,null,null,true]
[null,"Louisiana Shrimp Association","Unknown2","INDUSTRY AND BUSINESS",5,6,null,null,null,null,null,null,true]
[null,"Louisiana Shrimp Industry Coalition","Unknown2","INDUSTRY AND BUSINESS",5,6,null,null,null,null,null,null,true]
[null,"Louisiana State University (LSU)","STATE","ACADEMIC INSTITUTION",5,2,null,null,null,null,null,null,true]
[null,"Louisiana State University, AgCenter (LSU)","STATE","ACADEMIC INSTITUTION",5,2,null,null,null,null,null,null,true]
[null,"Louisiana Travel Promotion Association ","Unknown2","INDUSTRY AND BUSINESS",5,6,null,null,null,null,null,null,true]
[null,"Louisiana Universities Marine Consortium","STATE","ACADEMIC INSTITUTION",5,2,null,null,null,null,null,null,true]
[null,"Louisiana Wildlife Federation","STATE","NGO",5,2,null,null,null,null,null,null,true]
[null,"Low Country Institute (Spring Island, SC)","LOCAL","NGO",5,1,null,null,null,null,null,null,true]
[null,"Low Impact Development Center","FEDERAL or NATIONAL","NGO",5,4,null,null,null,null,null,null,true]
[null,"Lowcountry Council of Governments","LOCAL","GOVERNMENT",5,1,null,null,null,null,null,null,true]
[null,"Lowcountry Estuarium ","LOCAL","NGO",5,1,null,null,null,null,null,null,true]
[null,"Lowcountry Regional Science and Engineering Fair ","LOCAL","NGO",5,1,null,null,null,null,null,null,true]
[null,"Lowcountry Seafood, Inc. ","Unknown2","INDUSTRY AND BUSINESS",5,6,null,null,null,null,null,null,true]
[null,"Lower Columbia River Estuary Research Project","REGIONAL","NGO",5,3,null,null,null,null,null,null,true]
[null,"Lower Columbia Solutions Group","REGIONAL","NGO",5,3,null,null,null,null,null,null,true]
[null,"Lower Great Lakes Fishery Resource Office (US DOI, FWS)","FEDERAL or NATIONAL","GOVERNMENT",5,4,null,null,null,null,null,null,true]
[null,"Lower Kuskokwim School District","LOCAL","ACADEMIC INSTITUTION",5,1,null,null,null,null,null,null,true]
[null,"Lower Rogue Watershed Council","LOCAL","NGO",5,1,null,null,null,null,null,null,true]
[null,"Loyola University Chicago (LUC)","STATE","ACADEMIC INSTITUTION",5,2,null,null,null,null,null,null,true]
[null,"Loyola University New Orleans (LOYNO)","STATE","ACADEMIC INSTITUTION",5,2,null,null,null,null,null,null,true]
[null,"Lucent Technologies (Bell Labs)","Unknown2","INDUSTRY AND BUSINESS",5,6,null,null,null,null,null,null,true]
[null,"Luckiamute Watershed Council","LOCAL","NGO",5,1,null,null,null,null,null,null,true]
[null,"Lummi Indian Business Council","FEDERAL or NATIONAL","INDUSTRY AND BUSINESS",5,4,null,null,null,null,null,null,true]
[null,"Lyden Shellfish LLC","STATE","INDUSTRY AND BUSINESS",5,2,null,null,null,null,null,null,true]
[null,"M. O. Lusk Company","LOCAL","INDUSTRY AND BUSINESS",5,1,null,null,null,null,null,null,true]
[null,"Mackinac County Water Safety Review Team","LOCAL","NGO",5,1,null,null,null,null,null,null,true]
[null,"Mackinac Fish Company","Unknown2","INDUSTRY AND BUSINESS",5,6,null,null,null,null,null,null,true]
[null,"Made in Alaska","Unknown2","NGO",5,6,null,null,null,null,null,null,true]
[null,"Madeline Island Historical Museum","LOCAL","OTHER PARTNERS",5,1,null,null,null,null,null,null,true]
[null,"Madison JASON Schools and Partners","Unknown2","OTHER PARTNERS",5,6,null,null,null,null,null,null,true]
[null,"Madison School and Community Recreation (MSCR) Safe Haven Program","LOCAL","OTHER PARTNERS",5,1,null,null,null,null,null,null,true]
[null,"Madison Wisconsin School District","LOCAL","ACADEMIC INSTITUTION",5,1,null,null,null,null,null,null,true]
[null,"Magnolia Catering","Unknown2","INDUSTRY AND BUSINESS",5,6,null,null,null,null,null,null,true]
[null,"Magnolia Plantation and Gardens ","Unknown2","INDUSTRY AND BUSINESS",5,6,null,null,null,null,null,null,true]
[null,"Maine Aquaculture Association","Unknown2","INDUSTRY AND BUSINESS",5,6,null,null,null,null,null,null,true]
[null,"Maine Aquaculture Innovation Center (MAIC)","STATE","NGO",5,2,null,null,null,null,null,null,true]
[null,"Maine Association of Sea Kayak Guides and Instructors","STATE","NGO",5,2,null,null,null,null,null,null,true]
[null,"Maine Bureau of Parks and Lands","STATE","GOVERNMENT",5,2,null,null,null,null,null,null,true]
[null,"Maine Coastal Islands National Wildlife Refuge (US DOI, FWS, NWRS)","FEDERAL or NATIONAL","GOVERNMENT",5,4,null,null,null,null,null,null,true]
[null,"Maine Coastal Program","STATE","GOVERNMENT",5,2,null,null,null,null,null,null,true]
[null,"Maine Coastal Program, State Planning Office","STATE","GOVERNMENT",5,2,null,null,null,null,null,null,true]
[null,"Maine Conservation Corps (AmeriCorps)","FEDERAL or NATIONAL","GOVERNMENT",5,4,null,null,null,null,null,null,true]
[null,"Maine Department  of Conservation","STATE","GOVERNMENT",5,2,null,null,null,null,null,null,true]
[null,"Maine Department of Environmental Protection (ME DEP)","STATE","GOVERNMENT",5,2,null,null,null,null,null,null,true]
[null,"Maine Department of Health (ME DOH)","STATE","GOVERNMENT",5,2,null,null,null,null,null,null,true]
[null,"Maine Department of Marine Resources (ME DMR)","STATE","GOVERNMENT",5,2,null,null,null,null,null,null,true]
[null,"Maine Fishermen’s Forum Board","STATE","NGO",5,2,null,null,null,null,null,null,true]
[null,"Maine Geological Survey ","STATE","GOVERNMENT",5,2,null,null,null,null,null,null,true]
[null,"Maine Island Trail Association","LOCAL","NGO",5,1,null,null,null,null,null,null,true]
[null,"Maine Lobstermen’s Association","STATE","INDUSTRY AND BUSINESS",5,2,null,null,null,null,null,null,true]
[null,"Maine Maine Marine Patrol (ME DMR)","STATE","GOVERNMENT",5,2,null,null,null,null,null,null,true]
[null,"Maine Maritime Academy","STATE","ACADEMIC INSTITUTION",5,2,null,null,null,null,null,null,true]
[null,"Maine Soft-shell Clam Advisory Council","STATE","GOVERNMENT",5,2,null,null,null,null,null,null,{"$f":"AND(  NOT(ISERROR(FIND(UPPER($B$7),UPPER($B1486),1))),  OR($D$7=\"\",NOT(ISERROR(FIND(UPPER($D$7),UPPER($B1486),1)))),    OR($D$8=\"\",(ISERROR(FIND(UPPER($D$8),UPPER($B1486),1))))           )","v":true}]
[null,"Makah Fisheries Management, Makah Tribal Council","Tribal","GOVERNMENT",5,13,null,null,null,null,null,null,true]
[null,"Malama Hawaii","STATE","NGO",5,2,null,null,null,null,null,null,true]
[null,"Manistee Community Foundation","LOCAL","NGO",5,1,null,null,null,null,null,null,true]
[null,"Manitoba Environment","INTERNATIONAL","GOVERNMENT",5,5,null,null,null,null,null,null,true]
[null,"Manke Lumber Company","LOCAL","INDUSTRY AND BUSINESS",5,1,null,null,null,null,null,null,true]
[null,"Mansfield University of Pennsylvania","STATE","ACADEMIC INSTITUTION",5,2,null,null,null,null,null,null,true]
[null,"MariCal, Inc.","Unknown2","INDUSTRY AND BUSINESS",5,6,null,null,null,null,null,null,true]
[null,"Marina and Boatyard Association Louisiana ","Unknown2","INDUSTRY AND BUSINESS",5,6,null,null,null,null,null,null,true]
[null,"Marina Association of Texas","STATE","INDUSTRY AND BUSINESS",5,2,null,null,null,null,null,null,true]
[null,"Marina Del Isle, Marblehead","LOCAL","INDUSTRY AND BUSINESS",5,1,null,null,null,null,null,null,true]
[null,"Marina Recreation Association","REGIONAL","NGO",5,3,null,null,null,null,null,null,true]
[null,"marinas and private boat owners ","Unknown","INDUSTRY AND BUSINESS",5,0,null,null,null,null,null,null,true]
[null,"Marine Advanced Technology Education Center","FEDERAL or NATIONAL","ACADEMIC INSTITUTION",5,4,null,null,null,null,null,null,true]
[null,"Marine and Environmental Research Institute of Pohnpei","INTERNATIONAL","ACADEMIC INSTITUTION",5,5,null,null,null,null,null,null,true]
[null,"Marine Biological Laboratory (MBL, WHOI)","STATE","ACADEMIC INSTITUTION",5,2,null,null,null,null,null,null,true]
[null,"Marine Debris Program (US DOC, NOAA, NOS, ORR, MDP)","FEDERAL or NATIONAL","GOVERNMENT",5,4,null,null,null,null,null,null,true]
[null,"Marine Ecology Institute","Unknown","ACADEMIC INSTITUTION",5,0,null,null,null,null,null,null,true]
[null,"Marine Environmental Education Foundation","FEDERAL or NATIONAL","INDUSTRY AND BUSINESS",5,4,null,null,null,null,null,null,true]
[null,"Marine Environmental Researchers of LSU","STATE","ACADEMIC INSTITUTION",5,2,null,null,null,null,null,null,true]
[null,"Marine Exchange of Puget Sound","LOCAL","NGO",5,1,null,null,null,null,null,null,true]
[null,"Marine Fisheries Initiative Program (US DOC, NOAA, NMFS, MARFIN)","FEDERAL or NATIONAL","GOVERNMENT",5,4,null,null,null,null,null,null,true]
[null,"Marine Genomics Consortium","INTERNATIONAL","OTHER PARTNERS",5,5,null,null,null,null,null,null,true]
[null,"Marine Institute","Unknown","INDUSTRY AND BUSINESS",5,0,null,null,null,null,null,null,true]
[null,"Marine Organisms Investigations, Ireland","INTERNATIONAL","OTHER PARTNERS",5,5,null,null,null,null,null,null,true]
[null,"Marine Protected Areas (US DOC, NOAA, NOS, MPA)","FEDERAL or NATIONAL","GOVERNMENT",5,4,null,null,null,null,null,null,true]
[null,"Marine Research Institute, Norway","INTERNATIONAL","OTHER PARTNERS",5,5,null,null,null,null,null,null,true]
[null,"Marine Science Graduate Student Organization (MSGSO)","STATE","NGO",5,2,null,null,null,null,null,null,true]
[null,"Marine Stewardship Council","INTERNATIONAL","NGO",5,5,null,null,null,null,null,null,true]
[null,"Marine Terminals of S.C. ","STATE","INDUSTRY AND BUSINESS",5,2,null,null,null,null,null,null,true]
[null,"Marine Trades Association of Maryland","STATE","INDUSTRY AND BUSINESS",5,2,null,null,null,null,null,null,true]
[null,"Marine Transportation Society","Unknown2","INDUSTRY AND BUSINESS",5,6,null,null,null,null,null,null,true]
[null,"Marion County","LOCAL","GOVERNMENT",5,1,null,null,null,null,null,null,true]
[null,"Marion Soil and Water Conservation District (SWCD)","LOCAL","GOVERNMENT",5,1,null,null,null,null,null,null,true]
[null,"Mario's Landing","LOCAL","INDUSTRY AND BUSINESS",5,1,null,null,null,null,null,null,true]
[null,"Maritime Administration (US DOT, MARAD)","FEDERAL or NATIONAL","GOVERNMENT",5,4,null,null,null,null,null,null,true]
[null,"Maritime and Seafood Industry Museum","LOCAL","NGO",5,1,null,null,null,null,null,null,true]
[null,"Maritime Association of the Port of Charleston ","LOCAL","NGO",5,1,null,null,null,null,null,null,true]
[null,"Marshall Islands Marine Resource Authority","INTERNATIONAL","GOVERNMENT",5,5,null,null,null,null,null,null,true]
[null,"Mary E. Theler Community Center","LOCAL","NGO",5,1,null,null,null,null,null,null,true]
[null,"Maryland Coastal Bays Program","REGIONAL","GOVERNMENT",5,3,null,null,null,null,null,null,true]
[null,"Maryland Coastal Zone Management Program (MD CZMP)","STATE","GOVERNMENT",5,2,null,null,null,null,null,null,true]
[null,"Maryland Department of Agriculture (MD DA)","STATE","GOVERNMENT",5,2,null,null,null,null,null,null,true]
[null,"Maryland Department of Natural Resources (MD DNR)","STATE","GOVERNMENT",5,2,null,null,null,null,null,null,true]
[null,"Maryland Environmental Services","STATE","GOVERNMENT",5,2,null,null,null,null,null,null,true]
[null,"Maryland Population Research Center","STATE","GOVERNMENT",5,2,null,null,null,null,null,null,true]
[null,"Maryland Port Administration","STATE","GOVERNMENT",5,2,null,null,null,null,null,null,true]
[null,"Maryland Waterman’s Association","STATE","INDUSTRY AND BUSINESS",5,2,null,null,null,null,null,null,true]
[null,"Marys River Watershed Council","LOCAL","NGO",5,1,null,null,null,null,null,null,true]
[null,"Mason County 4 H","LOCAL","NGO",5,1,null,null,null,null,null,null,true]
[null,"Mason County Association of Realtors","LOCAL","INDUSTRY AND BUSINESS",5,1,null,null,null,null,null,null,true]
[null,"Mason County Historic Preservation Board","LOCAL","NGO",5,1,null,null,null,null,null,null,true]
[null,"Mason County Literacy","LOCAL","NGO",5,1,null,null,null,null,null,null,true]
[null,"Mason County Safety Co-op","LOCAL","NGO",5,1,null,null,null,null,null,null,true]
[null,"Mason County Septic Systems","LOCAL","INDUSTRY AND BUSINESS",5,1,null,null,null,null,null,null,true]
[null,"Massachusetts Bays National Estuary Project (US EPA, NEP)","FEDERAL or NATIONAL","GOVERNMENT",5,4,null,null,null,null,null,null,true]
[null,"Massachusetts Bays Program","REGIONAL","GOVERNMENT",5,3,null,null,null,null,null,null,true]
[null,"Massachusetts Division of Marine Fisheries (MA DMF)","STATE","GOVERNMENT",5,2,null,null,null,null,null,null,true]
[null,"Massachusetts Institute of Technology (MIT)","STATE","ACADEMIC INSTITUTION",5,2,null,null,null,null,null,null,true]
[null,"Matanuska-Susitna Borough School District","LOCAL","GOVERNMENT",5,1,null,null,null,null,null,null,true]
[null,"Matson Fisheries","FEDERAL or NATIONAL","INDUSTRY AND BUSINESS",5,4,null,null,null,null,null,null,true]
[null,"Matson Navigation Company","FEDERAL or NATIONAL","INDUSTRY AND BUSINESS",5,4,null,null,null,null,null,null,true]
[null,"Mattamuskeet Seafood Company","FEDERAL or NATIONAL","INDUSTRY AND BUSINESS",5,4,null,null,null,null,null,null,true]
[null,"Mattaponi and Pamunkey Rivers Association","LOCAL","NGO",5,1,null,null,null,null,null,null,true]
[null,"Maui Community College","STATE","ACADEMIC INSTITUTION",5,2,null,null,null,null,null,null,{"$f":"AND(  NOT(ISERROR(FIND(UPPER($B$7),UPPER($B1550),1))),  OR($D$7=\"\",NOT(ISERROR(FIND(UPPER($D$7),UPPER($B1550),1)))),    OR($D$8=\"\",(ISERROR(FIND(UPPER($D$8),UPPER($B1550),1))))           )","v":true}]
[null,"Maui County Department of Public Works and Environmental Management","LOCAL","GOVERNMENT",5,1,null,null,null,null,null,null,true]
[null,"Maui County Office of Economic Development","LOCAL","GOVERNMENT",5,1,null,null,null,null,null,null,true]
[null,"Maui County Office of the Mayor","LOCAL","GOVERNMENT",5,1,null,null,null,null,null,null,true]
[null,"Maui County Planning Department","LOCAL","GOVERNMENT",5,1,null,null,null,null,null,null,true]
[null,"Maui Land and Pineapple Company, Inc.","FEDERAL or NATIONAL","INDUSTRY AND BUSINESS",5,4,null,null,null,null,null,null,true]
[null,"Maumee Bay Resort Marina","LOCAL","INDUSTRY AND BUSINESS",5,1,null,null,null,null,null,null,true]
[null,"Mc Millan Offshore Survival Training","FEDERAL or NATIONAL","INDUSTRY AND BUSINESS",5,4,null,null,null,null,null,null,true]
[null,"McDonalds Nursery","FEDERAL or NATIONAL","INDUSTRY AND BUSINESS",5,4,null,null,null,null,null,null,true]
[null,"McDowell Group","FEDERAL or NATIONAL","INDUSTRY AND BUSINESS",5,4,null,null,null,null,null,null,true]
[null,"McGill University, Montreal, Quebec","INTERNATIONAL","ACADEMIC INSTITUTION",5,5,null,null,null,null,null,null,true]
[null,"McIntosh County","LOCAL","GOVERNMENT",5,1,null,null,null,null,null,null,true]
[null,"McKenzie-Mohr and Associates","FEDERAL or NATIONAL","INDUSTRY AND BUSINESS",5,4,null,null,null,null,null,null,true]
[null,"MDI Water Quality Coalition","FEDERAL or NATIONAL","NGO",5,4,null,null,null,null,null,null,true]
[null,"Meares Island Mariculture Ltd., Canada","INTERNATIONAL","INDUSTRY AND BUSINESS",5,5,null,null,null,null,null,null,true]
[null,"Medic One of Mason County","LOCAL","INDUSTRY AND BUSINESS",5,1,null,null,null,null,null,null,true]
[null,"Medical University of South Carolina (MUSC)","STATE","ACADEMIC INSTITUTION",5,2,null,null,null,null,null,null,true]
[null,"Mellon Foundation","FEDERAL or NATIONAL","ACADEMIC INSTITUTION",5,4,null,null,null,null,null,null,true]
[null,"Memorial University","INTERNATIONAL","ACADEMIC INSTITUTION",5,5,null,null,null,null,null,null,true]
[null,"Mentor Lagoons Marina","LOCAL","INDUSTRY AND BUSINESS",5,1,null,null,null,null,null,null,true]
[null,"Mercyhurst College","STATE","ACADEMIC INSTITUTION",5,2,null,null,null,null,null,null,true]
[null,"Multicultural Education for Resource Issues Threatening Oceans (US DOC, NOAA, NOS, ONMS, MERITO)","FEDERAL or NATIONAL","GOVERNMENT",5,4,null,null,null,null,null,null,true]
[null,"Metro Bay Partnership","REGIONAL","NGO",5,3,null,null,null,null,null,null,true]
[null,"Metropolitan Affairs Coalition (MAC)","REGIONAL","NGO",5,3,null,null,null,null,null,null,true]
[null,"Metropolitan Washington Council of Governments","LOCAL","OTHER PARTNERS",5,1,null,null,null,null,null,null,true]
[null,"Metropolitan Water Reclamation District of Greater Chicago","LOCAL","OTHER PARTNERS",5,1,null,null,null,null,null,null,true]
[null,"Mexico Autonomous University of Baja California","INTERNATIONAL","ACADEMIC INSTITUTION",5,5,null,null,null,null,null,null,true]
[null,"Mexico Department of Agriculture, Livestock, Rural Development, Agriculture, Fisheries and Food","INTERNATIONAL","GOVERNMENT",5,5,null,null,null,null,null,null,true]
[null,"Mexico Department of Natural Resources","INTERNATIONAL","GOVERNMENT",5,5,null,null,null,null,null,null,true]
[null,"Mexico State Secretary of Agriculture","INTERNATIONAL","GOVERNMENT",5,5,null,null,null,null,null,null,true]
[null,"Mexico, State of Baja California government","INTERNATIONAL","GOVERNMENT",5,5,null,null,null,null,null,null,true]
[null,"Miami (OH) University (MUOhio)","STATE","ACADEMIC INSTITUTION",5,2,null,null,null,null,null,null,true]
[null,"Michigan Alliance of Environmental and Outdoor Education","STATE","NGO",5,2,null,null,null,null,null,null,true]
[null,"Michigan Aquaculture Association","STATE","INDUSTRY AND BUSINESS",5,2,null,null,null,null,null,null,true]
[null,"Michigan Bait Dealers Association ","STATE","INDUSTRY AND BUSINESS",5,2,null,null,null,null,null,null,true]
[null,"Michigan Boating Industries Association","STATE","INDUSTRY AND BUSINESS",5,2,null,null,null,null,null,null,true]
[null,"Michigan Charter Boat Association","STATE","INDUSTRY AND BUSINESS",5,2,null,null,null,null,null,null,true]
[null,"Michigan Department of Agriculture (MDA)","STATE","GOVERNMENT",5,2,null,null,null,null,null,null,true]
[null,"Michigan Department of Environmental Quality (MI DEQ)","STATE","GOVERNMENT",5,2,null,null,null,null,null,null,true]
[null,"Michigan Department of Labor and Economic Growth (MI DLEG)","STATE","GOVERNMENT",5,2,null,null,null,null,null,null,true]
[null,"Michigan Department of Natural Resources (MI DNR)","STATE","GOVERNMENT",5,2,null,null,null,null,null,null,true]
[null,"Michigan Dune Alliance","STATE","NGO",5,2,null,null,null,null,null,null,true]
[null,"Michigan Farm Bureau","STATE","INDUSTRY AND BUSINESS",5,2,null,null,null,null,null,null,true]
[null,"Michigan Fish Producers Association","STATE","INDUSTRY AND BUSINESS",5,2,null,null,null,null,null,null,true]
[null,"Michigan Invasive Plants Council (AIS)","STATE","NGO",5,2,null,null,null,null,null,null,true]
[null,"Michigan Lake and Stream Associations","STATE","NGO",5,2,null,null,null,null,null,null,true]
[null,"Michigan Office of the Attorney General","STATE","GOVERNMENT",5,2,null,null,null,null,null,null,true]
[null,"Michigan Outdoor Writers Association","STATE","NGO",5,2,null,null,null,null,null,null,true]
[null,"Michigan Science Teachers Association","STATE","ACADEMIC INSTITUTION",5,2,null,null,null,null,null,null,true]
[null,"Michigan State University (MSU)","STATE","ACADEMIC INSTITUTION",5,2,null,null,null,null,null,null,true]
[null,"Michigan State University County Extension Offices (MSU)","STATE","ACADEMIC INSTITUTION",5,2,null,null,null,null,null,null,true]
[null,"Michigan State University, Deptartment of Fisheries and Wildlife (MSU)","STATE","ACADEMIC INSTITUTION",5,2,null,null,null,null,null,null,true]
[null,"Michigan Steelhead and Salmon Fishermen’s Association  ","STATE","NGO",5,2,null,null,null,null,null,null,true]
[null,"Michigan Technological University (MTU)","STATE","ACADEMIC INSTITUTION",5,2,null,null,null,null,null,null,true]
[null,"Michigan United Conservation Clubs","STATE","NGO",5,2,null,null,null,null,null,null,true]
[null,"Mid-Atlantic Coastal Ocean Observing Regional Association (MACOORA)","REGIONAL","NGO",5,3,null,null,null,null,null,null,true]
[null,"Mid-Atlantic Marine Education Association","REGIONAL","NGO",5,3,null,null,null,null,null,null,true]
[null,"Mid-Atlantic Sea Grant Region","REGIONAL","SEA GRANT PROGRAMS",5,3,null,null,null,null,null,null,true]
[null,"Middle Bass Island Yacht Club","LOCAL","INDUSTRY AND BUSINESS",5,1,null,null,null,null,null,null,true]
[null,"Midwest Partners in Amphibian and Reptile Conservation","REGIONAL","NGO",5,3,null,null,null,null,null,null,true]
[null,"Mike's Diving Center","LOCAL","INDUSTRY AND BUSINESS",5,1,null,null,null,null,null,null,true]
[null,"Mikunda, Cottrell and Co.","LOCAL","INDUSTRY AND BUSINESS",5,1,null,null,null,null,null,null,true]
[null,"Miles Sand and Gravel","LOCAL","INDUSTRY AND BUSINESS",5,1,null,null,null,null,null,null,true]
[null,"Milford, CT  Laboratory (US DOC, NOAA, NMFS)","REGIONAL","GOVERNMENT",5,3,null,null,null,null,null,null,true]
[null,"Millcreek Township","LOCAL","OTHER PARTNERS",5,1,null,null,null,null,null,null,{"$f":"AND(  NOT(ISERROR(FIND(UPPER($B$7),UPPER($B1614),1))),  OR($D$7=\"\",NOT(ISERROR(FIND(UPPER($D$7),UPPER($B1614),1)))),    OR($D$8=\"\",(ISERROR(FIND(UPPER($D$8),UPPER($B1614),1))))           )","v":true}]
[null,"Mille Lacs Band of Ojibwe","FEDERAL or NATIONAL","OTHER PARTNERS",5,4,null,null,null,null,null,null,true]
[null,"Milwaukee County Division of Emergency Management (Mil. DEM)","LOCAL","GOVERNMENT",5,1,null,null,null,null,null,null,true]
[null,"Milwaukee Metropolitan Sewerage District ","LOCAL","GOVERNMENT",5,1,null,null,null,null,null,null,true]
[null,"Ministry of Education, Republic of the Marshall Islands","INTERNATIONAL","GOVERNMENT",5,5,null,null,null,null,null,null,true]
[null,"MinnAqua Program","STATE","NGO",5,2,null,null,null,null,null,null,true]
[null,"Minneapolis Park and Recreation Board","LOCAL","NGO",5,1,null,null,null,null,null,null,true]
[null,"Minnesota Aquaculture Association","STATE","NGO",5,2,null,null,null,null,null,null,true]
[null,"Minnesota Arrowhead Association","STATE","NGO",5,2,null,null,null,null,null,null,true]
[null,"Minnesota Association of County Agricultural Inspectors","STATE","NGO",5,2,null,null,null,null,null,null,true]
[null,"Minnesota Association of Extension Educators","STATE","ACADEMIC INSTITUTION",5,2,null,null,null,null,null,null,true]
[null,"Minnesota Association of Professional Soil Scientists","STATE","NGO",5,2,null,null,null,null,null,null,true]
[null,"Minnesota Board of Water and Soil Resources","STATE","GOVERNMENT",5,2,null,null,null,null,null,null,true]
[null,"Minnesota Community and Natural Resources Association","STATE","GOVERNMENT",5,2,null,null,null,null,null,null,true]
[null,"Minnesota Counties – 30 of 87 counties","STATE","Unknown",5,2,null,null,null,null,null,null,true]
[null,"Minnesota Crop Improvement Association","STATE","INDUSTRY AND BUSINESS",5,2,null,null,null,null,null,null,true]
[null,"Minnesota Department of Agriculture (MDA)","STATE","GOVERNMENT",5,2,null,null,null,null,null,null,true]
[null,"Minnesota Department of Health (MN DOH)","STATE","GOVERNMENT",5,2,null,null,null,null,null,null,true]
[null,"Minnesota Department of Natural Resources (MN DNR)","STATE","GOVERNMENT",5,2,null,null,null,null,null,null,true]
[null,"Minnesota Department of Tourism (MN TOURISM)","STATE","GOVERNMENT",5,2,null,null,null,null,null,null,true]
[null,"Minnesota Department of Transportation (MN DOT)","STATE","GOVERNMENT",5,2,null,null,null,null,null,null,true]
[null,"Minnesota Environmental Partnership (MN EPA)","STATE","NGO",5,2,null,null,null,null,null,null,true]
[null,"Minnesota Erosion Control Association","STATE","NGO",5,2,null,null,null,null,null,null,true]
[null,"Minnesota Fish and Bait Farmers","STATE","INDUSTRY AND BUSINESS",5,2,null,null,null,null,null,null,true]
[null,"Minnesota Forest Resources Council","STATE","NGO",5,2,null,null,null,null,null,null,true]
[null,"Minnesota Forestry Association","STATE","INDUSTRY AND BUSINESS",5,2,null,null,null,null,null,null,true]
[null,"Minnesota Golf Course Superintendents Assn.","STATE","INDUSTRY AND BUSINESS",5,2,null,null,null,null,null,null,true]
[null,"Minnesota Invasive Species Advisory Council (AIS)","STATE","NGO",5,2,null,null,null,null,null,null,true]
[null,"Minnesota Lake Superior Basin Team","REGIONAL","NGO",5,3,null,null,null,null,null,null,true]
[null,"Minnesota Lake Superior Coastal Program","REGIONAL","NGO",5,3,null,null,null,null,null,null,true]
[null,"Minnesota Logger Education Program","STATE","NGO",5,2,null,null,null,null,null,null,true]
[null,"Minnesota Master Naturalist Program","STATE","NGO",5,2,null,null,null,null,null,null,true]
[null,"Minnesota Native Plant Society","STATE","NGO",5,2,null,null,null,null,null,null,true]
[null,"Minnesota Nursery and Landscape Assn.","STATE","INDUSTRY AND BUSINESS",5,2,null,null,null,null,null,null,true]
[null,"Minnesota Office of Environmental Assistance","STATE","GOVERNMENT",5,2,null,null,null,null,null,null,true]
[null,"Minnesota Pollution Control Agency (MN PCA)","STATE","GOVERNMENT",5,2,null,null,null,null,null,null,true]
[null,"Minnesota Power","STATE","INDUSTRY AND BUSINESS",5,2,null,null,null,null,null,null,true]
[null,"Minnesota Shade Tree Advisory Committee","STATE","NGO",5,2,null,null,null,null,null,null,true]
[null,"Minnesota Soybean Promotion Board","STATE","INDUSTRY AND BUSINESS",5,2,null,null,null,null,null,null,true]
[null,"Minnesota Water Garden Society","STATE","NGO",5,2,null,null,null,null,null,null,true]
[null,"Minnesota Waters","STATE","NGO",5,2,null,null,null,null,null,null,true]
[null,"Minterbrook Oyster Company","REGIONAL","INDUSTRY AND BUSINESS",5,3,null,null,null,null,null,null,true]
[null,"Mississippi Coast Audubon Society","STATE","NGO",5,2,null,null,null,null,null,null,true]
[null,"Mississippi Cooperative Extension Program (USDA MSState)","STATE","GOVERNMENT",5,2,null,null,null,null,null,null,true]
[null,"Mississippi Department of Education (MS ED)","STATE","GOVERNMENT",5,2,null,null,null,null,null,null,true]
[null,"Mississippi Department of Environmental Quality (MS DEQ)","STATE","GOVERNMENT",5,2,null,null,null,null,null,null,true]
[null,"Mississippi Department of Marine Resources (MS DMR)","STATE","GOVERNMENT",5,2,null,null,null,null,null,null,true]
[null,"Mississippi Department of Marine Resources, Coastal Programs (MS DMR)","STATE","GOVERNMENT",5,2,null,null,null,null,null,null,true]
[null,"Mississippi Department of Marine Resources, Fisheries (MS DMR)","STATE","GOVERNMENT",5,2,null,null,null,null,null,null,true]
[null,"Mississippi Department of Wildlife, Fisheries, and Parks (MDWFP)","STATE","GOVERNMENT",5,2,null,null,null,null,null,null,true]
[null,"Mississippi Exotic Plant Pest Council","STATE","NGO",5,2,null,null,null,null,null,null,true]
[null,"Mississippi Gulf Coast Community College","STATE","ACADEMIC INSTITUTION",5,2,null,null,null,null,null,null,true]
[null,"Mississippi Gulf Fishing Banks, Inc.","STATE","NGO",5,2,null,null,null,null,null,null,true]
[null,"Mississippi Marine Debris Task Force","STATE","GOVERNMENT",5,2,null,null,null,null,null,null,true]
[null,"Mississippi Museum of Natural Science","STATE","NGO",5,2,null,null,null,null,null,null,true]
[null,"Mississippi Office of Secretary of State","STATE","GOVERNMENT",5,2,null,null,null,null,null,null,true]
[null,"Mississippi River Basin Panel on Aquatic Nuisance Species (ANS)","STATE","OTHER PARTNERS",5,2,null,null,null,null,null,null,true]
[null,"Mississippi Space Services","STATE","INDUSTRY AND BUSINESS",5,2,null,null,null,null,null,null,true]
[null,"Mississippi State Port Authority at Gulfport","STATE","INDUSTRY AND BUSINESS",5,2,null,null,null,null,null,null,true]
[null,"Mississippi State University (MSState)","STATE","ACADEMIC INSTITUTION",5,2,null,null,null,null,null,null,true]
[null,"Mississippi Wildlife Federation","STATE","NGO",5,2,null,null,null,null,null,null,true]
[null,"Mistyvale Crawfish Farm ","FEDERAL or NATIONAL","INDUSTRY AND BUSINESS",5,4,null,null,null,null,null,null,true]
[null,"Massachusetts Institute of Technology Sea Grant (MIT)","STATE","SEA GRANT PROGRAMS",5,2,null,null,null,null,null,null,true]
[null,"Mobile Area Chamber of Commerce, Sea Food Task Force","FEDERAL or NATIONAL","INDUSTRY AND BUSINESS",5,4,null,null,null,null,null,null,true]
[null,"Mobile Area Water and Sewer System ","LOCAL","GOVERNMENT",5,1,null,null,null,null,null,null,{"$f":"AND(  NOT(ISERROR(FIND(UPPER($B$7),UPPER($B1678),1))),  OR($D$7=\"\",NOT(ISERROR(FIND(UPPER($D$7),UPPER($B1678),1)))),    OR($D$8=\"\",(ISERROR(FIND(UPPER($D$8),UPPER($B1678),1))))           )","v":true}]
[null,"Mobile Arts Council","LOCAL","NGO",5,1,null,null,null,null,null,null,true]
[null,"Mobile Bay National Estuary Program (US EPA, NEP)","FEDERAL or NATIONAL","GOVERNMENT",5,4,null,null,null,null,null,null,true]
[null,"Mobile Bay Oyster Gardening Program","LOCAL","INDUSTRY AND BUSINESS",5,1,null,null,null,null,null,null,true]
[null,"Mobile County Planning Commission ","LOCAL","GOVERNMENT",5,1,null,null,null,null,null,null,true]
[null,"Mobile County Public School System ","LOCAL","ACADEMIC INSTITUTION",5,1,null,null,null,null,null,null,true]
[null,"Mobile County Soil and Water Conservation Service ","LOCAL","GOVERNMENT",5,1,null,null,null,null,null,null,true]
[null,"Mobile Museum of Art","LOCAL","NGO",5,1,null,null,null,null,null,null,true]
[null,"Moku O Waialua Watershed Action Group","LOCAL","NGO",5,1,null,null,null,null,null,null,true]
[null,"Mokuleia Aquafarm","FEDERAL or NATIONAL","INDUSTRY AND BUSINESS",5,4,null,null,null,null,null,null,true]
[null,"Molokai Sea Farms","FEDERAL or NATIONAL","INDUSTRY AND BUSINESS",5,4,null,null,null,null,null,null,true]
[null,"Monmouth County","LOCAL","GOVERNMENT",5,1,null,null,null,null,null,null,true]
[null,"Monroe County Boards of Cooperative Educational Services (BOCES)","LOCAL","ACADEMIC INSTITUTION",5,1,null,null,null,null,null,null,true]
[null,"Monroe County, FL","LOCAL","GOVERNMENT",5,1,null,null,null,null,null,null,true]
[null,"Monroeville Marina Inc.","LOCAL","INDUSTRY AND BUSINESS",5,1,null,null,null,null,null,null,true]
[null,"Montana Fish, Wildlife and Parks (MT FWP)","STATE","GOVERNMENT",5,2,null,null,null,null,null,null,true]
[null,"Montclair State University","STATE","ACADEMIC INSTITUTION",5,2,null,null,null,null,null,null,true]
[null,"Monterey Abalone Company","FEDERAL or NATIONAL","INDUSTRY AND BUSINESS",5,4,null,null,null,null,null,null,true]
[null,"Monterey Bay Aquarium","STATE","NGO",5,2,null,null,null,null,null,null,true]
[null,"Monterey Bay Aquarium Research Institute (MBARI)","Unknown2","ACADEMIC INSTITUTION",5,6,null,null,null,null,null,null,true]
[null,"Monterey Bay National Marine Sanctuary (US DOC, NOAA, NOS, ONMS)","FEDERAL or NATIONAL","GOVERNMENT",5,4,null,null,null,null,null,null,true]
[null,"Monterey Harbor Master","LOCAL","GOVERNMENT",5,1,null,null,null,null,null,null,true]
[null,"Montessori Schools of Hawaii","STATE","ACADEMIC INSTITUTION",5,2,null,null,null,null,null,null,true]
[null,"Montgomery County","LOCAL","GOVERNMENT",5,1,null,null,null,null,null,null,true]
[null,"Morgan Harvest Inc.","FEDERAL or NATIONAL","INDUSTRY AND BUSINESS",5,4,null,null,null,null,null,null,true]
[null,"Morgan State University","STATE","ACADEMIC INSTITUTION",5,2,null,null,null,null,null,null,true]
[null,"Morrissette and Associates","STATE","INDUSTRY AND BUSINESS",5,2,null,null,null,null,null,null,true]
[null,"Morro Bay Harbor Master","LOCAL","GOVERNMENT",5,1,null,null,null,null,null,null,true]
[null,"Moss Landing Marine Laboratories","STATE","ACADEMIC INSTITUTION",5,2,null,null,null,null,null,null,true]
[null,"Moss Point High School ","LOCAL","ACADEMIC INSTITUTION",5,1,null,null,null,null,null,null,true]
[null,"Mote Marine Laboratory","Unknown2","ACADEMIC INSTITUTION",5,6,null,null,null,null,null,null,true]
[null,"Mount Union College","STATE","ACADEMIC INSTITUTION",5,2,null,null,null,null,null,null,true]
[null,"Muckleshoot Indian Tribe","Tribal","GOVERNMENT",5,13,null,null,null,null,null,null,true]
[null,"Murrells Inlet Fishing Clubs ","FEDERAL or NATIONAL","OTHER PARTNERS",5,4,null,null,null,null,null,null,true]
[null,"Musasi Sushi Restaurant","LOCAL","INDUSTRY AND BUSINESS",5,1,null,null,null,null,null,null,true]
[null,"Mystic Aquarium and Institute for Exploration","LOCAL","OTHER PARTNERS",5,1,null,null,null,null,null,null,true]
[null,"Nada Williams Realty ","LOCAL","OTHER PARTNERS",5,1,null,null,null,null,null,null,true]
[null,"Narragansett Bay Baykeepers","LOCAL","NGO",5,1,null,null,null,null,null,null,true]
[null,"Narragansett Bay Estuary Program (NBEP)","FEDERAL or NATIONAL","NGO",5,4,null,null,null,null,null,null,true]
[null,"Narragansett Bay National Estuarine Research Reserve System (US DOC, NOAA, NOS, NERRS)","FEDERAL or NATIONAL","GOVERNMENT",5,4,null,null,null,null,null,null,true]
[null,"National Aeronautics and Space Administration Satellite Imagery (NASA)","FEDERAL or NATIONAL","GOVERNMENT",5,4,null,null,null,null,null,null,true]
[null,"Nassau County","LOCAL","GOVERNMENT",5,1,null,null,null,null,null,null,true]
[null,"National Aeronautics and Space Administration (NASA)","FEDERAL or NATIONAL","GOVERNMENT",5,4,null,null,null,null,null,null,true]
[null,"National Agricultural College Teachers Association","FEDERAL or NATIONAL","NGO",5,4,null,null,null,null,null,null,true]
[null,"National Aquaculture Extension Steering Committee (USDA, US DOC, NOAA, OAR, Sea Grant)","FEDERAL or NATIONAL","SEA GRANT PROGRAMS",5,4,null,null,null,null,null,null,true]
[null,"National Association of Charter Boat Operators","FEDERAL or NATIONAL","NGO",5,4,null,null,null,null,null,null,true]
[null,"National Association of Counties (NACO)","FEDERAL or NATIONAL","NGO",5,4,null,null,null,null,null,null,true]
[null,"National Association of County Agricultural Agents","FEDERAL or NATIONAL","NGO",5,4,null,null,null,null,null,null,true]
[null,"National Association of Government Communicators","FEDERAL or NATIONAL","NGO",5,4,null,null,null,null,null,null,true]
[null,"National Association of Marine Laboratories","FEDERAL or NATIONAL","NGO",5,4,null,null,null,null,null,null,true]
[null,"National Capital Region, National Park Service (US DOI, NPS)","FEDERAL or NATIONAL","GOVERNMENT",5,4,null,null,null,null,null,null,true]
[null,"National Center for Cool and Cold Water Aquaculture (USDA, ARS)","FEDERAL or NATIONAL","GOVERNMENT",5,4,null,null,null,null,null,null,true]
[null,"National Center for Environmental Economics (US EPA)","FEDERAL or NATIONAL","GOVERNMENT",5,4,null,null,null,null,null,null,true]
[null,"National Center for Research on Aquatic Invasive Species (US DOC, NOAA, OAR, GLERL, NCRAIS)","FEDERAL or NATIONAL","GOVERNMENT",5,4,null,null,null,null,null,null,true]
[null,"National Estuarine Research Reserve System (US DOC, NOAA, NOS, NERRS)","FEDERAL or NATIONAL","GOVERNMENT",5,4,null,null,null,null,null,null,true]
[null,"National Federation of Regional Associations for Coastal Ocean Observing (NFRA)","FEDERAL or NATIONAL","GOVERNMENT",5,4,null,null,null,null,null,null,true]
[null,"National Fish and Oyster Company, Inc.","FEDERAL or NATIONAL","INDUSTRY AND BUSINESS",5,4,null,null,null,null,null,null,true]
[null,"National Fish and Wildlife Foundation (NFWF)","FEDERAL or NATIONAL","NGO",5,4,null,null,null,null,null,null,true]
[null,"National Fish Health Lab (US DOI, USGS)","FEDERAL or NATIONAL","GOVERNMENT",5,4,null,null,null,null,null,null,true]
[null,"National Fisheries Institute (NFI)","FEDERAL or NATIONAL","NGO",5,4,null,null,null,null,null,null,true]
[null,"National Fisheries Quality Assurance and Veterinary Directorate, Vietnam","INTERNATIONAL","GOVERNMENT",5,5,null,null,null,null,null,null,true]
[null,"National Food Processors Association","FEDERAL or NATIONAL","NGO",5,4,null,null,null,null,null,null,true]
[null,"National Geographic Society","FEDERAL or NATIONAL","NGO",5,4,null,null,null,null,null,null,true]
[null,"National Institute for Occupational Safety and Health (US HHS, CDC, NIOSH)","FEDERAL or NATIONAL","GOVERNMENT",5,4,null,null,null,null,null,null,true]
[null,"National Institute of Neurological Disorders and Stroke, National Institue of Health (US HHS, NIH, NINDS)","FEDERAL or NATIONAL","GOVERNMENT",5,4,null,null,null,null,null,null,{"$f":"AND(  NOT(ISERROR(FIND(UPPER($B$7),UPPER($B1742),1))),  OR($D$7=\"\",NOT(ISERROR(FIND(UPPER($D$7),UPPER($B1742),1)))),    OR($D$8=\"\",(ISERROR(FIND(UPPER($D$8),UPPER($B1742),1))))           )","v":true}]
[null,"National Invasive Species Council (AIS)","FEDERAL or NATIONAL","OTHER PARTNERS",5,4,null,null,null,null,null,null,true]
[null,"National Marine Educators Association","FEDERAL or NATIONAL","NGO",5,4,null,null,null,null,null,null,true]
[null,"National Marine Fisheries Service (US DOC, NOAA, NMFS)","FEDERAL or NATIONAL","GOVERNMENT",5,4,null,null,null,null,null,null,true]
[null,"National Marine Mammal Laboratory (US DOC, NOAA, NMFS)","FEDERAL or NATIONAL","GOVERNMENT",5,4,null,null,null,null,null,null,true]
[null,"National Marketing","FEDERAL or NATIONAL","OTHER PARTNERS",5,4,null,null,null,null,null,null,true]
[null,"National Non-Point Education for Municipal Officials (NEMO) Network ","FEDERAL or NATIONAL","ACADEMIC INSTITUTION",5,4,null,null,null,null,null,null,true]
[null,"National Ocean Sciences Bowl, Consortium for Ocean Leadership (NOSB)","FEDERAL or NATIONAL","NGO",5,4,null,null,null,null,null,null,true]
[null,"National Ocean Service (US DOC, NOAA, NOS)","FEDERAL or NATIONAL","GOVERNMENT",5,4,null,null,null,null,null,null,true]
[null,"National Oceanic and Atmospheric Administration (US DOC, NOAA)","FEDERAL or NATIONAL","GOVERNMENT",5,4,null,null,null,null,null,null,true]
[null,"National Organic Aquaculture Working Group","FEDERAL or NATIONAL","NGO",5,4,null,null,null,null,null,null,true]
[null,"National Park Service (US DOI, NPS)","FEDERAL or NATIONAL","GOVERNMENT",5,4,null,null,null,null,null,null,true]
[null,"National Research Council, Canada","INTERNATIONAL","GOVERNMENT",5,5,null,null,null,null,null,null,true]
[null,"National Research Council, Ocean Studies Board","FEDERAL or NATIONAL","GOVERNMENT",5,4,null,null,null,null,null,null,true]
[null,"National Safe Boating","FEDERAL or NATIONAL","GOVERNMENT",5,4,null,null,null,null,null,null,true]
[null,"National Science Foundation (NSF)","FEDERAL or NATIONAL","GOVERNMENT",5,4,null,null,null,null,null,null,true]
[null,"National Science Teachers Association","FEDERAL or NATIONAL","NGO",5,4,null,null,null,null,null,null,true]
[null,"National Sea Grant Office (US DOC, NOAA, OAR, NSGO)","FEDERAL or NATIONAL","SEA GRANT PROGRAMS",5,4,null,null,null,null,null,null,true]
[null,"National Severe Storms Laboratory (US DOC, NOAA, OAR, NSSL)","FEDERAL or NATIONAL","GOVERNMENT",5,4,null,null,null,null,null,null,true]
[null,"National Shellfisheries Association","FEDERAL or NATIONAL","INDUSTRY AND BUSINESS",5,4,null,null,null,null,null,null,true]
[null,"National Smart Growth Network","FEDERAL or NATIONAL","NGO",5,4,null,null,null,null,null,null,true]
[null,"National Tsunami Hazard Mitigation Program (US DOC, NOAA, US DOI, USGS, US DHS, FEMA, NTHMP)","FEDERAL or NATIONAL","GOVERNMENT",5,4,null,null,null,null,null,null,true]
[null,"National Undersea Research Center (US DOC, NOAA, OAR, OER, NURP)","REGIONAL","GOVERNMENT",5,3,null,null,null,null,null,null,true]
[null,"National Water Research Institute, Canada","FEDERAL or NATIONAL","ACADEMIC INSTITUTION",5,4,null,null,null,null,null,null,true]
[null,"National Weather Service (US DOC, NOAA, NWS)","FEDERAL or NATIONAL","GOVERNMENT",5,4,null,null,null,null,null,null,true]
[null,"National Weather Service, Los Angeles, CA (US DOC, NOAA, NWS)","FEDERAL or NATIONAL","GOVERNMENT",5,4,null,null,null,null,null,null,true]
[null,"National Wildlife Federation (NWF)","FEDERAL or NATIONAL","NGO",5,4,null,null,null,null,null,null,true]
[null,"National Wildlife Health Center (US DOI, USGS)","FEDERAL or NATIONAL","GOVERNMENT",5,4,null,null,null,null,null,null,true]
[null,"Native American Fish and Wildlife Society Alaska Region","REGIONAL","NGO",5,3,null,null,null,null,null,null,true]
[null,"Native Resources Developer Inc.","LOCAL","NGO",5,1,null,null,null,null,null,null,true]
[null,"Native Scape","LOCAL","INDUSTRY AND BUSINESS",5,1,null,null,null,null,null,null,true]
[null,"Natural Resources Conservation Service (USDA, NRCS)","FEDERAL or NATIONAL","GOVERNMENT",5,4,null,null,null,null,null,null,true]
[null,"Naval Research Laboratory","FEDERAL or NATIONAL","GOVERNMENT",5,4,null,null,null,null,null,null,true]
[null,"NBC Television","Unknown2","INDUSTRY AND BUSINESS",5,6,null,null,null,null,null,null,true]
[null,"Nebraska Public Power District","STATE","INDUSTRY AND BUSINESS",5,2,null,null,null,null,null,null,true]
[null,"Nebraska Space Grant (NASA)","FEDERAL or NATIONAL","GOVERNMENT",5,4,null,null,null,null,null,null,true]
[null,"Nehalem Watershed Council","LOCAL","NGO",5,1,null,null,null,null,null,null,true]
[null,"Neptune Nimrods Dive Club","LOCAL","NGO",5,1,null,null,null,null,null,null,true]
[null,"Neptune Sea Farm Inc.","REGIONAL","INDUSTRY AND BUSINESS",5,3,null,null,null,null,null,null,true]
[null,"Nevada Department of Environmental Quality (NV DEQ)","STATE","GOVERNMENT",5,2,null,null,null,null,null,null,true]
[null,"Nevada Department of Health (NV DOH)","STATE","GOVERNMENT",5,2,null,null,null,null,null,null,true]
[null,"Nevada Department of Wildlife (NV DOW)","STATE","GOVERNMENT",5,2,null,null,null,null,null,null,true]
[null,"New College of Florida","STATE","ACADEMIC INSTITUTION",5,2,null,null,null,null,null,null,true]
[null,"New England Aquarium","LOCAL","OTHER PARTNERS",5,1,null,null,null,null,null,null,true]
[null,"New England District (DoD, Army, USACE)","FEDERAL or NATIONAL","GOVERNMENT",5,4,null,null,null,null,null,null,true]
[null,"New England Fisheries Management Council (NEFMC)","REGIONAL","GOVERNMENT",5,3,null,null,null,null,null,null,true]
[null,"New England Interstate Water Pollution Control Commission (NEIWPCC)","REGIONAL","GOVERNMENT",5,3,null,null,null,null,null,null,true]
[null,"New England Marine and Industrial, Inc.","FEDERAL or NATIONAL","INDUSTRY AND BUSINESS",5,4,null,null,null,null,null,null,true]
[null,"New England Region Water Quality Team (USDA)","REGIONAL","GOVERNMENT",5,3,null,null,null,null,null,null,true]
[null,"New England Trawl Systems","Unknown2","NGO",5,6,null,null,null,null,null,null,true]
[null,"New Hampshire Coastal Program","STATE","GOVERNMENT",5,2,null,null,null,null,null,null,true]
[null,"New Hampshire Department of Environmental Services (NH DES)","STATE","GOVERNMENT",5,2,null,null,null,null,null,null,true]
[null,"New Hampshire Department of Fish and Game (NH DFG)","STATE","GOVERNMENT",5,2,null,null,null,null,null,null,true]
[null,"New Hampshire Department of Resources and Economic Development  (NH DRED)","STATE","GOVERNMENT",5,2,null,null,null,null,null,null,true]
[null,"New Hampshire Environmental Educators Association (NHEE)","STATE","NGO",5,2,null,null,null,null,null,null,true]
[null,"New Hampshire Estuaries Project (US EPA, NEP)","FEDERAL or NATIONAL","NGO",5,4,null,null,null,null,null,null,true]
[null,"New Hampshire Marine Coalition","STATE","NGO",5,2,null,null,null,null,null,null,true]
[null,"New Hampshire Port Authority","STATE","GOVERNMENT",5,2,null,null,null,null,null,null,true]
[null,"New Hanover County","LOCAL","GOVERNMENT",5,1,null,null,null,null,null,null,true]
[null,"New Hanover County Emergency Management","LOCAL","GOVERNMENT",5,1,null,null,null,null,null,null,true]
[null,"New Hanover County Motel/Hotel Association","LOCAL","INDUSTRY AND BUSINESS",5,1,null,null,null,null,null,null,true]
[null,"New Hanover County Rip Current Awareness Strategies Team ","LOCAL","GOVERNMENT",5,1,null,null,null,null,null,null,true]
[null,"New Hanover County Schools","LOCAL","ACADEMIC INSTITUTION",5,1,null,null,null,null,null,null,true]
[null,"New Jersey Department of Agriculture (NJ NJDA)","STATE","GOVERNMENT",5,2,null,null,null,null,null,null,true]
[null,"New Jersey Department of Commerce (NJ DOC)","STATE","GOVERNMENT",5,2,null,null,null,null,null,null,{"$f":"AND(  NOT(ISERROR(FIND(UPPER($B$7),UPPER($B1806),1))),  OR($D$7=\"\",NOT(ISERROR(FIND(UPPER($D$7),UPPER($B1806),1)))),    OR($D$8=\"\",(ISERROR(FIND(UPPER($D$8),UPPER($B1806),1))))           )","v":true}]
[null,"New Jersey Department of Environmental Protection (NJ DEP)","STATE","GOVERNMENT",5,2,null,null,null,null,null,null,true]
[null,"New Jersey Department of Marine Fisheries (NJ DMF)","STATE","GOVERNMENT",5,2,null,null,null,null,null,null,true]
[null,"New Jersey Division of Fish and Wildlife (NJ DEP, NJ DFW)","STATE","GOVERNMENT",5,2,null,null,null,null,null,null,true]
[null,"New Jersey Office of Science (NJ DEP, NJ DSRT)","STATE","GOVERNMENT",5,2,null,null,null,null,null,null,true]
[null,"New Jersey Resources","LOCAL","INDUSTRY AND BUSINESS",5,1,null,null,null,null,null,null,true]
[null,"New Mexico Department of Game and Fish (NM DFG)","STATE","GOVERNMENT",5,2,null,null,null,null,null,null,true]
[null,"New Orleans District (DoD, Army, USACE)","FEDERAL or NATIONAL","GOVERNMENT",5,4,null,null,null,null,null,null,true]
[null,"New York Academy of Sciences","INTERNATIONAL","NGO",5,5,null,null,null,null,null,null,true]
[null,"New York Aquarium","LOCAL","OTHER PARTNERS",5,1,null,null,null,null,null,null,true]
[null,"New York City Department of Environmental Protection (NYC DEP)","LOCAL","GOVERNMENT",5,1,null,null,null,null,null,null,true]
[null,"New York City Mayor’s Office of Emergency Management","LOCAL","GOVERNMENT",5,1,null,null,null,null,null,null,true]
[null,"New York District (US DOI, USGS)","FEDERAL or NATIONAL","GOVERNMENT",5,4,null,null,null,null,null,null,true]
[null,"New York Seafood Council","LOCAL","INDUSTRY AND BUSINESS",5,1,null,null,null,null,null,null,true]
[null,"New York State Bureau of Marine Resources (NYSDEC)","STATE","GOVERNMENT",5,2,null,null,null,null,null,null,true]
[null,"New York State Department of Agriculture and Markets","STATE","GOVERNMENT",5,2,null,null,null,null,null,null,true]
[null,"New York State Department of Economic Development (NY DED)","STATE","GOVERNMENT",5,2,null,null,null,null,null,null,true]
[null,"New York State Department of Education (NY ED)","STATE","GOVERNMENT",5,2,null,null,null,null,null,null,true]
[null,"New York State Department of Environmental Conservation (NY DEC)","STATE","GOVERNMENT",5,2,null,null,null,null,null,null,true]
[null,"New York State Department of Health  (NY DOH)","STATE","GOVERNMENT",5,2,null,null,null,null,null,null,true]
[null,"New York State Department of Parks, Recreation, and Historic Preservation (NY DPRH)","STATE","GOVERNMENT",5,2,null,null,null,null,null,null,true]
[null,"New York State Department of State","STATE","GOVERNMENT",5,2,null,null,null,null,null,null,true]
[null,"New York State Emergency Management Office (NY SEMO)","STATE","GOVERNMENT",5,2,null,null,null,null,null,null,true]
[null,"New York State Environmental Facilities Corp.","STATE","GOVERNMENT",5,2,null,null,null,null,null,null,true]
[null,"New York State Museum","STATE","GOVERNMENT",5,2,null,null,null,null,null,null,true]
[null,"New York State Office of General Services","STATE","GOVERNMENT",5,2,null,null,null,null,null,null,true]
[null,"New Zealand Department of Conservation","INTERNATIONAL","GOVERNMENT",5,5,null,null,null,null,null,null,true]
[null,"New Zealand Fishing Industry Council","INTERNATIONAL","GOVERNMENT",5,5,null,null,null,null,null,null,true]
[null,"New Zealand Ministry of Fisheries","INTERNATIONAL","GOVERNMENT",5,5,null,null,null,null,null,null,true]
[null,"Newago Fisheries","LOCAL","INDUSTRY AND BUSINESS",5,1,null,null,null,null,null,null,true]
[null,"Newport County Chamber of Commerce","LOCAL","INDUSTRY AND BUSINESS",5,1,null,null,null,null,null,null,true]
[null,"Newport State Park, Ellison Bay","STATE","GOVERNMENT",5,2,null,null,null,null,null,null,true]
[null,"National Fire Protection Association (NFPA)","Unknown","NGO",5,0,null,null,null,null,null,null,true]
[null,"Niagara County Community College","LOCAL","ACADEMIC INSTITUTION",5,1,null,null,null,null,null,null,true]
[null,"Niagara Frontier Science Supervisors","LOCAL","NGO",5,1,null,null,null,null,null,null,true]
[null,"Niagara/Orleans Counties BOCES","LOCAL","ACADEMIC INSTITUTION",5,1,null,null,null,null,null,null,true]
[null,"NICHES Land Trust","LOCAL","NGO",5,1,null,null,null,null,null,null,true]
[null,"Nicholls State University","STATE","ACADEMIC INSTITUTION",5,2,null,null,null,null,null,null,true]
[null,"Nisbet Oyster Company","REGIONAL","INDUSTRY AND BUSINESS",5,3,null,null,null,null,null,null,true]
[null,"Nisqually Tribe","Tribal","GOVERNMENT",5,13,null,null,null,null,null,null,true]
[null,"Nixyaawii Institute for Teachers","Unknown2","ACADEMIC INSTITUTION",5,6,null,null,null,null,null,null,true]
[null,"NOAA Communications and External Affairs (US DOC, NOAA, COMM)","FEDERAL or NATIONAL","GOVERNMENT",5,4,null,null,null,null,null,null,true]
[null,"NOAA in the Carolinas (US DOC, NOAA)","REGIONAL","GOVERNMENT",5,3,null,null,null,null,null,null,true]
[null,"NOAA Restoration Center (US DOC, NOAA, NMFS)","FEDERAL or NATIONAL","GOVERNMENT",5,4,null,null,null,null,null,null,true]
[null,"Noisette Company ","LOCAL","INDUSTRY AND BUSINESS",5,1,null,null,null,null,null,null,true]
[null,"Noisette Foundation","LOCAL","NGO",5,1,null,null,null,null,null,null,true]
[null,"Norfolk Festevents","LOCAL","GOVERNMENT",5,1,null,null,null,null,null,null,true]
[null,"North America Research Group","FEDERAL or NATIONAL","NGO",5,4,null,null,null,null,null,null,true]
[null,"North American Association for Environmental Education","FEDERAL or NATIONAL","NGO",5,4,null,null,null,null,null,null,true]
[null,"North American Lake Management Society","FEDERAL or NATIONAL","NGO",5,4,null,null,null,null,null,null,true]
[null,"North Carolina A & T State University (NCAT)","STATE","ACADEMIC INSTITUTION",5,2,null,null,null,null,null,null,true]
[null,"North Carolina Aquarium at Fort Fisher","STATE","OTHER PARTNERS",5,2,null,null,null,null,null,null,true]
[null,"North Carolina Aquarium at Pine Knoll Shores","STATE","OTHER PARTNERS",5,2,null,null,null,null,null,null,true]
[null,"North Carolina Aquariums","STATE","OTHER PARTNERS",5,2,null,null,null,null,null,null,true]
[null,"North Carolina Beach, Inlet and Waterway Association","STATE","NGO",5,2,null,null,null,null,null,null,true]
[null,"North Carolina Birding Trail Initiative","STATE","NGO",5,2,null,null,null,null,null,null,true]
[null,"North Carolina Coastal Federation","STATE","NGO",5,2,null,null,null,null,null,null,true]
[null,"North Carolina Coastal Reserves","STATE","NGO",5,2,null,null,null,null,null,null,true]
[null,"North Carolina Coastal Resources Commission (NC CRC)","STATE","GOVERNMENT",5,2,null,null,null,null,null,null,true]
[null,"North Carolina Cooperative Extension","STATE","ACADEMIC INSTITUTION",5,2,null,null,null,null,null,null,true]
[null,"North Carolina Department of Agriculture and Consumer Services, Food and Drug Division (NC AGR)","STATE","GOVERNMENT",5,2,null,null,null,null,null,null,true]
[null,"North Carolina Department of Commerce (NC DOC)","STATE","GOVERNMENT",5,2,null,null,null,null,null,null,true]
[null,"North Carolina Department of Environment and Natural Resources (NC DENR)","STATE","GOVERNMENT",5,2,null,null,null,null,null,null,true]
[null,"North Carolina Division of Coastal Management (NC DENR, DCM)","STATE","GOVERNMENT",5,2,null,null,null,null,null,null,true]
[null,"North Carolina Division of Marine Fisheries (NC DENR, DMF)","STATE","GOVERNMENT",5,2,null,null,null,null,null,null,{"$f":"AND(  NOT(ISERROR(FIND(UPPER($B$7),UPPER($B1870),1))),  OR($D$7=\"\",NOT(ISERROR(FIND(UPPER($D$7),UPPER($B1870),1)))),    OR($D$8=\"\",(ISERROR(FIND(UPPER($D$8),UPPER($B1870),1))))           )","v":true}]
[null,"North Carolina Division of Parks and Recreation ((NC DENR, DPR)","STATE","GOVERNMENT",5,2,null,null,null,null,null,null,true]
[null,"North Carolina Division of Water Quality (NC DENR, DWQ)","STATE","GOVERNMENT",5,2,null,null,null,null,null,null,true]
[null,"North Carolina Fisheries Association","STATE","INDUSTRY AND BUSINESS",5,2,null,null,null,null,null,null,true]
[null,"North Carolina Joint Legislative Commission on Seafood and Aquaculture","STATE","GOVERNMENT",5,2,null,null,null,null,null,null,true]
[null,"North Carolina Marine Fisheries Commission","STATE","NGO",5,2,null,null,null,null,null,null,true]
[null,"North Carolina Museum of Natural Sciences","STATE","GOVERNMENT",5,2,null,null,null,null,null,null,true]
[null,"The North Carolina Coastal Reserve & National Estuarine Research Reserve (US DOC, NOAA, NOS, NERRS)","STATE","GOVERNMENT",5,2,null,null,null,null,null,null,true]
[null,"North Carolina News Media","STATE","INDUSTRY AND BUSINESS",5,2,null,null,null,null,null,null,true]
[null,"Shellfish Gardeners of North Carolina","STATE","NGO",5,2,null,null,null,null,null,null,true]
[null,"North Carolina Shellfish Growers Association","STATE","INDUSTRY AND BUSINESS",5,2,null,null,null,null,null,null,true]
[null,"North Carolina Shellfish Sanitation Section of the Division of Environmental Health","STATE","GOVERNMENT",5,2,null,null,null,null,null,null,true]
[null,"North Carolina State University (NCSU)","STATE","ACADEMIC INSTITUTION",5,2,null,null,null,null,null,null,true]
[null,"North Carolina Wildlife Resources Commission","STATE","NGO",5,2,null,null,null,null,null,null,true]
[null,"North Central Regional Aquaculture Center (USDA)","FEDERAL or NATIONAL","GOVERNMENT",5,4,null,null,null,null,null,null,true]
[null,"North Coast Environmental Center","REGIONAL","NGO",5,3,null,null,null,null,null,null,true]
[null,"North Coast Marine Mammal Center","REGIONAL","NGO",5,3,null,null,null,null,null,null,true]
[null,"North Coast Water Quality and Biotoxin Program, Canada","INTERNATIONAL","GOVERNMENT",5,5,null,null,null,null,null,null,true]
[null,"North Dakota Game and Fish Department (ND GFD)","STATE","GOVERNMENT",5,2,null,null,null,null,null,null,true]
[null,"North East Township","LOCAL","GOVERNMENT",5,1,null,null,null,null,null,null,true]
[null,"North Gulf Oceanic Society","REGIONAL","NGO",5,3,null,null,null,null,null,null,true]
[null,"North Kingstown Free Library","LOCAL","GOVERNMENT",5,1,null,null,null,null,null,null,true]
[null,"North Mason Chamber of Commerce","LOCAL","INDUSTRY AND BUSINESS",5,1,null,null,null,null,null,null,true]
[null,"North Mason Kiwanis Club","LOCAL","NGO",5,1,null,null,null,null,null,null,true]
[null,"North Olympic Salmon Coalition","LOCAL","NGO",5,1,null,null,null,null,null,null,true]
[null,"North Pacific Fisheries Management Council (NPFMC)","FEDERAL or NATIONAL","GOVERNMENT",5,4,null,null,null,null,null,null,true]
[null,"North Pacific Fisheries Observer Training Center","FEDERAL or NATIONAL","GOVERNMENT",5,4,null,null,null,null,null,null,true]
[null,"North Pacific Fishing Vessel Owners Association","REGIONAL","INDUSTRY AND BUSINESS",5,3,null,null,null,null,null,null,true]
[null,"North Pacific Longline Association","REGIONAL","INDUSTRY AND BUSINESS",5,3,null,null,null,null,null,null,true]
[null,"North Pacific Marine Science Organization (PICES)","INTERNATIONAL","NGO",5,5,null,null,null,null,null,null,true]
[null,"North Pacific Processors Inc.","REGIONAL","INDUSTRY AND BUSINESS",5,3,null,null,null,null,null,null,true]
[null,"North Pacific Research Board","FEDERAL or NATIONAL","NGO",5,4,null,null,null,null,null,null,true]
[null,"North Ranch BioRecycling","LOCAL","INDUSTRY AND BUSINESS",5,1,null,null,null,null,null,null,true]
[null,"North Shore Charter Captains Association","LOCAL","INDUSTRY AND BUSINESS",5,1,null,null,null,null,null,null,true]
[null,"North Slope Borough","LOCAL","GOVERNMENT",5,1,null,null,null,null,null,null,true]
[null,"Northeast Algal Society","REGIONAL","OTHER PARTNERS",5,3,null,null,null,null,null,null,true]
[null,"Northeast Association of Marine and Great Lakes Laboratories","REGIONAL","NGO",5,3,null,null,null,null,null,null,true]
[null,"Northeast Sea Grant Consortium","REGIONAL","SEA GRANT PROGRAMS",5,3,null,null,null,null,null,null,true]
[null,"Northeast Farm Credit Ag Enhancement Program","REGIONAL","OTHER PARTNERS",5,3,null,null,null,null,null,null,true]
[null,"Northeast Fisheries Science Center (US DOC, NOAA, NMFS, NEFSC)","FEDERAL or NATIONAL","GOVERNMENT",5,4,null,null,null,null,null,null,true]
[null,"Northeast Fishery Center (US DOI, FWS)","FEDERAL or NATIONAL","GOVERNMENT",5,4,null,null,null,null,null,null,true]
[null,"Northeast Michigan Council of Governments","REGIONAL","GOVERNMENT",5,3,null,null,null,null,null,null,true]
[null,"Northeast Regional Agricultural Center (USDA)","FEDERAL or NATIONAL","GOVERNMENT",5,4,null,null,null,null,null,null,true]
[null,"Northeast Regional Ocean Council (NROC)","REGIONAL","GOVERNMENT",5,3,null,null,null,null,null,null,true]
[null,"Northeast Safety Training Center","REGIONAL","INDUSTRY AND BUSINESS",5,3,null,null,null,null,null,null,true]
[null,"Northeastern Agricultural and Resource Economics Association","REGIONAL","OTHER PARTNERS",5,3,null,null,null,null,null,null,true]
[null,"Northeastern Illinois Planning Commission","REGIONAL","GOVERNMENT",5,3,null,null,null,null,null,null,true]
[null,"Northeast-Midwest Institute","FEDERAL or NATIONAL","NGO",5,4,null,null,null,null,null,null,true]
[null,"Northern Appalachian Research Center (US DOI, USGS)","FEDERAL or NATIONAL","GOVERNMENT",5,4,null,null,null,null,null,null,true]
[null,"Northern Bayfield County","REGIONAL","GOVERNMENT",5,3,null,null,null,null,null,null,true]
[null,"Northern Economics Inc.","REGIONAL","INDUSTRY AND BUSINESS",5,3,null,null,null,null,null,null,true]
[null,"Northern Great Lakes Visitor Center","REGIONAL","GOVERNMENT",5,3,null,null,null,null,null,null,true]
[null,"Northern Gulf Cooperative Institute (US DOC, NOAA, OAR, CI, NGCI)","REGIONAL","GOVERNMENT",5,3,null,null,null,null,null,null,true]
[null,"Northern Illinois University (NIU)","STATE","ACADEMIC INSTITUTION",5,2,null,null,null,null,null,null,true]
[null,"Northern Initiatives","FEDERAL or NATIONAL","INDUSTRY AND BUSINESS",5,4,null,null,null,null,null,null,true]
[null,"Northern Oyster Company","REGIONAL","INDUSTRY AND BUSINESS",5,3,null,null,null,null,null,null,true]
[null,"Northern Wilds publication","REGIONAL","INDUSTRY AND BUSINESS",5,3,null,null,null,null,null,null,true]
[null,"Northland College","REGIONAL","ACADEMIC INSTITUTION",5,3,null,null,null,null,null,null,true]
[null,"Northshore Mining Company","REGIONAL","INDUSTRY AND BUSINESS",5,3,null,null,null,null,null,null,true]
[null,"Northshore Neighborhood Board","REGIONAL","OTHER PARTNERS",5,3,null,null,null,null,null,null,true]
[null,"Northwest Aquatic and Marine Educators Association","REGIONAL","NGO",5,3,null,null,null,null,null,null,true]
[null,"Northwest Association of Networked Ocean Observing Systems (NANOOS)","REGIONAL","NGO",5,3,null,null,null,null,null,null,true]
[null,"Northwest Atlantic Marine Alliance","REGIONAL","NGO",5,3,null,null,null,null,null,null,true]
[null,"Northwest Cascade, Inc.","REGIONAL","INDUSTRY AND BUSINESS",5,3,null,null,null,null,null,null,true]
[null,"Northwest Fisheries Science Center (US DOC, NOAA, NMFS, NWFSC)","FEDERAL or NATIONAL","GOVERNMENT",5,4,null,null,null,null,null,null,{"$f":"AND(  NOT(ISERROR(FIND(UPPER($B$7),UPPER($B1934),1))),  OR($D$7=\"\",NOT(ISERROR(FIND(UPPER($D$7),UPPER($B1934),1)))),    OR($D$8=\"\",(ISERROR(FIND(UPPER($D$8),UPPER($B1934),1))))           )","v":true}]
[null,"Northwest Indian College","STATE","ACADEMIC INSTITUTION",5,2,null,null,null,null,null,null,true]
[null,"Northwest Indian Fisheries Commission","LOCAL","OTHER PARTNERS",5,1,null,null,null,null,null,null,true]
[null,"Northwest Michigan College","STATE","ACADEMIC INSTITUTION",5,2,null,null,null,null,null,null,true]
[null,"Northwest On-site Wastewater Training Center","REGIONAL","INDUSTRY AND BUSINESS",5,3,null,null,null,null,null,null,true]
[null,"Northwest School of Wooden Boatbuilding","STATE","NGO",5,2,null,null,null,null,null,null,true]
[null,"Northwest Shellfish Company","REGIONAL","INDUSTRY AND BUSINESS",5,3,null,null,null,null,null,null,true]
[null,"Northwest Straits Commission","LOCAL","OTHER PARTNERS",5,1,null,null,null,null,null,null,true]
[null,"Northwest Urban Indian Community","REGIONAL","NGO",5,3,null,null,null,null,null,null,true]
[null,"Northwest Wisconsin Regional Planning Commission","REGIONAL","GOVERNMENT",5,3,null,null,null,null,null,null,true]
[null,"Northwestern Farm Credit Services","REGIONAL","INDUSTRY AND BUSINESS",5,3,null,null,null,null,null,null,true]
[null,"Northwestern Fisheries Manchester Research Center","REGIONAL","NGO",5,3,null,null,null,null,null,null,true]
[null,"Northwestern Hawaiian Islands Marine National Monument (US DOC, NOAA, NOS, ONMS)","FEDERAL or NATIONAL","GOVERNMENT",5,4,null,null,null,null,null,null,true]
[null,"Northwestern Indiana Regional Planning Commission","REGIONAL","GOVERNMENT",5,3,null,null,null,null,null,null,true]
[null,"Northwestern University","STATE","ACADEMIC INSTITUTION",5,2,null,null,null,null,null,null,true]
[null,"Norton Sound Economic Development Corporation","LOCAL","NGO",5,1,null,null,null,null,null,null,true]
[null,"Nortwesterly Food Technology Services","FEDERAL or NATIONAL","INDUSTRY AND BUSINESS",5,4,null,null,null,null,null,null,true]
[null,"Nova Southeastern University (NOVA)","STATE","ACADEMIC INSTITUTION",5,2,null,null,null,null,null,null,true]
[null,"Novartis","FEDERAL or NATIONAL","INDUSTRY AND BUSINESS",5,4,null,null,null,null,null,null,true]
[null,"Nutech-03, Inc.","STATE","INDUSTRY AND BUSINESS",5,2,null,null,null,null,null,null,true]
[null,"Occidental College, Vantuna Research Group ","STATE","ACADEMIC INSTITUTION",5,2,null,null,null,null,null,null,true]
[null,"Ocean Advocates","INTERNATIONAL","NGO",5,5,null,null,null,null,null,null,true]
[null,"Ocean Beauty Seafoods Inc.","FEDERAL or NATIONAL","INDUSTRY AND BUSINESS",5,4,null,null,null,null,null,null,true]
[null,"Ocean Conservancy","INTERNATIONAL","NGO",5,5,null,null,null,null,null,null,true]
[null,"Ocean County","LOCAL","GOVERNMENT",5,1,null,null,null,null,null,null,true]
[null,"Ocean Explorer Program (US DOC, NOAA, OAR, OER)","FEDERAL or NATIONAL","GOVERNMENT",5,4,null,null,null,null,null,null,true]
[null,"Ocean Research Interactive Observatory Networks (ORION)","FEDERAL or NATIONAL","NGO",5,4,null,null,null,null,null,null,true]
[null,"Ocean Technology Foundation","FEDERAL or NATIONAL","NGO",5,4,null,null,null,null,null,null,true]
[null,"Ocean.US","FEDERAL or NATIONAL","NGO",5,4,null,null,null,null,null,null,true]
[null,"Oceana","INTERNATIONAL","NGO",5,5,null,null,null,null,null,null,true]
[null,"Oceanic Institute","INTERNATIONAL","NGO",5,5,null,null,null,null,null,null,true]
[null,"Oceans Blue Program","INTERNATIONAL","NGO",5,5,null,null,null,null,null,null,true]
[null,"Oceans Unlimited","INTERNATIONAL","NGO",5,5,null,null,null,null,null,null,true]
[null,"Odyssey Shellfish Ltd., Canada","INTERNATIONAL","INDUSTRY AND BUSINESS",5,5,null,null,null,null,null,null,true]
[null,"Office of Coast Survey (US DOC, NOAA, NOS, OCS)","FEDERAL or NATIONAL","GOVERNMENT",5,4,null,null,null,null,null,null,true]
[null,"Office of Education (US DOC, NOAA, OED)","FEDERAL or NATIONAL","GOVERNMENT",5,4,null,null,null,null,null,null,true]
[null,"Office of Experimental Program to Stimulate Competitive Research (NSF, EPSCoR)","FEDERAL or NATIONAL","GOVERNMENT",5,4,null,null,null,null,null,null,true]
[null,"Office of Global Programs (US DOC, NOAA, OAR)","FEDERAL or NATIONAL","GOVERNMENT",5,4,null,null,null,null,null,null,true]
[null,"Office of Hawaiian Affairs","STATE","GOVERNMENT",5,2,null,null,null,null,null,null,true]
[null,"Office of National Marine Sanctuaries (US DOC, NOAA, NOS, ONMS)","FEDERAL or NATIONAL","GOVERNMENT",5,4,null,null,null,null,null,null,true]
[null,"Office of Naval Research (US DOD, NAVY, ONR)","FEDERAL or NATIONAL","GOVERNMENT",5,4,null,null,null,null,null,null,true]
[null,"Office of Ocean and Coastal Resource Management (US DOC, NOAA, NOS, OCRM)","STATE","GOVERNMENT",5,2,null,null,null,null,null,null,true]
[null,"Office of Ocean Exploration and Research (US DOC, NOAA, OAR, OER)","FEDERAL or NATIONAL","GOVERNMENT",5,4,null,null,null,null,null,null,true]
[null,"Office of Policy, Economics and Innovation; Development, Community and Environment Division  (US EPA)","FEDERAL or NATIONAL","GOVERNMENT",5,4,null,null,null,null,null,null,true]
[null,"Office of Protected Species Alaska Region (US DOC, NOAA, NMFS)","FEDERAL or NATIONAL","GOVERNMENT",5,4,null,null,null,null,null,null,true]
[null,"Office of Regulatory Affairs (US HHS, FDA)","FEDERAL or NATIONAL","GOVERNMENT",5,4,null,null,null,null,null,null,true]
[null,"Office of Response and Restoration (US DOC, NOAA, NOS, ORR)","FEDERAL or NATIONAL","GOVERNMENT",5,4,null,null,null,null,null,null,true]
[null,"Office of Seafood (US HHS, FDA)","FEDERAL or NATIONAL","GOVERNMENT",5,4,null,null,null,null,null,null,true]
[null,"Office of the US Trade Representative (USTR)","FEDERAL or NATIONAL","GOVERNMENT",5,4,null,null,null,null,null,null,true]
[null,"Office of the Vice Chancellor of Students, University of Hawaii at Manoa (UHM)","STATE","ACADEMIC INSTITUTION",5,2,null,null,null,null,null,null,true]
[null,"U.S. Senator Russ Feingold - Wisconsin","FEDERAL or NATIONAL","GOVERNMENT",5,4,null,null,null,null,null,null,true]
[null,"Office of Water (US EPA)","FEDERAL or NATIONAL","GOVERNMENT",5,4,null,null,null,null,null,null,true]
[null,"Ohio Certified Volunteer Naturalist Program","STATE","OTHER PARTNERS",5,2,null,null,null,null,null,null,true]
[null,"Ohio Chapter of the American Fisheries Society (AFS)","STATE","NGO",5,2,null,null,null,null,null,null,true]
[null,"Ohio Coastal Management Program","STATE","GOVERNMENT",5,2,null,null,null,null,null,null,true]
[null,"Ohio Department of Development (OH DEV)","STATE","GOVERNMENT",5,2,null,null,null,null,null,null,true]
[null,"Ohio Department of Health (OH DOH)","STATE","GOVERNMENT",5,2,null,null,null,null,null,null,true]
[null,"Ohio Department of Natural Resources (OH DNR)","STATE","GOVERNMENT",5,2,null,null,null,null,null,null,true]
[null,"Ohio Division of Geological Survey (OH DNR, OH DGS)","STATE","GOVERNMENT",5,2,null,null,null,null,null,null,true]
[null,"Ohio Division of Soil and Water Conservation (OH DNR)","STATE","GOVERNMENT",5,2,null,null,null,null,null,null,true]
[null,"Ohio Division of Travel and Tourism","STATE","GOVERNMENT",5,2,null,null,null,null,null,null,true]
[null,"Ohio Division of Watercraft (OH DNR)","STATE","GOVERNMENT",5,2,null,null,null,null,null,null,true]
[null,"Ohio Division of Wildlife (OH DNR)","STATE","GOVERNMENT",5,2,null,null,null,null,null,null,true]
[null,"Ohio Environmental Protection Agency (OH EPA)","STATE","GOVERNMENT",5,2,null,null,null,null,null,null,true]
[null,"Ohio Lake Erie Commission","STATE","GOVERNMENT",5,2,null,null,null,null,null,null,{"$f":"AND(  NOT(ISERROR(FIND(UPPER($B$7),UPPER($B1998),1))),  OR($D$7=\"\",NOT(ISERROR(FIND(UPPER($D$7),UPPER($B1998),1)))),    OR($D$8=\"\",(ISERROR(FIND(UPPER($D$8),UPPER($B1998),1))))           )","v":true}]
[null,"Ohio Lake Erie Office","STATE","GOVERNMENT",5,2,null,null,null,null,null,null,true]
[null,"Ohio Legislature","STATE","GOVERNMENT",5,2,null,null,null,null,null,null,true]
[null,"Ohio State University (OSU)","STATE","ACADEMIC INSTITUTION",5,2,null,null,null,null,null,null,true]
[null,"Okatee Club ","LOCAL","OTHER PARTNERS",5,1,null,null,null,null,null,null,true]
[null,"Old Woman Creek  (US DOC, NOAA, NOS, NERRS)","FEDERAL or NATIONAL","GOVERNMENT",5,4,null,null,null,null,null,null,true]
[null,"University of Washington, Olympic Natural Resources Center, School of Forest Resources, College of the Environment (UW)","STATE","ACADEMIC INSTITUTION",5,2,null,null,null,null,null,null,true]
[null,"Ontario Federation of Hunters and Anglers","INTERNATIONAL","GOVERNMENT",5,5,null,null,null,null,null,null,true]
[null,"Ontario Native Americans","LOCAL","OTHER PARTNERS",5,1,null,null,null,null,null,null,true]
[null,"Orange County Department of Public Works","LOCAL","GOVERNMENT",5,1,null,null,null,null,null,null,true]
[null,"Orange County School District","LOCAL","ACADEMIC INSTITUTION",5,1,null,null,null,null,null,null,true]
[null,"Oregon Coast Aquarium","STATE","NGO",5,2,null,null,null,null,null,null,true]
[null,"Oregon Crab Commission","STATE","NGO",5,2,null,null,null,null,null,null,true]
[null,"Oregon Department of Corrections (OR DOC)","STATE","GOVERNMENT",5,2,null,null,null,null,null,null,true]
[null,"Oregon Department of Fish and Wildlife (OR DFW)","STATE","GOVERNMENT",5,2,null,null,null,null,null,null,true]
[null,"Oregon Health Science University (OHSU)","STATE","ACADEMIC INSTITUTION",5,2,null,null,null,null,null,null,true]
[null,"Oregon Migrant Education Office","STATE","GOVERNMENT",5,2,null,null,null,null,null,null,true]
[null,"Oregon Museum of Science and Industry","STATE","OTHER PARTNERS",5,2,null,null,null,null,null,null,true]
[null,"Oregon State Legislature","STATE","GOVERNMENT",5,2,null,null,null,null,null,null,true]
[null,"Oregon Trawl Commission","STATE","NGO",5,2,null,null,null,null,null,null,true]
[null,"Organized Seafood Association of Alabama","STATE","INDUSTRY AND BUSINESS",5,2,null,null,null,null,null,null,true]
[null,"Osgood Consulting","LOCAL","INDUSTRY AND BUSINESS",5,1,null,null,null,null,null,null,true]
[null,"Oswego Maritime Foundation","LOCAL","INDUSTRY AND BUSINESS",5,1,null,null,null,null,null,null,true]
[null,"Oyster Dealers and Growers Association","FEDERAL or NATIONAL","INDUSTRY AND BUSINESS",5,4,null,null,null,null,null,null,true]
[null,"Oyster Reef Keepers of Virginia","STATE","NGO",5,2,null,null,null,null,null,null,true]
[null,"Pacific Council of Governments","REGIONAL","GOVERNMENT",5,3,null,null,null,null,null,null,true]
[null,"Pacific County Economic Development Council","LOCAL","GOVERNMENT",5,1,null,null,null,null,null,null,true]
[null,"Pacific Fisheries Environmental Laboratory (US DOC, NOAA, NMFS, SWFSC, PFEL)","FEDERAL or NATIONAL","GOVERNMENT",5,4,null,null,null,null,null,null,true]
[null,"Pacific Fishery Management Council (PFMC)","FEDERAL or NATIONAL","GOVERNMENT",5,4,null,null,null,null,null,null,true]
[null,"Pacific Marine Conservation Council","REGIONAL","NGO","NULL",3,null,null,null,null,null,null,true]
[null,"Pacific Ocean Producers","REGIONAL","INDUSTRY AND BUSINESS",5,3,null,null,null,null,null,null,true]
[null,"Pacific Seabird Group","REGIONAL","NGO",5,3,null,null,null,null,null,null,true]
[null,"Pacific Shellfish Institute","REGIONAL","NGO",5,3,null,null,null,null,null,null,true]
[null,"Pacific States/British Columbia Oil Spill Task Force","INTERNATIONAL","GOVERNMENT",5,5,null,null,null,null,null,null,true]
[null,"Palmetto Bluff Conservancy","LOCAL","NGO",5,1,null,null,null,null,null,null,true]
[null,"Parametrix, Inc","FEDERAL or NATIONAL","INDUSTRY AND BUSINESS",5,4,null,null,null,null,null,null,true]
[null,"partn1  (TEST)","FEDERAL or NATIONAL","ACADEMIC INSTITUTION",5,4,null,null,null,null,null,null,true]
[null,"Partnership of Interdisciplinary Studies of Coastal Oceans (PISCO)","FEDERAL or NATIONAL","OTHER PARTNERS",5,4,null,null,null,null,null,null,true]
[null,"Pascagoula River Basin Alliance","LOCAL","NGO",5,1,null,null,null,null,null,null,true]
[null,"Peconic Estuary Program (US EPA, NEP, PEP)","FEDERAL or NATIONAL","GOVERNMENT",5,4,null,null,null,null,null,null,true]
[null,"Peggy Notebaert Nature Museum","LOCAL","NGO",5,1,null,null,null,null,null,null,true]
[null,"Peninsula Excavating, Inc.","LOCAL","INDUSTRY AND BUSINESS",5,1,null,null,null,null,null,null,true]
[null,"Penn State Great Valley (PSU)","STATE","ACADEMIC INSTITUTION",5,2,null,null,null,null,null,null,true]
[null,"Pennsylvania Department of Health (PA DOH)","STATE","OTHER PARTNERS",5,2,null,null,null,null,null,null,true]
[null,"Pennsylvania Game Commission","STATE","OTHER PARTNERS",5,2,null,null,null,null,null,null,true]
[null,"Penshell Company","STATE","INDUSTRY AND BUSINESS",5,2,null,null,null,null,null,null,true]
[null,"Pepperdine University","STATE","ACADEMIC INSTITUTION",5,2,null,null,null,null,null,null,true]
[null,"Pet Industry Joint Advisory Council","FEDERAL or NATIONAL","NGO",5,4,null,null,null,null,null,null,true]
[null,"Petersburg Vessel Owners Association","LOCAL","INDUSTRY AND BUSINESS",5,1,null,null,null,null,null,null,true]
[null,"Petroleum Environmental Network (China)","INTERNATIONAL","INDUSTRY AND BUSINESS",5,5,null,null,null,null,null,null,true]
[null,"Philadelphia University","STATE","ACADEMIC INSTITUTION",5,2,null,null,null,null,null,null,true]
[null,"Phytoplankton monitoring network","FEDERAL or NATIONAL","NGO",5,4,null,null,null,null,null,null,true]
[null,"Pine County Land Commission","LOCAL","GOVERNMENT",5,1,null,null,null,null,null,null,true]
[null,"Plastic Packaging Incorporated","INTERNATIONAL","INDUSTRY AND BUSINESS",5,5,null,null,null,null,null,null,true]
[null,"Plattsburgh State University ","STATE","ACADEMIC INSTITUTION",5,2,null,null,null,null,null,null,true]
[null,"Polk Soil and Water Conservation District","LOCAL","GOVERNMENT",5,1,null,null,null,null,null,null,true]
[null,"Port Authority of NY/NJ","REGIONAL","GOVERNMENT",5,3,null,null,null,null,null,null,true]
[null,"Port Gamble S'Klallam Tribe","Tribal","GOVERNMENT",5,13,null,null,null,null,null,null,true]
[null,"Port of Dewatto, WA","LOCAL","GOVERNMENT",5,1,null,null,null,null,null,null,true]
[null,"Port of Grays Harbor, WA","LOCAL","GOVERNMENT",5,1,null,null,null,null,null,null,true]
[null,"Port of Los Angeles, CA","LOCAL","GOVERNMENT",5,1,null,null,null,null,null,null,true]
[null,"Port of Peninsula, WA","LOCAL","GOVERNMENT",5,1,null,null,null,null,null,null,true]
[null,"Port of Sacramento, CA","LOCAL","GOVERNMENT",5,1,null,null,null,null,null,null,{"$f":"AND(  NOT(ISERROR(FIND(UPPER($B$7),UPPER($B2190),1))),  OR($D$7=\"\",NOT(ISERROR(FIND(UPPER($D$7),UPPER($B2190),1)))),    OR($D$8=\"\",(ISERROR(FIND(UPPER($D$8),UPPER($B2190),1))))           )","v":true}]
[null,"Port of Seattle, WA - Fishermens Terminal","LOCAL","GOVERNMENT",5,1,null,null,null,null,null,null,true]
[null,"Port of Seattle, WA - Shilshole Bay Marina","LOCAL","GOVERNMENT",5,1,null,null,null,null,null,null,true]
[null,"Port of Tahuya, WA","LOCAL","GOVERNMENT",5,1,null,null,null,null,null,null,true]
[null,"Port Washington, WI City Parks and Recreation","LOCAL","GOVERNMENT",5,1,null,null,null,null,null,null,true]
[null,"Pratt and Whitney","FEDERAL or NATIONAL","INDUSTRY AND BUSINESS",5,4,null,null,null,null,null,null,true]
[null,"Presque Isle Partnership","LOCAL","ACADEMIC INSTITUTION",5,1,null,null,null,null,null,null,true]
[null,"Prime Hook National Wildlife Refuge (US DOI, FWS, NWRS)","FEDERAL or NATIONAL","GOVERNMENT",5,4,null,null,null,null,null,null,true]
[null,"Prince William Sound Aquaculture Corporation","LOCAL","NGO",5,1,null,null,null,null,null,null,true]
[null,"Princess Cruises","INTERNATIONAL","INDUSTRY AND BUSINESS",5,5,null,null,null,null,null,null,true]
[null,"Professional Lake Management, Inc. ","LOCAL","INDUSTRY AND BUSINESS",5,1,null,null,null,null,null,null,true]
[null,"Project Wet State Advisory Board","INTERNATIONAL","NGO",5,5,null,null,null,null,null,null,true]
[null,"PSEG","Unknown","INDUSTRY AND BUSINESS",5,0,null,null,null,null,null,null,true]
[null,"Puget Sound Mussels, Inc.","LOCAL","INDUSTRY AND BUSINESS",5,1,null,null,null,null,null,null,true]
[null,"Puget Sound Nearshore Ecosystem Restoration Project (PSNERP) - Washington Department of Fish and Wildlife","REGIONAL","NGO",5,3,null,null,null,null,null,null,true]
[null,"Purdue University Calumet ","STATE","ACADEMIC INSTITUTION",5,2,null,null,null,null,null,null,true]
[null,"Put-in-Bay Jet Express Ferry","LOCAL","INDUSTRY AND BUSINESS",5,1,null,null,null,null,null,null,true]
[null,"Putting Green, New Ulm","LOCAL","INDUSTRY AND BUSINESS",5,1,null,null,null,null,null,null,true]
[null,"Qaalugin Tribe","Tribal","GOVERNMENT",5,13,null,null,null,null,null,null,true]
[null,"Queen’s Creek Outfitters","FEDERAL or NATIONAL","INDUSTRY AND BUSINESS",5,4,null,null,null,null,null,null,true]
[null,"Quileute Tribe","Tribal","GOVERNMENT",5,13,null,null,null,null,null,null,true]
[null,"Qutekcak Native Tribe","Tribal","GOVERNMENT",5,13,null,null,null,null,null,null,true]
[null,"Rainbow Lodge Retreat","LOCAL","INDUSTRY AND BUSINESS",5,1,null,null,null,null,null,null,true]
[null,"Raven Correspondence School","LOCAL","NGO",5,1,null,null,null,null,null,null,true]
[null,"Red Cliff Band of Lake Superior Chippewa Indians","LOCAL","OTHER PARTNERS",5,1,null,null,null,null,null,null,true]
[null,"American Red Cross","INTERNATIONAL","NGO",5,5,null,null,null,null,null,null,true]
[null,"Region 3 (US EPA)","FEDERAL or NATIONAL","GOVERNMENT",5,4,null,null,null,null,null,null,true]
[null,"Region 5 (US EPA)","FEDERAL or NATIONAL","GOVERNMENT",5,4,null,null,null,null,null,null,true]
[null,"Regional Seafood Development Association","REGIONAL","NGO",5,3,null,null,null,null,null,null,true]
[null,"Rensselaer Polytechnic Institute","STATE","ACADEMIC INSTITUTION",5,2,null,null,null,null,null,null,true]
[null,"Resource Analysts International","INTERNATIONAL","INDUSTRY AND BUSINESS",5,5,null,null,null,null,null,null,true]
[null,"Restore America’s Estuaries","FEDERAL or NATIONAL","NGO",5,4,null,null,null,null,null,null,true]
[null,"Restricted Access Management, Alaska Region (US DOC, NOAA, NMFS, RAM)","FEDERAL or NATIONAL","GOVERNMENT",5,4,null,null,null,null,null,null,true]
[null,"Rhode Island  Division of Planning","STATE","GOVERNMENT",5,2,null,null,null,null,null,null,true]
[null,"Rhode Island  Emergency Management Agency","STATE","GOVERNMENT",5,2,null,null,null,null,null,null,true]
[null,"Rhode Island  Saltwater Anglers","STATE","INDUSTRY AND BUSINESS",5,2,null,null,null,null,null,null,true]
[null,"Rhode Island Department of Health (RI DOH)","STATE","GOVERNMENT",5,2,null,null,null,null,null,null,true]
[null,"Rhode Island Saltwater Anglers ","FEDERAL or NATIONAL","NGO",5,4,null,null,null,null,null,null,true]
[null,"Ridge 2000","FEDERAL or NATIONAL","NGO",5,4,null,null,null,null,null,null,true]
[null,"RNT Consulting","FEDERAL or NATIONAL","INDUSTRY AND BUSINESS",5,4,null,null,null,null,null,null,true]
[null,"Rock Point Oyster Company","REGIONAL","INDUSTRY AND BUSINESS",5,3,null,null,null,null,null,null,true]
[null,"Rocky Mountain Cord Company","FEDERAL or NATIONAL","INDUSTRY AND BUSINESS",5,4,null,null,null,null,null,null,{"$f":"AND(  NOT(ISERROR(FIND(UPPER($B$7),UPPER($B2318),1))),  OR($D$7=\"\",NOT(ISERROR(FIND(UPPER($D$7),UPPER($B2318),1)))),    OR($D$8=\"\",(ISERROR(FIND(UPPER($D$8),UPPER($B2318),1))))           )","v":true}]
[null,"Rogers Street Fishing Village","LOCAL","OTHER PARTNERS",5,1,null,null,null,null,null,null,true]
[null,"Rose Fisheries","FEDERAL or NATIONAL","INDUSTRY AND BUSINESS",5,4,null,null,null,null,null,null,true]
[null,"Rotary — Traverse City, Grand Haven, Spring Lake","FEDERAL or NATIONAL","NGO",5,4,null,null,null,null,null,null,true]
[null,"Rutgers University","STATE","ACADEMIC INSTITUTION",5,2,null,null,null,null,null,null,true]
[null,"Saginaw Chippewa","LOCAL","OTHER PARTNERS",5,1,null,null,null,null,null,null,true]
[null,"Sakhalin Environment Watch","INTERNATIONAL","NGO",5,5,null,null,null,null,null,null,true]
[null,"Salish Kootenai College","LOCAL","ACADEMIC INSTITUTION",5,1,null,null,null,null,null,null,true]
[null,"Salmon Initiative","LOCAL","NGO",5,1,null,null,null,null,null,null,true]
[null,"Samoa Family Sunfish Cooperative","LOCAL","OTHER PARTNERS",5,1,null,null,null,null,null,null,true]
[null,"San Diego County School District","LOCAL","ACADEMIC INSTITUTION",5,1,null,null,null,null,null,null,true]
[null,"San Diego Zoo","LOCAL","OTHER PARTNERS",5,1,null,null,null,null,null,null,true]
[null,"San Francisco State University (SFSU)","STATE","ACADEMIC INSTITUTION",5,2,null,null,null,null,null,null,true]
[null,"San Pedro Chamber of Commerce","LOCAL","INDUSTRY AND BUSINESS",5,1,null,null,null,null,null,null,true]
[null,"Sanitation District","LOCAL","GOVERNMENT",5,1,null,null,null,null,null,null,true]
[null,"Santa Monica Bay Restoration Project","LOCAL","NGO",5,1,null,null,null,null,null,null,true]
[null,"Santa Monica Baykeeper","LOCAL","NGO",5,1,null,null,null,null,null,null,true]
[null,"Sapelo Island National Esuarine Research Reserve (US DOC, NOAA, NOS, NERRS, SINERR)","FEDERAL or NATIONAL","GOVERNMENT",5,4,null,null,null,null,null,null,true]
[null,"Satilla Riverkeeper","LOCAL","NGO",5,1,null,null,null,null,null,null,true]
[null,"Savannah State University","STATE","ACADEMIC INSTITUTION",5,2,null,null,null,null,null,null,true]
[null,"Save the Dunes Council","FEDERAL or NATIONAL","NGO",5,4,null,null,null,null,null,null,{"$f":"AND(  NOT(ISERROR(FIND(UPPER($B$7),UPPER($B2382),1))),  OR($D$7=\"\",NOT(ISERROR(FIND(UPPER($D$7),UPPER($B2382),1)))),    OR($D$8=\"\",(ISERROR(FIND(UPPER($D$8),UPPER($B2382),1))))           )","v":true}]
[null,"School of Marine Sciences","Unknown","ACADEMIC INSTITUTION",5,0,null,null,null,null,null,null,true]
[null,"Science Teachers of New York State","STATE","NGO",5,2,null,null,null,null,null,null,true]
[null,"Scottish Assn. for Marine Science ","INTERNATIONAL","GOVERNMENT",5,5,null,null,null,null,null,null,true]
[null,"SE Mass, CT, NY 4 State SAMP","Unknown","Unknown",5,0,null,null,null,null,null,null,true]
[null,"Sea Grant Association","FEDERAL or NATIONAL","SEA GRANT PROGRAMS",5,4,null,null,null,null,null,null,true]
[null,"SeaFisk Consulting","FEDERAL or NATIONAL","INDUSTRY AND BUSINESS",5,4,null,null,null,null,null,null,true]
[null,"National Seafood HACCP Alliance","FEDERAL or NATIONAL","NGO",5,4,null,null,null,null,null,null,true]
[null,"Seafood Marketing Division, North Carolina Department of Agriculture and Consumer Services (NC AGR)","STATE","GOVERNMENT",5,2,null,null,null,null,null,null,true]
[null,"Seagull Marina ","FEDERAL or NATIONAL","INDUSTRY AND BUSINESS",5,4,null,null,null,null,null,null,true]
[null,"Seattle Community College","STATE","ACADEMIC INSTITUTION",5,2,null,null,null,null,null,null,true]
[null,"Seattle Fishermen's Memorial Fund","LOCAL","NGO",5,1,null,null,null,null,null,null,true]
[null,"Seaway Port Authority of Duluth","LOCAL","INDUSTRY AND BUSINESS",5,1,null,null,null,null,null,null,true]
[null,"Secretariat of the Pacific Community","INTERNATIONAL","NGO",5,5,null,null,null,null,null,null,true]
[null,"Septic Technology, Inc.","LOCAL","INDUSTRY AND BUSINESS",5,1,null,null,null,null,null,null,true]
[null,"Shearer Sand and Gravel, LLC","LOCAL","INDUSTRY AND BUSINESS",5,1,null,null,null,null,null,null,true]
[null,"Shedd Aquarium","LOCAL","OTHER PARTNERS",5,1,null,null,null,null,null,null,true]
[null,"Shelton Skookum Rotary Club Foundation","LOCAL","NGO",5,1,null,null,null,null,null,null,true]
[null,"Shipping Safety Partnership","FEDERAL or NATIONAL","NGO",5,4,null,null,null,null,null,null,true]
[null,"Shoalwater Tribe","Tribal","GOVERNMENT",5,13,null,null,null,null,null,null,true]
[null,"Sierra Club","INTERNATIONAL","NGO",5,5,null,null,null,null,null,null,true]
[null,"Silverton High School","LOCAL","ACADEMIC INSTITUTION",5,1,null,null,null,null,null,null,true]
[null,"School of Resource and Environmental Management, Simon Fraser University (SFU)","INTERNATIONAL","ACADEMIC INSTITUTION",5,5,null,null,null,null,null,null,true]
[null,"Sisters Point Seafoods","REGIONAL","INDUSTRY AND BUSINESS",5,3,null,null,null,null,null,null,true]
[null,"Smart Growth Program (US EPA)","FEDERAL or NATIONAL","GOVERNMENT",5,4,null,null,null,null,null,null,true]
[null,"Smithsonian Institution (SI)","FEDERAL or NATIONAL","GOVERNMENT",5,4,null,null,null,null,null,null,true]
[null,"Society of Environmental Journalists","FEDERAL or NATIONAL","NGO",5,4,null,null,null,null,null,null,true]
[null,"Society of Environmental Toxicology and Chemistry","FEDERAL or NATIONAL","NGO",5,4,null,null,null,null,null,null,true]
[null,"Solomon Gulch Hatchery","FEDERAL or NATIONAL","INDUSTRY AND BUSINESS",5,4,null,null,null,null,null,null,true]
[null,"Sonoma State University (SSU)","STATE","ACADEMIC INSTITUTION",5,2,null,null,null,null,null,null,true]
[null,"Sound Metrics Corp.","FEDERAL or NATIONAL","INDUSTRY AND BUSINESS",5,4,null,null,null,null,null,null,true]
[null,"South Alabama Regional Planning Commission","STATE","NGO",5,2,null,null,null,null,null,null,true]
[null,"South Bay Advanced Educational Technology Consortium (ADTECH/GOALS 2000)","LOCAL","ACADEMIC INSTITUTION",5,1,null,null,null,null,null,null,true]
[null,"South Carolina Aquarium","STATE","OTHER PARTNERS",5,2,null,null,null,null,null,null,true]
[null,"South Carolina Center for Technological Innovation ","STATE","GOVERNMENT",5,2,null,null,null,null,null,null,true]
[null,"South Carolina Chamber of Commerce","STATE","INDUSTRY AND BUSINESS",5,2,null,null,null,null,null,null,true]
[null,"South Carolina Community Development Association ","STATE","NGO",5,2,null,null,null,null,null,null,true]
[null,"South Carolina Department of Education (SC ED)","STATE","GOVERNMENT",5,2,null,null,null,null,null,null,true]
[null,"South Carolina Downtown Development Association/Community Builders ","STATE","NGO",5,2,null,null,null,null,null,null,true]
[null,"South Carolina Forestry Commission ","STATE","GOVERNMENT",5,2,null,null,null,null,null,null,true]
[null,"South Carolina Marine Association ","STATE","NGO",5,2,null,null,null,null,null,null,true]
[null,"South Carolina Public Schools","STATE","ACADEMIC INSTITUTION",5,2,null,null,null,null,null,null,true]
[null,"South Carolina Shellfish Association ","STATE","INDUSTRY AND BUSINESS",5,2,null,null,null,null,null,null,true]
[null,"South Carolina Shrimp Growers Association ","STATE","INDUSTRY AND BUSINESS",5,2,null,null,null,null,null,null,true]
[null,"South Carolina State Ports Authority ","STATE","GOVERNMENT",5,2,null,null,null,null,null,null,true]
[null,"South Carolina Task Group on Harmful Algae ","STATE","GOVERNMENT",5,2,null,null,null,null,null,null,true]
[null,"South Eastern Regional Taxonomic Center","REGIONAL","NGO",5,3,null,null,null,null,null,null,true]
[null,"South Mississippi Environmental and Agricultural Coordination Organization (SMEACO)","LOCAL","NGO",5,1,null,null,null,null,null,null,true]
[null,"South Shore Sportfishing Association","LOCAL","NGO",5,1,null,null,null,null,null,null,true]
[null,"Southeast Alaska Inter-Tribal Fish and Wildlife Commission","Tribal","GOVERNMENT",5,13,null,null,null,null,null,null,true]
[null,"SouthEast Atlantic Coastal Ocean Observing System (SEACOOS)","REGIONAL","NGO",5,3,null,null,null,null,null,null,true]
[null,"Southeast Fisheries Science Center (US DOC, NOAA, NMFS, SEFSC)","FEDERAL or NATIONAL","GOVERNMENT",5,4,null,null,null,null,null,null,true]
[null,"Southeast Universities Research Association","REGIONAL","ACADEMIC INSTITUTION",5,3,null,null,null,null,null,null,true]
[null,"Southern Building Code Council International ","REGIONAL","GOVERNMENT",5,3,null,null,null,null,null,null,true]
[null,"Southern California Council of Environment and Development","STATE","GOVERNMENT",5,2,null,null,null,null,null,null,true]
[null,"Southern Medical Association ","REGIONAL","NGO",5,3,null,null,null,null,null,null,true]
[null,"Southern University Law School","STATE","ACADEMIC INSTITUTION",5,2,null,null,null,null,null,null,true]
[null,"Southwest Fisheries Science Center (US DOC, NOAA, NMFS, SWFSC)","FEDERAL or NATIONAL","GOVERNMENT",5,4,null,null,null,null,null,null,true]
[null,"Spirit Mountain Recreation Area","LOCAL","INDUSTRY AND BUSINESS",5,1,null,null,null,null,null,null,true]
[null,"Spitzer Harbor Walk  and Rack Storage Marina","LOCAL","INDUSTRY AND BUSINESS",5,1,null,null,null,null,null,null,true]
[null,"Spring Hill Plantation ","LOCAL","OTHER PARTNERS",5,1,null,null,null,null,null,null,true]
[null,"Squaxin Island Tribe","Tribal","GOVERNMENT",5,13,null,null,null,null,null,null,true]
[null,"St. Bernard Coastal Zone Management Advisory Committee (CZMA)","LOCAL","GOVERNMENT",5,1,null,null,null,null,null,null,true]
[null,"St. Croix Chippewa Indians","LOCAL","OTHER PARTNERS",5,1,null,null,null,null,null,null,true]
[null,"State of Oregon Climatologist Office","STATE","GOVERNMENT",5,2,null,null,null,null,null,null,true]
[null,"State University of New York, Brockport (SUNY)","STATE","ACADEMIC INSTITUTION",5,2,null,null,null,null,null,null,true]
[null,"State University of New York, Buffalo (SUNY)","STATE","ACADEMIC INSTITUTION",5,2,null,null,null,null,null,null,true]
[null,"Stearns Safety Gear Corporation","FEDERAL or NATIONAL","INDUSTRY AND BUSINESS",5,4,null,null,null,null,null,null,true]
[null,"Stillwater Sciences","LOCAL","INDUSTRY AND BUSINESS",5,1,null,null,null,null,null,null,true]
[null,"Strategic Energy Innovations","FEDERAL or NATIONAL","NGO",5,4,null,null,null,null,null,null,true]
[null,"Striped Bass Growers Association","FEDERAL or NATIONAL","INDUSTRY AND BUSINESS",5,4,null,null,null,null,null,null,true]
[null,"Stroud Water Research Center","LOCAL","ACADEMIC INSTITUTION",5,1,null,null,null,null,null,null,true]
[null,"Suffolk County Boards of Cooperative Educational Services (BOCES)","LOCAL","GOVERNMENT",5,1,null,null,null,null,null,null,true]
[null,"Sugarloaf Cove Interpretive Association","LOCAL","NGO",5,1,null,null,null,null,null,null,true]
[null,"State University of New York, Albany (SUNY)","STATE","ACADEMIC INSTITUTION",5,2,null,null,null,null,null,null,true]
[null,"State University of New York, Stony Brook (SUNY)","STATE","ACADEMIC INSTITUTION",5,2,null,null,null,null,null,null,true]
[null,"Suquamish Tribe","Tribal","GOVERNMENT",5,13,null,null,null,null,null,null,true]
[null,"Susie Q Fisheries","FEDERAL or NATIONAL","INDUSTRY AND BUSINESS",5,4,null,null,null,null,null,null,true]
[null,"Switlik Parachute Co.","FEDERAL or NATIONAL","INDUSTRY AND BUSINESS",5,4,null,null,null,null,null,null,true]
[null,"Tahja-Syrett Designs","LOCAL","INDUSTRY AND BUSINESS",5,1,null,null,null,null,null,null,true]
[null,"Talbot County Cooperative Extension","LOCAL","ACADEMIC INSTITUTION",5,1,null,null,null,null,null,null,true]
[null,"Taylor Shellfish Company","INTERNATIONAL","INDUSTRY AND BUSINESS",5,5,null,null,null,null,null,null,true]
[null,"TDX Corporation","INTERNATIONAL","INDUSTRY AND BUSINESS",5,5,null,null,null,null,null,null,true]
[null,"Temple University ","STATE","ACADEMIC INSTITUTION",5,2,null,null,null,null,null,null,true]
[null,"Texas A&M University (TAMU)","STATE","ACADEMIC INSTITUTION",5,2,null,null,null,null,null,null,true]
[null,"Texas Commission on Environmental Quality","STATE","GOVERNMENT",5,2,null,null,null,null,null,null,true]
[null,"Texas Parks and Wildlife Department","STATE","ACADEMIC INSTITUTION",5,2,null,null,null,null,null,null,true]
[null,"Thai Food Processors Association, Thailand","INTERNATIONAL","INDUSTRY AND BUSINESS",5,5,null,null,null,null,null,null,true]
[null,"Animal Planet ","INTERNATIONAL","INDUSTRY AND BUSINESS",5,5,null,null,null,null,null,null,true]
[null,"The Citadel","STATE","ACADEMIC INSTITUTION",5,2,null,null,null,null,null,null,true]
[null,"The Coastal Society","INTERNATIONAL","NGO",5,5,null,null,null,null,null,null,true]
[null,"The Conservation Fund","FEDERAL or NATIONAL","NGO",5,4,null,null,null,null,null,null,true]
[null,"The Friends of Natural Energy Laboratory of Hawaii Authority (NELHA)","LOCAL","NGO",5,1,null,null,null,null,null,null,true]
[null,"The Harold Castle Foundation","FEDERAL or NATIONAL","NGO",5,4,null,null,null,null,null,null,true]
[null,"The Kohala Center","FEDERAL or NATIONAL","NGO",5,4,null,null,null,null,null,null,true]
[null,"The Malama Kai Foundation","FEDERAL or NATIONAL","NGO",5,4,null,null,null,null,null,null,true]
[null,"The National Aquarium in Baltimore","LOCAL","OTHER PARTNERS",5,1,null,null,null,null,null,null,true]
[null,"The Nature Conservancy of Alabama (TNC)","INTERNATIONAL","NGO",5,5,null,null,null,null,null,null,true]
[null,"The Nature Conservancy of Mississippi (TNC)","INTERNATIONAL","NGO",5,5,null,null,null,null,null,null,true]
[null,"The Openlands Project","FEDERAL or NATIONAL","NGO",5,4,null,null,null,null,null,null,true]
[null,"The Watershed Center","FEDERAL or NATIONAL","NGO",5,4,null,null,null,null,null,null,true]
[null,"Three Rivers Park District","LOCAL","GOVERNMENT",5,1,null,null,null,null,null,null,true]
[null,"Tianjin University of Science and Technology","INTERNATIONAL","ACADEMIC INSTITUTION",5,5,null,null,null,null,null,null,true]
[null,"Tidewater Chef’s Association","LOCAL","NGO",5,1,null,null,null,null,null,null,true]
[null,"Tillamook County","LOCAL","GOVERNMENT",5,1,null,null,null,null,null,null,true]
[null,"Title Wave Books","FEDERAL or NATIONAL","INDUSTRY AND BUSINESS",5,4,null,null,null,null,null,null,true]
[null,"Tobbe's Clam Farm, Inc.","STATE","INDUSTRY AND BUSINESS",5,2,null,null,null,null,null,null,true]
[null,"Tolowa Tribe","Tribal","GOVERNMENT",5,13,null,null,null,null,null,null,true]
[null,"Totem Council Girl Scouts","LOCAL","NGO",5,1,null,null,null,null,null,null,true]
[null,"Town of Chestertown, MD","LOCAL","GOVERNMENT",5,1,null,null,null,null,null,null,true]
[null,"Town of Harpswell, ME","LOCAL","GOVERNMENT",5,1,null,null,null,null,null,null,true]
[null,"Town of Manhasset, NY","LOCAL","GOVERNMENT",5,1,null,null,null,null,null,null,true]
[null,"Town of Smithtown, NY","LOCAL","GOVERNMENT",5,1,null,null,null,null,null,null,true]
[null,"Town of Wrightsville Beach, NC Ocean Rescue","LOCAL","GOVERNMENT",5,1,null,null,null,null,null,null,true]
[null,"Transport Canada","FEDERAL or NATIONAL","INDUSTRY AND BUSINESS",5,4,null,null,null,null,null,null,true]
[null,"Trillium Technology Solutions, LLC","FEDERAL or NATIONAL","INDUSTRY AND BUSINESS",5,4,null,null,null,null,null,null,true]
[null,"True World Foods","FEDERAL or NATIONAL","INDUSTRY AND BUSINESS",5,4,null,null,null,null,null,null,true]
[null,"Turkey Hill Plantation ","FEDERAL or NATIONAL","OTHER PARTNERS",5,4,null,null,null,null,null,null,true]
[null,"Two Rivers City Parks","LOCAL","GOVERNMENT",5,1,null,null,null,null,null,null,true]
[null,"Unalaska City School District","LOCAL","GOVERNMENT",5,1,null,null,null,null,null,null,true]
[null,"Unalaska Parks, Culture and Recreation Center","LOCAL","GOVERNMENT",5,1,null,null,null,null,null,null,true]
[null,"Underwater Adventures","FEDERAL or NATIONAL","INDUSTRY AND BUSINESS",5,4,null,null,null,null,null,null,{"$f":"AND(  NOT(ISERROR(FIND(UPPER($B$7),UPPER($B2766),1))),  OR($D$7=\"\",NOT(ISERROR(FIND(UPPER($D$7),UPPER($B2766),1)))),    OR($D$8=\"\",(ISERROR(FIND(UPPER($D$8),UPPER($B2766),1))))           )","v":true}]
[null,"United Fishermen of Alaska","STATE","NGO",5,2,null,null,null,null,null,null,true]
[null,"Universal Data Solutions","FEDERAL or NATIONAL","INDUSTRY AND BUSINESS",5,4,null,null,null,null,null,null,true]
[null,"Universita di Bologna (Italy)","INTERNATIONAL","ACADEMIC INSTITUTION",5,5,null,null,null,null,null,null,true]
[null,"University of Alabama (UA)","STATE","ACADEMIC INSTITUTION",5,2,null,null,null,null,null,null,true]
[null,"University of Alaska Marine Advisory Program (UA)","STATE","ACADEMIC INSTITUTION",5,2,null,null,null,null,null,null,true]
[null,"University of Birmingham (England)","STATE","ACADEMIC INSTITUTION",5,2,null,null,null,null,null,null,true]
[null,"University of California (UC)","STATE","ACADEMIC INSTITUTION",5,2,null,null,null,null,null,null,true]
[null,"University of California Press (UC)","STATE","INDUSTRY AND BUSINESS",5,2,null,null,null,null,null,null,true]
[null,"University of California, Irvine (UCI)","STATE","ACADEMIC INSTITUTION",5,2,null,null,null,null,null,null,true]
[null,"University of California, Office of the President, California Policy Research Center (UC)","STATE","ACADEMIC INSTITUTION",5,2,null,null,null,null,null,null,true]
[null,"University of California, Santa Barbara (UCSB)","STATE","ACADEMIC INSTITUTION",5,2,null,null,null,null,null,null,true]
[null,"University of Cincinnati (UC)","STATE","ACADEMIC INSTITUTION",5,2,null,null,null,null,null,null,true]
[null,"University of Connecticut, Coastal Environmental Laboratory (UCONN)","STATE","ACADEMIC INSTITUTION",5,2,null,null,null,null,null,null,true]
[null,"University of Connecticut, Department of Ecology and Evolutionary Biology (UCONN)","STATE","ACADEMIC INSTITUTION",5,2,null,null,null,null,null,null,true]
[null,"University of Connecticut, Department of Natural Resources Management and Engineering (UCONN)","STATE","ACADEMIC INSTITUTION",5,2,null,null,null,null,null,null,true]
[null,"University of Connecticut, Non-point Education for Municipal Officials (UCONN NEMO)","FEDERAL or NATIONAL","ACADEMIC INSTITUTION",5,4,null,null,null,null,null,null,true]
[null,"University of Connecticut, University Communications (UCONN)","STATE","ACADEMIC INSTITUTION",5,2,null,null,null,null,null,null,true]
[null,"University of Delaware Center for the Study of Marine Policy (UDEL)","STATE","ACADEMIC INSTITUTION",5,2,null,null,null,null,null,null,true]
[null,"University of Georgia Marine Extension Service (UGA)","STATE","ACADEMIC INSTITUTION",5,2,null,null,null,null,null,null,true]
[null,"University of Georgia, The Dean Rusk Center (UGA) ","FEDERAL or NATIONAL","ACADEMIC INSTITUTION",5,4,null,null,null,null,null,null,{"$f":"AND(  NOT(ISERROR(FIND(UPPER($B$7),UPPER($B2830),1))),  OR($D$7=\"\",NOT(ISERROR(FIND(UPPER($D$7),UPPER($B2830),1)))),    OR($D$8=\"\",(ISERROR(FIND(UPPER($D$8),UPPER($B2830),1))))           )","v":true}]
[null,"University of Hawaii at Hilo, Na Pua No’eau (UHH)","STATE","ACADEMIC INSTITUTION",5,2,null,null,null,null,null,null,true]
[null,"University of Hawaii at Hilo, Pacific Aquaculture and Coastal Resources Center (UHH)","STATE","ACADEMIC INSTITUTION",5,2,null,null,null,null,null,null,true]
[null,"University of Hawaii at Manoa, College of Tropical Agriculture and Human Resources (UHM)","STATE","ACADEMIC INSTITUTION",5,2,null,null,null,null,null,null,true]
[null,"University of Hawaii at Manoa, Department of Geology and Geophysics (UHM)","STATE","ACADEMIC INSTITUTION",5,2,null,null,null,null,null,null,true]
[null,"University of Hawaii at Manoa, Department of Urban and Regional Planning (UHM)","STATE","ACADEMIC INSTITUTION",5,2,null,null,null,null,null,null,true]
[null,"University of Hawaii at Manoa, Hawaii Institute of Marine Biology (UHM)","STATE","ACADEMIC INSTITUTION",5,2,null,null,null,null,null,null,true]
[null,"University of Hawaii at Manoa, Office of the Vice Chancellor of Administration, Finance, and Operations (UHM)","STATE","ACADEMIC INSTITUTION",5,2,null,null,null,null,null,null,true]
[null,"University of Hawaii at Manoa, School of Ocean and Earth Science and Technology (UHM)","STATE","ACADEMIC INSTITUTION",5,2,null,null,null,null,null,null,true]
[null,"University of Hawaii System, Office of Capital Improvements (UH)","STATE","ACADEMIC INSTITUTION",5,2,null,null,null,null,null,null,true]
[null,"University of Idaho","STATE","ACADEMIC INSTITUTION",5,2,null,null,null,null,null,null,true]
[null,"University of Leicester (UK)","INTERNATIONAL","ACADEMIC INSTITUTION",5,5,null,null,null,null,null,null,true]
[null,"University of Louisiana (UL)","STATE","ACADEMIC INSTITUTION",5,2,null,null,null,null,null,null,true]
[null,"University of Maine Cooperative Extension (UMaine)","STATE","ACADEMIC INSTITUTION",5,2,null,null,null,null,null,null,true]
[null,"University of Maryland (UMD)","STATE","ACADEMIC INSTITUTION",5,2,null,null,null,null,null,null,true]
[null,"University of Maryland, Collaborative for Land Use Education (UMD)","STATE","ACADEMIC INSTITUTION",5,2,null,null,null,null,null,null,true]
[null,"University of Minnesota, Duluth, Facilities Management (UMD)","STATE","ACADEMIC INSTITUTION",5,2,null,null,null,null,null,null,true]
[null,"University of Massachusetts, Dartmouth","STATE","ACADEMIC INSTITUTION",5,2,null,null,null,null,null,null,true]
[null,"University of Michigan Department of Naval Architecture and Marine Engineering (UM)","STATE","ACADEMIC INSTITUTION",5,2,null,null,null,null,null,null,true]
[null,"University of Minnesota News Service (UMN)","STATE","ACADEMIC INSTITUTION",5,2,null,null,null,null,null,null,true]
[null,"University of Minnesota, Department of Fisheries, Wildlife, and Conservation Biology (UMN)","STATE","ACADEMIC INSTITUTION",5,2,null,null,null,null,null,null,true]
[null,"University of Minnesota, Invasion Biology Research Consortium (UMN)","STATE","ACADEMIC INSTITUTION",5,2,null,null,null,null,null,null,true]
[null,"University of Mississippi (OLE MISS)","STATE","ACADEMIC INSTITUTION",5,2,null,null,null,null,null,null,true]
[null,"University of New Brunswick (Canada UNB)","INTERNATIONAL","ACADEMIC INSTITUTION",5,5,null,null,null,null,null,null,true]
[null,"University of New Hampshire, Coastal Response Research Center (UNH CRRC)","FEDERAL or NATIONAL","NGO",5,4,null,null,null,null,null,null,true]
[null,"University of North Carolina, Chapel Hill (UNC)","STATE","ACADEMIC INSTITUTION",5,2,null,null,null,null,null,null,true]
[null,"University of North Carolina, Greensboro (UNCG)","STATE","ACADEMIC INSTITUTION",5,2,null,null,null,null,null,null,true]
[null,"University of North Carolina, Wilmington (UNCW)","STATE","ACADEMIC INSTITUTION",5,2,null,null,null,null,null,null,true]
[null,"University of Oklahoma (OU)","STATE","ACADEMIC INSTITUTION",5,2,null,null,null,null,null,null,true]
[null,"University of Pittsburgh (PITT)","STATE","ACADEMIC INSTITUTION",5,2,null,null,null,null,null,null,true]
[null,"University of Rhode Island (URI)","STATE","ACADEMIC INSTITUTION",5,2,null,null,null,null,null,null,true]
[null,"University of Rhode Island, Cooperative Extension Department of Fisheries, Animal and Veterinary Sciences (URI FAVS)","STATE","ACADEMIC INSTITUTION",5,2,null,null,null,null,null,null,true]
[null,"University of San Diego (USD)","STATE","ACADEMIC INSTITUTION",5,2,null,null,null,null,null,null,true]
[null,"University of South Florida (USF)","STATE","ACADEMIC INSTITUTION",5,2,null,null,null,null,null,null,true]
[null,"University of Southern California, School of Engineering (USC)","STATE","ACADEMIC INSTITUTION",5,2,null,null,null,null,null,null,true]
[null,"University of Southern California, School of Pharmacy (USC)","STATE","ACADEMIC INSTITUTION",5,2,null,null,null,null,null,null,true]
[null,"University of Southern Mississippi, Marine and Estuarine Graduate Student Association (USM)","LOCAL","NGO",5,1,null,null,null,null,null,null,true]
[null,"University of Texas (UT)","STATE","ACADEMIC INSTITUTION",5,2,null,null,null,null,null,null,true]
[null,"University of the West Indies, Centre for Resource Management and Environmental Studies ","INTERNATIONAL","ACADEMIC INSTITUTION",5,5,null,null,null,null,null,null,true]
[null,"University of Vermont (UVM)","STATE","ACADEMIC INSTITUTION",5,2,null,null,null,null,null,null,true]
[null,"University of Virgin Islands","STATE","ACADEMIC INSTITUTION",5,2,null,null,null,null,null,null,true]
[null,"University of West Florida (UWF)","STATE","ACADEMIC INSTITUTION",5,2,null,null,null,null,null,null,true]
[null,"University of Windsor","INTERNATIONAL","ACADEMIC INSTITUTION",5,5,null,null,null,null,null,null,true]
[null,"University of Wisconsin, Green Bay Cofrin Biodiversity Center (UW)","STATE","ACADEMIC INSTITUTION",5,2,null,null,null,null,null,null,true]
[null,"University of Wisconsin, Madison Arboretum (UW)","STATE","ACADEMIC INSTITUTION",5,2,null,null,null,null,null,null,true]
[null,"University of Wisconsin, Madison Gaylord Nelson Institute for Environmental Studies (UW)","STATE","ACADEMIC INSTITUTION",5,2,null,null,null,null,null,null,true]
[null,"University of Wisconsin, Milwaukee (UWM)","STATE","ACADEMIC INSTITUTION",5,2,null,null,null,null,null,null,true]
[null,"University of Wisconsin, Milwaukee Geosciences Department (UWM)","STATE","ACADEMIC INSTITUTION",5,2,null,null,null,null,null,null,true]
[null,"University of Wisconsin, Stevens Point (UWSP)","STATE","ACADEMIC INSTITUTION",5,2,null,null,null,null,null,null,true]
[null,"University System of Maryland","STATE","ACADEMIC INSTITUTION",5,2,null,null,null,null,null,null,true]
[null,"Upstate Forever ","FEDERAL or NATIONAL","NGO",5,4,null,null,null,null,null,null,true]
[null,"URS Greiner Woodward Clyde","INTERNATIONAL","INDUSTRY AND BUSINESS",5,5,null,null,null,null,null,null,true]
[null,"US Association of Food and Drug Officials (AFDO)","FEDERAL or NATIONAL","NGO",5,4,null,null,null,null,null,null,true]
[null,"US Centers for Disease Control and Prevention (US HHS, CDC)","FEDERAL or NATIONAL","GOVERNMENT",5,4,null,null,null,null,null,null,true]
[null,"US Coast Guard Auxiliary Flotilla 5-6 (US DHS, USCG)","FEDERAL or NATIONAL","GOVERNMENT",5,4,null,null,null,null,null,null,true]
[null,"US Coast Guard, Charleston (US DHS, USCG)","FEDERAL or NATIONAL","GOVERNMENT",5,4,null,null,null,null,null,null,true]
[null,"US Department of Defense (US DOD)","FEDERAL or NATIONAL","GOVERNMENT",5,4,null,null,null,null,null,null,true]
[null,"US Department of Health and Human Services (US HHS)","FEDERAL or NATIONAL","GOVERNMENT",5,4,null,null,null,null,null,null,true]
[null,"US Department of Interior (US DOI)","FEDERAL or NATIONAL","GOVERNMENT",5,4,null,null,null,null,null,null,true]
[null,"US Department of State ","FEDERAL or NATIONAL","GOVERNMENT",5,4,null,null,null,null,null,null,true]
[null,"US Economic Development Administration (US DOC, EDA)","FEDERAL or NATIONAL","GOVERNMENT",5,4,null,null,null,null,null,null,true]
[null,"US Food and Drug Administration (US HHS, FDA)","FEDERAL or NATIONAL","GOVERNMENT",5,4,null,null,null,null,null,null,true]
[null,"US Lifesaving Association","FEDERAL or NATIONAL","GOVERNMENT",5,4,null,null,null,null,null,null,true]
[null,"US Naval Oceanographic Office (US DOD, NAVY)","FEDERAL or NATIONAL","GOVERNMENT",5,4,null,null,null,null,null,null,true]
[null,"Utah State University Department of Economics","STATE","ACADEMIC INSTITUTION",5,2,null,null,null,null,null,null,true]
[null,"Venango Township","LOCAL","GOVERNMENT",5,1,null,null,null,null,null,null,true]
[null,"Verizon","INTERNATIONAL","INDUSTRY AND BUSINESS",5,5,null,null,null,null,null,null,true]
[null,"Vermilion Community College","STATE","ACADEMIC INSTITUTION",5,2,null,null,null,null,null,null,true]
[null,"Vermillion County Forest Preserve","LOCAL","NGO",5,1,null,null,null,null,null,null,true]
[null,"Vilnius University (Lithuania) ","INTERNATIONAL","ACADEMIC INSTITUTION",5,5,null,null,null,null,null,null,true]
[null,"Virginia Beach Public Schools Culinary Arts Program","STATE","ACADEMIC INSTITUTION",5,2,null,null,null,null,null,null,true]
[null,"Virginia Commonwealth University (VCU)","STATE","ACADEMIC INSTITUTION",5,2,null,null,null,null,null,null,true]
[null,"Virginia Department of Health (VA DOH)","STATE","GOVERNMENT",5,2,null,null,null,null,null,null,true]
[null,"Virginia Marine Resources Commission (VMRC)","STATE","GOVERNMENT",5,2,null,null,null,null,null,null,true]
[null,"Virginia Watermen’s Museum","STATE","INDUSTRY AND BUSINESS",5,2,null,null,null,null,null,null,true]
[null,"VisitDuluth.com","LOCAL","INDUSTRY AND BUSINESS",5,1,null,null,null,null,null,null,true]
[null,"Waikiki Neighborhood Board","LOCAL","OTHER PARTNERS",5,1,null,null,null,null,null,null,true]
[null,"Walter Fisheries","FEDERAL or NATIONAL","INDUSTRY AND BUSINESS",5,4,null,null,null,null,null,null,true]
[null,"Wannabe Shellfish Farm","STATE","INDUSTRY AND BUSINESS",5,2,null,null,null,null,null,null,true]
[null,"Washington College","STATE","ACADEMIC INSTITUTION",5,2,null,null,null,null,null,null,true]
[null,"Washington Department of Agriculture (WA WADA)","STATE","GOVERNMENT",5,2,null,null,null,null,null,null,true]
[null,"Washington State Department of Employment Security","STATE","GOVERNMENT",5,2,null,null,null,null,null,null,true]
[null,"Washington State Department of Fish and Wildlife","STATE","GOVERNMENT",5,2,null,null,null,null,null,null,true]
[null,"Washington State Parks and Recreation Commission ","STATE","GOVERNMENT",5,2,null,null,null,null,null,null,true]
[null,"Washington Fish Growers Association","STATE","INDUSTRY AND BUSINESS",5,2,null,null,null,null,null,null,true]
[null,"Washington State University (WSU)","STATE","ACADEMIC INSTITUTION",5,2,null,null,null,null,null,null,true]
[null,"Water Resources of the United States (US DOI, USGS)","FEDERAL or NATIONAL","GOVERNMENT",5,4,null,null,null,null,null,null,true]
[null,"Wauwatosa Public Schools","LOCAL","OTHER PARTNERS",5,1,null,null,null,null,null,null,true]
[null,"Welder Training Services","FEDERAL or NATIONAL","INDUSTRY AND BUSINESS",5,4,null,null,null,null,null,null,true]
[null,"Wesley College ","STATE","ACADEMIC INSTITUTION",5,2,null,null,null,null,null,null,true]
[null,"Wesleyan University","STATE","ACADEMIC INSTITUTION",5,2,null,null,null,null,null,null,true]
[null,"West Central Bait","FEDERAL or NATIONAL","INDUSTRY AND BUSINESS",5,4,null,null,null,null,null,null,true]
[null,"West Marine","FEDERAL or NATIONAL","INDUSTRY AND BUSINESS",5,4,null,null,null,null,null,null,true]
[null,"Westcott Bay Sea Farms","STATE","INDUSTRY AND BUSINESS",5,2,null,null,null,null,null,null,true]
[null,"Western Connecticut State University (WCSU)","STATE","ACADEMIC INSTITUTION",5,2,null,null,null,null,null,null,true]
[null,"Western Michigan University (WMU)","STATE","ACADEMIC INSTITUTION",5,2,null,null,null,null,null,null,true]
[null,"Western Regional Aquaculture Center (USDA, NIFA, RAC)","FEDERAL or NATIONAL","GOVERNMENT",5,4,null,null,null,null,null,null,true]
[null,"Western Sustainable Agriculture Research and Education Program ","FEDERAL or NATIONAL","GOVERNMENT",5,4,null,null,null,null,null,null,true]
[null,"Western Washington University (WWU)","STATE","ACADEMIC INSTITUTION",5,2,null,null,null,null,null,null,true]
[null,"Westminster College","STATE","ACADEMIC INSTITUTION",5,2,null,null,null,null,null,null,true]
[null,"Whitefish Dunes State Park, Sturgeon Bay","STATE","GOVERNMENT",5,2,null,null,null,null,null,null,true]
[null,"Wilcox Fisheries ","FEDERAL or NATIONAL","INDUSTRY AND BUSINESS",5,4,null,null,null,null,null,null,true]
[null,"Wildcat Creek Watershed Alliance","LOCAL","NGO",5,1,null,null,null,null,null,null,true]
[null,"Wildlife Forever","FEDERAL or NATIONAL","NGO",5,4,null,null,null,null,null,null,true]
[null,"Willamina High School","LOCAL","ACADEMIC INSTITUTION",5,1,null,null,null,null,null,null,true]
[null,"Wilson Environmental Testing Laboratories, Inc.","FEDERAL or NATIONAL","INDUSTRY AND BUSINESS",5,4,null,null,null,null,null,null,true]
[null,"Wilson Oyster Company","STATE","INDUSTRY AND BUSINESS",5,2,null,null,null,null,null,null,true]
[null,"Winkelman Productions, Inc.","FEDERAL or NATIONAL","INDUSTRY AND BUSINESS",5,4,null,null,null,null,null,null,true]
[null,"Wisconsin Aquaculture Association","STATE","INDUSTRY AND BUSINESS",5,2,null,null,null,null,null,null,true]
[null,"Wisconsin Department of Administration, Coastal Management Program","STATE","GOVERNMENT",5,2,null,null,null,null,null,null,true]
[null,"Wisconsin Department of Natural Resources, Ashland Office (WI DNR)","STATE","GOVERNMENT",5,2,null,null,null,null,null,null,true]
[null,"Wisconsin Harbor Towns Association","STATE","NGO",5,2,null,null,null,null,null,null,true]
[null,"Wisconsin State Cartographer’s Office","STATE","ACADEMIC INSTITUTION",5,2,null,null,null,null,null,null,true]
[null,"Wizard Works","FEDERAL or NATIONAL","INDUSTRY AND BUSINESS",5,4,null,null,null,null,null,null,true]
[null,"Wolf Lake Initiative","FEDERAL or NATIONAL","NGO",5,4,null,null,null,null,null,null,true]
[null,"Woonasquatucket","LOCAL","OTHER PARTNERS",5,1,null,null,null,null,null,null,true]
[null,"World Conservation Union","INTERNATIONAL","NGO",5,5,null,null,null,null,null,null,true]
[null,"Wrangell Insurance Center","FEDERAL or NATIONAL","INDUSTRY AND BUSINESS",5,4,null,null,null,null,null,null,true]
[null,"Wrightsville Beach Chamber of Commerce","LOCAL","INDUSTRY AND BUSINESS",5,1,null,null,null,null,null,null,true]
[null,"Yankee Fisherman’s Cooperative","REGIONAL","INDUSTRY AND BUSINESS",5,3,null,null,null,null,null,null,true]
[null,"Yukon River Drainage Fisheries Association","LOCAL","NGO",5,1,null,null,null,null,null,null,true]
[null,"California Sea Grant","STATE","SEA GRANT PROGRAMS",5,2,null,null,null,null,null,null,true]
[null,"Connecticut Sea Grant","STATE","SEA GRANT PROGRAMS",5,2,null,null,null,null,null,null,true]
[null,"Hawaii Sea Grant","STATE","SEA GRANT PROGRAMS",5,2,null,null,null,null,null,null,true]
[null,"Maryland Sea Grant","STATE","SEA GRANT PROGRAMS",5,2,null,null,null,null,null,null,true]
[null,"Minnesota Sea Grant","STATE","SEA GRANT PROGRAMS",5,2,null,null,null,null,null,null,true]
[null,"New Jersey Sea Grant","STATE","SEA GRANT PROGRAMS",5,2,null,null,null,null,null,null,true]
[null,"Oregon Sea Grant","STATE","SEA GRANT PROGRAMS",5,2,null,null,null,null,null,null,true]
[null,"Rhode Island Sea Grant","STATE","SEA GRANT PROGRAMS",5,2,null,null,null,null,null,null,true]
[null,"Virginia Sea Grant","STATE","SEA GRANT PROGRAMS",5,2,null,null,null,null,null,null,true]
[null,"Washington Sea Grant","STATE","SEA GRANT PROGRAMS",5,2,null,null,null,null,null,null,true]
[null,"National Sea Grant College Program (US DOC, NOAA, OAR, NSGCP)","REGIONAL","SEA GRANT PROGRAMS",5,3,null,null,null,null,null,null,true]
[null,"Animal and Plant Health Inspection Service (APHIS)","LOCAL","ACADEMIC INSTITUTION",5,1,null,null,null,null,null,null,true]
[null,"California and Nevada Applications Program (CNAP)","INTERNATIONAL","INDUSTRY AND BUSINESS",5,5,null,null,null,null,null,null,true]
[null,"California Department of Public Health (CDPH)","STATE","NGO",5,2,null,null,null,null,null,null,true]
[null,"County of Del Norte, CA","STATE","GOVERNMENT",5,2,null,null,null,null,null,null,true]
[null,"San Francisco Bay Conservation & Development Commission (SFBCDC)","REGIONAL","GOVERNMENT",5,3,null,null,null,null,null,null,true]
[null,"Santa Cruz County Parks & Recreation Department (SCPRD)","REGIONAL","GOVERNMENT",5,3,null,null,null,null,null,null,true]
[null,"Southern California Coastal Ocean Observing System (SCCOOS)","REGIONAL","INDUSTRY AND BUSINESS",5,3,null,null,null,null,null,null,true]
[null,"University of California, Davis. Department of Wildlife, Fish & Conservation Biology (UCDavis, WFCB)","FEDERAL or NATIONAL","INDUSTRY AND BUSINESS",5,4,null,null,null,null,null,null,true]
[null,"Adventures by the Sea, Monterey, CA","REGIONAL","GOVERNMENT",5,3,null,null,null,null,null,null,true]
[null,"Caito Fisheries (CF)","REGIONAL","NGO",5,3,null,null,null,null,null,null,{"$f":"AND(  NOT(ISERROR(FIND(UPPER($B$7),UPPER($B3278),1))),  OR($D$7=\"\",NOT(ISERROR(FIND(UPPER($D$7),UPPER($B3278),1)))),    OR($D$8=\"\",(ISERROR(FIND(UPPER($D$8),UPPER($B3278),1))))           )","v":true}]
[null,"California Waterfowl Association (CWA)","STATE","NGO",5,2,null,null,null,null,null,null,true]
[null,"Cascadia Geosciences (CG)","STATE","GOVERNMENT",5,2,null,null,null,null,null,null,true]
[null,"Channel Islands Dive Club (CIDC)","STATE","GOVERNMENT",5,2,null,null,null,null,null,null,true]
[null,"Chesapeake Fish Company (CFC)","REGIONAL","GOVERNMENT",5,3,null,null,null,null,null,null,true]
[null,"Chicken of the Sea® (CS)","REGIONAL","INDUSTRY AND BUSINESS",5,3,null,null,null,null,null,null,true]
[null,"Commercial Fishermen of Santa Barbara (CFSB)","REGIONAL","GOVERNMENT",5,3,null,null,null,null,null,null,true]
[null,"Del Norte Fishermen’s Marketing Association (DNFMA)","STATE","GOVERNMENT",5,2,null,null,null,null,null,null,true]
[null,"Elkhorn Slough Safaris (ESS)","REGIONAL","GOVERNMENT",5,3,null,null,null,null,null,null,true]
[null,"Food for Thought® (sustainable food)","STATE","GOVERNMENT",5,2,null,null,null,null,null,null,true]
[null,"Half Moon Anchorage (HMA)","STATE","GOVERNMENT",5,2,null,null,null,null,null,null,true]
[null,"Impact Assessment, Inc. (IA)","STATE","GOVERNMENT",5,2,null,null,null,null,null,null,true]
[null,"Jacoby Creek Land Trust (JCLT)","STATE","GOVERNMENT",5,2,null,null,null,null,null,null,true]
[null,"Kona Kai Marina (KKM)","STATE","GOVERNMENT",5,2,null,null,null,null,null,null,true]
[null,"Lake Piru (LP)","Unknown2","GOVERNMENT",5,6,null,null,null,null,null,null,true]
[null,"McBain and Trush (MBT)","STATE","GOVERNMENT",5,2,null,null,null,null,null,null,true]
[null,"Noyo Women for Fisheries (NWF)","STATE","GOVERNMENT",5,2,null,null,null,null,null,null,true]
[null,"Pacific Aqua Farm (PAF)","STATE","NGO",5,2,null,null,null,null,null,null,true]
[null,"Pacific Watershed Associates (PWA)","STATE","NGO",5,2,null,null,null,null,null,null,true]
[null,"Pier 45 Seafood (PS)","REGIONAL","GOVERNMENT",5,3,null,null,null,null,null,null,true]
[null,"PlanWest Partners (PWP)","STATE","GOVERNMENT",5,2,null,null,null,null,null,null,true]
[null,"Pucci Seafood (PS)","REGIONAL","GOVERNMENT",5,3,null,null,null,null,null,null,true]
[null,"Salmon Trollers Marketing Association (STMA)","STATE","NGO",5,2,null,null,null,null,null,null,true]
[null,"Santa Barbara Harbor (SBH)","STATE","GOVERNMENT",5,2,null,null,null,null,null,null,true]
[null,"Santa Barbara Sea Center (SBSC)","STATE","GOVERNMENT",5,2,null,null,null,null,null,null,true]
[null,"Science, Education, Adventure Lab, Monterey Bay (S.E.A.)","STATE","GOVERNMENT",5,2,null,null,null,null,null,null,true]
[null,"Seafood Products Association, Seattle, WA (SPA)","STATE","GOVERNMENT",5,2,null,null,null,null,null,null,true]
[null,"Southern California Fishermen’s Association (SCFA)","STATE","GOVERNMENT",5,2,null,null,null,null,null,null,true]
[null,"Southwest Yacht Club (SYC)","STATE","GOVERNMENT",5,2,null,null,null,null,null,null,true]
[null,"Susanne Moser Research and Consulting (SMRC)","FEDERAL or NATIONAL","GOVERNMENT",5,4,null,null,null,null,null,null,true]
[null,"The David and Lucille Packard Foundation (DLPF)","INTERNATIONAL","NGO",5,5,null,null,null,null,null,null,true]
[null,"Trinidad Fishermen’s Marketing Association (TFMA)","REGIONAL","GOVERNMENT",5,3,null,null,null,null,null,null,true]
[null,"United Anglers (UA)","STATE","INDUSTRY AND BUSINESS",5,2,null,null,null,null,null,null,true]
[null,"Vandenberg AFB Aqualliers","STATE","GOVERNMENT",5,2,null,null,null,null,null,null,true]
[null,"White Sturgeon Broodstock Development Program (WSBDP)","STATE","GOVERNMENT",5,2,null,null,null,null,null,null,true]
[null,"Wiyot Tribe","Tribal","GOVERNMENT",5,13,null,null,null,null,null,null,true]
[null,"Inter-American Tropical Tuna Commission (IATTC)","LOCAL","SEA GRANT PROGRAMS",5,1,null,null,null,null,null,null,true]
[null,"National Food Institute, Denmark (NFI)","Unknown2","SEA GRANT PROGRAMS",5,6,null,null,null,null,null,null,true]
[null,"Shanghai Ocean University, China (SOU)","FEDERAL or NATIONAL","SEA GRANT PROGRAMS",5,4,null,null,null,null,null,null,true]
[null,"Año Nuevo State Park and Reserve","STATE","GOVERNMENT",5,2,null,null,null,null,null,null,true]
[null,"Big Creek Lumber Co.","LOCAL","INDUSTRY AND BUSINESS",5,1,null,null,null,null,null,null,true]
[null,"California State University, Channel Islands (CSU)","STATE","ACADEMIC INSTITUTION",5,2,null,null,null,null,null,null,true]
[null,"Marine Technology Society","REGIONAL","NGO",5,3,null,null,null,null,null,null,true]
[null,"Monterey Harbor District","LOCAL","GOVERNMENT",5,1,null,null,null,null,null,null,true]
[null,"Regional Mark Processing Center","LOCAL","GOVERNMENT",5,1,null,null,null,null,null,null,true]
[null,"R/V Jaeger","LOCAL","OTHER PARTNERS",5,1,null,null,null,null,null,null,true]
[null,"San Diego Mesa College (SDMC)","STATE","ACADEMIC INSTITUTION",5,2,null,null,null,null,null,null,true]
[null,"Universidad Autonoma de Baja California","STATE","ACADEMIC INSTITUTION",5,2,null,null,null,null,null,null,true]
[null,"WildCoast","FEDERAL or NATIONAL","NGO",5,4,null,null,null,null,null,null,true]
[null,"American Cancer Research Center And Hospital, Denver","Unknown","Unknown",5,0,null,null,null,null,null,null,true]
[null,"American Institute Of Biological Sciences","Unknown","Unknown",5,0,null,null,null,null,null,null,true]
[null,"Bellingham Vocational Technical Institute","Unknown","Unknown",5,0,null,null,null,null,null,null,true]
[null,"Bioaquatics International","Unknown","Unknown",5,0,null,null,null,null,null,null,true]
[null,"Brandeis University, Waltham, Massachusetts","Unknown","Unknown",5,0,null,null,null,null,null,null,true]
[null,"Clarkson College Of Technology","Unknown","Unknown",5,0,null,null,null,null,null,null,true]
[null,"Compact Membrane Systems","Unknown","Unknown",5,0,null,null,null,null,null,null,true]
[null,"Division Of State Lands","Unknown","Unknown",5,0,null,null,null,null,null,null,true]
[null,"Eastern Washington University","Unknown","Unknown",5,0,null,null,null,null,null,null,true]
[null,"Fairleigh Dickinson University West Indies Laboratory","Unknown","Unknown",5,0,null,null,null,null,null,null,true]
[null,"Farallon Institute Advanced Ecosystem Research","REGIONAL","Unknown",5,3,null,null,null,null,null,null,true]
[null,"Freshwater Foundation","Unknown","Unknown",5,0,null,null,null,null,null,null,true]
[null,"Gulf Coast Research Laboratory","Unknown","Unknown",5,0,null,null,null,null,null,null,{"$f":"AND(  NOT(ISERROR(FIND(UPPER($B$7),UPPER($B3470),1))),  OR($D$7=\"\",NOT(ISERROR(FIND(UPPER($D$7),UPPER($B3470),1)))),    OR($D$8=\"\",(ISERROR(FIND(UPPER($D$8),UPPER($B3470),1))))           )","v":true}]
[null,"Humacao University College","Unknown","Unknown",5,0,null,null,null,null,null,null,true]
[null,"Island Resources Foundation","Unknown","Unknown",5,0,null,null,null,null,null,null,true]
[null,"Laque Center For Corrosion Technology, Inc., Wrightsville","Unknown","Unknown",5,0,null,null,null,null,null,null,true]
[null,"Louisiana State University, Medical School (LSU)","Unknown","Unknown",5,0,null,null,null,null,null,null,true]
[null,"Marquette University","Unknown","Unknown",5,0,null,null,null,null,null,null,true]
[null,"Matawan-Aberdeen Regional School District","Unknown","Unknown",5,0,null,null,null,null,null,null,true]
[null,"Medical College Of Ohio","Unknown","Unknown",5,0,null,null,null,null,null,null,true]
[null,"Metropolitan Consortium For Minorities In Engineering, Inc.","Unknown","Unknown",5,0,null,null,null,null,null,null,true]
[null,"Morehouse School Of Medicine","Unknown","Unknown",5,0,null,null,null,null,null,null,true]
[null,"National Association For Equal Opportunity In Higher","Unknown","Unknown",5,0,null,null,null,null,null,null,true]
[null,"National Marine Fisheries Service, Texas (US DOC, NOAA, NMFS)","Unknown","Unknown",5,0,null,null,null,null,null,null,true]
[null,"National Sea Grant Depository","Unknown","SEA GRANT PROGRAMS",5,0,null,null,null,null,null,null,true]
[null,"New York Zoological Society","Unknown","Unknown",5,0,null,null,null,null,null,null,true]
[null,"Norfolk State University, Norfolk","Unknown","Unknown",5,0,null,null,null,null,null,null,true]
[null,"Northern Southeast Regional Aquaculture Association","Unknown","Unknown",5,0,null,null,null,null,null,null,true]
[null,"Ohio Foundation For The Arts","Unknown","Unknown",5,0,null,null,null,null,null,null,true]
[null,"Point Loma Nazarene University","Unknown","Unknown",5,0,null,null,null,null,null,null,true]
[null,"Rider College","Unknown","Unknown",5,0,null,null,null,null,null,null,true]
[null,"Shoreline Community College","Unknown","Unknown",5,0,null,null,null,null,null,null,true]
[null,"Society Of Naval Architects","Unknown","Unknown",5,0,null,null,null,null,null,null,true]
[null,"Southern Illinois University, Carbondale","Unknown","Unknown",5,0,null,null,null,null,null,null,true]
[null,"Southern Maine Vocational Technical Institute","Unknown","Unknown",5,0,null,null,null,null,null,null,true]
[null,"St. Norbert's College, Deperem WI","LOCAL","ACADEMIC INSTITUTION",5,1,null,null,null,null,null,null,true]
[null,"State University of New York, Potsdam (SUNY)","Unknown","Unknown",5,0,null,null,null,null,null,null,true]
[null,"Talladega College","Unknown","Unknown",5,0,null,null,null,null,null,null,true]
[null,"Tufts University","Unknown","Unknown",5,0,null,null,null,null,null,null,true]
[null,"University Of Colorado, Boulder (UC)","Unknown","Unknown",5,0,null,null,null,null,null,null,true]
[null,"University Of Guam Marine Laboratory (UG)","Unknown","Unknown",5,0,null,null,null,null,null,null,true]
[null,"University Of Houston, Clear Lake (UH)","Unknown","Unknown",5,0,null,null,null,null,null,null,true]
[null,"University Of Massachusetts At Amherst (Umass)","Unknown","Unknown",5,0,null,null,null,null,null,null,true]
[null,"University Of Minnesota (UMN)","Unknown","Unknown",5,0,null,null,null,null,null,null,true]
[null,"University Of Minnesota, Twin Cities (UMN)","Unknown","Unknown",5,0,null,null,null,null,null,null,true]
[null,"University Of Nebraska At Lincoln (UN)","Unknown","Unknown",5,0,null,null,null,null,null,null,true]
[null,"University Of Oklahoma, Norman","Unknown","Unknown",5,0,null,null,null,null,null,null,true]
[null,"University Of The Pacific","STATE","ACADEMIC INSTITUTION",5,2,null,null,null,null,null,null,true]
[null,"University Of Wisconsin, Center Manitowoc County (UW)","Unknown","Unknown",5,0,null,null,null,null,null,null,true]
[null,"University Of Wisconsin, Marinette  (UW)","Unknown","Unknown",5,0,null,null,null,null,null,null,true]
[null,"University Of Wisconsin, Parkside  (UW)","Unknown","Unknown",5,0,null,null,null,null,null,null,true]
[null,"University Of Massachusetts At Lowell (Umass)","Unknown","Unknown",5,0,null,null,null,null,null,null,true]
[null,"University Of St. Thomas","Unknown","Unknown",5,0,null,null,null,null,null,null,{"$f":"AND(  NOT(ISERROR(FIND(UPPER($B$7),UPPER($B3598),1))),  OR($D$7=\"\",NOT(ISERROR(FIND(UPPER($D$7),UPPER($B3598),1)))),    OR($D$8=\"\",(ISERROR(FIND(UPPER($D$8),UPPER($B3598),1))))           )","v":true}]
[null,"Virginia State University, Petersburg","Unknown","Unknown",5,0,null,null,null,null,null,null,true]
[null,"Westmaster College","Unknown","Unknown",5,0,null,null,null,null,null,null,true]
[null,"Year Of The Ocean - Foundation Center","Unknown","Unknown",5,0,null,null,null,null,null,null,true]
[null,"Abbey Marina, Lake Geneva, Wis.","STATE","INDUSTRY AND BUSINESS",5,2,null,null,null,null,null,null,true]
[null,"Aquafauna Bio-Marine, Inc. Hawthorne, Ca.","STATE","INDUSTRY AND BUSINESS",5,2,null,null,null,null,null,null,true]
[null,"Bemidji State University","STATE","ACADEMIC INSTITUTION",5,2,null,null,null,null,null,null,true]
[null,"City of Au Train, Mich.","LOCAL","GOVERNMENT",5,1,null,null,null,null,null,null,true]
[null,"City of Green Bay, WI","LOCAL","GOVERNMENT",5,1,null,null,null,null,null,null,true]
[null,"City of Milwaukee, WI","LOCAL","GOVERNMENT",5,1,null,null,null,null,null,null,true]
[null,"City of Sheboygan, WI","LOCAL","GOVERNMENT",5,1,null,null,null,null,null,null,true]
[null,"Door County, WI","LOCAL","GOVERNMENT",5,1,null,null,null,null,null,null,true]
[null,"Eden Gardens, Living Waters, Muskegon Heights, Mich.","LOCAL","INDUSTRY AND BUSINESS",5,1,null,null,null,null,null,null,true]
[null,"Green Bay Metropolitan Sewerage District, Wis.","LOCAL","GOVERNMENT",5,1,null,null,null,null,null,null,true]
[null,"Ho-Chunk Nation","FEDERAL or NATIONAL","GOVERNMENT",5,4,null,null,null,null,null,null,true]
[null,"International Coastal Atlas Network","INTERNATIONAL","NGO",5,5,null,null,null,null,null,null,true]
[null,"Lakeshore Towers Marina, Racine, Wis.","STATE","INDUSTRY AND BUSINESS",5,2,null,null,null,null,null,null,true]
[null,"Manitowoc Maritime Museum","LOCAL","GOVERNMENT",5,1,null,null,null,null,null,null,true]
[null,"Miller Brewing Co., Milwaukee","INTERNATIONAL","INDUSTRY AND BUSINESS",5,5,null,null,null,null,null,null,true]
[null,"Northeast Wisconsin Stormwater Consortium","REGIONAL","NGO",5,3,null,null,null,null,null,null,true]
[null,"Outagamie Museum, Appleton, WI","LOCAL","GOVERNMENT",5,1,null,null,null,null,null,null,true]
[null,"Pikes Bay Marina, Bayfield, Wis.","STATE","INDUSTRY AND BUSINESS",5,2,null,null,null,null,null,null,true]
[null,"Science, Corvallis, Ore.","REGIONAL","INDUSTRY AND BUSINESS",5,3,null,null,null,null,null,null,true]
[null,"Southport Marina, Kenosha, Wis.","STATE","INDUSTRY AND BUSINESS",5,2,null,null,null,null,null,null,true]
[null,"Sweet Water Organics, Milwaukee","STATE","INDUSTRY AND BUSINESS",5,2,null,null,null,null,null,null,true]
[null,"Wauwatosa Recreational Department, Wis.","LOCAL","GOVERNMENT",5,1,null,null,null,null,null,null,true]
[null,"Wisconsin Department of Tourism ","STATE","GOVERNMENT",5,2,null,null,null,null,null,null,true]
[null,"Wisconsin Marina Association","STATE","GOVERNMENT",5,2,null,null,null,null,null,null,true]
[null,"University of California, San Diego School of Medicine (UCSD)","STATE","ACADEMIC INSTITUTION",5,2,null,null,null,null,null,null,true]
[null,"Waddell Creek State Park","STATE","GOVERNMENT",5,2,null,null,null,null,null,null,true]
[null,"Nordby Biological Consulting","STATE","INDUSTRY AND BUSINESS",5,2,null,null,null,null,null,null,true]
[null,"Central Coast Long-term Environmental Assessment Network (CCLEAN)","REGIONAL","NGO",5,3,null,null,null,null,null,null,true]
[null,"US Economic Development Agency (US DOC, EDA)","FEDERAL or NATIONAL","GOVERNMENT",5,4,null,null,null,null,null,null,true]
[null,"Bangor Area Stormwater Group","REGIONAL","NGO",5,3,null,null,null,null,null,null,true]
[null,"Maine Department of Marine Fisheries (ME DMF)","STATE","GOVERNMENT",5,2,null,null,null,null,null,null,true]
[null,"Northeast States and Caribbean Islands Regional Water Program (USDA, NESCI)","REGIONAL","NGO",5,3,null,null,null,null,null,null,true]
[null,"Town of Durham, NH","LOCAL","GOVERNMENT",5,1,null,null,null,null,null,null,true]
[null,"Town of Exeter, NH","LOCAL","GOVERNMENT",5,1,null,null,null,null,null,null,true]
[null,"New Hampshire Division of Forests and Lands (NH DFL)","LOCAL","GOVERNMENT",5,1,null,null,null,null,null,null,true]
[null,"City of Portsmouth, NH","LOCAL","GOVERNMENT",5,1,null,null,null,null,null,null,true]
[null,"Seacoast Stormwater Coalition","LOCAL","NGO",5,1,null,null,null,null,null,null,true]
[null,"Southern N.H. Regional Planning","LOCAL","GOVERNMENT",5,1,null,null,null,null,null,null,true]
[null,"New England Ocean Sciences Education Collaborative (NEOSEC)","STATE","NGO",5,2,null,null,null,null,null,null,true]
[null,"Penobscot East Resource Center","STATE","NGO",5,2,null,null,null,null,null,null,true]
[null,"Seacoast Eat Local","STATE","NGO",5,2,null,null,null,null,null,null,true]
[null,"Chef's Collaborative","STATE","INDUSTRY AND BUSINESS",5,2,null,null,null,null,null,null,true]
[null,"Fishermen's Voice","STATE","INDUSTRY AND BUSINESS",5,2,null,null,null,null,null,null,true]
[null,"University of New Hampshire, Cooperative Extension (UNH)","STATE","ACADEMIC INSTITUTION",5,2,null,null,null,null,null,null,true]
[null,"University of New Hampshire, Office of Sustainability (UNH)","STATE","ACADEMIC INSTITUTION",5,2,null,null,null,null,null,null,true]
[null,"Vermont Law School","STATE","ACADEMIC INSTITUTION",5,2,null,null,null,null,null,null,true]
[null,"Carlsbad Aquafarm","STATE","INDUSTRY AND BUSINESS",5,2,null,null,null,null,null,null,true]
[null,"Kutztown University","STATE","ACADEMIC INSTITUTION",5,2,null,null,null,null,null,null,true]
[null,"Ohio Northern University","STATE","ACADEMIC INSTITUTION",5,2,null,null,null,null,null,null,true]
[null,"Elizabeth City State University","STATE","ACADEMIC INSTITUTION",5,2,null,null,null,null,null,null,true]
[null,"North Carolina State Seafood Laboratory","STATE","ACADEMIC INSTITUTION",5,2,null,null,null,null,null,null,true]
[null,"University of North Carolina Asheville","STATE","ACADEMIC INSTITUTION",5,2,null,null,null,null,null,null,true]
[null,"University of North Carolina System","STATE","ACADEMIC INSTITUTION",5,2,null,null,null,null,null,null,true]
[null,"University of Maryland, Horn Point","STATE","ACADEMIC INSTITUTION",5,2,null,null,null,null,null,null,true]
[null,"Research Triangle Park Laboratory (US EPA)","STATE","GOVERNMENT",5,2,null,null,null,null,null,null,true]
[null,"Monitor National Marine Sanctuary (US DOC, NOAA, NOS, ONMS)","STATE","GOVERNMENT",5,2,null,null,null,null,null,null,true]
[null,"National Centers for Coastal Ocean Science (US DOC, NOAA, NOS, NCCOS)","STATE","GOVERNMENT",5,2,null,null,null,null,null,null,true]
[null,"National Hurricane Center (US DOC, NOAA, NWS, NHC)","STATE","GOVERNMENT",5,2,null,null,null,null,null,null,true]
[null,"National Marine Fisheries Service, Beaufort  (US DOC, NOAA, NMFS)","STATE","GOVERNMENT",5,2,null,null,null,null,null,null,true]
[null,"National Weather Service, Raleigh, NC (US DOC, NOAA, NWS)","STATE","GOVERNMENT",5,2,null,null,null,null,null,null,true]
[null,"National Weather Service, Newport, NC (US DOC, NOAA, NWS)","STATE","GOVERNMENT",5,2,null,null,null,null,null,null,true]
[null,"Atlantic Seafood Company","STATE","INDUSTRY AND BUSINESS",5,2,null,null,null,null,null,null,true]
[null,"Baker Crab Company","STATE","INDUSTRY AND BUSINESS",5,2,null,null,null,null,null,null,true]
[null,"Blackburn Brothers Seafood Company","STATE","INDUSTRY AND BUSINESS",5,2,null,null,null,null,null,null,true]
[null,"Blue Ocean Farms","STATE","INDUSTRY AND BUSINESS",5,2,null,null,null,null,null,null,true]
[null,"Carolina Seafood Ventures","STATE","INDUSTRY AND BUSINESS",5,2,null,null,null,null,null,null,true]
[null,"Craven County Health Department","STATE","INDUSTRY AND BUSINESS",5,2,null,null,null,null,null,null,true]
[null,"Engelhard Seafood","STATE","INDUSTRY AND BUSINESS",5,2,null,null,null,null,null,null,true]
[null,"Food Lion, LLC","STATE","INDUSTRY AND BUSINESS",5,2,null,null,null,null,null,null,true]
[null,"Germantown Crab Company","STATE","INDUSTRY AND BUSINESS",5,2,null,null,null,null,null,null,true]
[null,"Hanover Fisheries","STATE","INDUSTRY AND BUSINESS",5,2,null,null,null,null,null,null,true]
[null,"Inland Seafood Company","STATE","INDUSTRY AND BUSINESS",5,2,null,null,null,null,null,null,true]
[null,"Inland Shrimp Company","STATE","INDUSTRY AND BUSINESS",5,2,null,null,null,null,null,null,true]
[null,"Keo Fish Farms","STATE","INDUSTRY AND BUSINESS",5,2,null,null,null,null,null,null,true]
[null,"Locals Seafood","STATE","INDUSTRY AND BUSINESS",5,2,null,null,null,null,null,null,true]
[null,"Mark of Quality","STATE","INDUSTRY AND BUSINESS",5,2,null,null,null,null,null,null,true]
[null,"Norman Seafood","STATE","INDUSTRY AND BUSINESS",5,2,null,null,null,null,null,null,true]
[null,"North Carolina Watermen United","STATE","INDUSTRY AND BUSINESS",5,2,null,null,null,null,null,null,true]
[null,"Portside Marina","STATE","INDUSTRY AND BUSINESS",5,2,null,null,null,null,null,null,true]
[null,"Public Radio East","STATE","INDUSTRY AND BUSINESS",5,2,null,null,null,null,null,null,true]
[null,"Pungo Fisheries","STATE","INDUSTRY AND BUSINESS",5,2,null,null,null,null,null,null,true]
[null,"Red Barn Fish House","STATE","INDUSTRY AND BUSINESS",5,2,null,null,null,null,null,null,true]
[null,"The Seafood Center","STATE","INDUSTRY AND BUSINESS",5,2,null,null,null,null,null,null,true]
[null,"T.B. Smith Seafood","STATE","INDUSTRY AND BUSINESS",5,2,null,null,null,null,null,null,true]
[null,"South Point Seafood","STATE","INDUSTRY AND BUSINESS",5,2,null,null,null,null,null,null,true]
[null,"Sunburst Mountain Trout Company","STATE","INDUSTRY AND BUSINESS",5,2,null,null,null,null,null,null,true]
[null,"Tripp’s Seafood","STATE","INDUSTRY AND BUSINESS",5,2,null,null,null,null,null,null,true]
[null,"Washington Crab Company","STATE","INDUSTRY AND BUSINESS",5,2,null,null,null,null,null,null,true]
[null,"Williams Seafood","STATE","INDUSTRY AND BUSINESS",5,2,null,null,null,null,null,null,true]
[null,"Brunswick Catch","LOCAL","Unknown",5,1,null,null,null,null,null,null,true]
[null,"Dare County, NC","LOCAL","Unknown",5,1,null,null,null,null,null,null,true]
[null,"Freshness from N.C. Waters","STATE","Unknown",5,2,null,null,null,null,null,null,true]
[null,"Museum of the Albemarle, Elizabeth City","LOCAL","Unknown",5,1,null,null,null,null,null,null,true]
[null,"North Carolina Center for the Advancement of Teaching","STATE","INDUSTRY AND BUSINESS",5,2,null,null,null,null,null,null,true]
[null,"North Carolina Department of Agriculture and Consumer Services, Seafood Marketing Division","STATE","INDUSTRY AND BUSINESS",5,2,null,null,null,null,null,null,true]
[null,"North Carolina Eastern Region","STATE","INDUSTRY AND BUSINESS",5,2,null,null,null,null,null,null,true]
[null,"North Carolina Floodplain Mapping Program","STATE","INDUSTRY AND BUSINESS",5,2,null,null,null,null,null,null,true]
[null,"North Carolina Museum of History","STATE","INDUSTRY AND BUSINESS",5,2,null,null,null,null,null,null,{"$f":"AND(  NOT(ISERROR(FIND(UPPER($B$7),UPPER($B3918),1))),  OR($D$7=\"\",NOT(ISERROR(FIND(UPPER($D$7),UPPER($B3918),1)))),    OR($D$8=\"\",(ISERROR(FIND(UPPER($D$8),UPPER($B3918),1))))           )","v":true}]
[null,"North Carolina Real Estate Commission","STATE","INDUSTRY AND BUSINESS",5,2,null,null,null,null,null,null,true]
[null,"North Carolina State Parks","STATE","INDUSTRY AND BUSINESS",5,2,null,null,null,null,null,null,true]
[null,"North Carolina Underwater Archaeology Branch","STATE","INDUSTRY AND BUSINESS",5,2,null,null,null,null,null,null,true]
[null,"Onslow County, N.C.","Unknown","ACADEMIC INSTITUTION",5,0,null,null,null,null,null,null,true]
[null,"Plymouth, N.C.","LOCAL","Unknown",5,1,null,null,null,null,null,null,true]
[null,"Wrightsville Beach Ocean Rescue","LOCAL","Unknown",5,1,null,null,null,null,null,null,true]
[null,"American Shore and Beach Preservation Association","REGIONAL","NGO",5,3,null,null,null,null,null,null,true]
[null,"Audubon North Carolina","Unknown","NGO",5,0,null,null,null,null,null,null,true]
[null,"Hatteras Connection","LOCAL","NGO",5,1,null,null,null,null,null,null,true]
[null,"North Carolina Homebuilders Association","STATE","NGO",5,2,null,null,null,null,null,null,true]
[null,"North Carolina Seafood Festival","STATE","NGO",5,2,null,null,null,null,null,null,true]
[null,"Science Communicators of North Carolina","STATE","NGO",5,2,null,null,null,null,null,null,true]
[null,"Centers for Ocean Sciences Education Excellence, Southeast (COSEE)","REGIONAL","INDUSTRY AND BUSINESS",5,3,null,null,null,null,null,null,true]
[null,"South Carolina Sea Grant Consortium","STATE","SEA GRANT PROGRAMS",5,2,null,null,null,null,null,null,true]
[null,"South Atlantic Sea Grant region","STATE","SEA GRANT PROGRAMS",5,2,null,null,null,null,null,null,true]
[null,"Savour Kilkenny, Ireland","INTERNATIONAL","Unknown",5,5,null,null,null,null,null,null,true]
[null,"Sapelo Seafarms ","Unknown","INDUSTRY AND BUSINESS",5,0,null,null,null,null,null,null,true]
[null,"Georgia Coastal LTER ","STATE","Unknown",5,2,null,null,null,null,null,null,true]
[null,"Ocean Approved","Unknown","Unknown",5,0,null,null,null,null,null,null,true]
[null,"Bay-Watershed Education and Training Program, Office of Education (US DOC, NOAA, B-WET)","FEDERAL or NATIONAL","GOVERNMENT",5,4,null,null,null,null,null,null,{"$f":"AND(  NOT(ISERROR(FIND(UPPER($B$7),UPPER($B3982),1))),  OR($D$7=\"\",NOT(ISERROR(FIND(UPPER($D$7),UPPER($B3982),1)))),    OR($D$8=\"\",(ISERROR(FIND(UPPER($D$8),UPPER($B3982),1))))           )","v":true}]
[null,"Emergency Response Division, Office of Response and Restoration (US DOC, NOAA, NOS, ORR)","FEDERAL or NATIONAL","GOVERNMENT",5,4,null,null,null,null,null,null,true]
[null,"Fisheries Ecology Division, Southeast Fisheries Science Center (US DOC, NOAA, NMFS, SEFSC)","FEDERAL or NATIONAL","GOVERNMENT",5,4,null,null,null,null,null,null,true]
[null,"Hoh Indian Tribe","Tribal","GOVERNMENT",5,13,null,null,null,null,null,null,true]
[null,"Natural Resource Restoration Division, Office of Response and Restoration (US DOC, NOAA, NOS, ORR)","FEDERAL or NATIONAL","GOVERNMENT",5,4,null,null,null,null,null,null,true]
[null,"Nooksack Tribe","Tribal","GOVERNMENT",5,13,null,null,null,null,null,null,true]
[null,"Pacific Hydrographic Branch, Hydrographic Surveys Division, Office of Coast Survey (US DOC, NOAA, NOS)","FEDERAL or NATIONAL","GOVERNMENT",5,4,null,null,null,null,null,null,true]
[null,"West Coast Center for Oceans and Human Health (US DOC, NOAA, NMFS, NWFSC)","FEDERAL or NATIONAL","GOVERNMENT",5,4,null,null,null,null,null,null,true]
[null,"Coastal Resources Specialists","REGIONAL","INDUSTRY AND BUSINESS",5,3,null,null,null,null,null,null,true]
[null,"Tetra Tech","STATE","INDUSTRY AND BUSINESS",5,2,null,null,null,null,null,null,true]
[null,"National Association of State Universities and Land-Grant Colleges/Board on Oceans and Atmosphere","FEDERAL or NATIONAL","NGO",5,4,null,null,null,null,null,null,true]
[null,"Biology Department, Dalhousie University, Halifax, Nova Scotia ","INTERNATIONAL","ACADEMIC INSTITUTION",5,5,null,null,null,null,null,null,true]
[null,"Moscow State University (Russia)","INTERNATIONAL","ACADEMIC INSTITUTION",5,5,null,null,null,null,null,null,true]
[null,"Universite Laval, Quebec City, Canada","INTERNATIONAL","ACADEMIC INSTITUTION",5,5,null,null,null,null,null,null,true]
[null,"British Columbia Ministry of Environment, Canada","INTERNATIONAL","GOVERNMENT",5,5,null,null,null,null,null,null,true]
[null,"Fraser Basin Council, British Columbia","INTERNATIONAL","GOVERNMENT",5,5,null,null,null,null,null,null,true]
[null,"Japan National Research Institute of Far Seas Fisheries, Fisheries Research Agency","INTERNATIONAL","GOVERNMENT",5,5,null,null,null,null,null,null,true]
[null,"Pacific Oceanological Institute (Russia)","INTERNATIONAL","GOVERNMENT",5,5,null,null,null,null,null,null,true]
[null,"Provincial Government of British Columbia","INTERNATIONAL","GOVERNMENT",5,5,null,null,null,null,null,null,true]
[null,"Archipelago Marine Research, Ltd.","INTERNATIONAL","INDUSTRY AND BUSINESS",5,5,null,null,null,null,null,null,true]
[null,"Combined Fishing Enterprises","INTERNATIONAL","INDUSTRY AND BUSINESS",5,5,null,null,null,null,null,null,true]
[null,"F/V Wakashio no. 83","INTERNATIONAL","INDUSTRY AND BUSINESS",5,5,null,null,null,null,null,null,true]
[null,"Japan Tuna Fisheries Cooperative Association","INTERNATIONAL","INDUSTRY AND BUSINESS",5,5,null,null,null,null,null,null,true]
[null,"RENA International","INTERNATIONAL","INDUSTRY AND BUSINESS",5,5,null,null,null,null,null,null,true]
[null,"Wild Salmon Center","INTERNATIONAL","NGO",5,5,null,null,null,null,null,null,true]
[null,"North Pacific Anadromous Fish Commission","INTERNATIONAL","OTHER PARTNERS",5,5,null,null,null,null,null,null,true]
[null,"Pacific Oil Spill Prevention Education Team, Pacific States/British Columbia Oil Spill Task Force","INTERNATIONAL","OTHER PARTNERS",5,5,null,null,null,null,null,null,true]
[null,"Jeju Sea Grant (Korea Sea Grant)","INTERNATIONAL","SEA GRANT PROGRAMS",5,5,null,null,null,null,null,null,true]
[null,"Castle Rock High School","LOCAL","ACADEMIC INSTITUTION",5,1,null,null,null,null,null,null,true]
[null,"Excel Academic League","LOCAL","ACADEMIC INSTITUTION",5,1,null,null,null,null,null,null,true]
[null,"Grapeview School","LOCAL","ACADEMIC INSTITUTION",5,1,null,null,null,null,null,null,true]
[null,"Washington State University Extension, Jefferson County Beach Watchers (WSU)","LOCAL","ACADEMIC INSTITUTION",5,1,null,null,null,null,null,null,true]
[null,"Highline Community College, Marine Science and Technology Center","LOCAL","ACADEMIC INSTITUTION",5,1,null,null,null,null,null,null,true]
[null,"McGilvra Elementary School","LOCAL","ACADEMIC INSTITUTION",5,1,null,null,null,null,null,null,true]
[null,"Montlake Elementary School","LOCAL","ACADEMIC INSTITUTION",5,1,null,null,null,null,null,null,true]
[null,"Naselle Schools","LOCAL","ACADEMIC INSTITUTION",5,1,null,null,null,null,null,null,true]
[null,"Pioneer School District","LOCAL","ACADEMIC INSTITUTION",5,1,null,null,null,null,null,null,true]
[null,"San Juan Island School District","LOCAL","ACADEMIC INSTITUTION",5,1,null,null,null,null,null,null,true]
[null,"Seattle Public School District","LOCAL","ACADEMIC INSTITUTION",5,1,null,null,null,null,null,null,true]
[null,"Washington State University Extension, Snohomish County Beach Watchers (WSU)","LOCAL","ACADEMIC INSTITUTION",5,1,null,null,null,null,null,null,true]
[null,"South Bend Schools","LOCAL","ACADEMIC INSTITUTION",5,1,null,null,null,null,null,null,true]
[null,"Southside School District","LOCAL","ACADEMIC INSTITUTION",5,1,null,null,null,null,null,null,true]
[null,"West Woodland Elementary School","LOCAL","ACADEMIC INSTITUTION",5,1,null,null,null,null,null,null,true]
[null,"Washington State University Extension, Island County (WSU)","LOCAL","ACADEMIC INSTITUTION",5,1,null,null,null,null,null,null,true]
[null,"Washington State University Extension, San Juan County (WSU)","LOCAL","ACADEMIC INSTITUTION",5,1,null,null,null,null,null,null,true]
[null,"Washington State University Extension, Thurston County (WSU)","LOCAL","ACADEMIC INSTITUTION",5,1,null,null,null,null,null,null,true]
[null,"City of Bremerton, WA","LOCAL","GOVERNMENT",5,1,null,null,null,null,null,null,true]
[null,"City of Mount Vernon, WA","LOCAL","GOVERNMENT",5,1,null,null,null,null,null,null,true]
[null,"City of Shelton, WA","LOCAL","GOVERNMENT",5,1,null,null,null,null,null,null,true]
[null,"Clallam County Board of County Commissioners","LOCAL","GOVERNMENT",5,1,null,null,null,null,null,null,true]
[null,"Foss Waterway Development Authority","LOCAL","GOVERNMENT",5,1,null,null,null,null,null,null,true]
[null,"Jefferson County Public Health Department","LOCAL","GOVERNMENT",5,1,null,null,null,null,null,null,true]
[null,"King County Roads Services Division, King County Department of Transportation","LOCAL","GOVERNMENT",5,1,null,null,null,null,null,null,true]
[null,"Kitsap County Department of Community Development","LOCAL","GOVERNMENT",5,1,null,null,null,null,null,null,true]
[null,"Kitsap County Health District","LOCAL","GOVERNMENT",5,1,null,null,null,null,null,null,true]
[null,"Mason Conservation District","LOCAL","GOVERNMENT",5,1,null,null,null,null,null,null,true]
[null,"Mason County Department of Community Development","LOCAL","GOVERNMENT",5,1,null,null,null,null,null,null,true]
[null,"Olympic Educational Service District 114","LOCAL","ACADEMIC INSTITUTION",5,1,null,null,null,null,null,null,true]
[null,"Port of Anacortes, WA","LOCAL","GOVERNMENT",5,1,null,null,null,null,null,null,true]
[null,"Port of Edmonds, WA","LOCAL","GOVERNMENT",5,1,null,null,null,null,null,null,true]
[null,"Port of Manchester, WA","LOCAL","GOVERNMENT",5,1,null,null,null,null,null,null,true]
[null,"San Juan County","LOCAL","GOVERNMENT",5,1,null,null,null,null,null,null,true]
[null,"Silverdale Water District","LOCAL","GOVERNMENT",5,1,null,null,null,null,null,null,true]
[null,"Skagit County Health Department","LOCAL","GOVERNMENT",5,1,null,null,null,null,null,null,true]
[null,"Pierce County Health Department","LOCAL","GOVERNMENT",5,1,null,null,null,null,null,null,true]
[null,"Thurston County Public Health and Social Services","LOCAL","GOVERNMENT",5,1,null,null,null,null,null,null,true]
[null,"Whatcom Conservation District","LOCAL","GOVERNMENT",5,1,null,null,null,null,null,null,true]
[null,"Whatcom County Public Utility District No. 1","LOCAL","GOVERNMENT",5,1,null,null,null,null,null,null,true]
[null,"American Seafoods Company","FEDERAL or NATIONAL","INDUSTRY AND BUSINESS",5,4,null,null,null,null,null,null,true]
[null,"Blaine Marina","LOCAL","INDUSTRY AND BUSINESS",5,1,null,null,null,null,null,null,true]
[null,"Clam Fresh, LLC","LOCAL","INDUSTRY AND BUSINESS",5,1,null,null,null,null,null,null,true]
[null,"Elliot Bay Marina","LOCAL","INDUSTRY AND BUSINESS",5,1,null,null,null,null,null,null,true]
[null,"F/V Antares","LOCAL","INDUSTRY AND BUSINESS",5,1,null,null,null,null,null,null,true]
[null,"F/V Chief Kwina","LOCAL","INDUSTRY AND BUSINESS",5,1,null,null,null,null,null,null,true]
[null,"Foss Maritime","FEDERAL or NATIONAL","INDUSTRY AND BUSINESS",5,4,null,null,null,null,null,null,true]
[null,"Grays Harbor County Fair","LOCAL","OTHER PARTNERS",5,1,null,null,null,null,null,null,true]
[null,"John Wayne Marina","LOCAL","INDUSTRY AND BUSINESS",5,1,null,null,null,null,null,null,true]
[null,"Mason Benson Club","LOCAL","INDUSTRY AND BUSINESS",5,1,null,null,null,null,null,null,true]
[null,"Northwest Events","LOCAL","INDUSTRY AND BUSINESS",5,1,null,null,null,null,null,null,true]
[null,"Pacific Choice Seafoods","REGIONAL","INDUSTRY AND BUSINESS",5,3,null,null,null,null,null,null,true]
[null,"Pacific Shrimp Inc.","REGIONAL","INDUSTRY AND BUSINESS",5,3,null,null,null,null,null,null,true]
[null,"Port Angeles Marina","LOCAL","INDUSTRY AND BUSINESS",5,1,null,null,null,null,null,null,true]
[null,"Port of Everett Marina","LOCAL","INDUSTRY AND BUSINESS",5,1,null,null,null,null,null,null,true]
[null,"Quillayute Marina","LOCAL","INDUSTRY AND BUSINESS",5,1,null,null,null,null,null,null,true]
[null,"Rosario Marina","LOCAL","INDUSTRY AND BUSINESS",5,1,null,null,null,null,null,null,true]
[null,"Seattle’s Child","LOCAL","INDUSTRY AND BUSINESS",5,1,null,null,null,null,null,null,true]
[null,"Talaris Conference Center","LOCAL","INDUSTRY AND BUSINESS",5,1,null,null,null,null,null,null,true]
[null,"Union Tourism Association","LOCAL","INDUSTRY AND BUSINESS",5,1,null,null,null,null,null,null,true]
[null,"Association of Bainbridge Communities","LOCAL","NGO",5,1,null,null,null,null,null,null,true]
[null,"Benson Lake Association","LOCAL","NGO",5,1,null,null,null,null,null,null,true]
[null,"Cedar River Anadromous Fish Committee","LOCAL","NGO",5,1,null,null,null,null,null,null,true]
[null,"Feiro Marine Life Center","LOCAL","NGO",5,1,null,null,null,null,null,null,true]
[null,"Great Peninsula Future Festival","LOCAL","OTHER PARTNERS",5,1,null,null,null,null,null,null,true]
[null,"IslandWood ","LOCAL","NGO",5,1,null,null,null,null,null,null,true]
[null,"Kitsap Water Festival","LOCAL","OTHER PARTNERS",5,1,null,null,null,null,null,null,true]
[null,"Lummi Nation Ventures Partnership","FEDERAL or NATIONAL","GOVERNMENT",5,4,null,null,null,null,null,null,true]
[null,"Ocean Inquiry Project","LOCAL","NGO",5,1,null,null,null,null,null,null,true]
[null,"Para Los Niños de Highline","LOCAL","NGO",5,1,null,null,null,null,null,null,true]
[null,"Salish Sea Expeditions","LOCAL","NGO",5,1,null,null,null,null,null,null,true]
[null,"Skagit Conservation and Education Association","LOCAL","NGO",5,1,null,null,null,null,null,null,true]
[null,"South Sound Estuary Association","LOCAL","NGO",5,1,null,null,null,null,null,null,true]
[null,"Vashon Beach Naturalists","LOCAL","NGO",5,1,null,null,null,null,null,null,true]
[null,"Whatcom Land Trust","LOCAL","NGO",5,1,null,null,null,null,null,null,true]
[null,"Clallam County Marine Resources Committee, Northwest Straits Commission","LOCAL","OTHER PARTNERS",5,1,null,null,null,null,null,null,true]
[null,"Mason Lake Management District","LOCAL","GOVERNMENT",5,1,null,null,null,null,null,null,true]
[null,"San Juan ECO Network ","LOCAL","OTHER PARTNERS",5,1,null,null,null,null,null,null,true]
[null,"Water Resource Inventory Area 1","LOCAL","GOVERNMENT",5,1,null,null,null,null,null,null,true]
[null,"Whatcom County Marine Resources Committee, Northwest Straits Commission","LOCAL","OTHER PARTNERS",5,1,null,null,null,null,null,null,true]
[null,"Centers for Ocean Sciences Education Excellence, West (COSEE)","REGIONAL","ACADEMIC INSTITUTION",5,3,null,null,null,null,null,null,true]
[null,"University of Washington, Pacific Northwest Seismic Network, Department of Earth and Space Sciences, College of the Environment (UW)","REGIONAL","ACADEMIC INSTITUTION",5,3,null,null,null,null,null,null,true]
[null,"Northwest Marine Trade Association","REGIONAL","INDUSTRY AND BUSINESS",5,3,null,null,null,null,null,null,true]
[null,"Pacific Whiting Conservation Cooperative","REGIONAL","GOVERNMENT",5,3,null,null,null,null,null,null,true]
[null,"Point Reyes Bird Observatory","REGIONAL","NGO",5,3,null,null,null,null,null,null,true]
[null,"Affiliated Tribes of Northwest Indians","Tribal","GOVERNMENT",5,13,null,null,null,null,null,null,true]
[null,"University of Washington, Burke Museum of Natural History and Culture (UW)","STATE","ACADEMIC INSTITUTION",5,2,null,null,null,null,null,null,true]
[null,"University of Washington, Tacoma, Center for Urban Waters (UW)","STATE","ACADEMIC INSTITUTION",5,2,null,null,null,null,null,null,true]
[null,"University of Washington, Ocean and Coastal Interdisciplinary Science (OACIS) GK-12 Program (UW)","STATE","ACADEMIC INSTITUTION",5,2,null,null,null,null,null,null,true]
[null,"University of Washington, Restoration Ecology Network, School of Forest Resources, College of the Environment (UW)","STATE","ACADEMIC INSTITUTION",5,2,null,null,null,null,null,null,true]
[null,"University of Washington, The NatureMapping Program, School of Forest Resources, College of the Envrionment (UW)","STATE","ACADEMIC INSTITUTION",5,2,null,null,null,null,null,null,true]
[null,"University of Washington, Bothell Career Center (UW)","STATE","ACADEMIC INSTITUTION",5,2,null,null,null,null,null,null,true]
[null,"University of Washington, Center for Conservation Biology, Department of Biology, College of Arts and Sciences (UW)","STATE","ACADEMIC INSTITUTION",5,2,null,null,null,null,null,null,true]
[null,"University of Washington, College of Engineering (UW)","STATE","ACADEMIC INSTITUTION",5,2,null,null,null,null,null,null,{"$f":"AND(  NOT(ISERROR(FIND(UPPER($B$7),UPPER($B4366),1))),  OR($D$7=\"\",NOT(ISERROR(FIND(UPPER($D$7),UPPER($B4366),1)))),    OR($D$8=\"\",(ISERROR(FIND(UPPER($D$8),UPPER($B4366),1))))           )","v":true}]
[null,"University of Washington, Department of Biology, College of Arts and Sciences (UW)","STATE","ACADEMIC INSTITUTION",5,2,null,null,null,null,null,null,true]
[null,"University of Washington, Evans School of Public Affairs (UW)","STATE","ACADEMIC INSTITUTION",5,2,null,null,null,null,null,null,true]
[null,"University of Washington, Institute for Science and Mathematics Education, College of Education (UW)","STATE","ACADEMIC INSTITUTION",5,2,null,null,null,null,null,null,true]
[null,"University of Washington, Research and Teaching Hatchery, School of Aquatic and Fishery Sciences, College of the Environment (UW)","STATE","ACADEMIC INSTITUTION",5,2,null,null,null,null,null,null,true]
[null,"University of Washington, Wetland Ecosystem Team, School of Aquatic and Fishery Sciences, College of the Environment (UW)","STATE","ACADEMIC INSTITUTION",5,2,null,null,null,null,null,null,true]
[null,"University of Washington, Washington Rare Plant Care and Conservation Program, UW Botanic Gardens, School of Forest Resources, College of the Environment (UW)","STATE","ACADEMIC INSTITUTION",5,2,null,null,null,null,null,null,true]
[null,"Washington State University, Vancouver","STATE","ACADEMIC INSTITUTION",5,2,null,null,null,null,null,null,true]
[null,"Washington State University, School of Earth and Environmental Sciences, College of Sciences (WSU)","STATE","ACADEMIC INSTITUTION",5,2,null,null,null,null,null,null,true]
[null,"California Natural Resources Agency","STATE","GOVERNMENT",5,2,null,null,null,null,null,null,true]
[null,"Marine Region, California Department of Fish and Game","STATE","GOVERNMENT",5,2,null,null,null,null,null,null,true]
[null,"Oregon State Marine Board","STATE","GOVERNMENT",5,2,null,null,null,null,null,null,true]
[null,"Washington Invasive Species Council","STATE","GOVERNMENT",5,2,null,null,null,null,null,null,true]
[null,"Washington Public Ports Association","STATE","GOVERNMENT",5,2,null,null,null,null,null,null,true]
[null,"Environmental Educators Association of Washington","STATE","NGO",5,2,null,null,null,null,null,null,true]
[null,"Marine Conservation Alliance","STATE","NGO",5,2,null,null,null,null,null,null,true]
[null,"Pollock Conservation Cooperative","REGIONAL","INDUSTRY AND BUSINESS",5,3,null,null,null,null,null,null,true]
[null,"American Planning Association","FEDERAL or NATIONAL","INDUSTRY AND BUSINESS",5,4,null,null,null,null,null,null,true]
[null,"Aquaruis Water Gardens ","REGIONAL","INDUSTRY AND BUSINESS",5,3,null,null,null,null,null,null,true]
[null,"Baltimore City Deparment of Public Works ","LOCAL","NGO",5,1,null,null,null,null,null,null,true]
[null,"Calcasieu Parish, LA","LOCAL","Unknown",5,1,null,null,null,null,null,null,true]
[null,"Cary Institute of Ecosystem Studies","LOCAL","SEA GRANT PROGRAMS",5,1,null,null,null,null,null,null,true]
[null,"Center for Disease Control and Prevention (CDC)","FEDERAL or NATIONAL","GOVERNMENT",5,4,null,null,null,null,null,null,true]
[null,"Chesapeake Bay Commission","REGIONAL","INDUSTRY AND BUSINESS",5,3,null,null,null,null,null,null,true]
[null,"Chicago Museum of Scence and Industry","FEDERAL or NATIONAL","NGO",5,4,null,null,null,null,null,null,true]
[null,"Computational and Earth Systems Science, UCSB ","FEDERAL or NATIONAL","SEA GRANT PROGRAMS",5,4,null,null,null,null,null,null,true]
[null,"Corrina Del Mar under Industry","INTERNATIONAL","INDUSTRY AND BUSINESS",5,5,null,null,null,null,null,null,true]
[null,"Delcambre Direct Marketing","LOCAL","Unknown",5,1,null,null,null,null,null,null,true]
[null,"Empower Results","STATE","INDUSTRY AND BUSINESS",5,2,null,null,null,null,null,null,true]
[null,"Friends of the Forest Preserves","LOCAL","INDUSTRY AND BUSINESS",5,1,null,null,null,null,null,null,true]
[null,"Great Lakes Regional Pollution Prevention Roundtable","REGIONAL","NGO",5,3,null,null,null,null,null,null,true]
[null,"Hood College","LOCAL","SEA GRANT PROGRAMS",5,1,null,null,null,null,null,null,true]
[null,"IKEA","INTERNATIONAL","INDUSTRY AND BUSINESS",5,5,null,null,null,null,null,null,true]
[null,"Illinois Office of the Governor","STATE","GOVERNMENT",5,2,null,null,null,null,null,null,true]
[null,"Indiana Nursery and Landscape Association","INTERNATIONAL","OTHER PARTNERS",5,5,null,null,null,null,null,null,true]
[null,"Johnsburg Police Department (MCP) ,IL","LOCAL","INDUSTRY AND BUSINESS",5,1,null,null,null,null,null,null,true]
[null,"KSWW Radio, Aberdeen","LOCAL","INDUSTRY AND BUSINESS",5,1,null,null,null,null,null,null,true]
[null,"Maryland Aquaculture Coordinating Council","STATE","INDUSTRY AND BUSINESS",5,2,null,null,null,null,null,null,true]
[null,"Maryland Aquaculture Plant Nursery Industry","STATE","INDUSTRY AND BUSINESS",5,2,null,null,null,null,null,null,true]
[null,"Massachusetts Bay Community College","FEDERAL or NATIONAL","SEA GRANT PROGRAMS",5,4,null,null,null,null,null,null,true]
[null,"Myrtle Beach, SC","LOCAL","GOVERNMENT",5,1,null,null,null,null,null,null,{"$f":"AND(  NOT(ISERROR(FIND(UPPER($B$7),UPPER($B4494),1))),  OR($D$7=\"\",NOT(ISERROR(FIND(UPPER($D$7),UPPER($B4494),1)))),    OR($D$8=\"\",(ISERROR(FIND(UPPER($D$8),UPPER($B4494),1))))           )","v":true}]
[null,"Nature Conservancy, Indiana Chapter","STATE","NGO",5,2,null,null,null,null,null,null,true]
[null,"North Myrtle Beach, ","LOCAL","GOVERNMENT",5,1,null,null,null,null,null,null,true]
[null,"Oglsybe Police Dept. (MCP) ,IL","LOCAL","INDUSTRY AND BUSINESS",5,1,null,null,null,null,null,null,true]
[null,"Pontiac High School","LOCAL","SEA GRANT PROGRAMS",5,1,null,null,null,null,null,null,true]
[null,"Product Stewardship Institute","LOCAL","SEA GRANT PROGRAMS",5,1,null,null,null,null,null,null,true]
[null,"Rechargeable Battery Recycling Corporation","LOCAL","INDUSTRY AND BUSINESS",5,1,null,null,null,null,null,null,true]
[null,"River to River Coopertaive Weed Management Area","LOCAL","OTHER PARTNERS",5,1,null,null,null,null,null,null,true]
[null,"Scripps Institute of Oceanography","STATE","SEA GRANT PROGRAMS",5,2,null,null,null,null,null,null,true]
[null,"Southern Drawl Outfitters","LOCAL","INDUSTRY AND BUSINESS",5,1,null,null,null,null,null,null,true]
[null,"Streator Police Department (MCP) ,IL","LOCAL","INDUSTRY AND BUSINESS",5,1,null,null,null,null,null,null,true]
[null,"The Lakes HOA, SC","LOCAL","OTHER PARTNERS",5,1,null,null,null,null,null,null,true]
[null,"University of Illinois","STATE","SEA GRANT PROGRAMS",5,2,null,null,null,null,null,null,true]
[null,"University of Maryland Extension (UMD)","STATE","SEA GRANT PROGRAMS",5,2,null,null,null,null,null,null,true]
[null,"University of Western Ontario","STATE","SEA GRANT PROGRAMS",5,2,null,null,null,null,null,null,true]
[null,"US Coast Guard Station Neah Bay (US DHS, USCG)","FEDERAL or NATIONAL","GOVERNMENT",5,4,null,null,null,null,null,null,true]
[null,"US Coast Guard Station Seattle (US DHS, USCG)","FEDERAL or NATIONAL","GOVERNMENT",5,4,null,null,null,null,null,null,true]
[null,"Winthrop Harbor Yacht Club","LOCAL","INDUSTRY AND BUSINESS",5,1,null,null,null,null,null,null,true]
[null,"Washington State University, Department of Biology, School of Biological Sciences, College of Sciences (WSU)","STATE","ACADEMIC INSTITUTION",5,2,null,null,null,null,null,null,true]
[null,"Washington State University Extension Kitsap County (WSU)","Unknown","Unknown",5,0,null,null,null,null,null,null,true]
[null,"Washington State University Extension Skagit County (WSU)","Unknown","Unknown",5,0,null,null,null,null,null,null,{"$f":"AND(  NOT(ISERROR(FIND(UPPER($B$7),UPPER($B4558),1))),  OR($D$7=\"\",NOT(ISERROR(FIND(UPPER($D$7),UPPER($B4558),1)))),    OR($D$8=\"\",(ISERROR(FIND(UPPER($D$8),UPPER($B4558),1))))           )","v":true}]
[null,"Washington State University Extension Whatcom County (WSU)","Unknown","Unknown",5,0,null,null,null,null,null,null,true]
[null,"Yorkville Police Dept./ Kendall Co. Solid Waste Dist. (MCP) ,IL","LOCAL","INDUSTRY AND BUSINESS",5,1,null,null,null,null,null,null,true]
[null,"Bradley Beach Environmental Commission","LOCAL","GOVERNMENT",5,1,null,null,null,null,null,null,true]
[null,"Island Beach State Park","STATE","GOVERNMENT",5,2,null,null,null,null,null,null,true]
[null,"Monmouth County Department of Economic Development and Tourism","LOCAL","GOVERNMENT",5,1,null,null,null,null,null,null,true]
[null,"New Jersey Department of Environmental Protection, Coastal Management Program (NJ DEP)","STATE","GOVERNMENT",5,2,null,null,null,null,null,null,true]
[null,"New Jersey Division of Travel and Tourism (NJ DTT)","STATE","GOVERNMENT",5,2,null,null,null,null,null,null,true]
[null,"New Jersey Lighthouse Society","STATE","GOVERNMENT",5,2,null,null,null,null,null,null,true]
[null,"Ocean County Department of Public Affairs and Tourism","STATE","GOVERNMENT",5,2,null,null,null,null,null,null,true]
[null,"South Jersey Ports Corporation","STATE","GOVERNMENT",5,2,null,null,null,null,null,null,true]
[null,"Institute for Water Resources (DoD, Army, USACE)","FEDERAL or NATIONAL","GOVERNMENT",5,4,null,null,null,null,null,null,true]
[null,"Cape May Plant Materials Center (USDA)","FEDERAL or NATIONAL","GOVERNMENT",5,4,null,null,null,null,null,null,true]
[null,"Jenkinson’s Aquarium","Unknown","NGO",5,0,null,null,null,null,null,null,true]
[null,"Metropolitan Waterfront Alliance","Unknown","NGO",5,0,null,null,null,null,null,null,true]
[null,"Seaboard Fisheries Institute","REGIONAL","OTHER PARTNERS",5,3,null,null,null,null,null,null,true]
[null,"Brookdale Community College","STATE","ACADEMIC INSTITUTION",5,2,null,null,null,null,null,null,true]
[null,"County College of Morris","STATE","ACADEMIC INSTITUTION",5,2,null,null,null,null,null,null,true]
[null,"Cumberland County College","STATE","ACADEMIC INSTITUTION",5,2,null,null,null,null,null,null,true]
[null,"Linden Public Schools","STATE","ACADEMIC INSTITUTION",5,2,null,null,null,null,null,null,true]
[null,"Monmouth University","STATE","ACADEMIC INSTITUTION",5,2,null,null,null,null,null,null,true]
[null,"Richard Stockton College of New Jersey","STATE","ACADEMIC INSTITUTION",5,2,null,null,null,null,null,null,true]
[null,"Rowan University","STATE","ACADEMIC INSTITUTION",5,2,null,null,null,null,null,null,true]
[null,"Seton Hall University","STATE","ACADEMIC INSTITUTION",5,2,null,null,null,null,null,null,true]
[null,"Urban Coast Institute at Monmouth University","STATE","ACADEMIC INSTITUTION",5,2,null,null,null,null,null,null,true]
[null,"Clear into the Future: A duPont","Unknown","INDUSTRY AND BUSINESS",5,0,null,null,null,null,null,null,true]
[null,"Delaware Estuary Initiative","Unknown","INDUSTRY AND BUSINESS",5,0,null,null,null,null,null,null,true]
[null,"Leckner Consulting","Unknown","INDUSTRY AND BUSINESS",5,0,null,null,null,null,null,null,true]
[null,"Najarian Associates","Unknown","INDUSTRY AND BUSINESS",5,0,null,null,null,null,null,null,true]
[null,"New York Shipping Association, Inc.","Unknown","INDUSTRY AND BUSINESS",5,0,null,null,null,null,null,null,true]
[null,"Charleston, SC","LOCAL","GOVERNMENT",5,1,null,null,null,null,null,null,true]
[null,"Georgetown County, SC","LOCAL","GOVERNMENT",5,1,null,null,null,null,null,null,true]
[null,"Colleton County, SC","LOCAL","GOVERNMENT",5,1,null,null,null,null,null,null,true]
[null,"North Charleston, SC","LOCAL","GOVERNMENT",5,1,null,null,null,null,null,null,true]
[null,"Georgetown, SC","LOCAL","GOVERNMENT",5,1,null,null,null,null,null,null,true]
[null,"Beaufort, SC","LOCAL","GOVERNMENT",5,1,null,null,null,null,null,null,true]
[null,"Folly Beach, SC","LOCAL","GOVERNMENT",5,1,null,null,null,null,null,null,true]
[null,"Isle of Palms, SC","LOCAL","GOVERNMENT",5,1,null,null,null,null,null,null,true]
[null,"Andrews, SC","LOCAL","GOVERNMENT",5,1,null,null,null,null,null,null,true]
[null,"Port Royal, SC","LOCAL","GOVERNMENT",5,1,null,null,null,null,null,null,true]
[null,"Conway, SC","LOCAL","GOVERNMENT",5,1,null,null,null,null,null,null,true]
[null,"Charleston Water System","LOCAL","INDUSTRY AND BUSINESS",5,1,null,null,null,null,null,null,{"$f":"AND(  NOT(ISERROR(FIND(UPPER($B$7),UPPER($B4686),1))),  OR($D$7=\"\",NOT(ISERROR(FIND(UPPER($D$7),UPPER($B4686),1)))),    OR($D$8=\"\",(ISERROR(FIND(UPPER($D$8),UPPER($B4686),1))))           )","v":true}]
[null,"Mount Pleasant Water Works","LOCAL","INDUSTRY AND BUSINESS",5,1,null,null,null,null,null,null,true]
[null,"Lowcountry Earthforce","LOCAL","NGO",5,1,null,null,null,null,null,null,true]
[null,"South Carolina Department of Archives and History","STATE","GOVERNMENT",5,2,null,null,null,null,null,null,true]
[null,"Ashley-Cooper Stormwater Education Consortium","LOCAL","Unknown",5,1,null,null,null,null,null,null,true]
[null,"Center for Natural Hazards Research, East Carolina University (ECU)","STATE","ACADEMIC INSTITUTION",5,2,null,null,null,null,null,null,true]
[null,"Elon University","STATE","ACADEMIC INSTITUTION",5,2,null,null,null,null,null,null,true]
[null,"University of North Carolina, Institute for Marine Sciences (UNC)","STATE","ACADEMIC INSTITUTION",5,2,null,null,null,null,null,null,true]
[null,"Stuttgart National Aquaculture Research Center (USDA, ARS)","FEDERAL or NATIONAL","GOVERNMENT",5,4,null,null,null,null,null,null,true]
[null,"Little River Trails Aquaculture","Unknown","INDUSTRY AND BUSINESS",5,0,null,null,null,null,null,null,true]
[null,"Atlantic Beach Chamber of Commerce","LOCAL","GOVERNMENT",5,1,null,null,null,null,null,null,true]
[null,"Carolina Beach Chamber of Commerce","LOCAL","GOVERNMENT",5,1,null,null,null,null,null,null,true]
[null,"Dare County Chamber of Commerce","LOCAL","GOVERNMENT",5,1,null,null,null,null,null,null,true]
[null,"Down East Carteret County communities","LOCAL","GOVERNMENT",5,1,null,null,null,null,null,null,true]
[null,"North Carolina Department of Cultural Resources, North Carolina Underwater Archaeology Branch","STATE","GOVERNMENT",5,2,null,null,null,null,null,null,true]
[null,"Ocracoke Island community","LOCAL","GOVERNMENT",5,1,null,null,null,null,null,null,true]
[null,"Pender County Chamber of Commerce","LOCAL","GOVERNMENT",5,1,null,null,null,null,null,null,true]
[null,"North Carolina Rural Economic Development Center Inc.","STATE","NGO",5,2,null,null,null,null,null,null,true]
[null,"International Commission for the Conservation of Atlantic Tunas (ICCAT)","INTERNATIONAL","GOVERNMENT",5,5,null,null,null,null,null,null,true]
[null,"NOAA Integrated Data and Environmental Applications (IDEA) Center","FEDERAL or NATIONAL","GOVERNMENT",5,4,null,null,null,null,null,null,true]
[null,"International Resources Group","INTERNATIONAL","NGO",5,5,null,null,null,null,null,null,true]
[null,"University of Hawaii at Manoa Hawaiinuiakea School of Hawaiian Knowledge (UHM)","STATE","ACADEMIC INSTITUTION",5,2,null,null,null,null,null,null,true]
[null,"Louisiana Governor’s Office of Homeland Security and Emergency Planning (GOHSEP)","STATE","GOVERNMENT",5,2,null,null,null,null,null,null,true]
[null,"Indiana Soybean Alliance","STATE","NGO",5,2,null,null,null,null,null,null,true]
[null,"Indiana Board of Animal Health","STATE","GOVERNMENT",5,2,null,null,null,null,null,null,true]
[null,"Ministry of Fisheries, Ghana","INTERNATIONAL","GOVERNMENT",5,5,null,null,null,null,null,null,true]
[null,"Ministry of Natural Resources and Tourism, Aquaculture Development Division, Tanzania","INTERNATIONAL","GOVERNMENT",5,5,null,null,null,null,null,null,true]
[null,"Trade Adjustment Act (US DOL, ETA)","FEDERAL or NATIONAL","GOVERNMENT",5,4,null,null,null,null,null,null,true]
[null,"Vermilion Parish, LA","LOCAL","GOVERNMENT",5,1,null,null,null,null,null,null,true]
[null,"Orleans Parish, LA","LOCAL","GOVERNMENT",5,1,null,null,null,null,null,null,true]
[null,"Lafayette Parish, LA","LOCAL","GOVERNMENT",5,1,null,null,null,null,null,null,true]
[null,"Jefferson Parish, LA","LOCAL","GOVERNMENT",5,1,null,null,null,null,null,null,true]
[null,"Louisiana Department of Health and Hospitals (LA)","LOCAL","GOVERNMENT",5,1,null,null,null,null,null,null,true]
[null,"Louisiana Catfish Grower’s Association","STATE","INDUSTRY AND BUSINESS",5,2,null,null,null,null,null,null,true]
[null,"Greater New Orleans Foundation","LOCAL","NGO",5,1,null,null,null,null,null,null,true]
[null,"Louisiana Crawfish Promotion and Research Board","STATE","INDUSTRY AND BUSINESS",5,2,null,null,null,null,null,null,true]
[null,"The McIlhenny Company","INTERNATIONAL","INDUSTRY AND BUSINESS",5,5,null,null,null,null,null,null,true]
[null,"Pacific Coast Fish, Wildlife and Wetlands Restoration Association","REGIONAL","NGO",5,3,null,null,null,null,null,null,true]
[null,"Biospherics P/L – Australia","INTERNATIONAL","INDUSTRY AND BUSINESS",5,5,null,null,null,null,null,null,true]
[null,"California State University, East Bay (CSUEB)","STATE","ACADEMIC INSTITUTION",5,2,null,null,null,null,null,null,true]
[null,"California State University, Stanislaus (CSU)","STATE","ACADEMIC INSTITUTION",5,2,null,null,null,null,null,null,true]
[null,"Central Coast Sportfishing","LOCAL","INDUSTRY AND BUSINESS",5,1,null,null,null,null,null,null,true]
[null,"Fishermen's Marketing Association","REGIONAL","INDUSTRY AND BUSINESS",5,3,null,null,null,null,null,null,true]
[null,"H/V Fiesta","LOCAL","INDUSTRY AND BUSINESS",5,1,null,null,null,null,null,null,true]
[null,"Humboldt Area Saltwater Anglers","LOCAL","INDUSTRY AND BUSINESS",5,1,null,null,null,null,null,null,true]
[null,"New Zealand Seafood Industry Council Ltd","INTERNATIONAL","NGO",5,5,null,null,null,null,null,null,true]
[null,"Patriot Sportfishing","LOCAL","INDUSTRY AND BUSINESS",5,1,null,null,null,null,null,null,true]
[null,"San Diego Watermen’s Association","Unknown","Unknown",5,0,null,null,null,null,null,null,true]
[null,"Sea Fish Industry Authority","Unknown","Unknown",5,0,null,null,null,null,null,null,true]
[null,"University of California, Davis, Agriculture and Natural Resources (UC Davis)","Unknown","Unknown",5,0,null,null,null,null,null,null,true]
[null,"Cantho University, Vietnam","INTERNATIONAL","ACADEMIC INSTITUTION",5,5,null,null,null,null,null,null,true]
[null,"City of Bridgeport, CT","LOCAL","GOVERNMENT",5,1,null,null,null,null,null,null,true]
[null,"Town of Groton, CT","LOCAL","GOVERNMENT",5,1,null,null,null,null,null,null,true]
[null,"Connecticut BASS Federation (CT)","STATE","NGO",5,2,null,null,null,null,null,null,true]
[null,"Henry Ford Health System","LOCAL","INDUSTRY AND BUSINESS",5,1,null,null,null,null,null,null,true]
[null,"Cuyahoga County Department of Health","LOCAL","GOVERNMENT",5,1,null,null,null,null,null,null,true]
[null,"Bay View Yacht Club","LOCAL","INDUSTRY AND BUSINESS",5,1,null,null,null,null,null,null,true]
[null,"Emerald Necklace Marina","LOCAL","INDUSTRY AND BUSINESS",5,1,null,null,null,null,null,null,true]
[null,"Office of Development, Ohio State University (OSU)","STATE","ACADEMIC INSTITUTION",5,2,null,null,null,null,null,null,true]
[null,"Maryland Department of Juvenile Services","STATE","GOVERNMENT",5,2,null,null,null,null,null,null,true]
[null,"NOAA Cooperative Oxford Lab (US DOC, NOAA, NOS, NCCOS)","FEDERAL or NATIONAL","GOVERNMENT",5,4,null,null,null,null,null,null,true]
[null,"Baltimore Watershed Partnership","STATE","NGO",5,2,null,null,null,null,null,null,true]
[null,"Washington and Lee University","STATE","ACADEMIC INSTITUTION",5,2,null,null,null,null,null,null,true]
[null,"The Woods Hole Research Center","STATE","ACADEMIC INSTITUTION",5,2,null,null,null,null,null,null,true]
[null,"Chapman University","STATE","ACADEMIC INSTITUTION",5,2,null,null,null,null,null,null,true]
[null,"Rhode Island Commercial Fisheries Research Foundation (RI)","STATE","NGO",5,2,null,null,null,null,null,null,true]
[null,"van Bueren Trusts","STATE","OTHER PARTNERS",5,2,null,null,null,null,null,null,true]
[null,"Elsevier","INTERNATIONAL","INDUSTRY AND BUSINESS",5,5,null,null,null,null,null,null,true]
[null,"Northeast Consortium","INTERNATIONAL","ACADEMIC INSTITUTION",5,5,null,null,null,null,null,null,true]
[null,"Oregon Community Foundation","STATE","NGO",5,2,null,null,null,null,null,null,true]
[null,"Swansea University, United Kingdom","INTERNATIONAL","ACADEMIC INSTITUTION",5,5,null,null,null,null,null,null,true]
[null,"Town of Kennebunk, ME","LOCAL","GOVERNMENT",5,1,null,null,null,null,null,null,true]
[null,"Town of Sacarborough, ME","LOCAL","GOVERNMENT",5,1,null,null,null,null,null,null,true]
[null,"National Marine Manufacturers Association","Unknown","INDUSTRY AND BUSINESS",5,0,null,null,null,null,null,null,true]
[null,"Schoodic Education and Research Center","LOCAL","ACADEMIC INSTITUTION",5,1,null,null,null,null,null,null,true]
[null,"Town of Orrington, ME","LOCAL","GOVERNMENT",5,1,null,null,null,null,null,null,true]
[null,"K2 Family Foundation","LOCAL","OTHER PARTNERS",5,1,null,null,null,null,null,null,true]
[null,"FV Capt. Lee","LOCAL","INDUSTRY AND BUSINESS",5,1,null,null,null,null,null,null,true]
[null,"Urban Harbors Institute","REGIONAL","NGO",5,3,null,null,null,null,null,null,true]
[null,"Town of York Harbor, ME","LOCAL","GOVERNMENT",5,1,null,null,null,null,null,null,true]
[null,"University of Maine Law School and Center for Law and Innovation","STATE","ACADEMIC INSTITUTION",5,2,null,null,null,null,null,null,true]
[null,"Scallop Advisory Council (ME)","STATE","GOVERNMENT",5,2,null,null,null,null,null,null,true]
[null,"U.S. Representative Chellie Pingree - Maine","FEDERAL or NATIONAL","GOVERNMENT",5,4,null,null,null,null,null,null,true]
[null,"Downeast Resource Conservation and Development (USDA)","FEDERAL or NATIONAL","GOVERNMENT",5,4,null,null,null,null,null,null,true]
[null,"Maine Coast Heritage Trust","LOCAL","NGO",5,1,null,null,null,null,null,null,true]
[null,"Burlington Board of Health","LOCAL","GOVERNMENT",5,1,null,null,null,null,null,null,true]
[null,"Burlington Department of Parks and Recreation","LOCAL","GOVERNMENT",5,1,null,null,null,null,null,null,true]
[null,"Camel's Hump Middle School","LOCAL","ACADEMIC INSTITUTION",5,1,null,null,null,null,null,null,true]
[null,"Champlain College","LOCAL","ACADEMIC INSTITUTION",5,1,null,null,null,null,null,null,true]
[null,"Chittenden County Regional Stormwater Education Program","LOCAL","Unknown",5,1,null,null,null,null,null,null,true]
[null,"City of South Burlington, VT","LOCAL","GOVERNMENT",5,1,null,null,null,null,null,null,true]
[null,"Colchester Middle School","LOCAL","ACADEMIC INSTITUTION",5,1,null,null,null,null,null,null,true]
[null,"ECHO Lake Aquarium & Science Center","LOCAL","NGO",5,1,null,null,null,null,null,null,true]
[null,"Edmunds Middle School","LOCAL","ACADEMIC INSTITUTION",5,1,null,null,null,null,null,null,true]
[null,"Franklin County Watershed Association","LOCAL","NGO",5,1,null,null,null,null,null,null,true]
[null,"Friends of the Winooski River","LOCAL","NGO",5,1,null,null,null,null,null,null,true]
[null,"Green Mountain College (GMC)","STATE","ACADEMIC INSTITUTION",5,2,null,null,null,null,null,null,true]
[null,"Homespun Hands On Homeschoolers","LOCAL","ACADEMIC INSTITUTION",5,1,null,null,null,null,null,null,true]
[null,"Lake Champlain Chapter of Trout Unlimited","REGIONAL","NGO",5,3,null,null,null,null,null,null,true]
[null,"Lamoille Union High School","LOCAL","ACADEMIC INSTITUTION",5,1,null,null,null,null,null,null,true]
[null,"Marlboro College","STATE","ACADEMIC INSTITUTION",5,2,null,null,null,null,null,null,{"$f":"AND(  NOT(ISERROR(FIND(UPPER($B$7),UPPER($B5006),1))),  OR($D$7=\"\",NOT(ISERROR(FIND(UPPER($D$7),UPPER($B5006),1)))),    OR($D$8=\"\",(ISERROR(FIND(UPPER($D$8),UPPER($B5006),1))))           )","v":true}]
[null,"Mount Anthony Union High School","LOCAL","ACADEMIC INSTITUTION",5,1,null,null,null,null,null,null,true]
[null,"Mount Mansfield Union High School","LOCAL","ACADEMIC INSTITUTION",5,1,null,null,null,null,null,null,true]
[null,"Northeast Aquatic Nuisance Species Panel (NEANS)","REGIONAL","Unknown",5,3,null,null,null,null,null,null,true]
[null,"Northwoods Nature Center","LOCAL","NGO",5,1,null,null,null,null,null,null,true]
[null,"U.S. Senator Patrick Leahy - Vermont","STATE","GOVERNMENT",5,2,null,null,null,null,null,null,true]
[null,"Pine Ridge School","LOCAL","ACADEMIC INSTITUTION",5,1,null,null,null,null,null,null,true]
[null,"Poultney Mettowee Watershed Partnership","LOCAL","NGO",5,1,null,null,null,null,null,null,true]
[null,"River Network","FEDERAL or NATIONAL","NGO",5,4,null,null,null,null,null,null,true]
[null,"Rutland Natural Resources Conservation District","LOCAL","GOVERNMENT",5,1,null,null,null,null,null,null,true]
[null,"Shelburne Farms","LOCAL","NGO",5,1,null,null,null,null,null,null,true]
[null,"Town of St. Albans","LOCAL","GOVERNMENT",5,1,null,null,null,null,null,null,true]
[null,"University of Vermont, Department of Education (UVM)","STATE","ACADEMIC INSTITUTION",5,2,null,null,null,null,null,null,true]
[null,"Vermont Agency of Agriculture","STATE","GOVERNMENT",5,2,null,null,null,null,null,null,true]
[null,"Vermont Association of Planning and Development Agencies","STATE","NGO",5,2,null,null,null,null,null,null,true]
[null,"Vermont EPSCoR","REGIONAL","ACADEMIC INSTITUTION",5,3,null,null,null,null,null,null,true]
[null,"Vermont Project WET","STATE","GOVERNMENT",5,2,null,null,null,null,null,null,true]
[null,"Williston Central School","LOCAL","ACADEMIC INSTITUTION",5,1,null,null,null,null,null,null,true]
[null,"Winooski Middle School","LOCAL","ACADEMIC INSTITUTION",5,1,null,null,null,null,null,null,true]
[null,"Woodside Juvenile Rehabilitation Center","STATE","Unknown",5,2,null,null,null,null,null,null,true]
[null,"Binational Agriculture Research & Development (BARD)","INTERNATIONAL","INDUSTRY AND BUSINESS",5,5,null,null,null,null,null,null,true]
[null,"Hawaii Tourism Authority","STATE","GOVERNMENT",5,2,null,null,null,null,null,null,true]
[null,"Richard Gushman","LOCAL","OTHER PARTNERS",5,1,null,null,null,null,null,null,true]
[null,"Alaska Cooperative Extension Service","STATE","GOVERNMENT",5,2,null,null,null,null,null,null,true]
[null,"Arliss Sturgulewski, former state senator","STATE","OTHER PARTNERS",5,2,null,null,null,null,null,null,true]
[null,"City of Homer, AK","LOCAL","GOVERNMENT",5,1,null,null,null,null,null,null,true]
[null,"City of Ketchikan, AK","LOCAL","GOVERNMENT",5,1,null,null,null,null,null,null,true]
[null,"Cook Inlet Regional Citizens Advisory Council","LOCAL","NGO",5,1,null,null,null,null,null,null,true]
[null,"Ninilchik Natives Association","Unknown","GOVERNMENT",5,0,null,null,null,null,null,null,true]
[null,"Organized Village of Kake","LOCAL","GOVERNMENT",5,1,null,null,null,null,null,null,true]
[null,"Port Graham Village Council","LOCAL","OTHER PARTNERS",5,1,null,null,null,null,null,null,true]
[null,"The Imaginarium Science Discovery Center","LOCAL","OTHER PARTNERS",5,1,null,null,null,null,null,null,true]
[null,"Marian Center, Kodiak","LOCAL","Unknown",5,1,null,null,null,null,null,null,true]
[null,"Nuka Research and Planning Group, LLC","Unknown","Unknown",5,0,null,null,null,null,null,null,true]
[null,"Solutions That Endure","Unknown","OTHER PARTNERS",5,0,null,null,null,null,null,null,true]
[null,"Alaska Miners Association","STATE","OTHER PARTNERS",5,2,null,null,null,null,null,null,true]
[null,"Chugach Corporation","LOCAL","OTHER PARTNERS",5,1,null,null,null,null,null,null,true]
[null,"Copper River/Prince William Sound Marketing Association","LOCAL","OTHER PARTNERS",5,1,null,null,null,null,null,null,true]
[null,"Dr. Quentin Fong","LOCAL","OTHER PARTNERS",5,1,null,null,null,null,null,null,true]
[null,"Integrated Marine Systems","Unknown","OTHER PARTNERS",5,0,null,null,null,null,null,null,true]
[null,"Kawerak, Inc.","LOCAL","OTHER PARTNERS",5,1,null,null,null,null,null,null,true]
[null,"Lofoten Fish Company","Unknown","OTHER PARTNERS",5,0,null,null,null,null,null,null,{"$f":"AND(  NOT(ISERROR(FIND(UPPER($B$7),UPPER($B5134),1))),  OR($D$7=\"\",NOT(ISERROR(FIND(UPPER($D$7),UPPER($B5134),1)))),    OR($D$8=\"\",(ISERROR(FIND(UPPER($D$8),UPPER($B5134),1))))           )","v":true}]
[null,"Resource Development Council for Alaska, Inc.","STATE","OTHER PARTNERS",5,2,null,null,null,null,null,null,true]
[null,"Sydney and Dorothy Wynne Memorial Fund","Unknown","OTHER PARTNERS",5,0,null,null,null,null,null,null,true]
[null,"University of Alaska Anchorage, Institute of Social and Economic Research (UAA)","STATE","ACADEMIC INSTITUTION",5,2,null,null,null,null,null,null,true]
[null,"University of Alaska Fairbanks Summer Sessions (UAF)","STATE","ACADEMIC INSTITUTION",5,2,null,null,null,null,null,null,true]
[null,"University of Alaska Press","STATE","ACADEMIC INSTITUTION",5,2,null,null,null,null,null,null,true]
[null,"Chesapeake Bay Packing","LOCAL","INDUSTRY AND BUSINESS",5,1,null,null,null,null,null,null,true]
[null,"University of California at Davis","STATE","ACADEMIC INSTITUTION",5,2,null,null,null,null,null,null,true]
[null,"Virginia Department of Agriculture and Consumer Services","STATE","GOVERNMENT",5,2,null,null,null,null,null,null,true]
[null,"Mathews County","LOCAL","GOVERNMENT",5,1,null,null,null,null,null,null,true]
[null,"Middlesex County","LOCAL","GOVERNMENT",5,1,null,null,null,null,null,null,true]
[null,"Marine Recreational Retailers Association","FEDERAL or NATIONAL","NGO",5,4,null,null,null,null,null,null,true]
[null,"Deltaville Boat Yard","LOCAL","INDUSTRY AND BUSINESS",5,1,null,null,null,null,null,null,true]
[null,"City of Poquoson, VA","LOCAL","GOVERNMENT",5,1,null,null,null,null,null,null,true]
[null,"Virginia AquaFarmers Network","STATE","INDUSTRY AND BUSINESS",5,2,null,null,null,null,null,null,true]
[null,"Hampton Roads Sanitation District","LOCAL","GOVERNMENT",5,1,null,null,null,null,null,null,true]
[null,"Altria Foundation","FEDERAL or NATIONAL","NGO",5,4,null,null,null,null,null,null,true]
[null,"Virginia Port Authority","STATE","GOVERNMENT",5,2,null,null,null,null,null,null,true]
[null,"Virginia Department of Transportation","STATE","GOVERNMENT",5,2,null,null,null,null,null,null,true]
[null,"Crater Planning District Commission","STATE","GOVERNMENT",5,2,null,null,null,null,null,null,true]
[null,"George Washington Regional Commission","STATE","GOVERNMENT",5,2,null,null,null,null,null,null,{"$f":"AND(  NOT(ISERROR(FIND(UPPER($B$7),UPPER($B5198),1))),  OR($D$7=\"\",NOT(ISERROR(FIND(UPPER($D$7),UPPER($B5198),1)))),    OR($D$8=\"\",(ISERROR(FIND(UPPER($D$8),UPPER($B5198),1))))           )","v":true}]
[null,"Redondo Beach Water Quality Task Force","LOCAL","GOVERNMENT",5,1,null,null,null,null,null,null,true]
[null,"Valparaiso Sanitary District","LOCAL","GOVERNMENT",5,1,null,null,null,null,null,null,true]
[null,"Lake Michigan Coastal Program","REGIONAL","GOVERNMENT",5,3,null,null,null,null,null,null,true]
[null,"Indiana Department of Health","STATE","GOVERNMENT",5,2,null,null,null,null,null,null,true]
[null,"Portage Parks Department","LOCAL","GOVERNMENT",5,1,null,null,null,null,null,null,true]
[null,"Porter County Tourism","LOCAL","NGO",5,1,null,null,null,null,null,null,true]
[null,"University of Chicago","STATE","ACADEMIC INSTITUTION",5,2,null,null,null,null,null,null,true]
[null,"Calumet College","LOCAL","ACADEMIC INSTITUTION",5,1,null,null,null,null,null,null,true]
[null,"U.S. Representative Mike Thompson - California","FEDERAL or NATIONAL","GOVERNMENT",5,4,null,null,null,null,null,null,true]
[null,"U.S. Representative Frank Pallone, Jr. - New Jersey","FEDERAL or NATIONAL","GOVERNMENT",5,4,null,null,null,null,null,null,true]
[null,"U.S. House Committee on Transportation and Infrastructure - Subcommittee on Coast Guard and Maritime Transportation, Democratic Staff","FEDERAL or NATIONAL","GOVERNMENT",5,4,null,null,null,null,null,null,true]
[null,"U.S. Senator Maria Cantwell","FEDERAL or NATIONAL","GOVERNMENT",5,4,null,null,null,null,null,null,true]
[null,"U.S. House Committee on Natural Resources - Subcommittee on Fisheries, Wildlife, Oceans and Insular Affairs","FEDERAL or NATIONAL","GOVERNMENT",5,4,null,null,null,null,null,null,true]
[null,"NOAA Science Advisory Board (US DOC, NOAA)","FEDERAL or NATIONAL","GOVERNMENT",5,4,null,null,null,null,null,null,true]
[null,"U.S. Senator Barack Obama - Illinois","FEDERAL or NATIONAL","GOVERNMENT",5,4,null,null,null,null,null,null,true]
[null,"U.S. Senator Patty Murray - Washington","FEDERAL or NATIONAL","GOVERNMENT",5,4,null,null,null,null,null,null,true]
[null,"U.S. Representative Madeleine Bordallo - Guam","FEDERAL or NATIONAL","GOVERNMENT",5,4,null,null,null,null,null,null,true]
[null,"U.S. Senator Benjamin Cardin - Maryland","FEDERAL or NATIONAL","GOVERNMENT",5,4,null,null,null,null,null,null,true]
[null,"U.S. Representative Bill Cassidy - Louisiana","FEDERAL or NATIONAL","GOVERNMENT",5,4,null,null,null,null,null,null,true]
[null,"Oceanographer of the Navy (US DOD, NAVY)","FEDERAL or NATIONAL","GOVERNMENT",5,4,null,null,null,null,null,null,true]
[null,"Office of the Under Secretary (US DOC, NOAA)","FEDERAL or NATIONAL","GOVERNMENT",5,4,null,null,null,null,null,null,true]
[null,"Biogeography Program  (US DOC, NOAA, NOS, NCCOS, CCMA)","FEDERAL or NATIONAL","GOVERNMENT",5,4,null,null,null,null,null,null,true]
[null,"Budget Formulation and Analisys Division (US DOC, NOAA, OAR)","FEDERAL or NATIONAL","GOVERNMENT",5,4,null,null,null,null,null,null,true]
[null,"Climate Change and Coastal Zone Management Specialist, Risk Analysis Division (US DHS, FEMA)","FEDERAL or NATIONAL","GOVERNMENT",5,4,null,null,null,null,null,null,true]
[null,"Congressional Analysis and Relations Division  (US DOC, NOAA, OAR, CARD)","FEDERAL or NATIONAL","GOVERNMENT",5,4,null,null,null,null,null,null,true]
[null,"Division of Fisheries and Aquatic Resources Conservation (US DOI, FWS)","FEDERAL or NATIONAL","GOVERNMENT",5,4,null,null,null,null,null,null,true]
[null,"Ecosystem Research Program (US DOC, NOAA, OAR)","FEDERAL or NATIONAL","GOVERNMENT",5,4,null,null,null,null,null,null,true]
[null,"Engineering Research and Development Center (DoD, Army, USACE)","FEDERAL or NATIONAL","GOVERNMENT",5,4,null,null,null,null,null,null,true]
[null,"Federal Insurance and Mitigation Administration (US DHS, FEMA)","FEDERAL or NATIONAL","GOVERNMENT",5,4,null,null,null,null,null,null,true]
[null,"Ocean Acidification Program Office (US DOC, NOAA, OAR)","FEDERAL or NATIONAL","GOVERNMENT",5,4,null,null,null,null,null,null,true]
[null,"Office of Law Enforcement (US DOC, NOAA)","FEDERAL or NATIONAL","GOVERNMENT",5,4,null,null,null,null,null,null,true]
[null,"Office of Oceans and Polar Affairs (STATE)","FEDERAL or NATIONAL","GOVERNMENT",5,4,null,null,null,null,null,null,true]
[null,"Office of Policy and Program Analysis (US DHS, FEMA, OPPA)","FEDERAL or NATIONAL","GOVERNMENT",5,4,null,null,null,null,null,null,true]
[null,"Office of Strategic Plans (US DHS, Policy)","FEDERAL or NATIONAL","GOVERNMENT",5,4,null,null,null,null,null,null,true]
[null,"Office of the Assistant Administrator (US DOC, NOAA, OAR)","FEDERAL or NATIONAL","GOVERNMENT",5,4,null,null,null,null,null,null,true]
[null,"Saint Lawrence Seaway Development Corporation (US DOT)","FEDERAL or NATIONAL","GOVERNMENT",5,4,null,null,null,null,null,null,true]
[null,"Center for Sponsored Coastal Ocean Research - Coastal Ocean Program (US DOC, NOAA, NOS, NCCOS)","FEDERAL or NATIONAL","GOVERNMENT",5,4,null,null,null,null,null,null,true]
[null,"National Oceanographic Data Center (US DOC, NOAA, NESDIS, NODC)","FEDERAL or NATIONAL","GOVERNMENT",5,4,null,null,null,null,null,null,true]
[null,"Office of Science and Technology (US DOC, NOAA, NMFS)","FEDERAL or NATIONAL","GOVERNMENT",5,4,null,null,null,null,null,null,true]
[null,"Vieques Refuge Service","FEDERAL or NATIONAL","GOVERNMENT",5,4,null,null,null,null,null,null,true]
[null,"Puerto Rico Department of Education","STATE","GOVERNMENT",5,2,null,null,null,null,null,null,true]
[null,"Georgia Coastal Research Council","STATE","ACADEMIC INSTITUTION",5,2,null,null,null,null,null,null,true]
[null,"Southeast and Caribbean Regional Team (US DOC, NOAA, SECART)","FEDERAL or NATIONAL","GOVERNMENT",5,4,null,null,null,null,null,null,true]
[null,"National Aquaculture Association","FEDERAL or NATIONAL","NGO",5,4,null,null,null,null,null,null,true]
[null,"SEWEE Visitor and Environmental Education Center","LOCAL","GOVERNMENT",5,1,null,null,null,null,null,null,true]
[null,"South Carolina Department of Health and Environmental Control, Environmental Quality Control","STATE","GOVERNMENT",5,2,null,null,null,null,null,null,true]
[null,"Murray LaSaine Elementary School","LOCAL","ACADEMIC INSTITUTION",5,1,null,null,null,null,null,null,true]
[null,"James Island High School","LOCAL","ACADEMIC INSTITUTION",5,1,null,null,null,null,null,null,true]
[null,"Discovery Upcountry Carolina Association","STATE","NGO",5,2,null,null,null,null,null,null,true]
[null,"Southeast Regional Resiliency Initiative (SERRI)","REGIONAL","NGO",5,3,null,null,null,null,null,null,true]
[null,"Community and Regional Resiliency Initiative (CARRI)","REGIONAL","NGO",5,3,null,null,null,null,null,null,true]
[null,"South Carolina General Assembly","STATE","GOVERNMENT",5,2,null,null,null,null,null,null,true]
[null,"Southeast Biodiesel, Inc.","REGIONAL","INDUSTRY AND BUSINESS",5,3,null,null,null,null,null,null,true]
[null,"Waccamaw Watershed Academy","LOCAL","NGO",5,1,null,null,null,null,null,null,true]
[null,"Barnstable County Cape Cod Cooperative Extension","STATE","OTHER PARTNERS",5,2,null,null,null,null,null,null,true]
[null,"Broadkill Tributary Action Team","LOCAL","OTHER PARTNERS",5,1,null,null,null,null,null,null,true]
[null,"Cape Henlopen High School","LOCAL","ACADEMIC INSTITUTION",5,1,null,null,null,null,null,null,true]
[null,"Cheyney University Aquaculture Research & Education Center (PA)","REGIONAL","ACADEMIC INSTITUTION",5,3,null,null,null,null,null,null,true]
[null,"City of Lewes, DE Board of Public Works","LOCAL","GOVERNMENT",5,1,null,null,null,null,null,null,true]
[null,"Colby College","STATE","ACADEMIC INSTITUTION",5,2,null,null,null,null,null,null,true]
[null,"Division of Soil and Water, Delaware Coastal Program (DE DNREC )","STATE","GOVERNMENT",5,2,null,null,null,null,null,null,true]
[null,"Division of Water Resources, Environmental Lab Section (DE DNREC )","STATE","GOVERNMENT",5,2,null,null,null,null,null,null,true]
[null,"Coastal Training Program, Delaware National Estuarine Research Reserve (DNERR, DE DNREC, US DOC, NOAA, NOS, NERRS)","STATE","GOVERNMENT",5,2,null,null,null,null,null,null,true]
[null,"Delaware Department of Agriculture","STATE","GOVERNMENT",5,2,null,null,null,null,null,null,true]
[null,"Delaware Forest Service","STATE","GOVERNMENT",5,2,null,null,null,null,null,null,true]
[null,"Delaware Invasive Species Council","STATE","OTHER PARTNERS",5,2,null,null,null,null,null,null,true]
[null,"Delaware National Estuarine Research Reserve","STATE","GOVERNMENT",5,2,null,null,null,null,null,null,true]
[null,"Delaware River and Bay Authority","STATE","OTHER PARTNERS",5,2,null,null,null,null,null,null,true]
[null,"Delmarva Emergency Task Force","REGIONAL","OTHER PARTNERS",5,3,null,null,null,null,null,null,true]
[null,"First State Chefs Association","STATE","OTHER PARTNERS",5,2,null,null,null,null,null,null,true]
[null,"GeoAcoustics Ltd., Great Yarmouth, United Kingdom","INTERNATIONAL","INDUSTRY AND BUSINESS",5,5,null,null,null,null,null,null,true]
[null,"Hafmynd ehf, Reykjavik, Iceland","INTERNATIONAL","INDUSTRY AND BUSINESS",5,5,null,null,null,null,null,null,true]
[null,"Lower Delaware Bay","STATE","OTHER PARTNERS",5,2,null,null,null,null,null,null,true]
[null,"Milton Community Foundation","LOCAL","OTHER PARTNERS",5,1,null,null,null,null,null,null,true]
[null,"National Biodiesel Board","Unknown","INDUSTRY AND BUSINESS",5,0,null,null,null,null,null,null,true]
[null,"NOAA Environmental Cooperative Science Center","FEDERAL or NATIONAL","GOVERNMENT",5,4,null,null,null,null,null,null,true]
[null,"Port of Wilmington","STATE","INDUSTRY AND BUSINESS",5,2,null,null,null,null,null,null,true]
[null,"Southern Delaware Tourism","STATE","GOVERNMENT",5,2,null,null,null,null,null,null,true]
[null,"Sussex County Government","LOCAL","GOVERNMENT",5,1,null,null,null,null,null,null,true]
[null,"The Abell Foundation","REGIONAL","Unknown",5,3,null,null,null,null,null,null,true]
[null,"Toby Island Bay Oysters","REGIONAL","INDUSTRY AND BUSINESS",5,3,null,null,null,null,null,null,true]
[null,"Town of Millville, DE","LOCAL","GOVERNMENT",5,1,null,null,null,null,null,null,true]
[null,"Town of Milton, de","LOCAL","GOVERNMENT",5,1,null,null,null,null,null,null,true]
[null,"University of Delaware Institute of Public Administration, Water Resources Agency (UDEL)","LOCAL","ACADEMIC INSTITUTION",5,1,null,null,null,null,null,null,true]
[null,"West Virginia University,Cooperative Extension Service (WVU)","REGIONAL","ACADEMIC INSTITUTION",5,3,null,null,null,null,null,null,true]
[null,"Buffalo Niagara Riverkeepers","REGIONAL","NGO",5,3,null,null,null,null,null,null,true]
[null,"Cayuga community college","LOCAL","ACADEMIC INSTITUTION",5,1,null,null,null,null,null,null,true]
[null,"Clarkson university","LOCAL","ACADEMIC INSTITUTION",5,1,null,null,null,null,null,null,true]
[null,"Empire State Development","STATE","GOVERNMENT",5,2,null,null,null,null,null,null,true]
[null,"ERIE II BOCES","LOCAL","ACADEMIC INSTITUTION",5,1,null,null,null,null,null,null,true]
[null,"First Coastal Corporation","LOCAL","INDUSTRY AND BUSINESS",5,1,null,null,null,null,null,null,true]
[null,"Global Computer Systems/ Xiacon (Web site Content Management System)","LOCAL","INDUSTRY AND BUSINESS",5,1,null,null,null,null,null,null,true]
[null,"Jonamac Productions, Ltd. (Videography)","LOCAL","INDUSTRY AND BUSINESS",5,1,null,null,null,null,null,null,true]
[null,"LC Graphics (Graphic designer)","LOCAL","INDUSTRY AND BUSINESS",5,1,null,null,null,null,null,null,true]
[null,"Local Ocean Seafood Restaurant","LOCAL","INDUSTRY AND BUSINESS",5,1,null,null,null,null,null,null,true]
[null,"Long Island Regional Planning Board","REGIONAL","GOVERNMENT",5,3,null,null,null,null,null,null,true]
[null,"Marine Resources Advisory Council","LOCAL","GOVERNMENT",5,1,null,null,null,null,null,null,true]
[null,"Memorial University of Newfoundland","INTERNATIONAL","ACADEMIC INSTITUTION",5,5,null,null,null,null,null,null,true]
[null,"New York Fishing Tackle Trade Association","STATE","INDUSTRY AND BUSINESS",5,2,null,null,null,null,null,null,true]
[null,"New York State Department of Transportation (NY DOT)","STATE","GOVERNMENT",5,2,null,null,null,null,null,null,true]
[null,"New York State Invasive Species Research Institute","LOCAL","ACADEMIC INSTITUTION",5,1,null,null,null,null,null,null,true]
[null,"NY Sportfishing Federation","STATE","INDUSTRY AND BUSINESS",5,2,null,null,null,null,null,null,true]
[null,"Orleans County Marine Park","LOCAL","GOVERNMENT",5,1,null,null,null,null,null,null,true]
[null,"Save the Sound","REGIONAL","NGO",5,3,null,null,null,null,null,null,true]
[null,"Sysco Food Services","LOCAL","INDUSTRY AND BUSINESS",5,1,null,null,null,null,null,null,true]
[null,"Town of Oyster Bay, NY","LOCAL","GOVERNMENT",5,1,null,null,null,null,null,null,true]
[null,"Wading River Central School District","LOCAL","ACADEMIC INSTITUTION",5,1,null,null,null,null,null,null,true]
[null,"Michigan Department of Energy (MI DOE)","STATE","GOVERNMENT",5,2,null,null,null,null,null,null,true]
[null,"Technical University Braunschweig","INTERNATIONAL","ACADEMIC INSTITUTION",5,5,null,null,null,null,null,null,true]
[null,"Calapooia Watershed Council","REGIONAL","GOVERNMENT",5,3,null,null,null,null,null,null,true]
[null,"Nehalem Marine Manufacturing","LOCAL","INDUSTRY AND BUSINESS",5,1,null,null,null,null,null,null,true]
[null,"Oregon Department of Forestry-Urban Forestry Program","STATE","GOVERNMENT",5,2,null,null,null,null,null,null,true]
[null,"Oregon Seed Council","STATE","GOVERNMENT",5,2,null,null,null,null,null,null,true]
[null,"Oregon State University, College of Oceanic & Atmospheric Sciences (OSU)","STATE","ACADEMIC INSTITUTION",5,2,null,null,null,null,null,null,true]
[null,"Snohomish County, WA","LOCAL","GOVERNMENT",5,1,null,null,null,null,null,null,true]
[null,"The Boeing Company","INTERNATIONAL","INDUSTRY AND BUSINESS",5,5,null,null,null,null,null,null,true]
[null,"Coral Triangle Partnership","INTERNATIONAL","GOVERNMENT",5,5,null,null,null,null,null,null,true]
[null,"Town of Waterford, CT","LOCAL","GOVERNMENT",5,1,null,null,null,null,null,null,true]
[null,"Lynde Point Land Trust","LOCAL","NGO",5,1,null,null,null,null,null,null,true]
[null,"Freshwater Farms of Ohio","REGIONAL","INDUSTRY AND BUSINESS",5,3,null,null,null,null,null,null,true]
[null,"Champaign Public Library","LOCAL","GOVERNMENT",5,1,null,null,null,null,null,null,{"$f":"AND(  NOT(ISERROR(FIND(UPPER($B$7),UPPER($B5582),1))),  OR($D$7=\"\",NOT(ISERROR(FIND(UPPER($D$7),UPPER($B5582),1)))),    OR($D$8=\"\",(ISERROR(FIND(UPPER($D$8),UPPER($B5582),1))))           )","v":true}]
[null,"Forest Preserve District of Lake County","LOCAL","GOVERNMENT",5,1,null,null,null,null,null,null,true]
[null,"Anita Purves Nature Center","LOCAL","GOVERNMENT",5,1,null,null,null,null,null,null,true]
[null,"Prairie Rivers Network","STATE","NGO",5,2,null,null,null,null,null,null,true]
[null,"Northeastern Illinois University","STATE","ACADEMIC INSTITUTION",5,2,null,null,null,null,null,null,true]
[null,"Streator Police Department (MCP) --IL","LOCAL","GOVERNMENT",5,1,null,null,null,null,null,null,true]
[null,"Johnsburg Police Department (MCP) --IL","LOCAL","GOVERNMENT",5,1,null,null,null,null,null,null,true]
[null,"Kendall County Solid Waste District","LOCAL","GOVERNMENT",5,1,null,null,null,null,null,null,true]
[null,"Merrillville Community School Corporation","LOCAL","GOVERNMENT",5,1,null,null,null,null,null,null,true]
[null,"Munster Schools","LOCAL","GOVERNMENT",5,1,null,null,null,null,null,null,true]
[null,"Urbana Free Library","LOCAL","GOVERNMENT",5,1,null,null,null,null,null,null,true]
[null,"Kudrna & Associates","STATE","INDUSTRY AND BUSINESS",5,2,null,null,null,null,null,null,true]
[null,"Chicago Metropolis 2020","LOCAL","INDUSTRY AND BUSINESS",5,1,null,null,null,null,null,null,true]
[null,"LaPorte County Parks","LOCAL","GOVERNMENT",5,1,null,null,null,null,null,null,true]
[null,"Lake Superior Maritime Visitors Center","LOCAL","OTHER PARTNERS",5,1,null,null,null,null,null,null,true]
[null,"Toyota H2O Water Quality Initiative","LOCAL","INDUSTRY AND BUSINESS",5,1,null,null,null,null,null,null,true]
[null,"Oakland University","STATE","ACADEMIC INSTITUTION",5,2,null,null,null,null,null,null,true]
[null,"Wayne County, MI","LOCAL","GOVERNMENT",5,1,null,null,null,null,null,null,true]
[null,"Fishtown Preservation Society","LOCAL","NGO",5,1,null,null,null,null,null,null,true]
[null,"Ludington Area Charter Association","LOCAL","NGO",5,1,null,null,null,null,null,null,true]
[null,"Lawrence Technological University","STATE","ACADEMIC INSTITUTION",5,2,null,null,null,null,null,null,{"$f":"AND(  NOT(ISERROR(FIND(UPPER($B$7),UPPER($B5646),1))),  OR($D$7=\"\",NOT(ISERROR(FIND(UPPER($D$7),UPPER($B5646),1)))),    OR($D$8=\"\",(ISERROR(FIND(UPPER($D$8),UPPER($B5646),1))))           )","v":true}]
[null,"Legends of the Lakes Cooperative","STATE","INDUSTRY AND BUSINESS",5,2,null,null,null,null,null,null,true]
[null,"Old Woman Creek National Estuarine Research Reserve (US DOC, NOAA, NOS, NERRS)","STATE","GOVERNMENT",5,2,null,null,null,null,null,null,true]
[null,"Alger County, MI","LOCAL","GOVERNMENT",5,1,null,null,null,null,null,null,true]
[null,"Sylvan Lake Association","LOCAL","NGO",5,1,null,null,null,null,null,null,true]
[null,"Waterford Township","LOCAL","GOVERNMENT",5,1,null,null,null,null,null,null,true]
[null,"Riverside Kayak Connection ","LOCAL","INDUSTRY AND BUSINESS",5,1,null,null,null,null,null,null,true]
[null,"Consumers Energy","STATE","INDUSTRY AND BUSINESS",5,2,null,null,null,null,null,null,true]
[null,"Michigan Township Services","STATE","GOVERNMENT",5,2,null,null,null,null,null,null,true]
[null,"Indiana Coastal Management Program","STATE","GOVERNMENT",5,2,null,null,null,null,null,null,true]
[null,"City of Marquette, MI","LOCAL","GOVERNMENT",5,1,null,null,null,null,null,null,true]
[null,"Archer Daniels Midland","INTERNATIONAL","NGO",5,5,null,null,null,null,null,null,true]
[null,"LaPorte County, IN","LOCAL","GOVERNMENT",5,1,null,null,null,null,null,null,true]
[null,"City of Hammond, IN","LOCAL","GOVERNMENT",5,1,null,null,null,null,null,null,true]
[null,"NASCO","FEDERAL or NATIONAL","INDUSTRY AND BUSINESS",5,4,null,null,null,null,null,null,true]
[null,"Girl Scouts of the USA","FEDERAL or NATIONAL","NGO",5,4,null,null,null,null,null,null,true]
[null,"Texas State Aquarium","STATE","NGO",5,2,null,null,null,null,null,null,true]
[null,"Galveston Bay Estuary Program","STATE","NGO",5,2,null,null,null,null,null,null,true]
[null,"Coastal Bend Bays and Estuaries Program","STATE","NGO",5,2,null,null,null,null,null,null,true]
[null,"Living Oceans Foundation","INTERNATIONAL","NGO",5,5,null,null,null,null,null,null,true]
[null,"Institute for Electrical and Electronics Engineers (IEEE)","INTERNATIONAL","NGO",5,5,null,null,null,null,null,null,true]
[null,"Marine Technology Society, Houston Section","LOCAL","INDUSTRY AND BUSINESS",5,1,null,null,null,null,null,null,true]
[null,"Texas Aquaculture Association","STATE","INDUSTRY AND BUSINESS",5,2,null,null,null,null,null,null,true]
[null,"Vietnamese Shrimp Association","LOCAL","INDUSTRY AND BUSINESS",5,1,null,null,null,null,null,null,true]
[null,"Galveston County, TX","LOCAL","GOVERNMENT",5,1,null,null,null,null,null,null,true]
[null,"St. Anthony's Catholic Church, Palacios, Texas","LOCAL","OTHER PARTNERS",5,1,null,null,null,null,null,null,true]
[null,"Calhoun County Independent School District , TX","LOCAL","ACADEMIC INSTITUTION",5,1,null,null,null,null,null,null,true]
[null,"Mathis Independent School District , TX","LOCAL","ACADEMIC INSTITUTION",5,1,null,null,null,null,null,null,true]
[null,"Alice Independent School District , TX","LOCAL","ACADEMIC INSTITUTION",5,1,null,null,null,null,null,null,true]
[null,"Gregory-Portland Independent School District , TX","LOCAL","ACADEMIC INSTITUTION",5,1,null,null,null,null,null,null,true]
[null,"Tide Marine Supply","REGIONAL","INDUSTRY AND BUSINESS",5,3,null,null,null,null,null,null,true]
[null,"Matagorda County, TX","LOCAL","GOVERNMENT",5,1,null,null,null,null,null,null,true]
[null,"Sheldon Lake State Park (TPWD)","STATE","GOVERNMENT",5,2,null,null,null,null,null,null,true]
[null,"Armand Bayou Nature Center","LOCAL","NGO",5,1,null,null,null,null,null,null,true]
[null,"Galveston Bay Foundation","LOCAL","NGO",5,1,null,null,null,null,null,null,true]
[null,"Texas City Prairie Preserve (The Nature Conservancy)","LOCAL","NGO",5,1,null,null,null,null,null,null,true]
[null,"Tule Creek Watershed","LOCAL","NGO",5,1,null,null,null,null,null,null,true]
[null,"Matagorda Island National Wildlife Refuge (US DOI, FWS, NWRS)","FEDERAL or NATIONAL","GOVERNMENT",5,4,null,null,null,null,null,null,true]
[null,"City of League City, TX","LOCAL","GOVERNMENT",5,1,null,null,null,null,null,null,true]
[null,"Harris County Public Infrastructure Department","LOCAL","GOVERNMENT",5,1,null,null,null,null,null,null,true]
[null,"Coastal Prairie Partnership","REGIONAL","NGO",5,3,null,null,null,null,null,null,true]
[null,"Bayou Land Conservancy","LOCAL","NGO",5,1,null,null,null,null,null,null,true]
[null,"Placeways LLC","INTERNATIONAL","INDUSTRY AND BUSINESS",5,5,null,null,null,null,null,null,true]
[null,"Clear Lake City Water Authority","LOCAL","GOVERNMENT",5,1,null,null,null,null,null,null,true]
[null,"City of Texas City, TX","LOCAL","GOVERNMENT",5,1,null,null,null,null,null,null,true]
[null,"Jacob and Terese Hershey Foundation","LOCAL","NGO",5,1,null,null,null,null,null,null,true]
[null,"Rice Design Alliance","LOCAL","NGO",5,1,null,null,null,null,null,null,true]
[null,"Harris Galveston Subsidence District","LOCAL","GOVERNMENT",5,1,null,null,null,null,null,null,true]
[null,"City of Houston, TX","LOCAL","GOVERNMENT",5,1,null,null,null,null,null,null,true]
[null,"Bayou Bend (Museum of Fine Arts, Houston)","LOCAL","NGO",5,1,null,null,null,null,null,null,true]
[null,"Albemarle Corporation","INTERNATIONAL","INDUSTRY AND BUSINESS",5,5,null,null,null,null,null,null,true]
[null,"City of Shore Acres, TX","LOCAL","GOVERNMENT",5,1,null,null,null,null,null,null,true]
[null,"City of Seabrook, TX","LOCAL","GOVERNMENT",5,1,null,null,null,null,null,null,true]
[null,"Antique Rose Emporium","STATE","INDUSTRY AND BUSINESS",5,2,null,null,null,null,null,null,true]
[null,"Houston Arboretum","LOCAL","NGO",5,1,null,null,null,null,null,null,true]
[null,"The Woodlands Environmental Services Center","LOCAL","GOVERNMENT",5,1,null,null,null,null,null,null,true]
[null,"Dickinson Independent School District, TX","LOCAL","ACADEMIC INSTITUTION",5,1,null,null,null,null,null,null,true]
[null,"Bryan Independent School District, TX","LOCAL","ACADEMIC INSTITUTION",5,1,null,null,null,null,null,null,true]
[null,"Guadalupe-Blanco River Trust","LOCAL","NGO",5,1,null,null,null,null,null,null,true]
[null,"Texas Division of Emergency Management, Texas Department of Public Safety","STATE","GOVERNMENT",5,2,null,null,null,null,null,null,true]
[null,"Innovation Academy","LOCAL","ACADEMIC INSTITUTION",5,1,null,null,null,null,null,null,true]
[null,"National Association of County Agriculture Agents","FEDERAL or NATIONAL","GOVERNMENT",5,4,null,null,null,null,null,null,true]
[null,"Port Lavaca Chamber of Commerce","LOCAL","INDUSTRY AND BUSINESS",5,1,null,null,null,null,null,null,true]
[null,"Rockport-Fulton Area Chamber of Commerce","LOCAL","INDUSTRY AND BUSINESS",5,1,null,null,null,null,null,null,true]
[null,"South Texas Sailboats","LOCAL","INDUSTRY AND BUSINESS",5,1,null,null,null,null,null,null,true]
[null,"Texas Department of Agriculture","STATE","GOVERNMENT",5,2,null,null,null,null,null,null,true]
[null,"Northern Indiana Regional Planning Commission (NIRPC)","STATE","GOVERNMENT",5,2,null,null,null,null,null,null,true]
[null,"Office of Weather and Air Quality (US DOC, NOAA, OAR, OWAQ)","NULL","GOVERNMENT",5,"NULL",null,null,null,null,null,null,true]
[null,"Extension and Universities in OH ","REGIONAL","ACADEMIC INSTITUTION",5,3,null,null,null,null,null,null,true]
[null,"Great Lakes Maritime Research Institute (GLMRI)","REGIONAL","ACADEMIC INSTITUTION",5,3,null,null,null,null,null,null,true]
[null,"Osher Lifelong Learning Institute","LOCAL","ACADEMIC INSTITUTION",5,1,null,null,null,null,null,null,true]
[null,"St. Anthony Falls Laboratory","LOCAL","ACADEMIC INSTITUTION",5,1,null,null,null,null,null,null,true]
[null,"University of Minnesota, Duluth, Department of Communications (UMD)","LOCAL","ACADEMIC INSTITUTION",5,1,null,null,null,null,null,null,true]
[null,"University of Minnesota, Clean Energy Resource Team (UMN)","REGIONAL","ACADEMIC INSTITUTION",5,3,null,null,null,null,null,null,true]
[null,"University of Minnesota, Department of Soil, Water, and Climate (UMN)","LOCAL","ACADEMIC INSTITUTION",5,1,null,null,null,null,null,null,true]
[null,"University of Minnesota, Extension for Food, Agricultural and Natural Resouces Sciences (UMN, EFANS)","REGIONAL","ACADEMIC INSTITUTION",5,3,null,null,null,null,null,null,true]
[null,"University of Minnesota, Institute on the Environment (UMN)","REGIONAL","ACADEMIC INSTITUTION",5,3,null,null,null,null,null,null,true]
[null,"Partners in Education, GLA","LOCAL","ACADEMIC INSTITUTION",5,1,null,null,null,null,null,null,true]
[null,"Cook County, MN Soil and Water Conservation District","LOCAL","GOVERNMENT",5,1,null,null,null,null,null,null,true]
[null,"Hubbard County, MN Coalition of Lake Associations","LOCAL","GOVERNMENT",5,1,null,null,null,null,null,null,true]
[null,"Minnehaha Creek Watershed District","LOCAL","GOVERNMENT",5,1,null,null,null,null,null,null,true]
[null,"Mississippi River Watershed Management Organization","REGIONAL","GOVERNMENT",5,3,null,null,null,null,null,null,true]
[null,"Pelican Lake Property Owners Association","LOCAL","NGO",5,1,null,null,null,null,null,null,true]
[null,"Ramsey Washington Metro Watershed District","LOCAL","GOVERNMENT",5,1,null,null,null,null,null,null,true]
[null,"Minnesota DNR Invasive Species Education Planning Committee","STATE","GOVERNMENT",5,2,null,null,null,null,null,null,true]
[null,"City of Duluth, MN Housing and Redevelopment Authority","LOCAL","GOVERNMENT",5,1,null,null,null,null,null,null,true]
[null,"Cabin Life Magazine","REGIONAL","INDUSTRY AND BUSINESS",5,3,null,null,null,null,null,null,true]
[null,"College of Exploration","LOCAL","INDUSTRY AND BUSINESS",5,1,null,null,null,null,null,null,true]
[null,"Great Lakes Fleet, Inc.","REGIONAL","INDUSTRY AND BUSINESS",5,3,null,null,null,null,null,null,true]
[null,"Lake Superior Magazine","LOCAL","INDUSTRY AND BUSINESS",5,1,null,null,null,null,null,null,true]
[null,"St. Lawrence Seaway Development Corporation","INTERNATIONAL","INDUSTRY AND BUSINESS",5,5,null,null,null,null,null,null,true]
[null,"Vista Fleet - River Quest","LOCAL","INDUSTRY AND BUSINESS",5,1,null,null,null,null,null,null,true]
[null,"North America Media Group","FEDERAL or NATIONAL","INDUSTRY AND BUSINESS",5,4,null,null,null,null,null,null,true]
[null,"LHB, Inc.","LOCAL","INDUSTRY AND BUSINESS",5,1,null,null,null,null,null,null,true]
[null,"Architecture Advantage","LOCAL","INDUSTRY AND BUSINESS",5,1,null,null,null,null,null,null,true]
[null,"Jamar","LOCAL","INDUSTRY AND BUSINESS",5,1,null,null,null,null,null,null,true]
[null,"Canadian Green Marine Program","INTERNATIONAL","NGO",5,5,null,null,null,null,null,null,true]
[null,"Duluth Boat Club ","LOCAL","NGO",5,1,null,null,null,null,null,null,true]
[null,"Great Lakes Education Collaborative","REGIONAL","NGO",5,3,null,null,null,null,null,null,true]
[null,"Great Lakes Observing System Regional Alliance","REGIONAL","NGO",5,3,null,null,null,null,null,null,true]
[null,"Lake Superior Days Planning Committee","LOCAL","NGO",5,1,null,null,null,null,null,null,true]
[null,"Save Lake Superior Association","REGIONAL","NGO",5,3,null,null,null,null,null,null,true]
[null,"U.S. Great Lakes Maritime Task Force and Its Member Groups","REGIONAL","NGO",5,3,null,null,null,null,null,null,true]
[null,"White Iron Chain of Lakes Association","LOCAL","NGO",5,1,null,null,null,null,null,null,true]
[null,"Living Green Conference","LOCAL","NGO",5,1,null,null,null,null,null,null,true]
[null,"Habitattitude Campaign","REGIONAL","NGO",5,3,null,null,null,null,null,null,true]
[null,"Great Lakes AIS Education Stewardship Network","REGIONAL","NGO",5,3,null,null,null,null,null,null,true]
[null,"Geographic Alliance of Minnesota","STATE","NGO",5,2,null,null,null,null,null,null,true]
[null,"Arrowhead Builder's Association","LOCAL","NGO",5,1,null,null,null,null,null,null,true]
[null,"Moccassin Telegraph","LOCAL","OTHER PARTNERS",5,1,null,null,null,null,null,null,true]
[null,"AIS Stakeholder Team/MNDNR","STATE","OTHER PARTNERS",5,2,null,null,null,null,null,null,true]
[null,"Big Island Abalone","REGIONAL","INDUSTRY AND BUSINESS",5,3,null,null,null,null,null,null,true]
[null,"Columbia River Tribes","Tribal","GOVERNMENT",5,13,null,null,null,null,null,null,true]
[null,"Kennedy Alternative High School","LOCAL","ACADEMIC INSTITUTION",5,1,null,null,null,null,null,null,true]
[null,"Lane Community College","LOCAL","ACADEMIC INSTITUTION",5,1,null,null,null,null,null,null,true]
[null,"Ocean Conservation & Education Alliance Northwest (OCEAN)","REGIONAL","NGO",5,3,null,null,null,null,null,null,true]
[null,"Oregon State University, Extension (OSU)","STATE","ACADEMIC INSTITUTION",5,2,null,null,null,null,null,null,true]
[null,"Santiam Wilderness Academy","LOCAL","OTHER PARTNERS",5,1,null,null,null,null,null,null,true]
[null,"The Coastal Caucus","STATE","GOVERNMENT",5,2,null,null,null,null,null,null,true]
[null,"Warm Springs Tribe","Tribal","GOVERNMENT",5,13,null,null,null,null,null,null,true]
[null,"Choctaw Basin Alliance","REGIONAL","NGO",5,3,null,null,null,null,null,null,true]
[null,"BP Gulf of Mexico Research Initiative (BP GRI)","INTERNATIONAL","INDUSTRY AND BUSINESS",5,5,null,null,null,null,null,null,true]
[null,"State Farm","FEDERAL or NATIONAL","INDUSTRY AND BUSINESS",5,4,null,null,null,null,null,null,true]
[null,"Brandywine Valley Association","REGIONAL","NGO",5,3,null,null,null,null,null,null,true]
[null,"Erie County, PA Department of Planning","LOCAL","GOVERNMENT",5,1,null,null,null,null,null,null,true]
[null,"Lake Erie Allegheny Partnership","LOCAL","NGO",5,1,null,null,null,null,null,null,true]
[null,"City of Erie, PA School District","LOCAL","GOVERNMENT",5,1,null,null,null,null,null,null,true]
[null,"Lake Erie Arboretum at Frontier Park","LOCAL","INDUSTRY AND BUSINESS",5,1,null,null,null,null,null,null,true]
[null,"Texas State Soil and Water Conservation Board","STATE","GOVERNMENT",5,2,null,null,null,null,null,null,true]
[null,"Rhahamangala University of Technology, Tanyaburi (Thailand)","INTERNATIONAL","ACADEMIC INSTITUTION",5,5,null,null,null,null,null,null,true]
[null,"Total S.A.","INTERNATIONAL","INDUSTRY AND BUSINESS",5,5,null,null,null,null,null,null,true]
[null,"Cape Cod (US DOI, NPS)","FEDERAL or NATIONAL","GOVERNMENT",5,4,null,null,null,null,null,null,true]
[null,"Maine Department of Marine Resources","STATE","GOVERNMENT",5,2,null,null,null,null,null,null,true]
[null,"Massachusetts Division of Marine Fisheries","STATE","GOVERNMENT",5,2,null,null,null,null,null,null,true]
[null,"Massachusetts Water Resources Authority","REGIONAL","GOVERNMENT",5,3,null,null,null,null,null,null,true]
[null,"Boston Harbor Island Alliance","LOCAL","NGO",5,1,null,null,null,null,null,null,true]
[null,"Gloucester Maritime Heritage Center","LOCAL","OTHER PARTNERS",5,1,null,null,null,null,null,null,true]
[null,"New Bedford Working Waterfront Festival","LOCAL","OTHER PARTNERS",5,1,null,null,null,null,null,null,true]
[null,"Northeast Coastal and Ocean Data Partnership","REGIONAL","OTHER PARTNERS",5,3,null,null,null,null,null,null,true]
[null,"Portsmouth Naval Shipyard","FEDERAL or NATIONAL","GOVERNMENT",5,4,null,null,null,null,null,null,true]
[null,"Cambridge Science Festival","LOCAL","NGO",5,1,null,null,null,null,null,null,true]
[null,"Massachusetts Institute of Technology, Public Service Center (MIT) ","LOCAL","ACADEMIC INSTITUTION",5,1,null,null,null,null,null,null,{"$f":"AND(  NOT(ISERROR(FIND(UPPER($B$7),UPPER($B6094),1))),  OR($D$7=\"\",NOT(ISERROR(FIND(UPPER($D$7),UPPER($B6094),1)))),    OR($D$8=\"\",(ISERROR(FIND(UPPER($D$8),UPPER($B6094),1))))           )","v":true}]
[null,"High Tech High","LOCAL","ACADEMIC INSTITUTION",5,1,null,null,null,null,null,null,true]
[null,"Minuteman High School","LOCAL","ACADEMIC INSTITUTION",5,1,null,null,null,null,null,null,true]
[null,"City of Newton, MA","LOCAL","GOVERNMENT",5,1,null,null,null,null,null,null,true]
[null,"Southfield School","LOCAL","ACADEMIC INSTITUTION",5,1,null,null,null,null,null,null,true]
[null,"Stoneham High School","LOCAL","ACADEMIC INSTITUTION",5,1,null,null,null,null,null,null,true]
[null,"Town of Swampscott, MA","LOCAL","GOVERNMENT",5,1,null,null,null,null,null,null,true]
[null,"Baltimore County Department of Environmental Protection, Regulation and Management","LOCAL","OTHER PARTNERS",5,1,null,null,null,null,null,null,true]
[null,"Ocean City Beach Patrol","STATE","NGO",5,2,null,null,null,null,null,null,true]
[null,"The Norcross Wildlife Foundation","Unknown","OTHER PARTNERS",5,0,null,null,null,null,null,null,true]
[null,"Jet Propulsion Laboratory (NASA)","FEDERAL or NATIONAL","GOVERNMENT",5,4,null,null,null,null,null,null,true]
[null,"Westerville City Schools","LOCAL","ACADEMIC INSTITUTION",5,1,null,null,null,null,null,null,true]
[null,"Office of Research and Technology Applications (US DOC, NOAA)","FEDERAL or NATIONAL","GOVERNMENT",5,4,null,null,null,null,null,null,true]
[null,"Alabama Association of State Floodplain Managers","STATE","GOVERNMENT",5,2,null,null,null,null,null,null,true]
[null,"Alabama Fish Farming Center","STATE","INDUSTRY AND BUSINESS",5,2,null,null,null,null,null,null,true]
[null,"Alabama Science Teachers Association","STATE","NGO",5,2,null,null,null,null,null,null,true]
[null,"Alta Pointe Health Systems ","STATE","NGO",5,2,null,null,null,null,null,null,true]
[null,"Audubon Bird Sanctuary, Dauphin Island","LOCAL","NGO",5,1,null,null,null,null,null,null,true]
[null,"Baldwin County Board of Education","LOCAL","GOVERNMENT",5,1,null,null,null,null,null,null,true]
[null,"Baldwin County Mental Health Center","LOCAL","NGO",5,1,null,null,null,null,null,null,true]
[null,"Barge, Waggoner, Sumner and Cannon, Inc.","STATE","INDUSTRY AND BUSINESS",5,2,null,null,null,null,null,null,{"$f":"AND(  NOT(ISERROR(FIND(UPPER($B$7),UPPER($B6158),1))),  OR($D$7=\"\",NOT(ISERROR(FIND(UPPER($D$7),UPPER($B6158),1)))),    OR($D$8=\"\",(ISERROR(FIND(UPPER($D$8),UPPER($B6158),1))))           )","v":true}]
[null,"Bayside Academy","LOCAL","ACADEMIC INSTITUTION",5,1,null,null,null,null,null,null,true]
[null,"Biloxi Public School District","LOCAL","ACADEMIC INSTITUTION",5,1,null,null,null,null,null,null,true]
[null,"Category X Coastal Consulting","LOCAL","INDUSTRY AND BUSINESS",5,1,null,null,null,null,null,null,true]
[null,"Citronelle High School","LOCAL","ACADEMIC INSTITUTION",5,1,null,null,null,null,null,null,true]
[null,"City of Daphne, AL","LOCAL","GOVERNMENT",5,1,null,null,null,null,null,null,true]
[null,"City of Long Beach, MS","LOCAL","GOVERNMENT",5,1,null,null,null,null,null,null,true]
[null,"City of Mobile Planning & Engineering Department","LOCAL","GOVERNMENT",5,1,null,null,null,null,null,null,true]
[null,"City of Mobile, Mayor's Office","LOCAL","GOVERNMENT",5,1,null,null,null,null,null,null,true]
[null,"City of Prichard, AL","LOCAL","GOVERNMENT",5,1,null,null,null,null,null,null,true]
[null,"City of Prichard Water and Sewer Board","LOCAL","GOVERNMENT",5,1,null,null,null,null,null,null,true]
[null,"Claude Peteet Mariculture Center","STATE","GOVERNMENT",5,2,null,null,null,null,null,null,true]
[null,"Coastal Conservation Association in Alabama","STATE","NGO",5,2,null,null,null,null,null,null,true]
[null,"Coastal Hazards Outreach Strategy Team (CHOST)","REGIONAL","GOVERNMENT",5,3,null,null,null,null,null,null,true]
[null,"Coastal Recovery Commission of Alabama","STATE","NGO",5,2,null,null,null,null,null,null,true]
[null,"Discovery Halls Programs, Dauphin Island Sea Lab","STATE","ACADEMIC INSTITUTION",5,2,null,null,null,null,null,null,true]
[null,"Distinctive Products, Inc. ","REGIONAL","INDUSTRY AND BUSINESS",5,3,null,null,null,null,null,null,true]
[null,"Dog River Marina","LOCAL","INDUSTRY AND BUSINESS",5,1,null,null,null,null,null,null,true]
[null,"Downtown Mobile Alliance","LOCAL","NGO",5,1,null,null,null,null,null,null,true]
[null,"Environmental Studies Center, Mobile County Public School System","LOCAL","ACADEMIC INSTITUTION",5,1,null,null,null,null,null,null,true]
[null,"Florida State University, School of Law (FSU)","STATE","ACADEMIC INSTITUTION",5,2,null,null,null,null,null,null,true]
[null,"Greene Prairie Shrimp Aquafarm","LOCAL","INDUSTRY AND BUSINESS",5,1,null,null,null,null,null,null,true]
[null,"Gulf Coast Resource Conservation and Development Council (RC&D)","LOCAL","NGO",5,1,null,null,null,null,null,null,true]
[null,"Gulf of Mexico Land Grant Cooperative Extension Programs","REGIONAL","GOVERNMENT",5,3,null,null,null,null,null,null,true]
[null,"Gulfport Central Middle School","LOCAL","ACADEMIC INSTITUTION",5,1,null,null,null,null,null,null,true]
[null,"Hancock County, MS","LOCAL","GOVERNMENT",5,1,null,null,null,null,null,null,true]
[null,"Homeport Marina ","LOCAL","INDUSTRY AND BUSINESS",5,1,null,null,null,null,null,null,true]
[null,"Laura Bowie Consulting ","REGIONAL","INDUSTRY AND BUSINESS",5,3,null,null,null,null,null,null,true]
[null,"Louisiana Governor’s Office of Homeland Security and Emergency Preparedness (GOHSEP) ","STATE","GOVERNMENT",5,2,null,null,null,null,null,null,true]
[null,"Master Marine","LOCAL","INDUSTRY AND BUSINESS",5,1,null,null,null,null,null,null,true]
[null,"Mississippi Coast Interfaith Disaster Task Force","LOCAL","NGO",5,1,null,null,null,null,null,null,true]
[null,"Mississippi Oil Spill Recovery Commission","STATE","GOVERNMENT",5,2,null,null,null,null,null,null,true]
[null,"Mobile Bay Audubon Society ","Unknown","Unknown",5,0,null,null,null,null,null,null,true]
[null,"Mobile County Engineering","Unknown","Unknown",5,0,null,null,null,null,null,null,true]
[null,"Mobile Press-Register","Unknown","Unknown",5,0,null,null,null,null,null,null,true]
[null,"National Disaster Preparedness Training Center ","Unknown","Unknown",5,0,null,null,null,null,null,null,true]
[null,"New Florida Girl Fishing Charters","Unknown","Unknown",5,0,null,null,null,null,null,null,true]
[null,"Northwest Rankin High School","Unknown","Unknown",5,0,null,null,null,null,null,null,true]
[null,"Office of Protected Species (US DOC, NOAA, NMFS)","Unknown","Unknown",5,0,null,null,null,null,null,null,true]
[null,"Pascagoula River Audubon Center","Unknown","Unknown",5,0,null,null,null,null,null,null,true]
[null,"Pearl River County","Unknown","Unknown",5,0,null,null,null,null,null,null,true]
[null,"Pontchartrain Institute for Environmental Sciences, University of New Orleans (PIES, UNO)","Unknown","Unknown",5,0,null,null,null,null,null,null,{"$f":"AND(  NOT(ISERROR(FIND(UPPER($B$7),UPPER($B6286),1))),  OR($D$7=\"\",NOT(ISERROR(FIND(UPPER($D$7),UPPER($B6286),1)))),    OR($D$8=\"\",(ISERROR(FIND(UPPER($D$8),UPPER($B6286),1))))           )","v":true}]
[null,"RAND Corporation ","Unknown","Unknown",5,0,null,null,null,null,null,null,true]
[null,"Roll-a-way ","Unknown","Unknown",5,0,null,null,null,null,null,null,true]
[null,"Science Systems and Applications, Inc. (SSAI)","Unknown","Unknown",5,0,null,null,null,null,null,null,true]
[null,"Share the Beach Sea Turtle Volunteer Program","Unknown","Unknown",5,0,null,null,null,null,null,null,true]
[null,"South Mississippi Red Cross","Unknown","Unknown",5,0,null,null,null,null,null,null,true]
[null,"Southeastern Wildlife Conservation Group","Unknown","Unknown",5,0,null,null,null,null,null,null,true]
[null,"Southern Climate Impacts and Planning Program","Unknown","Unknown",5,0,null,null,null,null,null,null,true]
[null,"Tennessee River Valley Association","Unknown","Unknown",5,0,null,null,null,null,null,null,true]
[null,"The Mississippi River Gulf of Mexico Watershed Nutrient and Hypoxia Task Force ","Unknown","Unknown",5,0,null,null,null,null,null,null,true]
[null,"Tonsmeire Properties","Unknown","Unknown",5,0,null,null,null,null,null,null,true]
[null,"University of Mississippi School of Law","Unknown","Unknown",5,0,null,null,null,null,null,null,true]
[null,"Wolf Bay Watershed Watch","Unknown","Unknown",5,0,null,null,null,null,null,null,true]
[null,"Zeke’s Marina","Unknown","Unknown",5,0,null,null,null,null,null,null,true]
[null,"University of Towson","STATE","ACADEMIC INSTITUTION",5,2,null,null,null,null,null,null,true]
[null,"Port of Baltimore","STATE","GOVERNMENT",5,2,null,null,null,null,null,null,true]
[null,"US Army Corps of Engineers, Waterways Experiment Station (DOD, Army, USACE, WES)","FEDERAL or NATIONAL","GOVERNMENT",5,4,null,null,null,null,null,null,true]
[null,"University of Maryland Agriculture & Resource Economic Department (UMD)","STATE","ACADEMIC INSTITUTION",5,2,null,null,null,null,null,null,true]
[null,"California Program for Regional Enhanced Monitoring for Phycotoxins","STATE","GOVERNMENT",5,2,null,null,null,null,null,null,true]
[null,"Ocean Advisory Commission","STATE","GOVERNMENT",5,2,null,null,null,null,null,null,true]
[null,"City of Marina del Rey, CA","LOCAL","GOVERNMENT",5,1,null,null,null,null,null,null,true]
[null,"Los Angeles, CA City Council","LOCAL","GOVERNMENT",5,1,null,null,null,null,null,null,true]
[null,"eXtension","FEDERAL or NATIONAL","NGO",5,4,null,null,null,null,null,null,true]
[null,"Farallones Marine Sanctuary Association","LOCAL","NGO",5,1,null,null,null,null,null,null,true]
[null,"San Diego Oceans Foundation","LOCAL","NGO",5,1,null,null,null,null,null,null,true]
[null,"Clean Up Stonington Harbors (CUSH)","LOCAL","NGO",5,1,null,null,null,null,null,null,true]
[null,"Analysis Group, Inc. (AG)","Unknown","INDUSTRY AND BUSINESS",5,0,null,null,null,null,null,null,true]
[null,"Guam Department of Aquatic and Wildlife Resources (GU DAWR)","STATE","GOVERNMENT",5,2,null,null,null,null,null,null,true]
[null,"Guam Department of Education (GDOE)","STATE","GOVERNMENT",5,2,null,null,null,null,null,null,true]
[null,"Guam Fisherman's Cooperative Association (GFCA)","LOCAL","NGO",5,1,null,null,null,null,null,null,true]
[null,"Guam Preservation Trust (GPT)","STATE","NGO",5,2,null,null,null,null,null,null,true]
[null,"Landscape Management Systems, Inc (LMS)","LOCAL","INDUSTRY AND BUSINESS",5,1,null,null,null,null,null,null,true]
[null,"Pacific Historic Parks","REGIONAL","GOVERNMENT",5,3,null,null,null,null,null,null,true]
[null,"Guam Soil & Water Conservation Districts","LOCAL","NGO",5,1,null,null,null,null,null,null,true]
[null,"University of Guam Land Grant","LOCAL","ACADEMIC INSTITUTION",5,1,null,null,null,null,null,null,true]
[null,"Village of Ordot Chalan Pago","LOCAL","NGO",5,1,null,null,null,null,null,null,true]
[null,"F/V Queen of Hearts","LOCAL","INDUSTRY AND BUSINESS",5,1,null,null,null,null,null,null,true]
[null,"MPA Monitoring Enterprise","LOCAL","NGO",5,1,null,null,null,null,null,null,true]
[null,"Santa Barbara Museum of Natural History: Sustainable Fisheries Program","LOCAL","NGO",5,1,null,null,null,null,null,null,true]
[null,"University of Aberdeen","STATE","ACADEMIC INSTITUTION",5,2,null,null,null,null,null,null,true]
[null,"Pacific Gas & Electric: Humboldt Bay Power Plant","REGIONAL","INDUSTRY AND BUSINESS",5,3,null,null,null,null,null,null,true]
[null,"Regional Integrated Sciences and Assessment Program (US DOC, NOAA, OAR, CPO, RISA)","FEDERAL or NATIONAL","GOVERNMENT",5,4,null,null,null,null,null,null,true]
[null,"Humboldt County Public Works","LOCAL","GOVERNMENT",5,1,null,null,null,null,null,null,true]
[null,"Town of Madison, CT","LOCAL","GOVERNMENT",5,1,null,null,null,null,null,null,true]
[null,"Anne Penniman Associates","LOCAL","INDUSTRY AND BUSINESS",5,1,null,null,null,null,null,null,true]
[null,"University of Rhode Island, Marine Affairs Department (URI)","STATE","ACADEMIC INSTITUTION",5,2,null,null,null,null,null,null,true]
[null,"University of Rhode Island, Dept. of Environmental & Resource Economics (URI)","STATE","ACADEMIC INSTITUTION",5,2,null,null,null,null,null,null,true]
[null,"Town of North Kingstown, RI","LOCAL","GOVERNMENT",5,1,null,null,null,null,null,null,true]
[null,"George’s Restaurant","LOCAL","INDUSTRY AND BUSINESS",5,1,null,null,null,null,null,null,true]
[null,"Bristol High School","LOCAL","ACADEMIC INSTITUTION",5,1,null,null,null,null,null,null,true]
[null,"International Seaweed Association","INTERNATIONAL","NGO",5,5,null,null,null,null,null,null,true]
[null,"The Kresge Foundation","Unknown","NGO",5,0,null,null,null,null,null,null,true]
[null,"Centers for Ocean Sciences Education Excellence, California (COSEE) ","LOCAL","ACADEMIC INSTITUTION",5,1,null,null,null,null,null,null,true]
[null,"Southwest Wetlands Interpretive Association","LOCAL","NGO",5,1,null,null,null,null,null,null,true]
[null,"Massachusetts Fishermen's Partnership","REGIONAL","NGO",5,3,null,null,null,null,null,null,true]
[null,"Singapore-MIT Alliance for Research and Technology (SMART)","INTERNATIONAL","ACADEMIC INSTITUTION",5,5,null,null,null,null,null,null,true]
[null,"TOTAL France","INTERNATIONAL","INDUSTRY AND BUSINESS",5,5,null,null,null,null,null,null,true]
[null,"Texas Festivals & Events Association","STATE","INDUSTRY AND BUSINESS",5,2,null,null,null,null,null,null,true]
[null,"EcoMetric, Inc.","LOCAL","INDUSTRY AND BUSINESS",5,1,null,null,null,null,null,null,true]
[null,"Shoals Marine Laboratory","LOCAL","NGO",5,1,null,null,null,null,null,null,true]
[null,"AquaBlok","LOCAL","INDUSTRY AND BUSINESS",5,1,null,null,null,null,null,null,true]
[null,"Martha's Vineyard/Dukes County Fishermen's Association","LOCAL","NGO",5,1,null,null,null,null,null,null,true]
[null,"Town of Tisbury, MA","LOCAL","GOVERNMENT",5,1,null,null,null,null,null,null,true]
[null,"Town of Aquinnah, MA","LOCAL","GOVERNMENT",5,1,null,null,null,null,null,null,true]
[null,"Energy & Environmental Analysts, Inc. (EEA Consultants)","Unknown","INDUSTRY AND BUSINESS",5,0,null,null,null,null,null,null,true]
[null,"Loyola Marymount University","STATE","ACADEMIC INSTITUTION",5,2,null,null,null,null,null,null,true]
[null,"Florida State University, Electric Ship Research and Development Consortium (FSU, CAPS, ESRDC)","STATE","ACADEMIC INSTITUTION",5,2,null,null,null,null,null,null,true]
[null,"Naval Surface Warfare Center","FEDERAL or NATIONAL","GOVERNMENT",5,4,null,null,null,null,null,null,true]
[null,"Castleton State College of Vermont","STATE","ACADEMIC INSTITUTION",5,2,null,null,null,null,null,null,true]
[null,"California Academy of Sciences","STATE","ACADEMIC INSTITUTION",5,2,null,null,null,null,null,null,true]
[null,"National Scenic Byways (NSB) Program","FEDERAL or NATIONAL","GOVERNMENT",5,4,null,null,null,null,null,null,true]
[null,"Cooke Aquaculture","Unknown","INDUSTRY AND BUSINESS",5,0,null,null,null,null,null,null,true]
[null,"NOAA Sector Applications Research Program (US DOC, NOAA, OAR, CPO, SARP)","FEDERAL or NATIONAL","GOVERNMENT",5,4,null,null,null,null,null,null,true]
[null,"Atlantic Coastal Cooperative Statistics Program (ACCSP)","REGIONAL","GOVERNMENT",5,3,null,null,null,null,null,null,true]
[null,"Maine Tidal Power Initiative","STATE","NGO",5,2,null,null,null,null,null,null,true]
[null,"City of Southold, CT","LOCAL","GOVERNMENT",5,1,null,null,null,null,null,null,true]
[null,"San Gabriel River Regional Monitoring Program","LOCAL","NGO",5,1,null,null,null,null,null,null,true]
[null,"Mills College","LOCAL","ACADEMIC INSTITUTION",5,1,null,null,null,null,null,null,true]
[null,"Hancock County, ME Emergency Management Team","LOCAL","GOVERNMENT",5,1,null,null,null,null,null,null,true]
[null,"Town of Newington, NH","LOCAL","GOVERNMENT",5,1,null,null,null,null,null,null,true]
[null,"Phillips Exeter Academy","LOCAL","ACADEMIC INSTITUTION",5,1,null,null,null,null,null,null,true]
[null,"University of New Hampshire, Environmental Research Group (UNH)","STATE","ACADEMIC INSTITUTION",5,2,null,null,null,null,null,null,true]
[null,"Alaska Center for Climate Assessment and Policy (ACCAP)","STATE","GOVERNMENT",5,2,null,null,null,null,null,null,true]
[null,"Institute for Broadening Participation","Unknown","Unknown",5,0,null,null,null,null,null,null,true]
[null,"Georgia Coastal Education Group (GCEG)","STATE","NGO",5,2,null,null,null,null,null,null,true]
[null,"Golden Isles Convention & Visitors Bureau","LOCAL","GOVERNMENT",5,1,null,null,null,null,null,null,true]
[null,"Butler University","STATE","ACADEMIC INSTITUTION",5,2,null,null,null,null,null,null,true]
[null,"State University of West Georgia","STATE","ACADEMIC INSTITUTION",5,2,null,null,null,null,null,null,true]
[null,"Cajun Shrimp","Unknown","INDUSTRY AND BUSINESS",5,0,null,null,null,null,null,null,true]
[null,"T & T International","Unknown","INDUSTRY AND BUSINESS",5,0,null,null,null,null,null,null,true]
[null,"Buckhead Beef","Unknown","INDUSTRY AND BUSINESS",5,0,null,null,null,null,null,null,true]
[null,"Prime Meats","Unknown","INDUSTRY AND BUSINESS",5,0,null,null,null,null,null,null,true]
[null,"destiny Organics","Unknown","INDUSTRY AND BUSINESS",5,0,null,null,null,null,null,null,true]
[null,"Blue Marline Atlantic International","Unknown","INDUSTRY AND BUSINESS",5,0,null,null,null,null,null,null,true]
[null,"Sea Watch International","INTERNATIONAL","NGO",5,5,null,null,null,null,null,null,true]
[null,"Alabama Department of Public Health (ADPH)","STATE","GOVERNMENT",5,2,null,null,null,null,null,null,true]
[null,"Ogeechee Riverkeeper","Unknown","NGO",5,0,null,null,null,null,null,null,true]
[null,"Georgia Associaiton of marine Educators","STATE","NGO",5,2,null,null,null,null,null,null,true]
[null,"Associaton of Food & Drug Officials","Unknown","NGO",5,0,null,null,null,null,null,null,true]
[null,"Georgia Restaurant Association","STATE","INDUSTRY AND BUSINESS",5,2,null,null,null,null,null,null,true]
[null,"Southeastern Fisheries Association","Unknown","INDUSTRY AND BUSINESS",5,0,null,null,null,null,null,null,{"$f":"AND(  NOT(ISERROR(FIND(UPPER($B$7),UPPER($B6606),1))),  OR($D$7=\"\",NOT(ISERROR(FIND(UPPER($D$7),UPPER($B6606),1)))),    OR($D$8=\"\",(ISERROR(FIND(UPPER($D$8),UPPER($B6606),1))))           )","v":true}]
[null,"Gulf & South Atlantic Fisheries Foundation","Unknown","INDUSTRY AND BUSINESS",5,0,null,null,null,null,null,null,true]
[null,"Southern Risk Management Center, Univ. of Ark.","Unknown","INDUSTRY AND BUSINESS",5,0,null,null,null,null,null,null,true]
[null,"Knight Seafood","Unknown","INDUSTRY AND BUSINESS",5,0,null,null,null,null,null,null,true]
[null,"Thompson Seafood","Unknown","INDUSTRY AND BUSINESS",5,0,null,null,null,null,null,null,true]
[null,"Oceans Bounty Seafood","Unknown","INDUSTRY AND BUSINESS",5,0,null,null,null,null,null,null,true]
[null,"Lazaretta Packing, Tybee","Unknown","INDUSTRY AND BUSINESS",5,0,null,null,null,null,null,null,true]
[null,"Environment Erie","LOCAL","NGO",5,1,null,null,null,null,null,null,true]
[null,"Lake Erie College of Osteopathic Medicing (LECOM)","STATE","ACADEMIC INSTITUTION",5,2,null,null,null,null,null,null,true]
[null,"Hamot UPMC Hospital","LOCAL","GOVERNMENT",5,1,null,null,null,null,null,null,true]
[null,"State Representative John Hornamen","STATE","GOVERNMENT",5,2,null,null,null,null,null,null,true]
[null,"Shippensburg University","STATE","ACADEMIC INSTITUTION",5,2,null,null,null,null,null,null,true]
[null,"City of Worcester, MA","LOCAL","GOVERNMENT",5,1,null,null,null,null,null,null,true]
[null,"Bald Head Island Conservancy","LOCAL","NGO",5,1,null,null,null,null,null,null,true]
[null,"Currituck County Planning and Community Development Office","LOCAL","GOVERNMENT",5,1,null,null,null,null,null,null,true]
[null,"Greater Topsail Area Chamber of Commerce","LOCAL","GOVERNMENT",5,1,null,null,null,null,null,null,true]
[null,"Marine Quest","Unknown","INDUSTRY AND BUSINESS",5,0,null,null,null,null,null,null,true]
[null,"North Carolina Division of Water Resources (NC DWR)","STATE","GOVERNMENT",5,2,null,null,null,null,null,null,true]
[null,"Coastal Aquafarms","Unknown","INDUSTRY AND BUSINESS",5,0,null,null,null,null,null,null,true]
[null,"Smithsonian Museum of Natural History (SI)","FEDERAL or NATIONAL","GOVERNMENT",5,4,null,null,null,null,null,null,true]
[null,"Southeastern Massachusetts Aquaculture Center (SEMAC)","Unknown","Unknown",5,0,null,null,null,null,null,null,true]
[null,"Johnson & Wales University","STATE","ACADEMIC INSTITUTION",5,2,null,null,null,null,null,null,true]
[null,"Riveredge Nature Center","LOCAL","NGO",5,1,null,null,null,null,null,null,true]
[null,"University of Georgia, Marine Institute (UGA)","STATE","ACADEMIC INSTITUTION",5,2,null,null,null,null,null,null,true]
[null,"Living Adventures","Unknown","INDUSTRY AND BUSINESS",5,0,null,null,null,null,null,null,true]
[null,"Town of Burns Harbor/Portage","LOCAL","GOVERNMENT",5,1,null,null,null,null,null,null,true]
[null,"Great Lakes Region Maritime Administration","REGIONAL","GOVERNMENT",5,3,null,null,null,null,null,null,true]
[null,"Community College of Vermont","STATE","ACADEMIC INSTITUTION",5,2,null,null,null,null,null,null,true]
[null,"Arcana Greenhouse","LOCAL","INDUSTRY AND BUSINESS",5,1,null,null,null,null,null,null,true]
[null,"Master Gardener Program of Vermont","STATE","ACADEMIC INSTITUTION",5,2,null,null,null,null,null,null,true]
[null,"Missisquoi National Wildlife Refuge","FEDERAL or NATIONAL","GOVERNMENT",5,4,null,null,null,null,null,null,true]
[null,"Chicago High School for Agricultural Sciences","LOCAL","ACADEMIC INSTITUTION",5,1,null,null,null,null,null,null,true]
[null,"Community Youth Development Institute","Unknown","NGO",5,0,null,null,null,null,null,null,true]
[null,"Bayer Environmental Science","Unknown","INDUSTRY AND BUSINESS",5,0,null,null,null,null,null,null,true]
[null,"The Ocean Project","Unknown","NGO",5,0,null,null,null,null,null,null,true]
[null,"Gulf Specimens Marine Lab","Unknown","ACADEMIC INSTITUTION",5,0,null,null,null,null,null,null,true]
[null,"Quebec Ministry of Sustainable Development","INTERNATIONAL","GOVERNMENT",5,5,null,null,null,null,null,null,true]
[null,"New Jersey Invasive Species Strike Team","STATE","GOVERNMENT",5,2,null,null,null,null,null,null,true]
[null,"Berkeley Conservation Trust","LOCAL","NGO",5,1,null,null,null,null,null,null,true]
[null,"National Wetlands Research Center (USGS)","FEDERAL or NATIONAL","GOVERNMENT",5,4,null,null,null,null,null,null,true]
[null,"Ashley Hall","LOCAL","ACADEMIC INSTITUTION",5,1,null,null,null,null,null,null,true]
[null,"UNH/NOAA NERR Science Collaborative","FEDERAL or NATIONAL","GOVERNMENT",5,4,null,null,null,null,null,null,{"$f":"AND(  NOT(ISERROR(FIND(UPPER($B$7),UPPER($B6734),1))),  OR($D$7=\"\",NOT(ISERROR(FIND(UPPER($D$7),UPPER($B6734),1)))),    OR($D$8=\"\",(ISERROR(FIND(UPPER($D$8),UPPER($B6734),1))))           )","v":true}]
[null,"Federal Alliance for Safe Homes","FEDERAL or NATIONAL","NGO",5,4,null,null,null,null,null,null,true]
[null,"Veteran Affairs Medical Center","FEDERAL or NATIONAL","GOVERNMENT",5,4,null,null,null,null,null,null,true]
[null,"ECONet Project","INTERNATIONAL","GOVERNMENT",5,5,null,null,null,null,null,null,true]
[null,"Berkeley S&W District","LOCAL","GOVERNMENT",5,1,null,null,null,null,null,null,true]
[null,"Keep Georgetown Beautiful","LOCAL","GOVERNMENT",5,1,null,null,null,null,null,null,true]
[null,"Keep Beaufort County Beautiful","LOCAL","GOVERNMENT",5,1,null,null,null,null,null,null,true]
[null,"Berkeley County Water and Sanitation Authority","LOCAL","GOVERNMENT",5,1,null,null,null,null,null,null,true]
[null,"Waccamaw Middle School","LOCAL","ACADEMIC INSTITUTION",5,1,null,null,null,null,null,null,true]
[null,"Hilton Head Preparatory School","LOCAL","ACADEMIC INSTITUTION",5,1,null,null,null,null,null,null,true]
[null,"Montessori School of Mt. Pleasant","LOCAL","ACADEMIC INSTITUTION",5,1,null,null,null,null,null,null,true]
[null,"City of Charleston Business Development Division","LOCAL","GOVERNMENT",5,1,null,null,null,null,null,null,true]
[null,"Myrtle Beach State Park","STATE","GOVERNMENT",5,2,null,null,null,null,null,null,true]
[null,"Driftwood Garden Club-N. Myrtle Beach","LOCAL","NGO",5,1,null,null,null,null,null,null,true]
[null,"Winyah Bay bassmasters","LOCAL","NGO",5,1,null,null,null,null,null,null,true]
[null,"Service Over Self, Georgetown County","LOCAL","NGO",5,1,null,null,null,null,null,null,true]
[null,"Surfrider Foundation Grand Strand Chapter","LOCAL","NGO",5,1,null,null,null,null,null,null,true]
[null,"Fripp Island Resort","LOCAL","INDUSTRY AND BUSINESS",5,1,null,null,null,null,null,null,true]
[null,"Jana Cleaning Company","LOCAL","INDUSTRY AND BUSINESS",5,1,null,null,null,null,null,null,true]
[null,"Verity & Verity, LLC","LOCAL","INDUSTRY AND BUSINESS",5,1,null,null,null,null,null,null,true]
[null,"Environmental Resources Management","LOCAL","INDUSTRY AND BUSINESS",5,1,null,null,null,null,null,null,true]
[null,"Dennis Corporation","LOCAL","INDUSTRY AND BUSINESS",5,1,null,null,null,null,null,null,true]
[null,"Mount Pleasant Water System","LOCAL","OTHER PARTNERS",5,1,null,null,null,null,null,null,true]
[null,"Old Santee Canal Park","LOCAL","OTHER PARTNERS",5,1,null,null,null,null,null,null,true]
[null,"Sea Pines Resort","LOCAL","INDUSTRY AND BUSINESS",5,1,null,null,null,null,null,null,true]
[null,"Gault Seafood","LOCAL","INDUSTRY AND BUSINESS",5,1,null,null,null,null,null,null,true]
[null,"Alaska Sea grant Marine Advisory Program","STATE","SEA GRANT PROGRAMS",5,2,null,null,null,null,null,null,true]
[null,"Hunting Island State Park","STATE","GOVERNMENT",5,2,null,null,null,null,null,null,true]
[null,"American Littoral Society","REGIONAL","NGO",5,3,null,null,null,null,null,null,true]
[null,"Bridgewater Plaza Marina","LOCAL","INDUSTRY AND BUSINESS",5,1,null,null,null,null,null,null,true]
[null,"Colonial Beach Yachting Center","LOCAL","INDUSTRY AND BUSINESS",5,1,null,null,null,null,null,null,true]
[null,"Gloucester County","LOCAL","GOVERNMENT",5,1,null,null,null,null,null,null,true]
[null,"Deltaville Yachting Center","LOCAL","INDUSTRY AND BUSINESS",5,1,null,null,null,null,null,null,true]
[null,"Fairfax Yacht Club","LOCAL","INDUSTRY AND BUSINESS",5,1,null,null,null,null,null,null,true]
[null,"Fishing Tidewater Radio program","LOCAL","OTHER PARTNERS",5,1,null,null,null,null,null,null,true]
[null,"Girl Scout Council of Colonial Coast","REGIONAL","NGO",5,3,null,null,null,null,null,null,true]
[null,"International Initative for Sustainable and Biosecure Aquafarming","INTERNATIONAL","ACADEMIC INSTITUTION",5,5,null,null,null,null,null,null,true]
[null,"James City County","LOCAL","GOVERNMENT",5,1,null,null,null,null,null,null,true]
[null,"Jamestown Yacht Basin","LOCAL","INDUSTRY AND BUSINESS",5,1,null,null,null,null,null,null,true]
[null,"Ocean Marine Yachting Center","LOCAL","INDUSTRY AND BUSINESS",5,1,null,null,null,null,null,null,true]
[null,"Old Point Comfort Marina","LOCAL","INDUSTRY AND BUSINESS",5,1,null,null,null,null,null,null,true]
[null,"Pure Fishing","INTERNATIONAL","INDUSTRY AND BUSINESS",5,5,null,null,null,null,null,null,true]
[null,"Sustainable Fisheries Partnership","INTERNATIONAL","NGO",5,5,null,null,null,null,null,null,true]
[null,"Tidewater Yacht Marina","LOCAL","INDUSTRY AND BUSINESS",5,1,null,null,null,null,null,null,true]
[null,"Tri County City Soil and Water Conservation District","LOCAL","NGO",5,1,null,null,null,null,null,null,true]
[null,"Westmoreland County","LOCAL","GOVERNMENT",5,1,null,null,null,null,null,null,true]
[null,"York River Charters","LOCAL","INDUSTRY AND BUSINESS",5,1,null,null,null,null,null,null,true]
[null,"Southern Maine Regional Planning Commission","STATE","GOVERNMENT",5,2,null,null,null,null,null,null,true]
[null,"Works of Hand Gallery","LOCAL","INDUSTRY AND BUSINESS",5,1,null,null,null,null,null,null,true]
[null,"Town of Gouldsboro, ME","LOCAL","GOVERNMENT",5,1,null,null,null,null,null,null,true]
[null,"Midcoast Fishermen’s Association","LOCAL","NGO",5,1,null,null,null,null,null,null,true]
[null,"Baxter State Park","STATE","GOVERNMENT",5,2,null,null,null,null,null,null,true]
[null,"University of Maine School of Marine Sciences","STATE","ACADEMIC INSTITUTION",5,2,null,null,null,null,null,null,true]
[null,"York Conservation Commission","LOCAL","NGO",5,1,null,null,null,null,null,null,true]
[null,"Cape Neddick River Association City of Saco","LOCAL","GOVERNMENT",5,1,null,null,null,null,null,null,true]
[null,"Crown Managers Partnership","REGIONAL","GOVERNMENT",5,3,null,null,null,null,null,null,true]
[null,"Hallett Dock Company","LOCAL","INDUSTRY AND BUSINESS",5,1,null,null,null,null,null,null,true]
[null,"Cook County Invasives Team","REGIONAL","NGO",5,3,null,null,null,null,null,null,true]
[null,"Minnesota Monthly Magazine","STATE","INDUSTRY AND BUSINESS",5,2,null,null,null,null,null,null,true]
[null,"College of Science and Engineering University of Minnesota","STATE","ACADEMIC INSTITUTION",5,2,null,null,null,null,null,null,true]
[null,"Oceanside Conservation Co, Inc ","LOCAL","NGO",5,1,null,null,null,null,null,null,{"$f":"AND(  NOT(ISERROR(FIND(UPPER($B$7),UPPER($B6926),1))),  OR($D$7=\"\",NOT(ISERROR(FIND(UPPER($D$7),UPPER($B6926),1)))),    OR($D$8=\"\",(ISERROR(FIND(UPPER($D$8),UPPER($B6926),1))))           )","v":true}]
[null,"Conservation Law Foundation","Unknown","NGO",5,0,null,null,null,null,null,null,true]
[null,"Harbor School of New York","STATE","ACADEMIC INSTITUTION",5,2,null,null,null,null,null,null,true]
[null,"Rosemount Inn","LOCAL","INDUSTRY AND BUSINESS",5,1,null,null,null,null,null,null,true]
[null,"Hemenways Restaurant","LOCAL","INDUSTRY AND BUSINESS",5,1,null,null,null,null,null,null,true]
[null,"Massachusetts Audubon Society","STATE","NGO",5,2,null,null,null,null,null,null,true]
[null,"Marine Policy Center (WHOI)","STATE","ACADEMIC INSTITUTION",5,2,null,null,null,null,null,null,true]
[null,"Maine Outdoor Heritage Fund","STATE","NGO",5,2,null,null,null,null,null,null,true]
[null,"The Norwegian Research Council","INTERNATIONAL","ACADEMIC INSTITUTION",5,5,null,null,null,null,null,null,true]
[null,"Washington Trust Co. ","Unknown","INDUSTRY AND BUSINESS",5,0,null,null,null,null,null,null,true]
[null,"Global Lake Ecological Observatory Network","INTERNATIONAL","NGO",5,5,null,null,null,null,null,null,true]
[null,"McKinley Marina","LOCAL","INDUSTRY AND BUSINESS",5,1,null,null,null,null,null,null,true]
[null,"YSI Instrument Company","Unknown","INDUSTRY AND BUSINESS",5,0,null,null,null,null,null,null,true]
[null,"Silver Beach Neighborhood Association","LOCAL","NGO",5,1,null,null,null,null,null,null,true]
[null,"City of Bainbridge Island Planning Department","LOCAL","GOVERNMENT",5,1,null,null,null,null,null,null,true]
[null,"Pacific County, WA","LOCAL","GOVERNMENT",5,1,null,null,null,null,null,null,true]
[null,"Salmon Recovery Funding Board","STATE","GOVERNMENT",5,2,null,null,null,null,null,null,true]
[null,"Washington State Department of Archaeology and Historic Preservation","STATE","GOVERNMENT",5,2,null,null,null,null,null,null,true]
[null,"Washington State Recreation and Conservation Office","STATE","GOVERNMENT",5,2,null,null,null,null,null,null,true]
[null,"McDonald Elementary School","LOCAL","ACADEMIC INSTITUTION",5,1,null,null,null,null,null,null,true]
[null,"Sound Experience","LOCAL","NGO",5,1,null,null,null,null,null,null,true]
[null,"Lummi Tribal Enterprises","INTERNATIONAL","GOVERNMENT",5,5,null,null,null,null,null,null,true]
[null,"Bellingham Fire Department","LOCAL","GOVERNMENT",5,1,null,null,null,null,null,null,true]
[null,"Port Townsend Yacht Club","LOCAL","INDUSTRY AND BUSINESS",5,1,null,null,null,null,null,null,true]
[null,"Stormy Seas","INTERNATIONAL","INDUSTRY AND BUSINESS",5,5,null,null,null,null,null,null,true]
[null,"Cascadia Research Collective","REGIONAL","NGO",5,3,null,null,null,null,null,null,true]
[null,"Chimicum Grange","LOCAL","INDUSTRY AND BUSINESS",5,1,null,null,null,null,null,null,true]
[null,"Forterra","LOCAL","NGO",5,1,null,null,null,null,null,null,true]
[null,"Griffin School District","LOCAL","ACADEMIC INSTITUTION",5,1,null,null,null,null,null,null,true]
[null,"Horses for Clean Water","REGIONAL","NGO",5,3,null,null,null,null,null,null,true]
[null,"JJ Brenner Oyster Company","REGIONAL","INDUSTRY AND BUSINESS",5,3,null,null,null,null,null,null,true]
[null,"Mason Area Fair","LOCAL","NGO",5,1,null,null,null,null,null,null,true]
[null,"Mason County Nimrod Club","LOCAL","NGO",5,1,null,null,null,null,null,null,true]
[null,"Mason County Parks","LOCAL","GOVERNMENT",5,1,null,null,null,null,null,null,true]
[null,"Norplex Inc","INTERNATIONAL","INDUSTRY AND BUSINESS",5,5,null,null,null,null,null,null,true]
[null,"Oregon Oyster Farms Inc","REGIONAL","INDUSTRY AND BUSINESS",5,3,null,null,null,null,null,null,true]
[null,"Scripts University","LOCAL","ACADEMIC INSTITUTION",5,1,null,null,null,null,null,null,true]
[null,"Timberlakes Community Club","LOCAL","NGO",5,1,null,null,null,null,null,null,true]
[null,"Wondervue Condominiums","LOCAL","NGO",5,1,null,null,null,null,null,null,true]
[null,"Beam Reach Marine Science and Sustainability School","LOCAL","ACADEMIC INSTITUTION",5,1,null,null,null,null,null,null,true]
[null,"Makah Nation","STATE","GOVERNMENT",5,2,null,null,null,null,null,null,true]
[null,"National Marine Fisheries Service U.S. delegation to tuna Regional Fishery Management Organizations","INTERNATIONAL","GOVERNMENT",5,5,null,null,null,null,null,null,{"$f":"AND(  NOT(ISERROR(FIND(UPPER($B$7),UPPER($B7054),1))),  OR($D$7=\"\",NOT(ISERROR(FIND(UPPER($D$7),UPPER($B7054),1)))),    OR($D$8=\"\",(ISERROR(FIND(UPPER($D$8),UPPER($B7054),1))))           )","v":true}]
[null,"Clallam Audubon Society ","LOCAL","NGO",5,1,null,null,null,null,null,null,true]
[null,"EnvironIssues","REGIONAL","INDUSTRY AND BUSINESS",5,3,null,null,null,null,null,null,true]
[null,"Washington State University Extension, Clallam County Beach Watchers (WSU)","LOCAL","ACADEMIC INSTITUTION",5,1,null,null,null,null,null,null,true]
[null,"United States Power Squadrons District 16","STATE","NGO",5,2,null,null,null,null,null,null,true]
[null,"American West Steamboat Co.","REGIONAL","INDUSTRY AND BUSINESS",5,3,null,null,null,null,null,null,true]
[null,"Crowley Marine Services","REGIONAL","INDUSTRY AND BUSINESS",5,3,null,null,null,null,null,null,true]
[null,"Harley Marine Services","REGIONAL","INDUSTRY AND BUSINESS",5,3,null,null,null,null,null,null,true]
[null,"Island Tug and Barge","REGIONAL","INDUSTRY AND BUSINESS",5,3,null,null,null,null,null,null,true]
[null,"Manson Construction","REGIONAL","INDUSTRY AND BUSINESS",5,3,null,null,null,null,null,null,true]
[null,"Olympic Tug and Barge","REGIONAL","INDUSTRY AND BUSINESS",5,3,null,null,null,null,null,null,true]
[null,"Salmon Bay Barge Lines","REGIONAL","INDUSTRY AND BUSINESS",5,3,null,null,null,null,null,null,true]
[null,"Seaspan International","REGIONAL","INDUSTRY AND BUSINESS",5,3,null,null,null,null,null,null,true]
[null,"Former Congressman Brian Baird","FEDERAL or NATIONAL","OTHER PARTNERS",5,4,null,null,null,null,null,null,true]
[null,"Port of Kodiak, AK","LOCAL","INDUSTRY AND BUSINESS",5,1,null,null,null,null,null,null,true]
[null,"Port of San Francisco, CA","STATE","INDUSTRY AND BUSINESS",5,2,null,null,null,null,null,null,true]
[null,"BoatUS Foundation","INTERNATIONAL","NGO",5,5,null,null,null,null,null,null,true]
[null,"EnviroStars Cooperative","LOCAL","GOVERNMENT",5,1,null,null,null,null,null,null,true]
[null,"O.H. Hinsdale Research Lab, OSU","STATE","ACADEMIC INSTITUTION",5,2,null,null,null,null,null,null,true]
[null,"Lincoln County Board of Commissioners","STATE","GOVERNMENT",5,2,null,null,null,null,null,null,true]
[null,"Neskowin Valley School","LOCAL","ACADEMIC INSTITUTION",5,1,null,null,null,null,null,null,true]
[null,"Anderson Construction","LOCAL","INDUSTRY AND BUSINESS",5,1,null,null,null,null,null,null,true]
[null,"State of Oregon: Dept of Geology and Mineral Industries","STATE","GOVERNMENT",5,2,null,null,null,null,null,null,true]
[null,"State University of New York Syracuse (Academic, Local","LOCAL","ACADEMIC INSTITUTION",5,1,null,null,null,null,null,null,true]
[null,"Shellfish Genetics Program (USDA, ARS )","FEDERAL or NATIONAL","GOVERNMENT",5,4,null,null,null,null,null,null,true]
[null,"Garibaldi Charters","LOCAL","INDUSTRY AND BUSINESS",5,1,null,null,null,null,null,null,true]
[null,"Anne Arundel Community College","STATE","ACADEMIC INSTITUTION",5,2,null,null,null,null,null,null,true]
[null,"Red Bank Public School District","LOCAL","ACADEMIC INSTITUTION",5,1,null,null,null,null,null,null,true]
[null,"Wetlands Institute ","STATE","NGO",5,2,null,null,null,null,null,null,true]
[null,"Newark Public School District","LOCAL","ACADEMIC INSTITUTION",5,1,null,null,null,null,null,null,true]
[null,"Sea Salt Community Supported Agriculture","REGIONAL","NGO",5,3,null,null,null,null,null,null,true]
[null,"Cumberland County Improvement Authority","LOCAL","GOVERNMENT",5,1,null,null,null,null,null,null,true]
[null,"Rutgers University, Haskin shellfish Research Laboratory","REGIONAL","ACADEMIC INSTITUTION",5,3,null,null,null,null,null,null,true]
[null,"Commercial Township Public Schools","LOCAL","ACADEMIC INSTITUTION",5,1,null,null,null,null,null,null,true]
[null,"J&J Titusville","LOCAL","INDUSTRY AND BUSINESS",5,1,null,null,null,null,null,null,true]
[null,"The Brickman Group","LOCAL","INDUSTRY AND BUSINESS",5,1,null,null,null,null,null,null,true]
[null,"Hamilton Township Planning Board","LOCAL","GOVERNMENT",5,1,null,null,null,null,null,null,true]
[null,"Lawnside Deptartment of Public Works","LOCAL","GOVERNMENT",5,1,null,null,null,null,null,null,true]
[null,"Greater Newark Conservancy","STATE","NGO",5,2,null,null,null,null,null,null,true]
[null,"New Jersey Tree Foundation","STATE","NGO",5,2,null,null,null,null,null,null,true]
[null,"Cooper's Ferry Development Association","LOCAL","GOVERNMENT",5,1,null,null,null,null,null,null,true]
[null,"Borough of Lavalette ","LOCAL","GOVERNMENT",5,1,null,null,null,null,null,null,true]
[null,"Renewable Resources Extension Act","FEDERAL or NATIONAL","GOVERNMENT",5,4,null,null,null,null,null,null,true]
[null,"University of Texas Faculty Grant","STATE","ACADEMIC INSTITUTION",5,2,null,null,null,null,null,null,true]
[null,"University of Texas - Brownsville","STATE","ACADEMIC INSTITUTION",5,2,null,null,null,null,null,null,true]
[null,"South Kingstown Land Trust","LOCAL","NGO",5,1,null,null,null,null,null,null,true]
[null,"Rhode Island Food Council","STATE","GOVERNMENT",5,2,null,null,null,null,null,null,true]
[null,"Pettaquamscutt Historical Society","LOCAL","NGO",5,1,null,null,null,null,null,null,true]
[null,"University of Rhode Island, Office of Marine Programs ","STATE","ACADEMIC INSTITUTION",5,2,null,null,null,null,null,null,true]
[null,"Univeristy of Rhode Island, Coastal Fellows Program ","STATE","ACADEMIC INSTITUTION",5,2,null,null,null,null,null,null,true]
[null,"Oregon State University, STEM Program (OSU)","STATE","ACADEMIC INSTITUTION",5,2,null,null,null,null,null,null,true]
[null,"Oregon Public Schools","STATE","ACADEMIC INSTITUTION",5,2,null,null,null,null,null,null,true]
[null,"Douglas County, OR","LOCAL","GOVERNMENT",5,1,null,null,null,null,null,null,true]
[null,"Seacoast Enterprises Associates, Inc.","LOCAL","INDUSTRY AND BUSINESS",5,1,null,null,null,null,null,null,true]
[null,"William Marsh, Rice University SSPEED Center","STATE","ACADEMIC INSTITUTION",5,2,null,null,null,null,null,null,true]
[null,"University of Texas - Brownsville (UTB)","STATE","ACADEMIC INSTITUTION",5,2,null,null,null,null,null,null,true]
[null,"Michigan Energy Office","STATE","GOVERNMENT",5,2,null,null,null,null,null,null,true]
[null,"Norm Bloom and Sons LLC ","Unknown","INDUSTRY AND BUSINESS",5,0,null,null,null,null,null,null,true]
[null,"National Professional Anglers Association","FEDERAL or NATIONAL","INDUSTRY AND BUSINESS",5,4,null,null,null,null,null,null,true]
[null,"ABB Corporate Research Center - United States","INTERNATIONAL","INDUSTRY AND BUSINESS",5,5,null,null,null,null,null,null,true]
[null,"Bedford Institute of Oceanography, Nova Scotia, CA","INTERNATIONAL","ACADEMIC INSTITUTION",5,5,null,null,null,null,null,null,true]
[null,"BMT Syntek Technologies","INTERNATIONAL","INDUSTRY AND BUSINESS",5,5,null,null,null,null,null,null,true]
[null,"Cambridge Rindge and Latin","LOCAL","ACADEMIC INSTITUTION",5,1,null,null,null,null,null,null,true]
[null,"Center for Coastal Environmental Sensing Networks (CESN-UMassBoston)","LOCAL","ACADEMIC INSTITUTION",5,1,null,null,null,null,null,null,true]
[null,"Cyprus Research Promotion Foundation","INTERNATIONAL","NGO",5,5,null,null,null,null,null,null,true]
[null,"Eugenides Foundation Planetarium","INTERNATIONAL","NGO",5,5,null,null,null,null,null,null,true]
[null,"Lexington High School","LOCAL","ACADEMIC INSTITUTION",5,1,null,null,null,null,null,null,true]
[null,"Massachusetts Department of Conservation and Recreation","STATE","GOVERNMENT",5,2,null,null,null,null,null,null,true]
[null,"National Weather Service, Taunton, MA","REGIONAL","GOVERNMENT",5,3,null,null,null,null,null,null,true]
[null,"North Andover High School","LOCAL","ACADEMIC INSTITUTION",5,1,null,null,null,null,null,null,true]
[null,"Ocean Biogeographic Information System","INTERNATIONAL","NGO",5,5,null,null,null,null,null,null,true]
[null,"Paul Marrotta Communications","LOCAL","INDUSTRY AND BUSINESS",5,1,null,null,null,null,null,null,true]
[null,"Singapore National Research Foundation","INTERNATIONAL","GOVERNMENT",5,5,null,null,null,null,null,null,true]
[null,"Boston University Center or Information and Systems Engineering","LOCAL","ACADEMIC INSTITUTION",5,1,null,null,null,null,null,null,true]
[null,"University of Piedmont, Italy","INTERNATIONAL","ACADEMIC INSTITUTION",5,5,null,null,null,null,null,null,true]
[null,"University of Massachusetts Boston Nantucket Field Station","LOCAL","ACADEMIC INSTITUTION",5,1,null,null,null,null,null,null,true]
[null,"Delaware Bay and River Cooperative Inc.","REGIONAL","INDUSTRY AND BUSINESS",5,3,null,null,null,null,null,null,true]
[null,"Hudson Management Company","LOCAL","INDUSTRY AND BUSINESS",5,1,null,null,null,null,null,null,true]
[null,"Old Landing Gold Course","LOCAL","INDUSTRY AND BUSINESS",5,1,null,null,null,null,null,null,true]
[null,"PNC Bank","Unknown","INDUSTRY AND BUSINESS",5,0,null,null,null,null,null,null,true]
[null,"DuPont Clear into the Future","STATE","INDUSTRY AND BUSINESS",5,2,null,null,null,null,null,null,true]
[null,"Delaware Association for Environmental Education","STATE","OTHER PARTNERS",5,2,null,null,null,null,null,null,true]
[null,"Carolina Beach, NC","LOCAL","GOVERNMENT",5,1,null,null,null,null,null,null,true]
[null,"North Carolina Catch","STATE","NGO",5,2,null,null,null,null,null,null,true]
[null,"Office of Climate, Weather, and Water Services  (US DOC, NOAA, NWS)","FEDERAL or NATIONAL","GOVERNMENT",5,4,null,null,null,null,null,null,true]
[null,"City of Camden","LOCAL","GOVERNMENT",5,1,null,null,null,null,null,null,true]
[null,"Haddonfield Boro","LOCAL","GOVERNMENT",5,1,null,null,null,null,null,null,true]
[null,"Hamilton Township","LOCAL","GOVERNMENT",5,1,null,null,null,null,null,null,true]
[null,"Berkley Heights Township","LOCAL","GOVERNMENT",5,1,null,null,null,null,null,null,true]
[null,"Hillsborough Township","LOCAL","GOVERNMENT",5,1,null,null,null,null,null,null,true]
[null,"Lawrence Township","LOCAL","GOVERNMENT",5,1,null,null,null,null,null,null,true]
[null,"Point Pleasant Beach Boro","LOCAL","GOVERNMENT",5,1,null,null,null,null,null,null,true]
[null,"Washington Township","LOCAL","GOVERNMENT",5,1,null,null,null,null,null,null,true]
[null,"Big Beef Creek Field Research Station","STATE","ACADEMIC INSTITUTION",5,2,null,null,null,null,null,null,true]
[null,"South Kistsap School District","LOCAL","GOVERNMENT",5,1,null,null,null,null,null,null,true]
[null,"Kitsap Fairgrounds ","LOCAL","INDUSTRY AND BUSINESS",5,1,null,null,null,null,null,null,true]
[null,"Utah State Legislature","STATE","GOVERNMENT",5,2,null,null,null,null,null,null,true]
[null,"Exploratorium, CA","LOCAL","NGO",5,1,null,null,null,null,null,null,true]
[null,"Delaware Environmental Monitoring","STATE","NGO",5,2,null,null,null,null,null,null,true]
[null,"Caribbean Fishery Management Council (CFMC)","REGIONAL","NGO",5,3,null,null,null,null,null,null,true]
[null,"Kitsap County Master Gardeners","LOCAL","ACADEMIC INSTITUTION",5,1,null,null,null,null,null,null,{"$f":"AND(  NOT(ISERROR(FIND(UPPER($B$7),UPPER($B7374),1))),  OR($D$7=\"\",NOT(ISERROR(FIND(UPPER($D$7),UPPER($B7374),1)))),    OR($D$8=\"\",(ISERROR(FIND(UPPER($D$8),UPPER($B7374),1))))           )","v":true}]
[null,"U.S. Drug Enforcement Agency (DEA)","LOCAL","GOVERNMENT",5,1,null,null,null,null,null,null,true]
[null,"Illinois Criminal Justice Information Authority,","LOCAL","GOVERNMENT",5,1,null,null,null,null,null,null,true]
[null,"Maroa Police Department (IL)","LOCAL","GOVERNMENT",5,1,null,null,null,null,null,null,true]
[null,"Illinois Rural Water Association","STATE","NGO",5,2,null,null,null,null,null,null,true]
[null,"Sheboygan County (WI)","LOCAL","GOVERNMENT",5,1,null,null,null,null,null,null,true]
[null,"Ashtabula River Cooperation Group II","LOCAL","NGO",5,1,null,null,null,null,null,null,true]
[null,"Lakeside Intermediate School","LOCAL","ACADEMIC INSTITUTION",5,1,null,null,null,null,null,null,true]
[null,"Federal Urban Waters Partnership","FEDERAL or NATIONAL","NGO",5,4,null,null,null,null,null,null,true]
[null,"Los Angeles Harbor Commission","LOCAL","GOVERNMENT",5,1,null,null,null,null,null,null,true]
[null,"City of Gary Department of Environment","LOCAL","GOVERNMENT",5,1,null,null,null,null,null,null,true]
[null,"Village of Ogden Dunes","LOCAL","GOVERNMENT",5,1,null,null,null,null,null,null,true]
[null,"Metropolitan Planning Council","LOCAL","NGO",5,1,null,null,null,null,null,null,true]
[null,"Village of Batavia","LOCAL","GOVERNMENT",5,1,null,null,null,null,null,null,true]
[null,"Wisconsin Public Service Commission","STATE","GOVERNMENT",5,2,null,null,null,null,null,null,true]
[null,"National Water Resources Association","FEDERAL or NATIONAL","NGO",5,4,null,null,null,null,null,null,true]
[null,"Geographic Society of Chicago","STATE","NGO",5,2,null,null,null,null,null,null,true]
[null,"Illinois Geographic Alliance","STATE","ACADEMIC INSTITUTION",5,2,null,null,null,null,null,null,true]
[null,"Medgar Evars Elementary","LOCAL","ACADEMIC INSTITUTION",5,1,null,null,null,null,null,null,true]
[null,"Illinois Public Media","STATE","ACADEMIC INSTITUTION",5,2,null,null,null,null,null,null,true]
[null,"Brooklyn College","LOCAL","ACADEMIC INSTITUTION",5,1,null,null,null,null,null,null,true]
[null,"Inlet Seafood Company","LOCAL","INDUSTRY AND BUSINESS",5,1,null,null,null,null,null,null,true]
[null,"Long Island Shellfish Growers Association","LOCAL","INDUSTRY AND BUSINESS",5,1,null,null,null,null,null,null,true]
[null,"Northeast Organic Farming Association (NOFA-NY)","LOCAL","NGO",5,1,null,null,null,null,null,null,true]
[null,"Buffalo Museum of Science","LOCAL","NGO",5,1,null,null,null,null,null,null,true]
[null,"New York Marine Sciences Consortium ","LOCAL","GOVERNMENT",5,1,null,null,null,null,null,null,true]
[null,"New York State Department of State Office of Communities and Waterfronts","LOCAL","GOVERNMENT",5,1,null,null,null,null,null,null,true]
[null,"Save our Shores","LOCAL","NGO",5,1,null,null,null,null,null,null,true]
[null,"NOAA Fisheries Training Branch","FEDERAL or NATIONAL","GOVERNMENT",5,4,null,null,null,null,null,null,true]
[null,"China Import/Export Quality Association  (Training in China Partners)","INTERNATIONAL","GOVERNMENT",5,5,null,null,null,null,null,null,true]
[null,"Connecticut Department of State (CT)","STATE","GOVERNMENT",5,2,null,null,null,null,null,null,true]
[null,"Los Angeles Conservation Corps","Unknown","NGO",5,0,null,null,null,null,null,null,true]
[null,"University of Southern California Neighborhood Outreach (USC)","STATE","ACADEMIC INSTITUTION",5,2,null,null,null,null,null,null,true]
[null,"Space Science Institute","FEDERAL or NATIONAL","NGO",5,4,null,null,null,null,null,null,true]
[null,"Duluth, MN Parks and Recreation Department","LOCAL","GOVERNMENT",5,1,null,null,null,null,null,null,true]
[null,"Hawaiian Mahogany","Unknown","INDUSTRY AND BUSINESS",5,0,null,null,null,null,null,null,true]
[null,"Jamestown Lawn School","LOCAL","ACADEMIC INSTITUTION",5,1,null,null,null,null,null,null,true]
[null,"South Kingstown High School","LOCAL","ACADEMIC INSTITUTION",5,1,null,null,null,null,null,null,true]
[null,"University of New Hampshire Cooperative Extension","REGIONAL","ACADEMIC INSTITUTION",5,3,null,null,null,null,null,null,true]
[null,"Rutgers Center for Urban Environmental Sustainability","LOCAL","ACADEMIC INSTITUTION",5,1,null,null,null,null,null,null,true]
[null,"Delaware Noational Estuarine Research Reserve","REGIONAL","NGO",5,3,null,null,null,null,null,null,true]
[null,"VA Central Western Massachusetts Healthcare System","REGIONAL","GOVERNMENT",5,3,null,null,null,null,null,null,true]
[null,"Brandywine Valley Association","LOCAL","OTHER PARTNERS",5,1,null,null,null,null,null,null,true]
[null,"Elder Point Oyster Co.","LOCAL","INDUSTRY AND BUSINESS",5,1,null,null,null,null,null,null,true]
[null,"Illinois Landscape Contractors Association (ILCA)","REGIONAL","INDUSTRY AND BUSINESS",5,3,null,null,null,null,null,null,true]
[null,"Southern California Marine Exchange ","REGIONAL","NGO",5,3,null,null,null,null,null,null,true]
[null,"FTR International        ","REGIONAL","INDUSTRY AND BUSINESS",5,3,null,null,null,null,null,null,true]
[null,"Flat Rock, MI","LOCAL","GOVERNMENT",5,1,null,null,null,null,null,null,true]
[null,"City of Rockwood, MI","LOCAL","GOVERNMENT",5,1,null,null,null,null,null,null,true]
[null,"Brownstown Township, MI","LOCAL","GOVERNMENT",5,1,null,null,null,null,null,null,true]
[null,"Oakland County Water Resources Commission","LOCAL","GOVERNMENT",5,1,null,null,null,null,null,null,true]
[null,"Huron County, MI","LOCAL","GOVERNMENT",5,1,null,null,null,null,null,null,true]
[null,"U.S. 23 Heritage Route Committee","LOCAL","NGO",5,1,null,null,null,null,null,null,true]
[null,"Michigan House of Representative","STATE","GOVERNMENT",5,2,null,null,null,null,null,null,true]
[null,"Pacific Coral Seafood","LOCAL","INDUSTRY AND BUSINESS",5,1,null,null,null,null,null,null,true]
[null,"Bonefish Grill","LOCAL","INDUSTRY AND BUSINESS",5,1,null,null,null,null,null,null,true]
[null,"Northeast Florida Regional Planning Council","LOCAL","GOVERNMENT",5,1,null,null,null,null,null,null,true]
[null,"Waterfronts Florida Program","STATE","GOVERNMENT",5,2,null,null,null,null,null,null,true]
[null,"Blackwater River Watershed Foundation","LOCAL","NGO",5,1,null,null,null,null,null,null,true]
[null,"Weather Predict Consulting Inc.","INTERNATIONAL","INDUSTRY AND BUSINESS",5,5,null,null,null,null,null,null,true]
[null,"AIR Worldwide Corporation","INTERNATIONAL","INDUSTRY AND BUSINESS",5,5,null,null,null,null,null,null,true]
[null,"Northwest Florida Water Management District","LOCAL","GOVERNMENT",5,1,null,null,null,null,null,null,true]
[null,"Florida Inland Navigation District","REGIONAL","GOVERNMENT",5,3,null,null,null,null,null,null,true]
[null,"Pacific Regional Integrated Sciences and Assessments (RISA) Program","REGIONAL","ACADEMIC INSTITUTION",5,3,null,null,null,null,null,null,true]
[null,"California Fisheries Coalition","STATE","INDUSTRY AND BUSINESS",5,2,null,null,null,null,null,null,true]
[null,"Pfleger Institute for Environmental Research, Oceanside, CA","LOCAL","NGO",5,1,null,null,null,null,null,null,true]
[null,"United Coalition to Protect Panhe (Tribal legal & environemntal advocacy)","Unknown","OTHER PARTNERS",5,0,null,null,null,null,null,null,true]
[null,"Palau Automated Land and Resource Information System","INTERNATIONAL","GOVERNMENT",5,5,null,null,null,null,null,null,true]
[null,"Candlewood Lake Authority ","REGIONAL","NGO",5,3,null,null,null,null,null,null,true]
[null,"Montana Department of Agriculture ","REGIONAL","GOVERNMENT",5,3,null,null,null,null,null,null,true]
[null,"Connecticut Department of Public Health","STATE","GOVERNMENT",5,2,null,null,null,null,null,null,true]
[null,"Northeast Michigan Great Lakes Stewardship Initiative","LOCAL","NGO",5,1,null,null,null,null,null,null,true]
[null,"Worcester Polytechnic Institute (WPI)","REGIONAL","ACADEMIC INSTITUTION",5,3,null,null,null,null,null,null,true]
[null,"Hawaii State Civil Defense","STATE","GOVERNMENT",5,2,null,null,null,null,null,null,true]
[null,"Batiquitos Lagoon Foundation","LOCAL","NGO",5,1,null,null,null,null,null,null,true]
[null,"California Water and Land Use Partnership (CA WALUP)","STATE","OTHER PARTNERS",5,2,null,null,null,null,null,null,true]
[null,"City of Los Angeles","LOCAL","GOVERNMENT",5,1,null,null,null,null,null,null,true]
[null,"Condor Cruises","LOCAL","INDUSTRY AND BUSINESS",5,1,null,null,null,null,null,null,true]
[null,"Kelp Farm Coalition","REGIONAL","INDUSTRY AND BUSINESS",5,3,null,null,null,null,null,null,true]
[null,"LA Rod and Reel Club","LOCAL","NGO",5,1,null,null,null,null,null,null,true]
[null,"Los Angeles Regional Collaboration on Climate Action and Sustainability (LARC)","REGIONAL","NGO",5,3,null,null,null,null,null,null,true]
[null,"MJF Consulting","LOCAL","INDUSTRY AND BUSINESS",5,1,null,null,null,null,null,null,true]
[null,"Pacific Oceanworks","REGIONAL","INDUSTRY AND BUSINESS",5,3,null,null,null,null,null,null,true]
[null,"Roundhouse Marine Lab","LOCAL","NGO",5,1,null,null,null,null,null,null,true]
[null,"South Bay Cities Council of Governments","REGIONAL","GOVERNMENT",5,3,null,null,null,null,null,null,true]
[null,"University of Southern California, Annenberg School of Journalism (USC)","LOCAL","ACADEMIC INSTITUTION",5,1,null,null,null,null,null,null,true]
[null,"City of Unalaska","LOCAL","GOVERNMENT",5,1,null,null,null,null,null,null,true]
[null,"Alaska Science Teachers Association","STATE","NGO",5,2,null,null,null,null,null,null,true]
[null,"Kruzof Fisheries LLC ","REGIONAL","INDUSTRY AND BUSINESS",5,3,null,null,null,null,null,null,true]
[null,"Webber Marine & Manufacturing, Inc.","REGIONAL","INDUSTRY AND BUSINESS",5,3,null,null,null,null,null,null,true]
[null,"Natural Reources Outreach Coalition (NROC)","STATE","GOVERNMENT",5,2,null,null,null,null,null,null,true]
[null,"University of New Hampshire, Institute for the Study of Earth, Oceans and Space (UNH EOS)","STATE","ACADEMIC INSTITUTION",5,2,null,null,null,null,null,null,true]
[null,"Bristol Bay Marine Mammal Council ","REGIONAL","NGO",5,3,null,null,null,null,null,null,true]
[null,"Chignik Lagoon Village Council","LOCAL","NGO",5,1,null,null,null,null,null,null,true]
[null,"U.S. Representative Dan Benishek - Michigan","FEDERAL or NATIONAL","GOVERNMENT",5,4,null,null,null,null,null,null,true]
[null,"U.S. Senator Richard J. Durbin - Illinois","FEDERAL or NATIONAL","GOVERNMENT",5,4,null,null,null,null,null,null,true]
[null,"Columbia University","STATE","ACADEMIC INSTITUTION","NULL",2,null,null,null,null,null,null,true]
[null,"Centre national de la recherche scientifique (CNRS), Lyon, France","INTERNATIONAL","GOVERNMENT",5,5,null,null,null,null,null,null,true]
[null,"Invasive Spartina Project","REGIONAL","NGO",5,3,null,null,null,null,null,null,true]
[null,"University of New Mexico (UNM)","STATE","ACADEMIC INSTITUTION",5,2,null,null,null,null,null,null,true]
[null,"Joint Polar Satellite System Office (US DOC, NOAA, NESDIS)","FEDERAL or NATIONAL","GOVERNMENT",5,4,null,null,null,null,null,null,true]
[null,"U.S. Representative Don Young - Alaska","FEDERAL or NATIONAL","GOVERNMENT",5,4,null,null,null,null,null,null,{"$f":"AND(  NOT(ISERROR(FIND(UPPER($B$7),UPPER($B7694),1))),  OR($D$7=\"\",NOT(ISERROR(FIND(UPPER($D$7),UPPER($B7694),1)))),    OR($D$8=\"\",(ISERROR(FIND(UPPER($D$8),UPPER($B7694),1))))           )","v":true}]
[null,"New York City Audubon Society","LOCAL","NGO",5,1,null,null,null,null,null,null,true]
[null,"Policy, Planning & Analysis Division (US DOC, NOAA, NOS, PPAD)","FEDERAL or NATIONAL","GOVERNMENT","NULL",4,null,null,null,null,null,null,true]
[null,"U.S. Representative Jared Huffman - California","FEDERAL or NATIONAL","GOVERNMENT",5,4,null,null,null,null,null,null,true]
[null,"Geosyntec Consultants","FEDERAL or NATIONAL","INDUSTRY AND BUSINESS","NULL",4,null,null,null,null,null,null,true]
[null,"Loch Lomond Marina, San Rafael, CA","STATE","INDUSTRY AND BUSINESS",5,2,null,null,null,null,null,null,true]
[null,"Landcare research, New Zealand","INTERNATIONAL","GOVERNMENT",5,5,null,null,null,null,null,null,true]
[null,"Cheaspeake Bay Maritime Museum","LOCAL","INDUSTRY AND BUSINESS",5,1,null,null,null,null,null,null,true]
[null,"Maryland Geological Survey","REGIONAL","GOVERNMENT",5,3,null,null,null,null,null,null,true]
[null,"Delaware Nation Tribal Council","REGIONAL","GOVERNMENT",5,3,null,null,null,null,null,null,true]
[null,"Phillips Wharf Environmental Center","LOCAL","INDUSTRY AND BUSINESS",5,1,null,null,null,null,null,null,true]
[null,"Maryland Biological Stream Survey","REGIONAL","GOVERNMENT",5,3,null,null,null,null,null,null,true]
[null,"City of Goleta","STATE","GOVERNMENT",5,2,null,null,null,null,null,null,true]
[null,"Alliance for Communities for Sustainable Fisheries","STATE","Unknown",5,2,null,null,null,null,null,null,true]
[null,"Eton Bioscience Corp ","STATE","INDUSTRY AND BUSINESS",5,2,null,null,null,null,null,null,true]
[null,"Aquamar","INTERNATIONAL","INDUSTRY AND BUSINESS",5,5,null,null,null,null,null,null,true]
[null,"Ore-Cal","INTERNATIONAL","INDUSTRY AND BUSINESS",5,5,null,null,null,null,null,null,true]
[null,"Drakes bay Oysters","STATE","INDUSTRY AND BUSINESS",5,2,null,null,null,null,null,null,true]
[null,"Safe Food Test","STATE","INDUSTRY AND BUSINESS",5,2,null,null,null,null,null,null,true]
[null,"Primo Fish Imports","INTERNATIONAL","INDUSTRY AND BUSINESS",5,5,null,null,null,null,null,null,true]
[null,"Safeway","REGIONAL","INDUSTRY AND BUSINESS",5,3,null,null,null,null,null,null,true]
[null,"AFG Corp.","INTERNATIONAL","INDUSTRY AND BUSINESS",5,5,null,null,null,null,null,null,true]
[null,"Silliker Laboratory","INTERNATIONAL","INDUSTRY AND BUSINESS",5,5,null,null,null,null,null,null,true]
[null,"Day-lee Foods","REGIONAL","INDUSTRY AND BUSINESS",5,3,null,null,null,null,null,null,true]
[null,"Mazzetta","INTERNATIONAL","INDUSTRY AND BUSINESS",5,5,null,null,null,null,null,null,true]
[null,"Quirch Foods","INTERNATIONAL","INDUSTRY AND BUSINESS",5,5,null,null,null,null,null,null,true]
[null,"IMP foods","LOCAL","INDUSTRY AND BUSINESS",5,1,null,null,null,null,null,null,true]
[null,"Nissin Foods","INTERNATIONAL","INDUSTRY AND BUSINESS",5,5,null,null,null,null,null,null,true]
[null,"AFC Sushi","INTERNATIONAL","INDUSTRY AND BUSINESS",5,5,null,null,null,null,null,null,true]
[null,"Bumble Fish Sushi","INTERNATIONAL","INDUSTRY AND BUSINESS",5,5,null,null,null,null,null,null,true]
[null,"OrcaBay Seafoods","INTERNATIONAL","INDUSTRY AND BUSINESS",5,5,null,null,null,null,null,null,true]
[null,"Gemini Food Corp","INTERNATIONAL","INDUSTRY AND BUSINESS",5,5,null,null,null,null,null,null,true]
[null,"Monterey Gourmet Foods","INTERNATIONAL","INDUSTRY AND BUSINESS",5,5,null,null,null,null,null,null,true]
[null,"Tradex Foods","INTERNATIONAL","INDUSTRY AND BUSINESS",5,5,null,null,null,null,null,null,true]
[null,"Certi-Fresh","STATE","INDUSTRY AND BUSINESS",5,2,null,null,null,null,null,null,true]
[null,"Del Monte","INTERNATIONAL","INDUSTRY AND BUSINESS",5,5,null,null,null,null,null,null,true]
[null,"Monterey Fish Market","LOCAL","INDUSTRY AND BUSINESS",5,1,null,null,null,null,null,null,true]
[null,"Star Fisheries","LOCAL","INDUSTRY AND BUSINESS",5,1,null,null,null,null,null,null,true]
[null,"Solo Shrimp","STATE","INDUSTRY AND BUSINESS",5,2,null,null,null,null,null,null,true]
[null,"Canfisco","INTERNATIONAL","INDUSTRY AND BUSINESS",5,5,null,null,null,null,null,null,true]
[null,"Honolulu Fish","INTERNATIONAL","INDUSTRY AND BUSINESS",5,5,null,null,null,null,null,null,true]
[null,"Louisiana Foods","INTERNATIONAL","INDUSTRY AND BUSINESS",5,5,null,null,null,null,null,null,true]
[null,"Kentucky Smoked Fish","STATE","INDUSTRY AND BUSINESS",5,2,null,null,null,null,null,null,true]
[null,"Ecolab","INTERNATIONAL","INDUSTRY AND BUSINESS",5,5,null,null,null,null,null,null,true]
[null,"Oregon State University, Food Innovation Center","STATE","ACADEMIC INSTITUTION",5,2,null,null,null,null,null,null,true]
[null,"University of Sonora","STATE","ACADEMIC INSTITUTION",5,2,null,null,null,null,null,null,true]
[null,"South Port Marina","LOCAL","INDUSTRY AND BUSINESS",5,1,null,null,null,null,null,null,true]
[null,"N.H. Sea Grant Coastal Research Volunteers","STATE","OTHER PARTNERS",5,2,null,null,null,null,null,null,true]
[null,"Howard County, MD","LOCAL","GOVERNMENT",5,1,null,null,null,null,null,null,true]
[null,"St. Mary's County, MD","LOCAL","GOVERNMENT",5,1,null,null,null,null,null,null,true]
[null,"District of Columbia, DC","FEDERAL or NATIONAL","GOVERNMENT",5,4,null,null,null,null,null,null,true]
[null,"Korea Maritime Institute","INTERNATIONAL","NGO",5,5,null,null,null,null,null,null,true]
[null,"Olelo Community Media","STATE","NGO",5,2,null,null,null,null,null,null,true]
[null,"Native Village of Shaktoolik","LOCAL","GOVERNMENT",5,1,null,null,null,null,null,null,true]
[null,"University of Hawaii at Manoa, Curriculum Research & Development Group (UHM)","STATE","ACADEMIC INSTITUTION",5,2,null,null,null,null,null,null,true]
[null,"University of California, Merced","STATE","ACADEMIC INSTITUTION",5,2,null,null,null,null,null,null,true]
[null,"Cedar Point Oyster Company","LOCAL","INDUSTRY AND BUSINESS",5,1,null,null,null,null,null,null,true]
[null,"Gulf Coast Marine Life Center","FEDERAL or NATIONAL","INDUSTRY AND BUSINESS",5,4,null,null,null,null,null,null,true]
[null,"Sanders Fish Market","LOCAL","INDUSTRY AND BUSINESS",5,1,null,null,null,null,null,null,true]
[null,"Ephraim, Village of","LOCAL","GOVERNMENT",5,1,null,null,null,null,null,null,true]
[null,"Union, Town of","LOCAL","GOVERNMENT",5,1,null,null,null,null,null,null,true]
[null,"Hawaii Department of Land and Natural Resources, Engineering Division (HI DLNR)","STATE","GOVERNMENT",5,2,null,null,null,null,null,null,true]
[null,"Bradner Consulting Group, Inc. ","LOCAL","INDUSTRY AND BUSINESS",5,1,null,null,null,null,null,null,true]
[null,"International Association of Plumbing and Mechanical Officials","FEDERAL or NATIONAL","INDUSTRY AND BUSINESS",5]
[null,"Maui Electric","LOCAL","INDUSTRY AND BUSINESS",5]
[null,"Red's Best","REGIONAL","INDUSTRY AND BUSINESS",5]
[null,"New Hampshire Coastal Adaptation Workgroup","REGIONAL","OTHER PARTNERS",5]
[null,"California Department of Fish and Wildlife (CA RESOURCES, CA DFG)","STATE","GOVERNMENT",5]
[null,"Hyatt Regency Waikiki","INTERNATIONAL","INDUSTRY AND BUSINESS",5]
[null,"Napili Beach and Foundation","LOCAL","NGO",5]
[null,"Ernest Nishizaki, President of Kyo-ya Hotels and Resorts","INTERNATIONAL","INDUSTRY AND BUSINESS",5]
[null,"Kauai Community Radio (KKCR)","LOCAL","INDUSTRY AND BUSINESS",5]
[null,"Hawaii Lodging and Tourism Association","STATE","NGO",5]
[null,"Lewis Creek Association","LOCAL","NGO",5]
[null,"The University of Vermont Upward Bound","REGIONAL","ACADEMIC INSTITUTION",5]
[null,"Duke Purcell","LOCAL","NGO",5]
[null,"University of Hawaii at Manoa, National Disaster Preparedness Training Center","STATE","ACADEMIC INSTITUTION",5]
[null,"Baylor University, Glasscock Fund for Excellence in Environmental Science ","STATE","ACADEMIC INSTITUTION",5]
[null,"Louisiana State University, Center for Natural Resource Economics and Policy (LSU, CNREP)","FEDERAL or NATIONAL","ACADEMIC INSTITUTION",5]
[null,"Options for Independence & Gulf Coast Marketplace","LOCAL","NGO",5]
[null,"Trace Register, LLC","FEDERAL or NATIONAL","INDUSTRY AND BUSINESS",5]
[null,"Louisiana Workforce Commission","STATE","GOVERNMENT",5]
[null,"Terrebonne Readiness & Assistance Coalition (TRAC)","LOCAL","NGO",5]
[null,"Shell Oil Company ","STATE","INDUSTRY AND BUSINESS",5]
[null,"ConocoPhillips","STATE","INDUSTRY AND BUSINESS",5]
[null,"Cambridge Public School Department","LOCAL","ACADEMIC INSTITUTION",5]
[null,"Florida State University Center for Advanced Power Systems (CAPS)","STATE","ACADEMIC INSTITUTION",5]
[null,"Massachusetts Port Authority","STATE","GOVERNMENT",5]
[null,"MIT Editors Group","LOCAL","ACADEMIC INSTITUTION",5]
[null,"Pine Manor College","LOCAL","ACADEMIC INSTITUTION",5]
[null,"Regis College","LOCAL","ACADEMIC INSTITUTION",5]
[null,"Southeastern Connecticut Council of Governments","REGIONAL","GOVERNMENT",5]
[null,"Universidade Federal de Rio de Janeiro, Rio de Janeiro, RJ, Brazil","INTERNATIONAL","ACADEMIC INSTITUTION",5]
[null,"University of the Basque Country, Bilbao, Spain","INTERNATIONAL","ACADEMIC INSTITUTION",5]
[null,"Abbotsford-Sumas Aquifer International Task Force","INTERNATIONAL","OTHER PARTNERS",5]
[null,"BERK Consulting","LOCAL","INDUSTRY AND BUSINESS",5]
[null,"California Department of Resources Recycling and Recovery (CalRecycle)","STATE","GOVERNMENT",5]
[null,"City of Chelan Parks and Recreation Department","LOCAL","GOVERNMENT",5]
[null,"City of Gig Harbor, WA","LOCAL","GOVERNMENT",5]
[null,"Coastal Trollers Association","LOCAL","OTHER PARTNERS",5]
[null,"Dan Hellin Consulting","LOCAL","INDUSTRY AND BUSINESS",5]
[null,"Edge Research","LOCAL","INDUSTRY AND BUSINESS",5]
[null,"GEAR UP Program, Washington Student Achievement Council","STATE","GOVERNMENT",5]
[null,"Grays Harbor County","LOCAL","GOVERNMENT",5]
[null,"Kitsap Poggie Club","LOCAL","NGO",5]
[null,"Longline Environment, Ltd","INTERNATIONAL","INDUSTRY AND BUSINESS",5]
[null,"Madrona Venture Group","LOCAL","INDUSTRY AND BUSINESS",5]
[null,"Master Builders Association of King and Snohomish Counties","LOCAL","OTHER PARTNERS",5]
[null,"Nooksack Salmon Enhahncement Association","LOCAL","NGO",5]
[null,"Office of Healthy Working Rivers, City of Portland","LOCAL","GOVERNMENT",5]
[null,"Pacific Salmon Foundation","INTERNATIONAL","NGO",5]
[null,"Port of Kennewick, WA","LOCAL","GOVERNMENT",5]
[null,"Puget Sound Regional Council","REGIONAL","OTHER PARTNERS",5]
[null,"Quartermaster Harbor Yacht Club","LOCAL","INDUSTRY AND BUSINESS",5]
[null,"South Kitsap School District","LOCAL","ACADEMIC INSTITUTION",5]
[null,"The Watershed Company","LOCAL","INDUSTRY AND BUSINESS",5]
[null,"University of Washington, Department of Radiology, School of Medicine (UW)","STATE","ACADEMIC INSTITUTION",5]
[null,"University of Washington, Tacoma, College of Arts and Sciences (UW)","STATE","ACADEMIC INSTITUTION",5]
[null,"W.W. Norton & Company, Inc.","Unknown","INDUSTRY AND BUSINESS",5]
[null,"Washington State University Extension, Pacific County","LOCAL","ACADEMIC INSTITUTION",5]
[null,"Whatcom ECO Network","LOCAL","OTHER PARTNERS",5]
[null,"Yamashina Institute for Ornithology","INTERNATIONAL","OTHER PARTNERS",5]
[null,"American Academy of Underwater Scientists (AAUS) ","FEDERAL or NATIONAL","NGO",5]
[null,"Jefferson County Soil & Water Conservation District","LOCAL","NGO",5]
[null,"Onondaga Audubon Society","LOCAL","NGO",5]
[null,"Columbia University Teachers College","REGIONAL","ACADEMIC INSTITUTION",5]
[null,"Eastern Lake Ontario Dunes Foundation","LOCAL","NGO",5]
[null,"North Jefferson Park Landowners Association","LOCAL","OTHER PARTNERS",5]
[null,"Oswego County Cooperative Extension","LOCAL","NGO",5]
[null,"Oswego County Environmental Management Council","LOCAL","GOVERNMENT",5]
[null,"Sandy Island Beach Property Owners Association","LOCAL","OTHER PARTNERS",5]
[null,"Town of Ellisburg","LOCAL","GOVERNMENT",5]
[null,"Saint Lawrence River Boaters","LOCAL","OTHER PARTNERS",5]
[null,"Manhasset Bay Protection Committee","LOCAL","GOVERNMENT",5]
[null,"Long Island Farm Bureau","REGIONAL","NGO",5]
[null,"New York Marine Trades","STATE","INDUSTRY AND BUSINESS",5]
[null,"Town of Shelter Island","LOCAL","GOVERNMENT",5]
[null,"Peconic Land Trust","LOCAL","NGO",5]
[null,"Maine Botanical Gardens","LOCAL","NGO",5]
[null,"Downeast Salmon Federation","LOCAL","NGO",5]
[null,"Town of Kittery, Maine","LOCAL","GOVERNMENT",5]
[null,"Lerner Foundation","LOCAL","NGO",5]
[null,"Wild Ocean Aquaculture","LOCAL","INDUSTRY AND BUSINESS",5]
[null,"Blue Hill Bay Mussels","LOCAL","INDUSTRY AND BUSINESS",5]
[null,"Camden Code Enforcement","LOCAL","GOVERNMENT",5]
[null,"Camden Public Works","LOCAL","GOVERNMENT",5]
[null,"Wright-Pierce Engineers","LOCAL","INDUSTRY AND BUSINESS",5]
[null,"Rockport Harbormaster","LOCAL","GOVERNMENT",5]
[null,"Kittery Code Enforcement","LOCAL","GOVERNMENT",5]
[null,"University of Maine Department of Biochemistry, Microbiology and Molecular Biology","STATE","ACADEMIC INSTITUTION",5]
[null,"Province of Prince Edward Island","INTERNATIONAL","GOVERNMENT",5]
[null,"Newfoundland and Labrador Department of Fisheries and Aquaculture","INTERNATIONAL","GOVERNMENT",5]
[null,"University of New Brunswick","INTERNATIONAL","ACADEMIC INSTITUTION",5]
[null,"Maine EPSCoR (NSF)","FEDERAL or NATIONAL","GOVERNMENT",5]
[null,"Freedom High School, Freedom, Wis. ","LOCAL","ACADEMIC INSTITUTION",5]
[null,"Port of Superior","REGIONAL","INDUSTRY AND BUSINESS",5]
[null,"Save Our Rice Alliance","LOCAL","NGO",5]
[null,"Christopher Newport University","STATE","ACADEMIC INSTITUTION","NULL"]
[null,"Rhode Island IDeA Network of Biomedical Research Excellence","STATE","ACADEMIC INSTITUTION",5]
[null,"Marine Management Organization (UK)","INTERNATIONAL","INDUSTRY AND BUSINESS",5]
[null,"Thomas Hoyne Elementary School","LOCAL","ACADEMIC INSTITUTION",5]
[null,"City of East Chicago","LOCAL","GOVERNMENT",5]
[null,"Milwaukee County","LOCAL","GOVERNMENT",5]
[null,"American Water Works Association -- Illinois Chapter","STATE","NGO",5]
[null,"Blue Island Park District","LOCAL","GOVERNMENT",5]
[null,"Canton Police Department","LOCAL","GOVERNMENT",5]
[null,"City of Booneville Police Department","LOCAL","GOVERNMENT",5]
[null,"Evangelical Community Church of Blue Island","LOCAL","NGO",5]
[null,"Evanston Township","LOCAL","GOVERNMENT",5]
[null,"Lake County Planning, Building & Development","LOCAL","GOVERNMENT",5]
[null,"Landscape and Ecological Design","LOCAL","INDUSTRY AND BUSINESS",5]
[null,"Mahomet Police Department","LOCAL","GOVERNMENT",5]
[null,"McHenry County Department of Water Resources","LOCAL","GOVERNMENT",5]
[null,"Morton Arboretum","LOCAL","GOVERNMENT",5]
[null,"Osborne Organics","LOCAL","INDUSTRY AND BUSINESS",5]
[null,"Pizzo Native Plant Nursery","LOCAL","INDUSTRY AND BUSINESS",5]
[null,"Plymouth Police Department","LOCAL","GOVERNMENT",5]
[null,"Rush County Sherfif's Department","LOCAL","GOVERNMENT",5]
[null,"Sauk Prairie Police Department","LOCAL","GOVERNMENT",5]
[null,"Washington Police Department","LOCAL","GOVERNMENT",5]
[null,"WRD Environmental","LOCAL","INDUSTRY AND BUSINESS",5]
[null,"Oregon Economic Development Alliance","STATE","OTHER PARTNERS",5]
[null,"Kobe University","INTERNATIONAL","ACADEMIC INSTITUTION",5]
[null,"Savvy Women Exchanging Relevant Views (SWERV)","LOCAL","NGO",5]
[null,"Coupeville Library","LOCAL","GOVERNMENT",5]
[null,"Washington State University Extension, Kitsap County Beach Watchers (WSU)","LOCAL","ACADEMIC INSTITUTION",5]
[null,"Tetra University","INTERNATIONAL","ACADEMIC INSTITUTION",5]
[null,"Georgia Shellfish Growers Association","STATE","INDUSTRY AND BUSINESS",5]
[null,"Federal Law Enforcement Training Center","FEDERAL or NATIONAL","GOVERNMENT",5]
[null,"Georgia Ports Authority","LOCAL","GOVERNMENT",5]
[null,"Garden Club of Georgia","STATE","NGO",5]
[null,"Coastal Georgia Resiliency Communities Practicum","STATE","NGO",5]
[null,"Glynn Environmental Coalition","LOCAL","NGO",5]
[null,"University of Minnesota, Center for Farm Financial Management","STATE","ACADEMIC INSTITUTION",5]
[null,"Friends of Sapelo","LOCAL","GOVERNMENT",5]
[null,"Georgia Coastal Regional Commission","STATE","OTHER PARTNERS",5]
[null,"Advanced Research Corporation","STATE","INDUSTRY AND BUSINESS",5]
[null,"Fishermen Advisory Committee for Tillamook (FACT)","LOCAL","INDUSTRY AND BUSINESS",5]
[null,"Massachusetts Ocean Plan","STATE","GOVERNMENT",5]
[null,"Port of Umpqua","STATE","INDUSTRY AND BUSINESS",5]
[null,"Fishermen of Winchester Bay","LOCAL","INDUSTRY AND BUSINESS",5]
[null,"Oregon: Lane Educational Service District","LOCAL","ACADEMIC INSTITUTION",5]
[null,"Corvallis School District","LOCAL","ACADEMIC INSTITUTION",5]
[null,"Tacoma School District (in WA)","LOCAL","ACADEMIC INSTITUTION",5]
[null,"Everett School District (in WA)","LOCAL","ACADEMIC INSTITUTION",5]
[null,"Chicagoland Chamber of Commerce","LOCAL","INDUSTRY AND BUSINESS","NULL"]
[null,"Port and Airport Research Institute, Japan","INTERNATIONAL","ACADEMIC INSTITUTION",5]
[null,"Tillamook County Pioneer Museum/Kilchis Point Nature Center ","STATE","GOVERNMENT",5]
[null,"Sitka Center","STATE","OTHER PARTNERS",5]
[null,"NOAA Vents program","FEDERAL or NATIONAL","GOVERNMENT",5]
[null,"Near Shore Action Team Depoe Bay","LOCAL","Unknown",5]
[null,"Oregon’s Washington D.C. Congressional delegation","LOCAL","GOVERNMENT",5]
[null,"Recreational fishers","LOCAL","NGO",5]
[null,"St. Croix Watershed Research Station","REGIONAL","ACADEMIC INSTITUTION"]
[null,"University of Minnesota Limnological Research Center","STATE","ACADEMIC INSTITUTION"]
[null,"University of Minnesota Aqueous Geochemical Laboratory","STATE","ACADEMIC INSTITUTION"]
[null,"Wolf Ridge Environmental Learning Center","REGIONAL","ACADEMIC INSTITUTION"]
[null,"Minnesota Department of Natural Resources MinnAqua Program","STATE","GOVERNMENT"]
[null,"Northland Non-Point Education for Municipal Officials (NEMO)","REGIONAL","GOVERNMENT"]
[null,"Vadnais Lakes Area Water Management Organization","REGIONAL","NGO"]
[null,"Rockvam Boat Yards","LOCAL","INDUSTRY AND BUSINESS"]
[null,"Afton Marina","LOCAL","INDUSTRY AND BUSINESS"]
[null,"Port of Sunnyside","LOCAL","INDUSTRY AND BUSINESS"]
[null,"NS Harbors Program","REGIONAL","NGO"]
[null,"Scuttlebutt Magazine","REGIONAL","INDUSTRY AND BUSINESS"]
[null,"Premier Materials Technology","Unknown","INDUSTRY AND BUSINESS"]
[null,"Bayport Marina","LOCAL","INDUSTRY AND BUSINESS"]
[null,"Hub's Landing and Marina","LOCAL","INDUSTRY AND BUSINESS"]
[null,"Miss Croix Yacht Harbor","LOCAL","INDUSTRY AND BUSINESS"]
[null,"Windmill Marina","LOCAL","INDUSTRY AND BUSINESS"]
[null,"Minnesota Technical Assistance Program","STATE","NGO"]
[null,"City of Grand Marais, Parks and Recreation","LOCAL","GOVERNMENT"]
[null,"Environmental Initiative","Unknown","NGO"]
[null,"American Engineering and Testing","FEDERAL or NATIONAL","NGO"]
[null,"League of Cities","REGIONAL","NGO"]
[null,"CR Planning","LOCAL","INDUSTRY AND BUSINESS"]
[null,"Smith Partners","LOCAL","INDUSTRY AND BUSINESS"]
[null,"Minneapolis/St. Paul Magazine","REGIONAL","INDUSTRY AND BUSINESS"]
[null,"City of Cloquet","LOCAL","GOVERNMENT"]
[null,"St. Louis County","REGIONAL","GOVERNMENT"]
[null,"South St. Louis County Soil and Water Conservation District","REGIONAL","GOVERNMENT"]
[null,"Village of Oliver","LOCAL","GOVERNMENT"]
[null,"Village of Superior","LOCAL","GOVERNMENT"]
[null,"Center for Great Lakes Literacy","REGIONAL","ACADEMIC INSTITUTION"]
[null,"Becker County Soil and Water Conservation District","REGIONAL","GOVERNMENT"]
[null,"Botanical Designs with Barbara","LOCAL","INDUSTRY AND BUSINESS"]
[null,"EnviroScience","LOCAL","INDUSTRY AND BUSINESS"]
[null,"Finnecut Productions","LOCAL","INDUSTRY AND BUSINESS"]
[null,"Lake Cabin Tackle","LOCAL","INDUSTRY AND BUSINESS"]
[null,"Glacier Park Boat Company","LOCAL","INDUSTRY AND BUSINESS"]
[null,"Frabill, Inc.","LOCAL","INDUSTRY AND BUSINESS"]
[null,"Minnesota Trout Association","LOCAL","NGO"]
[null,"Lower South Long Lake Improvement District","LOCAL","GOVERNMENT"]
[null,"Lower South Long Lake Improvement Association","LOCAL","NGO"]
[null,"Ottertail County Crow Wing County Lakes and Rivers Alliance","REGIONAL","NGO"]
[null,"Great Lakes Worm Watch","REGIONAL","GOVERNMENT"]
[null,"Lake Pulaski Improvement District","REGIONAL","GOVERNMENT"]
[null,"Lake Seven Lake Association","LOCAL","NGO"]
[null,"North Long Lake Association","LOCAL","NGO"]
[null,"Lake Minnewashta Preservation Association","LOCAL","NGO"]
[null,"Lake and Ponds Association of Western MN","REGIONAL","NGO"]
[null,"Department of Conservation and Recreation Lakes and Ponds","REGIONAL","NGO"]
[null,"Wisconsin Invasive Species Council","STATE","GOVERNMENT"]
[null,"Midwest Invasive Plant Network","REGIONAL","NGO"]
[null,"North Fork Crow River Watershed District","LOCAL","GOVERNMENT"]
[null,"Hennepin County","LOCAL","GOVERNMENT"]
[null,"US Forest Service - Chippewa National Forest","FEDERAL or NATIONAL","GOVERNMENT"]
[null,"Drayton Hall Plantation","LOCAL","NGO"]
[null,"Toby VanBuren","LOCAL","INDUSTRY AND BUSINESS"]
[null,"SC MarketMaker","STATE","ACADEMIC INSTITUTION"]
[null,"National MarketMaker","FEDERAL or NATIONAL","NGO"]
[null,"Aiken High School","LOCAL","ACADEMIC INSTITUTION"]
[null,"Beaufort High School","LOCAL","ACADEMIC INSTITUTION"]
[null,"Colleton Middle School","LOCAL","ACADEMIC INSTITUTION"]
[null,"Colleton Prep","LOCAL","ACADEMIC INSTITUTION"]
[null,"Forest Heights Elementary School","LOCAL","ACADEMIC INSTITUTION"]
[null,"McCracken Middle School","LOCAL","ACADEMIC INSTITUTION"]
[null,"Moultrie Middle School","LOCAL","ACADEMIC INSTITUTION"]
[null,"Ocean Bay Middle School","LOCAL","ACADEMIC INSTITUTION"]
[null,"Palmetto Islands County Park","LOCAL","GOVERNMENT"]
[null,"South Aiken High School","LOCAL","ACADEMIC INSTITUTION"]
[null,"South Carolina Oyster Restoration and Enhancement Program (SCORE)","STATE","GOVERNMENT"]
[null,"Bunnelle Foundation","LOCAL","NGO"]
[null,"Forest Lake Elementary School","LOCAL","ACADEMIC INSTITUTION"]
[null,"Lowcountry STEM Cooperative","LOCAL","ACADEMIC INSTITUTION"]
[null,"The Southeast Regional Climate Center","REGIONAL","ACADEMIC INSTITUTION"]
[null,"National Integrated Drought Information System (NIDIS)","FEDERAL or NATIONAL","GOVERNMENT"]
[null,"North Myrtle Beach Chamber of Commerce","LOCAL","GOVERNMENT"]
[null,"North Strand Coastal Wind Team","LOCAL","ACADEMIC INSTITUTION"]
[null,"Spyglass Technologies","REGIONAL","INDUSTRY AND BUSINESS"]
[null,"Oligos, Inc.","FEDERAL or NATIONAL","INDUSTRY AND BUSINESS"]
[null,"Robinson Design Engineers","LOCAL","INDUSTRY AND BUSINESS"]
[null,"Lady's Island Oyster Farm","LOCAL","INDUSTRY AND BUSINESS"]
[null,"Vertex Aquatic Systems","REGIONAL","INDUSTRY AND BUSINESS"]
[null,"Inlet Oaks","LOCAL","INDUSTRY AND BUSINESS"]
[null,"Gold Crown Management","LOCAL","INDUSTRY AND BUSINESS"]
[null,"Gullaj Geechee Angel Network","REGIONAL","NGO"]
[null,"Sea Island Coalition","REGIONAL","NGO"]
[null,"Olsen and Associates, Inc.","REGIONAL","INDUSTRY AND BUSINESS"]
[null,"US National Integrated Drought Information System (NIDIS)","FEDERAL or NATIONAL","GOVERNMENT"]
[null,"NOAA Office of Education","FEDERAL or NATIONAL","GOVERNMENT"]
[null,"Maine Aquaculture Innovation Center","STATE","NGO"]
[null,"California Nevada Applications Program (CNAP) at the Scripps Institution","Unknown","Unknown"]
[null,"Coravai Consulting","Unknown","Unknown"]
[null,"Southern California Aquarium Collaborative","Unknown","Unknown"]
[null,"Ty Warner Sea Center","Unknown","Unknown"]
[null,"Sea Life Center","Unknown","Unknown"]
[null,"Los Angeles Education Partnership","LOCAL","ACADEMIC INSTITUTION"]
[null,"Inner City Education Foundation","LOCAL","ACADEMIC INSTITUTION"]
[null,"AAUW","Unknown","Unknown"]
[null,"Los Angeles County Fair","Unknown","Unknown"]
[null,"AZ Dept of Fish and Wildlife","Unknown","Unknown"]
[null,"Intel International Science and Engineering Fair","Unknown","Unknown"]
[null,"Los Angeles Dept of Water & Power","Unknown","Unknown"]
[null,"LA Bureau of Engineering","Unknown","Unknown"]
[null,"LA Dept of Building","Unknown","Unknown"]
[null,"Safety and Emergency Management","Unknown","Unknown"]
[null,"Council for Watershed Health","Unknown","Unknown"]
[null,"Los Angeles Business Council","Unknown","Unknown"]
[null,"LA Planning Department","Unknown","Unknown"]
[null,"Pacific Palisades Community Council","Unknown","Unknown"]
[null,"Climate Resolve","Unknown","Unknown"]
[null,"Tree People","Unknown","Unknown"]
[null,"UCLA Environmental Law Center","Unknown","Unknown"]
[null,"City of Manhattan Beach","Unknown","Unknown"]
[null,"City of Rancho Palos Verdes","Unknown","Unknown"]
[null,"Department of Transportation ","Unknown","Unknown"]
[null,"University of Georgia Press ","Unknown","Unknown"]
[null,"Hooper Family Seafood ","Unknown","Unknown"]
[null,"Full Circle Crab Company, Inc. ","Unknown","Unknown"]
[null,"City of New Bedford","LOCAL","GOVERNMENT"]
[null,"Town of Fairhaven","LOCAL","GOVERNMENT"]
[null,"Caribbean Science Foundation ","INTERNATIONAL","NGO"]
[null,"Coastal Carolina Fair","STATE","NGO"]
[null,"Endosafe","FEDERAL or NATIONAL","INDUSTRY AND BUSINESS"]
[null,"Graduate School at the College of Charleston","STATE","ACADEMIC INSTITUTION"]
[null,"College of Charleston Graduate Program in Marine Biology","STATE","ACADEMIC INSTITUTION"]
[null,"T-Bar Aquaculture","LOCAL","INDUSTRY AND BUSINESS"]
[null,"Puerto Rico Environmental Quality Board","LOCAL","Unknown"]
[null,"Puerto Rico Health Department","Unknown","GOVERNMENT"]
[null,"Federación de Pescadores de Puerto Rico y Defensores Del Mar, Inc. (FEPDEMAR)","Unknown","Unknown"]
[null,"Puerto Rico Department of Agriculture","Unknown","GOVERNMENT"]
[null,"CRECEMOS","Unknown","NGO"]
[null,"Alianza Comunitaria y Ambiental en Acción Solidaria","Unknown","NGO"]
[null,"Mayaguezanos Por la Salud y el Ambiente","Unknown","NGO"]
[null,"UNESCO","Unknown","Unknown"]
[null,"Casa Paoli","Unknown","NGO"]
[null,"UNESCO","Unknown","Unknown"]
[null,"Casa Paoli","Unknown","NGO"]
[null,"Smith Brothers Farms","LOCAL","INDUSTRY AND BUSINESS"]
[null,"National Taiwan Ocean University, Taipei, Taiwan","INTERNATIONAL","ACADEMIC INSTITUTION"]
[null,"Chung Ang University, Seoul, Korea","INTERNATIONAL","ACADEMIC INSTITUTION"]
[null,"International Association of Maritime Economists","INTERNATIONAL","Unknown"]
[null,"Dalhousie University, Halifax, Nova Scotia, Canada","INTERNATIONAL","ACADEMIC INSTITUTION"]
[null,"Officials from the Municipality of Foshan, China","INTERNATIONAL","Unknown"]
[null,"Korea Academy of International Commerce","INTERNATIONAL","Unknown"]
[null,"Southern California Marine Institute","Unknown","Unknown"]
[null,"Phillips & Associates","Unknown","Unknown"]
[null,"William McDonough & Partners","Unknown","Unknown"]
[null,"Los Angeles Education Partnership","LOCAL","ACADEMIC INSTITUTION"]
[null,"Inner City Education Foundation","LOCAL","ACADEMIC INSTITUTION"]
[null,"Seattle Sensor Systems","Unknown","Unknown"]
[null,"University of Washington, Department of Electrical Engineering, College of Engineering (UW)","Unknown","ACADEMIC INSTITUTION"]
[null,"University of Washington, Department of Genome Science, School of Medicine (UW)","Unknown","ACADEMIC INSTITUTION"]
[null,"Texas Instruments","Unknown","INDUSTRY AND BUSINESS"]
[null,"Atlantis Submarines","Unknown","Unknown"]
[null,"Coco Palm Resort","Unknown","Unknown"]
[null,"Saipan Public Schools U.S. Navy (USN)","Unknown","Unknown"]
[null,"Guam Power Authority (GPA)","Unknown","Unknown"]
[null,"Guam Energy Task Force (GETF)","Unknown","Unknown"]
[null,"Mid-continent Research for Education and Learning (McRel)","Unknown","Unknown"]
[null,"Experimental Program to Stimulate Competitive Research (EPSCoR)","Unknown","Unknown"]
[null,"Pacific Daily News (PDN)","Unknown","Unknown"]
[null,"Northern Guam Soil and Water Conservation District (NGSWCD)","Unknown","Unknown"]
[null,"Marianas Variety","Unknown","Unknown"]
[null,"UOG Communications Program","Unknown","Unknown"]
[null,"UOG School of Education (SOE)","Unknown","Unknown"]
[null,"Micronesian Biosecurity Plan","Unknown","Unknown"]
[null,"UOG Cancer Research Center","Unknown","Unknown"]
[null,"UOG Professional and International Programs","Unknown","Unknown"]
[null,"Northern Marianas College (NMC)","Unknown","Unknown"]
[null,"Pacific Resources for Education and Learning (PREL)","Unknown","Unknown"]
[null,"Town of Lebanon, CT","LOCAL","Unknown"]
[null,"Connecticut Department of Consumer Protection","STATE","Unknown"]
[null,"University of Connecticut Dept of Plant Sciences","Unknown","ACADEMIC INSTITUTION"]
[null,"University of Connecticut, Dept. of Material Science and Engineering","Unknown","ACADEMIC INSTITUTION"]
[null,"University of Connecticut Master Gardeners Program","Unknown","ACADEMIC INSTITUTION"]
[null,"University of Exeter, UK","Unknown","ACADEMIC INSTITUTION"]
[null,"Three Rivers Community College","Unknown","ACADEMIC INSTITUTION"]
[null,"Middlesex Community College","Unknown","ACADEMIC INSTITUTION"]
[null,"Northeast Organic Farmers Association","Unknown","NGO"]
[null,"Connecticut Association of Land Surveyors","REGIONAL","GOVERNMENT"]
[null,"Northeast Regional Planning Body","REGIONAL","GOVERNMENT"]
[null,"Trussell Technologies Inc.","Unknown","Unknown"]
[null,"Separation Processes Inc.","Unknown","Unknown"]
[null,"West Basin Municipal Water District","Unknown","Unknown"]
[null,"Seal Beach Naval Weapon Station Refuge","Unknown","Unknown"]
[null,"Susan Moser Research and Consulting","Unknown","Unknown"]
[null,"East Bay Park District, Oakland, CA","Unknown","Unknown"]
[null,"DE Division of Air Quality (DNREC); ","Unknown","Unknown"]
[null,"American Wind Energy Association Offshore Wind Working Group; ","Unknown","Unknown"]
[null,"Delaware Wildlands, LLC; ","Unknown","Unknown"]
[null,"University of Delaware Citizen Monitoring Program","Unknown","Unknown"]
[null,"WBUV Biloxi MS","Unknown","Unknown"]
[null,"WLOX TV","Unknown","Unknown"]
[null,"Yellow Pages","Unknown","Unknown"]
[null,"Legacy Partners in Environmental Education","Unknown","Unknown"]
[null,"Horizon Shipbuilding","Unknown","Unknown"]
[null,"WBUV Biloxi MS","Unknown","Unknown"]
[null,"WLOX TV","Unknown","Unknown"]
[null,"Yellow Pages","Unknown","Unknown"]
[null,"Legacy Partners in Environmental Education","Unknown","Unknown"]
[null,"Horizon Shipbuilding","Unknown","Unknown"]
[null,"Southeast Regional Aquaculture Center (USDA)","REGIONAL","GOVERNMENT"]
[null,"Leiden University","INTERNATIONAL","ACADEMIC INSTITUTION"]
[null,"Northwest Planning Alliance","LOCAL","NGO"]
[null,"Wellesley College","LOCAL","ACADEMIC INSTITUTION"]
[null,"Virginia Tobacco Commission","STATE","GOVERNMENT"]
[null,"Virginia Society for Microbiology","STATE","NGO"]
[null,"American Society for Microbiology","FEDERAL or NATIONAL","NGO"]
[null,"International Women's Fishing Association","INTERNATIONAL","NGO"]
[null,"Georgetown University","STATE","ACADEMIC INSTITUTION"]
[null,"Anne Arundel County","LOCAL","GOVERNMENT"]
[null,"Rappahannock River Oysers","LOCAL","INDUSTRY AND BUSINESS"]
[null,"Virginia Zoo","LOCAL","GOVERNMENT"]
[null,"Hermitage Museum","LOCAL","NGO"]
[null,"Shellfish Growers of Virginia","STATE","INDUSTRY AND BUSINESS"]
[null,"Chesapeake Bay Oyster Company","LOCAL","INDUSTRY AND BUSINESS"]
[null,"Tarkill Oyster Company","LOCAL","INDUSTRY AND BUSINESS"]
[null,"Shore Seafood","LOCAL","INDUSTRY AND BUSINESS"]
[null,"Shores and Ruark Seafood","LOCAL","INDUSTRY AND BUSINESS"]
[null,"Sweet Amelia Oysters","LOCAL","INDUSTRY AND BUSINESS"]
[null,"Virginia Food Safety Task Force","STATE","GOVERNMENT"]
[null,"Tide Right LLC","LOCAL","INDUSTRY AND BUSINESS"]
[null,"Strawberry Creek Shrimp Farms","LOCAL","INDUSTRY AND BUSINESS"]
[null,"Virginia Natural Fish Company","LOCAL","INDUSTRY AND BUSINESS"]
[null,"Tecumseh Marine","LOCAL","INDUSTRY AND BUSINESS"]
[null,"Blackwood Farms","LOCAL","INDUSTRY AND BUSINESS"]
[null,"Ziegler Feeds","FEDERAL or NATIONAL","INDUSTRY AND BUSINESS"]
[null,"Skretting Feeds","FEDERAL or NATIONAL","INDUSTRY AND BUSINESS"]
[null,"AquaMay","INTERNATIONAL","INDUSTRY AND BUSINESS"]
[null,"Oman Ministry of Fisheries and Wealth","INTERNATIONAL","GOVERNMENT"]
[null,"Project Marine Farms Isla Mujeres (Mexico)","INTERNATIONAL","INDUSTRY AND BUSINESS"]
[null,"Universidad de Pernambuco (Brazil)","INTERNATIONAL","ACADEMIC INSTITUTION"]
[null,"Wright, Constable & Skeen, LLP","LOCAL","INDUSTRY AND BUSINESS"]
[null,"Reel Addiction Charters","LOCAL","INDUSTRY AND BUSINESS"]
[null,"Bay Country Kayaking","LOCAL","INDUSTRY AND BUSINESS"]
[null,"Sea Spray Charters","LOCAL","INDUSTRY AND BUSINESS"]
[null,"Chincoteague Charter Boat Association","LOCAL","INDUSTRY AND BUSINESS"]
[null,"Word Craft","LOCAL","INDUSTRY AND BUSINESS"]
[null,"Virginia Resource Use Education Council","STATE","GOVERNMENT"]
[null,"Lilliston Seafood","LOCAL","INDUSTRY AND BUSINESS"]
[null,"Chesapeake Seafood","LOCAL","INDUSTRY AND BUSINESS"]
[null,"Cape Oyster Company","LOCAL","INDUSTRY AND BUSINESS"]
[null,"High Liner Seafood","LOCAL","INDUSTRY AND BUSINESS"]
[null,"Prax Air","FEDERAL or NATIONAL","INDUSTRY AND BUSINESS"]
[null,"Marel Seattle, Inc.","FEDERAL or NATIONAL","INDUSTRY AND BUSINESS"]
[null,"Multivac Corporation","FEDERAL or NATIONAL","INDUSTRY AND BUSINESS"]
[null,"Liquid Carbonic","FEDERAL or NATIONAL","INDUSTRY AND BUSINESS"]
[null,"Berry Plastics","FEDERAL or NATIONAL","INDUSTRY AND BUSINESS"]
[null,"Mobjack Seafood","LOCAL","INDUSTRY AND BUSINESS"]
[null,"Kahills Restaurant","LOCAL","INDUSTRY AND BUSINESS"]
[null,"Keyser Brothers","LOCAL","INDUSTRY AND BUSINESS"]
[null,"J.H. Miles and Company, Inc.","LOCAL","INDUSTRY AND BUSINESS"]
[null,"Omega Protein, Inc.","LOCAL","INDUSTRY AND BUSINESS"]
[null,"Virginia Israel Advisory Board","STATE","INDUSTRY AND BUSINESS"]
[null,"Peasley Middle School","LOCAL","ACADEMIC INSTITUTION"]
[null,"Virginia Department of Emergency Management","STATE","GOVERNMENT"]
[null,"U.S. Power Squadrom","FEDERAL or NATIONAL","NGO"]
[null,"Carter's Cove Marina","LOCAL","INDUSTRY AND BUSINESS"]
[null,"Smithfield Station Marina","LOCAL","INDUSTRY AND BUSINESS"]
[null,"Greenvale Creek Marina","LOCAL","INDUSTRY AND BUSINESS"]
[null,"Garrett's Marina","LOCAL","INDUSTRY AND BUSINESS"]
[null,"River's Rest Marina","LOCAL","INDUSTRY AND BUSINESS"]
[null,"Governor's Land Marina","LOCAL","INDUSTRY AND BUSINESS"]
[null,"Cape Charles Marina","LOCAL","INDUSTRY AND BUSINESS"]
[null,"Cobb's Marina","LOCAL","INDUSTRY AND BUSINESS"]
[null,"Little Creek Marina","LOCAL","INDUSTRY AND BUSINESS"]
[null,"Lynnhaven Marina","LOCAL","INDUSTRY AND BUSINESS"]
[null,"Hope Springs Marina","LOCAL","INDUSTRY AND BUSINESS"]
[null,"Poquoson Marina","LOCAL","INDUSTRY AND BUSINESS"]
[null,"Virginia Beach Fishing Center","LOCAL","INDUSTRY AND BUSINESS"]
[null,"Kingsmill Marina","LOCAL","INDUSTRY AND BUSINESS"]
[null,"City of Franklin","LOCAL","GOVERNMENT"]
[null,"City of Chesapeake","LOCAL","GOVERNMENT"]
[null,"City of Newport News","LOCAL","GOVERNMENT"]
[null,"City of Suffolk","LOCAL","GOVERNMENT"]
[null,"Virginia Association of Zoning Officials","STATE","NGO"]
[null,"Environmental Technologies Inc","FEDERAL or NATIONAL","INDUSTRY AND BUSINESS"]
[null,"Glosten Associates","FEDERAL or NATIONAL","INDUSTRY AND BUSINESS"]
[null,"Betsy's Cape Shore Salts","LOCAL","INDUSTRY AND BUSINESS"]
[null,"South Jersey Natural Lands Trust","REGIONAL","NGO"]
[null,"TD Bank","STATE","INDUSTRY AND BUSINESS"]
[null,"National Network for Educational Renewal","FEDERAL or NATIONAL","NGO"]
[null,"New Jersey American Water","STATE","OTHER PARTNERS"]
[null,"Alliance for New Jersey Environmental Education","STATE","NGO"]
[null,"Maple Avenue School","LOCAL","ACADEMIC INSTITUTION"]
[null,"Art of Survival","LOCAL","NGO"]
[null,"Camden County Technical Schools","LOCAL","ACADEMIC INSTITUTION"]
[null,"Madison elementary School","LOCAL","ACADEMIC INSTITUTION"]
[null,"Rockaway Valley School","LOCAL","ACADEMIC INSTITUTION"]
[null,"Woodrow Wilson High School","LOCAL","ACADEMIC INSTITUTION"]
[null,"The Nature Conservancy","STATE","NGO"]
[null,"Huffville Elementary School","LOCAL","ACADEMIC INSTITUTION"]
[null,"Urban Promise Academy","LOCAL","ACADEMIC INSTITUTION"]
[null,"Trust for Public Lands","REGIONAL","NGO"]
[null,"Sussex Avenue School of the Arts and Sciences","LOCAL","ACADEMIC INSTITUTION"]
[null,"Brimm Medical Arts High School","LOCAL","ACADEMIC INSTITUTION"]
[null,"Hamilton Township Environmental Commission","LOCAL","GOVERNMENT"]
[null,"Hamilton Township Zoning Board","LOCAL","GOVERNMENT"]
[null,"New Jersey Nursery and Landscape Association (NJNLA)","STATE","NGO"]
[null,"Jacobs Engineering","LOCAL","INDUSTRY AND BUSINESS"]
[null,"Delaware Department of Natural Resources and Environmental Control","REGIONAL","NGO"]
[null,"Center for Inland Bays","REGIONAL","NGO"]
[null,"USDA NIFA Regional Water Center","FEDERAL or NATIONAL","GOVERNMENT"]
[null,"City of Newark","LOCAL","GOVERNMENT"]
[null,"Rutgers Cooperative Extension of Essex County","LOCAL","ACADEMIC INSTITUTION"]
[null,"Parkside Community partnership","REGIONAL","OTHER PARTNERS"]
[null,"The Camden Center for Transformation","LOCAL","OTHER PARTNERS"]
[null,"Rutgers Office of Continuing Professional Education","LOCAL","ACADEMIC INSTITUTION"]
[null,"Manasquan Environmental Commission","LOCAL","GOVERNMENT"]
[null,"Township of Bridgewater","LOCAL","GOVERNMENT"]
[null,"Wreck Pond Brook Watershed Regional Stormwater Management Plan Committee","LOCAL","GOVERNMENT"]
[null,"Westwood Environmental Commission","LOCAL","GOVERNMENT"]
[null,"Eatontown Environmental Commission","LOCAL","GOVERNMENT"]
[null,"Township of Princeton","LOCAL","GOVERNMENT"]
[null,"New Jersey Water Resources Research Institute","STATE","ACADEMIC INSTITUTION"]
[null,"New Jersey Chapter of the American Society of Landscape Architects","STATE","NGO"]
[null,"New Hampshire Stormwater Center","REGIONAL","NGO"]
[null,"New York/New Jersey Baykeeper","STATE","NGO"]
[null,"South Seaside Park Beach Patrol","LOCAL","OTHER PARTNERS"]
[null,"Lavallette Beach Patrol","LOCAL","OTHER PARTNERS"]
[null,"Spring Lake Beach Patrol","LOCAL","OTHER PARTNERS"]
[null,"Sea Girt Beach Control","LOCAL","OTHER PARTNERS"]
[null,"Normandy Beach Beach Patrol","LOCAL","OTHER PARTNERS"]
[null,"Asbury Park Beach Patrol","LOCAL","OTHER PARTNERS"]
[null,"Atlantic City Beach Patrol","LOCAL","OTHER PARTNERS"]
[null,"Wildwood Beach Patrol","LOCAL","OTHER PARTNERS"]
[null,"Monmouth County Parks Beach Patrol","LOCAL","OTHER PARTNERS"]
[null,"Surf City Beach Patrol","LOCAL","OTHER PARTNERS"]
[null,"National Parks Service Beach Patrol","FEDERAL or NATIONAL","OTHER PARTNERS"]
[null,"North Wildwood Beach Patrol","LOCAL","OTHER PARTNERS"]
[null,"Ocean Grove Beach Patrol","LOCAL","OTHER PARTNERS"]
[null,"Long Branch Beach Patrol","LOCAL","OTHER PARTNERS"]
[null,"New Jersey Coastal Protection Technical Assistance Service (NJCPTAS)","STATE","ACADEMIC INSTITUTION"]
[null,"New York City Economic Development Corporation (NY EDC)","STATE","INDUSTRY AND BUSINESS"]
[null,"Hudson River National Estuarine Research Reserve System","REGIONAL","NGO"]
[null,"Monmouth County Cool Cities Partnership","REGIONAL","NGO"]
[null,"City of Rochester, MI","LOCAL","GOVERNMENT"]
[null,"Holland Board of Public Works","LOCAL","GOVERNMENT"]
[null,"Grand Valley State University (GVSU) Biology Department","REGIONAL","ACADEMIC INSTITUTION"]
[null,"Grand Valley State University (GVSU) Economics Department","REGIONAL","ACADEMIC INSTITUTION"]
[null,"Great Lakes Fishery Laboratory, University of Michigan School of Natural Resources and Environment","REGIONAL","ACADEMIC INSTITUTION"]
[null,"Office of the President, University of Michigan","REGIONAL","ACADEMIC INSTITUTION"]
[null,"Michigan Productions","REGIONAL","OTHER PARTNERS"]
[null,"GE Energy - Offshore Wind","REGIONAL","INDUSTRY AND BUSINESS"]
[null,"Journal Star and PrairieStateOutdoors.com","REGIONAL","OTHER PARTNERS"]
[null,"Yellowstone National Park","STATE","GOVERNMENT"]
[null,"Metroparks","LOCAL","OTHER PARTNERS"]
[null,"Michigan Restaurant Association","STATE","INDUSTRY AND BUSINESS"]
[null,"Michigan Department of Agriculture and Rural Development","STATE","GOVERNMENT"]
[null,"Southern Wayne County Regional Chamber","REGIONAL","INDUSTRY AND BUSINESS"]
[null,"City of River Rouge","LOCAL","GOVERNMENT"]
[null,"Downriver Delta CDC","REGIONAL","GOVERNMENT"]
[null,"City of Trenton","LOCAL","GOVERNMENT"]
[null,"Land Information Access Associaition","STATE","NGO"]
[null,"Thumb Steelheaders","REGIONAL","NGO"]
[null,"Downriver Walleye Federation","REGIONAL","NGO"]
[null,"International Wildlife Refuge Alliance","REGIONAL","NGO"]
[null,"MI Statewide Public Advisory Council","STATE","OTHER PARTNERS"]
[null,"Friends of the Rouge","REGIONAL","NGO"]
[null,"Cranbrook Institse of Science","REGIONAL","NGO"]
[null,"Macomb County Department of Planning and Economic Development (MCPED)","LOCAL","GOVERNMENT"]
[null,"University of Michigan Dearborn","LOCAL","ACADEMIC INSTITUTION"]
[null,"BaySail","STATE","NGO"]
[null,"Northwestern Michigan College Great Lakes Water Studies Institute (GLWSI)","STATE","ACADEMIC INSTITUTION"]
[null,"Alcona Community High School","LOCAL","ACADEMIC INSTITUTION"]
[null,"Alcona County Board of Commissioners","LOCAL","GOVERNMENT"]
[null,"Alcona County Master Gardeners","LOCAL","NGO"]
[null,"Alcona Elementary School","LOCAL","INDUSTRY AND BUSINESS"]
[null,"Alcona Middle School","LOCAL","ACADEMIC INSTITUTION"]
[null,"Alcona Township","LOCAL","GOVERNMENT"]
[null,"All Saints Catholic School","LOCAL","ACADEMIC INSTITUTION"]
[null,"Alpena Area Chamber of Commerce","LOCAL","GOVERNMENT"]
[null,"Alpena Convention and Visitors Bureau","LOCAL","GOVERNMENT"]
[null,"Alpena County Board of Commissioners","LOCAL","GOVERNMENT"]
[null,"Alpena High School","LOCAL","ACADEMIC INSTITUTION"]
[null,"Alpena Township","LOCAL","GOVERNMENT"]
[null,"Alpena Wildlife Sanctuary Committee (River Center)","LOCAL","GOVERNMENT"]
[null,"Arenac County Board of Commissioners","LOCAL","GOVERNMENT"]
[null,"Atlanta Community Schools","LOCAL","ACADEMIC INSTITUTION"]
[null,"Au-Gres Simms Schools","LOCAL","ACADEMIC INSTITUTION"]
[null,"AuSable Valley Audobon Chapter","LOCAL","NGO"]
[null,"Besser Elementary School (Alpena Public Schools)","LOCAL","ACADEMIC INSTITUTION"]
[null,"Besser Museum for Northeast Michigan","LOCAL","NGO"]
[null,"Bingham Academy","LOCAL","ACADEMIC INSTITUTION"]
[null,"Cheboygan Area Sportfishing Association","LOCAL","NGO"]
[null,"Cheboygan County Board of Commissioners","LOCAL","GOVERNMENT"]
[null,"Cheboygan County Economic Development Committee","LOCAL","GOVERNMENT"]
[null,"Cheboygan Middle School","LOCAL","ACADEMIC INSTITUTION"]
[null,"Cheboygan-Otsego-Presque Isle ESD","LOCAL","ACADEMIC INSTITUTION"]
[null,"City of Alpena","LOCAL","GOVERNMENT"]
[null,"City of Harrisville","LOCAL","GOVERNMENT"]
[null,"City of Rogers City","LOCAL","GOVERNMENT"]
[null,"Coastal Coalition (tourism marketing collaborative)","LOCAL","OTHER PARTNERS"]
[null,"Community Foundation for Northeast Michigan","LOCAL","ACADEMIC INSTITUTION"]
[null,"Michigan Department of Natural Resources Parks and Recreation - Negwegon-Rockport-Thompson's Harbor (NRTH) Citizen Adivsory Committee","LOCAL","OTHER PARTNERS"]
[null,"Friends of Negwegon State Park","LOCAL","NGO"]
[null,"Friends of Rockport State Park/Besser Natural Area","LOCAL","NGO"]
[null,"Friends of Sprinkler Lake Education Center","LOCAL","NGO"]
[null,"Friends of Thompsons Harbor State Park","LOCAL","NGO"]
[null,"G3HC Consulting","LOCAL","INDUSTRY AND BUSINESS"]
[null,"Gaylord High School/Voc. Bldg.","LOCAL","ACADEMIC INSTITUTION"]
[null,"Gaylord Intermediate School","LOCAL","ACADEMIC INSTITUTION"]
[null,"Gaylord Middle School","LOCAL","ACADEMIC INSTITUTION"]
[null,"Grand Traverse Conservation District","LOCAL","NGO"]
[null,"Great Lakes Council of the Federation of Fly Fishers","REGIONAL","NGO"]
[null,"Hammond Bay Area Anglers Association","LOCAL","NGO"]
[null,"Headwaters Land Conservancy","LOCAL","NGO"]
[null,"Hillman Community Jr/Sr High School","LOCAL","ACADEMIC INSTITUTION"]
[null,"Hillman Elementary School","LOCAL","ACADEMIC INSTITUTION"]
[null,"Huron Pines","LOCAL","NGO"]
[null,"Huron Shores Chamber of Commerce","LOCAL","GOVERNMENT"]
[null,"Immanuel Lutheran School","LOCAL","ACADEMIC INSTITUTION"]
[null,"Inland Lakes Elementary School","LOCAL","ACADEMIC INSTITUTION"]
[null,"Inland Lakes High School","LOCAL","ACADEMIC INSTITUTION"]
[null,"Inland Lakes Middle School","LOCAL","ACADEMIC INSTITUTION"]
[null,"Iosco County Board of Commissioners","LOCAL","GOVERNMENT"]
[null,"Johannesburg-Lewiston High School","LOCAL","ACADEMIC INSTITUTION"]
[null,"Les Cheneaux Sportsman's Club","LOCAL","NGO"]
[null,"Little Traverse Conservancy","LOCAL","NGO"]
[null,"Michigan Department of Natural Resources Fisheries Division","STATE","GOVERNMENT"]
[null,"Michigan Dept. of Natural Resources Parks and Recreation -","STATE","GOVERNMENT"]
[null,"Michigan Maritime Museum","LOCAL","NGO"]
[null,"Michigan State University Department of Geography","STATE","ACADEMIC INSTITUTION"]
[null,"Modern Craft Winery","LOCAL","INDUSTRY AND BUSINESS"]
[null,"MSSFA - Thumb Chapter","LOCAL","NGO"]
[null,"MSU Department of Fisheries and Wildlife","STATE","ACADEMIC INSTITUTION"]
[null,"MSU Museum","STATE","ACADEMIC INSTITUTION"]
[null,"Natureology","LOCAL","INDUSTRY AND BUSINESS"]
[null,"Onaway Elementary School","LOCAL","ACADEMIC INSTITUTION"]
[null,"Onaway Senior High School","LOCAL","ACADEMIC INSTITUTION"]
[null,"Oscoda Area High School","LOCAL","ACADEMIC INSTITUTION"]
[null,"Oscoda Township","LOCAL","GOVERNMENT"]
[null,"Otsego Conservation District","LOCAL","NGO"]
[null,"PaleoJoe","STATE","INDUSTRY AND BUSINESS"]
[null,"Presque Isle Conservation District","LOCAL","GOVERNMENT"]
[null,"Presque Isle County Board of Commissioners","LOCAL","GOVERNMENT"]
[null,"Presque Isle County Libraries","LOCAL","NGO"]
[null,"Presque Isle County Tourism Council","LOCAL","GOVERNMENT"]
[null,"Presque Isle Drain Commission","LOCAL","GOVERNMENT"]
[null,"Presque Isle Township","LOCAL","GOVERNMENT"]
[null,"Pure Michigan","STATE","GOVERNMENT"]
[null,"Richardson Elementary (Osoda Schools)","LOCAL","ACADEMIC INSTITUTION"]
[null,"Richardson Middle School","LOCAL","ACADEMIC INSTITUTION"]
[null,"Rogers City Elementary School","LOCAL","ACADEMIC INSTITUTION"]
[null,"Rogers City High School","LOCAL","ACADEMIC INSTITUTION"]
[null,"Saginaw Bay Walleye Club","LOCAL","NGO"]
[null,"Saginaw Field and Stream Club","LOCAL","NGO"]
[null,"Sanborn Elementary (Alpena Public Schools)","LOCAL","ACADEMIC INSTITUTION"]
[null,"Sanborn Township","LOCAL","GOVERNMENT"]
[null,"Sandy B Fishing Charters (Harrisville)","LOCAL","INDUSTRY AND BUSINESS"]
[null,"Sprinkler Lake Education Center (Math/Science Center)","LOCAL","ACADEMIC INSTITUTION"]
[null,"Straits Area Audubon Chapter","LOCAL","NGO"]
[null,"Thunder Bay Audubon chapter","LOCAL","NGO"]
[null,"Thunder Bay Junior High (Alpena Public Schools)","LOCAL","ACADEMIC INSTITUTION"]
[null,"Thunder Bay Walleye Club","LOCAL","NGO"]
[null,"Thunder Bay Watershed Council","LOCAL","NGO"]
[null,"Toyota U.S.A.","FEDERAL or NATIONAL","INDUSTRY AND BUSINESS"]
[null,"Trout Scout Charters (Alpena)","LOCAL","INDUSTRY AND BUSINESS"]
[null,"University of Michigan School of Natural Resources and Environment (Great Lakes Fishery Laboratory)","STATE","ACADEMIC INSTITUTION"]
[null,"Vanderbilt Area School","LOCAL","ACADEMIC INSTITUTION"]
[null,"Village of Oscoda","LOCAL","GOVERNMENT"]
[null,"Wilson Elementary (Alpena Public Schools)","LOCAL","ACADEMIC INSTITUTION"]
[null,"Wolverine Elementary School","LOCAL","ACADEMIC INSTITUTION"]
[null,"Bay County Health Department","LOCAL","GOVERNMENT"]
[null,"Macomb County Health Department","LOCAL","GOVERNMENT"]
[null,"OMNR","Unknown","Unknown"]
[null,"Large Lakes Observatory","STATE","ACADEMIC INSTITUTION"]
[null,"U W Madison- Department od Civil and Environmental Engineering","STATE","ACADEMIC INSTITUTION"]
[null,"Gerry Santoro/Macomb County Planning & economic Development","LOCAL","GOVERNMENT"]
[null,"MSU Extension","STATE","ACADEMIC INSTITUTION"]
[null,"Macomb County Commission","LOCAL","GOVERNMENT"]
[null,"Paddlers","REGIONAL","OTHER PARTNERS"]
[null,"Berkeley California","STATE","ACADEMIC INSTITUTION"]
[null,"St. Clair Flats Waterfowlers, Inc.","LOCAL","NGO"]
[null,"St. Clair County Parks and Recreation Commission","LOCAL","GOVERNMENT"]
[null,"ECT, Inc.","REGIONAL","INDUSTRY AND BUSINESS"]
[null,"Outdoor Escorts","LOCAL","INDUSTRY AND BUSINESS"]
[null,"NHN - Ontwikkelingsbedrijf","INTERNATIONAL","INDUSTRY AND BUSINESS"]
[null,"Huron County Economic Development Corporation","LOCAL","GOVERNMENT"]
[null,"Harrietta Hills Trout Farm & Michigan Aquaculture Association","STATE","INDUSTRY AND BUSINESS"]
[null,"Great Lakes Entrepreneurs Quest","STATE","NGO"]
[null,"SBTDC -Grand Valley State University","STATE","ACADEMIC INSTITUTION"]
[null,"Bill Knudson, MSU - Product Center","STATE","ACADEMIC INSTITUTION"]
[null,"Soy Aquaculture Alliance","REGIONAL","INDUSTRY AND BUSINESS"]
[null,"Isaiah Wunsch, Gill Pezza & Tom Durkee / MEDC","STATE","GOVERNMENT"]
[null,"State Quality of Life Departments - MDARD, DEQ, DNR : various staff","STATE","GOVERNMENT"]
[null,"Northern Ontario Aquaculture Association","INTERNATIONAL","INDUSTRY AND BUSINESS"]
[null,"Essex Region Conservation Authority","REGIONAL","INDUSTRY AND BUSINESS"]
[null,"Great Lakes Divers and Sweetwater Charters","REGIONAL","INDUSTRY AND BUSINESS"]
[null,"Trout Scout V Sportfishing Charters","REGIONAL","INDUSTRY AND BUSINESS"]
[null,"Thunder Bay Scuba","REGIONAL","INDUSTRY AND BUSINESS"]
[null,"Originz LLC","REGIONAL","INDUSTRY AND BUSINESS"]
[null,"University of Michigan - School of Urban & Regional Planning","STATE","ACADEMIC INSTITUTION"]
[null,"University of Michigan - GLAA-C Project","STATE","ACADEMIC INSTITUTION"]
[null,"OH Travel Association","STATE","INDUSTRY AND BUSINESS"]

{"sheet":"90-2formulas","index":55,"n_rows":40,"n_cols":23,"rows_kept":40,"cut":false,"hidden":false,"merged":[]}
["Generated from row:",2,"OMB no. ","0648-0362",null,null,null,null,null,null,null,null,null,"S1","(default worksheet name)"]
[null,null,"Don't use after","2013-12-31",null,null,null,null,null,null,null,null,null,{"$f":"VALUE(MID(N1,2,99))+1","v":2},"default data row = (above numerical) plus one"]
[null,"(from ProjectRecord Data)",null,null,null,null,null,null,null,null,null,null,null,null,"(temp workspace for a current cell value)"]
[null,"SEA GRANT PROJECT SUMMARY FORM 90-2",null,null,"National Office does not track these fields:",null,"NSGO use only",null,null,null,null,null,null,null,"(temp workspace for a new selected value)"]
[null,null,null,null,null,null,null,null,null,null,null,null,null,{"$f":"IF(N3=\"\",IF(N4=\"\",\"\",N4),IF(N4=\"\",N3,N3&\"; \"&N4))","v":""},"(function to concatenate the above two cells)"]
["INSTITUTION (Program): ",{"$f":"INDIRECT(\"'ProjDataInput'!a\"&TEXT($N$2,\"###\"))","v":0},null,"ICODE: ",null,null,null,null,null,null,null,null,null,null,null,null,null,null,null,"INSTITUTION (Program): ","DE",null,"ICODE: "]
["TITLE: ",{"$f":"MID(INDIRECT(\"'ProjDataInput'!C\"&TEXT($N$2,\"###\")),1,999)","v":""},null,"REV. DATE:",null,null,null,null,null,null,null,null,null,"","(Program listed on first 90-2)",null,null,null,null,"TITLE: ","Sea Grant Extension Program",null,"REV. DATE:"]
[null,null,null,"INIT. DATE:",null,null,null,null,null,null,null,null,null,null,null,null,null,null,null,null,null,null,"INIT. DATE:"]
[null," PROJECT NUMBER",null,"COMPL. DATE:",null,null,null,null,null,null,null,null,null,null,null,null,null,null,null,"PREFIX (A,C,E,M,P or R): "," PROJECT NUMBER",null,"COMPL. DATE:"]
[{"$f":"LEFT(INDIRECT(\"'ProjDataInput'!b\"&TEXT($N$2,\"###\")),2)","v":""},{"$f":"MID(INDIRECT(\"'ProjDataInput'!b\"&TEXT($N$2,\"###\")),3,999)","v":""},null,"PROJECT STATUS: ",null,null,null,null,null,null,null,null,null,null,null,null,null,null,null,null,"A/X-10",null,"PROJECT STATUS: "]
[null,null,null,"SUBPRROGRAM: ",null,null,null,null,null,null,null,null,null,null,null,null,null,null,null,null,null,null,"SUBPRROGRAM: "]
[]
["PI: ",{"$f":"MID(INDIRECT(\"'ProjDataInput'!j\"&TEXT($N$2,\"###\")),1,999)","v":""},null,"EFFORT: ",null,null,null,null,null,null,null,null,null,null,null,null,null,null,null,"PI: ","Kenneth La Valley",null,"EFFORT: "]
["AFFILIATION: ",{"$f":"MID(INDIRECT(\"'ProjDataInput'!k\"&TEXT($N$2,\"###\")),1,999)","v":""},null,"AFFIL. CODE: ",null,null,"Worksheet",null,null,null,null,null,null,null,null,null,null,null,null,"AFFILIATION: ","University of New Hampshire, Cooperative Extension (UNH)",null,"AFFIL. CODE: "]
[null,null,null,null,null,null,"tools:"]
["2nd PI: ",{"$f":"MID(INDIRECT(\"'ProjDataInput'!L\"&TEXT($N$2,\"###\")),1,999)","v":""},null,"EFFORT: ",null,null,null,null,null,null,null,null,null,null,null,null,null,null,null,"2nd PI: ","p2",null,"EFFORT: "]
["AFFILIATION: ",{"$f":"MID(INDIRECT(\"'ProjDataInput'!m\"&TEXT($N$2,\"###\")),1,999)","v":""},null,"AFFIL. CODE: ",null,null,null,null,null,null,null,null,null,null,null,null,null,null,null,"AFFILIATION: ","a2",null,"AFFIL. CODE: "]
[]
["3rd PI: ",{"$f":"MID(INDIRECT(\"'ProjDataInput'!n\"&TEXT($N$2,\"###\")),1,999)","v":""},null,"EFFORT: ",null,null,null,null,null,null,null,null,null,null,null,null,null,null,null,"3rd PI: ","p3",null,"EFFORT: "]
["AFFILIATION: ",{"$f":"MID(INDIRECT(\"'ProjDataInput'!o\"&TEXT($N$2,\"###\")),1,999)","v":""},null,"AFFIL. CODE: ",null,null,null,null,null,null,null,null,null,null,null,null,null,null,null,"AFFILIATION: ","a3",null,"AFFIL. CODE: "]
[]
["4th PI: ",{"$f":"MID(INDIRECT(\"'ProjDataInput'!p\"&TEXT($N$2,\"###\")),1,999)","v":""},null,"EFFORT: ",null,null,null,null,null,null,null,null,null,null,null,null,null,null,null,"4th PI: ","p4",null,"EFFORT: "]
["AFFILIATION: ",{"$f":"MID(INDIRECT(\"'ProjDataInput'!q\"&TEXT($N$2,\"###\")),1,999)","v":""},null,"AFFIL. CODE: ",null,null,null,null,null,null,null,null,null,null,null,null,null,null,null,"AFFILIATION: ","a4",null,"AFFIL. CODE: "]
[null,null,null,"LAST YR FEDERAL: ",null,null,null,null,null,null,null,null,null,null,null,null,null,null,null,null,null,null,"LAST YR FEDERAL: "]
["FEDERAL $ REQUEST: ",{"$f":"INDIRECT(\"'ProjDataInput'!h\"&TEXT($N$2,\"###\"))","v":0},null,"LAST YR MATCH: ",null,null,null,null,null,null,null,null,null,null,null,null,null,null,null,"FEDERAL $ REQUEST: ",332631,null,"LAST YR MATCH: "]
["MATCH $: ",{"$f":"INDIRECT(\"'ProjDataInput'!i\"&TEXT($N$2,\"###\"))","v":0},null,"RELATED PROJECTS: ",null,null,null,null,null,null,null,null,null,null,null,null,null,null,null,"MATCH $: ",127250,null,"RELATED PROJECTS: "]
[null,null,null,"PARENT PROJECTS: ",null,null,null,null,null,null,null,null,null,null,null,null,null,null,null,null,null,null,"PARENT PROJECTS: "]
["CLASSIFICATION CODES: ",{"$f":"MID(INDIRECT(\"'ProjDataInput'!f\"&TEXT($N$2,\"###\")),1,999)","v":""},null,"KEYWORDS: ",null,null,null,null,null,null,null,null,null,null,null,null,null,null,null,"CLASSIFICATION CODES: ","151 Marine Extension Service - Core",null,"KEYWORDS: "]
[null,"(Primary Code First)",null,"MULTIPROGRAM? ",null,null,null,null,null,null,null,null,null,null,null,null,null,null,null,null,"(Primary Code First)",null,"MULTIPROGRAM? "]
["FOCUS AREAS: ",{"$f":"MID(INDIRECT(\"'ProjDataInput'!d\"&TEXT($N$2,\"###\")),1,999)","v":""},null,"OTHER INFORMATION: ",null,null,null,null,null,null,null,null,null,null,null,null,null,null,null,"FOCUS AREAS: ","0954 Sustainable Fisheries and Aquaculture; 0951 Healthy Coastal Ecosystems",null,"OTHER INFORMATION: "]
[null,"(Primary Focus Area First)",null,null,null,null,null,null,null,null,null,null,null,null,null,null,null,null,null,null,"(Primary Focus Area First)"]
["PARTNERS: ",{"$f":"MID(INDIRECT(\"'ProjDataInput'!e\"&TEXT($N$2,\"###\")),1,999)","v":""},null,null,null,null,null,null,null,null,null,null,null,null,null,null,null,null,null,"PARTNERS: ","Alaska Sea Grant; American Fisheries Society (AFS); Aquaculture Industry; Atlantic States Marine Fisheries Commission (ASMFC); Blue Alaska Sea Grant; American Fisheries Society (AFS); Aquaculture Industry; Atlantic States Marine Fisheries Commission (ASMFC); Blue Ocean Society; Center for Coastal and Ocean Mapping, Joint Hydrographic Center (US DOC, NOAA, NOS, CCOM-JHC); City of Portsmouth, NH; Coastal and Estuarine Research Federation (ERF); Coastal Conservation Association; Commercial Fisheries News; Commercial Fishing Industry; Connecticut Sea Grant; Delaware Sea Grant; Eastman's Fresh Catch; Eastman’s Fishing Fleet; eXtension; Farm Service Agency (USDA); Fishermen's Voice; Granite State Fish; Granite State Whale Watch; Great Bay Aquaculture, LLCOcean Society; Center for Coastal and Ocean Mapping, Joint Hydrographic Center (US DOC, NOAA, NOS, CCOM-JHC); City of Portsmouth, NH; Coastal and Estuarine Research Federation (ERF); Coastal Conservation Association; Commercial Fisheries News; Commercial Fishing Industry; Connecticut Sea Grant; Delaware Sea Grant; Eastman's Fresh Catch; Eastman’s Fishing Fleet; eXtension; Farm Service Agency (USDA); Fishermen's Voice; Granite State Fish; Granite State Whale Watch; Great Bay Aquaculture, LLC"]
[]
["OBJECTIVES: ",{"$f":"MID(INDIRECT(\"'ProjDataInput'!g\"&TEXT($N$2,\"###\")),1,19999)","v":""},null,null,null,null,null,null,null,null,null,null,null,null,null,null,null,null,null,"OBJECTIVES: ","Objectives: Innovative collaborations between the fishing industry and research communities have continued since 1999. Two cooperative research funding organizations, the Northeast Consortium (NEC) and the Cooperative Research Partnership Program (CRPP), have supported these collaborations. The Northeast Consortium received limited funds from NOAA/NMFS and was able to offer a 2010 RFP ($1.2 million). The NMFS CRPP program initiated a collaborative approach to funding fisheries research in the Northeast. A broad agency announcement, or BAA, was released for regional partnerships to submit multi-year projects targeting conservation engineering and fisheries science. Two projects in particular were funded, GEARNET and REDNET. Both included the N.H. Sea Grant Fisheries Program to coordinate extension and outreach. \nMethodology: As in 2009, the NOAA S-K grant program was appropriated $5 million in 2010 to support fisheries, aquaculture and fisheries social science projects in the Northeast. A new investment in aquaculture research and extension occurred within the National Sea Grant program, which offered $4.8 million to fund research and $2.0 million for aquaculture extension. Although funding for broad topic collaborative research projects has suffered, organizations like the above have allowed for partnerships and cooperative projects to continue, and for aquaculture research, to grow. It has continued to be critical for the fisheries extension program to identify and support the development of outreach and technology transfer mechanisms that will encourage the incorporation of conservation minded fishing gear into the industry. \nRationale: With the transition from days-at-sea groundfish management to the current sector allocation system, the small vessel fishing fleet in Maine, N.H. and Mass. has suffered economically, making it even more important that the industry diversify and pursue innovative marketing strategies to sustain their operations. In addition to these challenges, groundfishermen are facing cuts in the allowable catch for their most marketable species (e.g. cod) upwards of 70%.  Although lobster catches have recently reached all-time highs, record low boat prices and increasing operational costs, such as fuel expenses, are presenting significant challenges to the sustainability of lobstering as well. The Fisheries Extension program continues to invest a significant portion of its resources and time to work with the industry, local organizations and seafood wholesalers and retailers to increase awareness of and demand and to facilitate development of alternative supply chains that deliver locally branded seafood that deliver higher profits to boats. \nData Sharing Plan: dsp"]
[]
["METHODOLOGY: ",null,null,null,null,null,null,null,null,null,null,null,null,null,null,null,null,null,null,"METHODOLOGY: "]
[null,"(The Data Sharing Plan may be included in the Methodology section)"]
["RATIONALE: ",null,null,null,null,null,null,null,null,null,null,null,null,null,null,null,null,null,null,"RATIONALE: "]
[]
["DATA SHARING PLAN: ",{"$f":"MID(INDIRECT(\"'ProjDataInput'!r\"&TEXT($N$2,\"###\")),1,19999)","v":""},null,null,null,null,null,null,null,null,null,null,null,null,null,null,null,null,null,"DATA SHARING PLAN: "]

{"sheet":"FocusAreas","index":56,"n_rows":950,"n_cols":15,"rows_kept":950,"cut":false,"hidden":false,"merged":[]}
[null,null,null,null,null,null,null,null,null,null,null,null,null,"worksheet:","S14"]
[null,null,"Select one Focus Area (single-click on that cell). Hit \"Add\".",null,null,null,null,null,null,null,null,null,null,"row:",30]
[]
[null,null,null,null,null,null,null,null,null,null,null,null,null,null,"SEA GRANT PROJECT SUMMARY FORM 90-2"]
[null,null,{"$f":"IF(O6<>\"\",\"\",\"(Did you fill out the 'Institution' field on the 90-2 form?)\")","v":""}]
[null,null,null,null,null,null,null,null,null,null,null,null,null,"program:","MD"]
[null,"Plan ",{"$f":"O7","v":2014},null,null,null,null,null,null,null,null,null,null,"year:",2014]
[null,"Program",{"$f":"O6","v":"MD"}]
[null,null,null,null,null,null,null,null,null,null,null,null,null,2164,"Effective Environmental Science Education"]
[null,"FA ID","Focus Area","Plan","Program","Plan Start Year","Plan End Year","find?  ",null,null,null,null,null,{"$f":"CONCATENATE(TEXT(N9,\"0000\"),\" \",O9)","v":"2164 Effective Environmental Science Education"}]
[null,2169,"Healthy Coastal Ecosystems","Alaska Sea Grant College Program Strategic Plan 2014-2017","AK",2014,2017,{"$f":"AND(O$6=E11,O$7>=F11,O$7<=G11)","v":false}]
[null,2170,"Sustainable Fisheries and Aquaculture","Alaska Sea Grant College Program Strategic Plan 2014-2017","AK",2014,2017,{"$f":"AND(O$6=E12,O$7>=F12,O$7<=G12)","v":false}]
[null,2171,"Resilient Communities and Economies","Alaska Sea Grant College Program Strategic Plan 2014-2017","AK",2014,2017,false]
[null,2172,"Environmental Literacy and Workforce Development","Alaska Sea Grant College Program Strategic Plan 2014-2017","AK",2014,2017,false]
[null,2089,"Healthy Coastal and Marine Ecosystems (HCME)","California Sea Grant Strategic Plan 2014–2017","CA",2014,2017,false]
[null,2106,"Resilient Coastal Communities (RCC)","California Sea Grant Strategic Plan 2014–2017","CA",2014,2017,false]
[null,2107,"Safe and Sustainable Fisheries & Seafood Supply (SSFS)","California Sea Grant Strategic Plan 2014–2017","CA",2014,2017,false]
[null,2109,"Education, Training and Public Information","California Sea Grant Strategic Plan 2014–2017","CA",2014,2017,false]
[null,2180,"Healthy Coastal Ecosystems and Economy","CONNECTICUT SEA GRANT STRATEGIC PLAN 2014-2017","CT",2014,2017,false]
[null,2181,"Seafood Production and Consumption","CONNECTICUT SEA GRANT STRATEGIC PLAN 2014-2017","CT",2014,2017,false]
[null,2182,"Hazard Resilient Coastal Communities","CONNECTICUT SEA GRANT STRATEGIC PLAN 2014-2017","CT",2014,2017,false]
[null,2183,"Ocean and Coastal Literacy and Workforce Development","CONNECTICUT SEA GRANT STRATEGIC PLAN 2014-2017","CT",2014,2017,false]
[null,2184,"Healthy Coastal Ecosystems and Economy","CONNECTICUT SEA GRANT STRATEGIC PLAN 2014-2017","CT",2014,2017,false]
[null,2185,"Healthy Coastal Ecosystems","Delaware Sea Grant: Strategic Plan (2014-2017)","DE",2014,2018,false]
[null,2186,"Resilient Communities and Economies","Delaware Sea Grant: Strategic Plan (2014-2017)","DE",2014,2018,false]
[null,2187,"Environmental Literacy and Workforce Development","Delaware Sea Grant: Strategic Plan (2014-2017)","DE",2014,2018,false]
[null,2188,"Sustainable Fisheries and Aquaculture","Delaware Sea Grant: Strategic Plan (2014-2017)","DE",2014,2018,false]
[null,2151,"Healthy Oceans and Coasts","Florida Sea Grant College Program: Strategic Plan 2014-2017","FL",2014,2017,false]
[null,2152,"Sustainable Coastal Communities and Economies","Florida Sea Grant College Program: Strategic Plan 2014-2017","FL",2014,2017,false]
[null,2153,"Safe and Sustainable Seafood","Florida Sea Grant College Program: Strategic Plan 2014-2017","FL",2014,2017,false]
[null,2154,"Hazard-Resilient and Climate-Ready Coasts","Florida Sea Grant College Program: Strategic Plan 2014-2017","FL",2014,2017,false]
[null,2155,"Education and Workforce Development","Florida Sea Grant College Program: Strategic Plan 2014-2017","FL",2014,2017,false]
[null,2088,"Healthy Coastal Ecosystems","Georgia Sea Grant Strategic Plan 2014-2018","GA",2014,2018,false]
[null,2204,"Sustainable Coastal Development","Georgia Sea Grant Strategic Plan 2014-2018","GA",2014,2018,false]
[null,2205,"Hazard Resiliency in Coastal Communities","Georgia Sea Grant Strategic Plan 2014-2018","GA",2014,2018,false]
[null,2206,"Sustainable Fisheries and Aquaculture","Georgia Sea Grant Strategic Plan 2014-2018","GA",2014,2018,false]
[null,2211,"Environmental Literacy and Workforce Development","Georgia Sea Grant Strategic Plan 2014-2018","GA",2014,2018,false]
[null,2237,"Environmental Literacy and Workforce Development","UOGSG Strategic Plan 2013-2017","GUAM",2013,2017,false]
[null,2259,"Resilient Communities and Economies","UOGSG Strategic Plan 2013-2017","GUAM",2013,2017,false]
[null,2260,"Healthy Coastal Ecosystems","UOGSG Strategic Plan 2013-2017","GUAM",2013,2017,false]
[null,2261,"Sustainable Fisheries and Aquaculture","UOGSG Strategic Plan 2013-2017","GUAM",2013,2017,false]
[null,2165,"Sustainable Coastal Development","University of Hawaii Sea Grant College Program 2014-2017 Strategic Plan","HI",2014,2017,false]
[null,2166,"Hazard Resilient Coastal Communities","University of Hawaii Sea Grant College Program 2014-2017 Strategic Plan","HI",2014,2017,false]
[null,2167,"Sustainable Coastal Tourism","University of Hawaii Sea Grant College Program 2014-2017 Strategic Plan","HI",2014,2017,false]
[null,2168,"Sustainable Aquaculture and Fisheries","University of Hawaii Sea Grant College Program 2014-2017 Strategic Plan","HI",2014,2017,false]
[null,2189,"Healthy Coastal Ecosystems","Illinois-Indiana Sea Grant Strategic Plan 2014-2017","IL-IN",2014,2017,false]
[null,2190,"Resilient Communities and Economies","Illinois-Indiana Sea Grant Strategic Plan 2014-2017","IL-IN",2014,2017,false]
[null,2191,"Environmental Literacy and Workforce Development","Illinois-Indiana Sea Grant Strategic Plan 2014-2017","IL-IN",2014,2017,false]
[null,2192,"Sustainable Aquaculture","Illinois-Indiana Sea Grant Strategic Plan 2014-2017","IL-IN",2014,2017,false]
[null,2099,"Healthy Coastal Ecosystems and Habitats","Louisiana Sea Grant Strategic Plan 2014-2018","LA",2014,2018,false]
[null,2100,"Resilient Communities and Economies","Louisiana Sea Grant Strategic Plan 2014-2018","LA",2014,2018,false]
[null,2101,"Sustainable Fisheries and Aquaculture","Louisiana Sea Grant Strategic Plan 2014-2018","LA",2014,2018,false]
[null,2102,"Education and Workforce Development","Louisiana Sea Grant Strategic Plan 2014-2018","LA",2014,2018,false]
[null,2142,"Education and Workforce Development","Louisiana Sea Grant Strategic Plan 2014 - 2018","LA",2014,2018,false]
[null,2143,"Healthy Coastal Ecosystems and Habitats","Louisiana Sea Grant Strategic Plan 2014 - 2018","LA",2014,2018,false]
[null,2144,"Resilient Communities and Economies","Louisiana Sea Grant Strategic Plan 2014 - 2018","LA",2014,2018,false]
[null,2145,"Sustainable Fisheries and Aquaculture","Louisiana Sea Grant Strategic Plan 2014 - 2018","LA",2014,2018,false]
[null,2233,"Healthy Coastal Ecosystems","National Sea Grant Law Center: 2014-2017 Strategic Plan","LAW",2014,2017,false]
[null,2234,"Sustainable Fisheries and Aquaculture ","National Sea Grant Law Center: 2014-2017 Strategic Plan","LAW",2014,2017,false]
[null,2235,"Resilient Communities and Economies ","National Sea Grant Law Center: 2014-2017 Strategic Plan","LAW",2014,2017,false]
[null,2236,"Environmental Literacy and Workforce Development ","National Sea Grant Law Center: 2014-2017 Strategic Plan","LAW",2014,2017,false]
[null,2200,"Healthy Coastal Ecosystems ","Lake Champlain Sea Grant","LC",2014,2017,false]
[null,2201,"Sustainable Sports Fisheries and Aquaculture ","Lake Champlain Sea Grant","LC",2014,2017,false]
[null,2202,"Resilient Basin Communities and Economies","Lake Champlain Sea Grant","LC",2014,2017,false]
[null,2203,"Environmental Literacy ","Lake Champlain Sea Grant","LC",2014,2017,false]
[null,2116,"Resilient Ecosystem Processes and Responses","Science Serving Maryland's Coasts, Maryland Sea Grant: Strategic Plan 2014-2017","MD",2014,2017,true]
[null,2117,"Sustainable Fisheries and Aquaculture","Science Serving Maryland's Coasts, Maryland Sea Grant: Strategic Plan 2014-2017","MD",2014,2017,true]
[null,2118,"Robust Communities and Economies","Science Serving Maryland's Coasts, Maryland Sea Grant: Strategic Plan 2014-2017","MD",2014,2017,true]
[null,2164,"Effective Environmental Science Education","Science Serving Maryland's Coasts, Maryland Sea Grant: Strategic Plan 2014-2017","MD",2014,2017,true]
[null,2216,"Healthy Coastal Ecosystems","Maine Sea Grant College Program Strategic Plan","ME",2014,2017,false]
[null,2217,"Safe and Sustainable Seafood","Maine Sea Grant College Program Strategic Plan","ME",2014,2017,false]
[null,2218,"Resilient Communities","Maine Sea Grant College Program Strategic Plan","ME",2014,2017,false]
[null,2219,"Communities Preparing for a Changing Climate","Maine Sea Grant College Program Strategic Plan","ME",2014,2017,false]
[null,2220,"Environmental Literacy and Workforce Development","Maine Sea Grant College Program Strategic Plan","ME",2014,2017,false]
[null,2160,"Healthy Coastal Ecosystems","Michigan Sea Grant Strategic Plan","MI",2014,2017,false]
[null,2161,"Sustainable Fisheries and Aquaculture","Michigan Sea Grant Strategic Plan","MI",2014,2017,{"$f":"AND(O$6=E76,O$7>=F76,O$7<=G76)","v":false}]
[null,2162,"Resilient Communities and Economies ","Michigan Sea Grant Strategic Plan","MI",2014,2017,false]
[null,2163,"Environmental Literacy and Workforce Development","Michigan Sea Grant Strategic Plan","MI",2014,2017,false]
[null,2120,"Healthy Coastal Ecosystems","MIT Sea Grant Strategic Plan, 2014-2017","MIT",2014,2017,false]
[null,2126,"Sustainable Fisheries and Aquaculture","MIT Sea Grant Strategic Plan, 2014-2017","MIT",2014,2017,false]
[null,2127,"Resilient Communities and Economies","MIT Sea Grant Strategic Plan, 2014-2017","MIT",2014,2017,false]
[null,2128,"Environmental Literacy and Workforce Development","MIT Sea Grant Strategic Plan, 2014-2017","MIT",2014,2017,false]
[null,2193,"Healthy Coastal Ecosystems","MN Sea Grant Strategic Plan 2014 - 2017","MN",2014,2017,false]
[null,2194,"Sustainable Fisheries and Aquaculture","MN Sea Grant Strategic Plan 2014 - 2017","MN",2014,2017,false]
[null,2195,"Resilient Communities and Economies","MN Sea Grant Strategic Plan 2014 - 2017","MN",2014,2017,false]
[null,2196,"Environmental Literacy and Workforce Development","MN Sea Grant Strategic Plan 2014 - 2017","MN",2014,2017,false]
[null,2207,"Healthy Coastal Ecosystems","2014-2017 Mississippi-Alabama Sea Grant Consortium Strategic Plan","MS-AL",2014,2017,false]
[null,2208,"Sustainable Fisheries and Aquaculture","2014-2017 Mississippi-Alabama Sea Grant Consortium Strategic Plan","MS-AL",2014,2017,false]
[null,2209,"Resilient Communities and Economies","2014-2017 Mississippi-Alabama Sea Grant Consortium Strategic Plan","MS-AL",2014,2017,false]
[null,2210,"Environmental Literacy and Workforce Development","2014-2017 Mississippi-Alabama Sea Grant Consortium Strategic Plan","MS-AL",2014,2017,false]
[null,2090,"ENVIRONMENTAL LITERACY AND CAREER INITIATION","North Carolina Sea Grant Strategic Plan 2014-2017","NC",2014,2017,false]
[null,2091,"HEALTHY COASTAL ECOSYSTEMS ","North Carolina Sea Grant Strategic Plan 2014-2017","NC",2014,2017,false]
[null,2092,"SUSTAINABLE COASTAL DEVELOPMENT","North Carolina Sea Grant Strategic Plan 2014-2017","NC",2014,2017,false]
[null,2093,"SAFE AND SUSTAINABLE SEAFOOD SUPPLY","North Carolina Sea Grant Strategic Plan 2014-2017","NC",2014,2017,false]
[null,2094,"HAZARD RESILIENCE IN COASTAL COMMUNITIES","North Carolina Sea Grant Strategic Plan 2014-2017","NC",2014,2017,false]
[null,2146,"Environmental Literacy and Workforce Development","New Hampshire Sea Grant Strategic Plan 2014-2017","NH",2014,2017,false]
[null,2147,"Healthy Coastal Ecosystems","New Hampshire Sea Grant Strategic Plan 2014-2017","NH",2014,2017,false]
[null,2148,"Resilient Communities and Economies","New Hampshire Sea Grant Strategic Plan 2014-2017","NH",2014,2017,false]
[null,2149,"Sustainable Fisheries and Aquaculture","New Hampshire Sea Grant Strategic Plan 2014-2017","NH",2014,2017,false]
[null,2095,"Healthy Coastal Ecosystems","New Jersey Sea Grant Consortium Strategic Plan","NJ",2014,2017,false]
[null,2096,"Sustainable Fisheries and Aquaculture","New Jersey Sea Grant Consortium Strategic Plan","NJ",2014,2017,false]
[null,2097,"Resilient Communities and Economies","New Jersey Sea Grant Consortium Strategic Plan","NJ",2014,2017,false]
[null,2098,"Enviormental Literacy and Workforce Development","New Jersey Sea Grant Consortium Strategic Plan","NJ",2014,2017,false]
[null,2086,"Healthy New York Coastal Ecosystems and Habitats","New York Sea Grant 2014-2017 Strategic Plan","NY",2014,2018,false]
[null,2227,"Sustainable New York Fisheries and New York Seafood Businesses, including Aquaculture ","New York Sea Grant 2014-2017 Strategic Plan","NY",2014,2018,false]
[null,2228,"Resilient New York Communities and Economies","New York Sea Grant 2014-2017 Strategic Plan","NY",2014,2018,false]
[null,2229,"Environmental Literacy and Workforce Development in New York ","New York Sea Grant 2014-2017 Strategic Plan","NY",2014,2018,false]
[null,2221,"Healthy Coastal Ecosystems","Ohio Sea Grant College Program: Strategic Plan 2014 - 2017","OH",2014,2017,false]
[null,2222,"Sustainable Fisheries and Aquaculture","Ohio Sea Grant College Program: Strategic Plan 2014 - 2017","OH",2014,2017,false]
[null,2223,"Resilient Communities and Economies","Ohio Sea Grant College Program: Strategic Plan 2014 - 2017","OH",2014,2017,false]
[null,2224,"Environmental Literacy and Workforce Development","Ohio Sea Grant College Program: Strategic Plan 2014 - 2017","OH",2014,2017,false]
[null,2173,"Resilient Communities and Economies","Oregon Sea Grant Strategic Plan: 2014-2017","OR",2014,2017,false]
[null,2174,"Sustainable Fisheries and Aquaculture","Oregon Sea Grant Strategic Plan: 2014-2017","OR",2014,2017,false]
[null,2114,"Environmental Literacy and Workforce","Oregon Sea Grant Strategic Plan: 2014-2017","OR",2014,2017,false]
[null,2115,"Healthy Coastal Ecosystems","Oregon Sea Grant Strategic Plan: 2014-2017","OR",2014,2017,false]
[null,2175,"Healthy Coastal Ecosystems","PENNSYLVANIA SEA GRANT 2014-2017 Strategic Plan","PA",2014,2017,false]
[null,2176,"Resilient Communities and Economies","PENNSYLVANIA SEA GRANT 2014-2017 Strategic Plan","PA",2014,2017,false]
[null,2177,"Sustainable Fisheries and Aquaculture","PENNSYLVANIA SEA GRANT 2014-2017 Strategic Plan","PA",2014,2017,false]
[null,2178,"Environmental Literacy and Workforce Development","PENNSYLVANIA SEA GRANT 2014-2017 Strategic Plan","PA",2014,2017,false]
[null,2179,"Healthy Ecosystems and Habitats ","PR Sea Grant Strategic Plan 2014-2017","PR",2014,2017,false]
[null,2197,"Resilient Communities and Economies ","PR Sea Grant Strategic Plan 2014-2017","PR",2014,2017,false]
[null,2198,"Education and Workforce Development ","PR Sea Grant Strategic Plan 2014-2017","PR",2014,2017,false]
[null,2110,"Healthy Coastal Ecosystem","Rhode Island Sea Grant Strategic Plan 2014 - 2017","RI",2014,2018,false]
[null,2111,"Sustainable Fisheries and Aquaculture","Rhode Island Sea Grant Strategic Plan 2014 - 2017","RI",2014,2018,false]
[null,2112,"Resilient Communities and Economies","Rhode Island Sea Grant Strategic Plan 2014 - 2017","RI",2014,2018,false]
[null,2113,"Environmental Literacy and Workforce Development","Rhode Island Sea Grant Strategic Plan 2014 - 2017","RI",2014,2018,false]
[null,2081,"The Coastal and Ocean Landscape","The Changing Face of Coastal South Carolina:  Enhancing Understanding - Informing Decision-making","SC",2014,2018,false]
[null,2082,"Sustainable Coastal Development and Economy","The Changing Face of Coastal South Carolina:  Enhancing Understanding - Informing Decision-making","SC",2014,2018,false]
[null,2083,"Sustainable Fisheries and Aquaculture","The Changing Face of Coastal South Carolina:  Enhancing Understanding - Informing Decision-making","SC",2014,2018,false]
[null,2084,"Hazard Resilience in Coastal Communities","The Changing Face of Coastal South Carolina:  Enhancing Understanding - Informing Decision-making","SC",2014,2018,false]
[null,2085,"Scientific Literacy and Workforce Development","The Changing Face of Coastal South Carolina:  Enhancing Understanding - Informing Decision-making","SC",2014,2018,false]
[null,2122,"Healthy Coastal Ecosystems","Texas Sea Grant College Program: 2014-2017 Strategic Plan","TX",2014,2017,false]
[null,2123,"Sustainable Fisheries and Aquaculture","Texas Sea Grant College Program: 2014-2017 Strategic Plan","TX",2014,2017,false]
[null,2124,"Resilient Communities and Economies","Texas Sea Grant College Program: 2014-2017 Strategic Plan","TX",2014,2017,false]
[null,2125,"Environmental Literacy and Workforce Development","Texas Sea Grant College Program: 2014-2017 Strategic Plan","TX",2014,2017,false]
[null,2136,"Healthy Coastal Ecosystems","USC SG STRATEGIC PLAN 2014-2017","USC",2014,2017,false]
[null,2137,"Sustainable Fisheries and Aquaculture","USC SG STRATEGIC PLAN 2014-2017","USC",2014,2017,false]
[null,2139,"Resilient Communities and Economies","USC SG STRATEGIC PLAN 2014-2017","USC",2014,2017,false]
[null,2140,"Environmental Literacy and Workforce Development","USC SG STRATEGIC PLAN 2014-2017","USC",2014,2017,false]
[null,2121,"Healthy Coastal Ecosystems","Virginia Sea Grant Strategic Plan: Update 2013-2014","VA",2013,2014,{"$f":"AND(O$6=E140,O$7>=F140,O$7<=G140)","v":false}]
[null,2129,"Environmental Literacy and Workforce Development ","Virginia Sea Grant Strategic Plan: Update 2013-2014","VA",2013,2014,false]
[null,2130,"Resilient Communities and Economies","Virginia Sea Grant Strategic Plan: Update 2013-2014","VA",2013,2014,false]
[null,2131,"Sustainable Fisheries and Aquaculture","Virginia Sea Grant Strategic Plan: Update 2013-2014","VA",2013,2014,false]
[null,1372,"Healthy Coastal & Ocean Ecosystems","VIRGINIA SEA GRANT STRATEGIC PLAN: 2010-2014","VA",2010,2014,false]
[null,1373,"Sustainable and Resilient Coastal Communities (SCD)","VIRGINIA SEA GRANT STRATEGIC PLAN: 2010-2014","VA",2010,2014,false]
[null,1374,"Safe and Sustainable Seafood","VIRGINIA SEA GRANT STRATEGIC PLAN: 2010-2014","VA",2010,2014,false]
[null,1375,"Sustainable and Resilient Coastal Communities (HRCC)","VIRGINIA SEA GRANT STRATEGIC PLAN: 2010-2014","VA",2010,2014,false]
[null,1376,"Cross-Cutting: Coastal and Ocean Literacy","VIRGINIA SEA GRANT STRATEGIC PLAN: 2010-2014","VA",2010,2014,false]
[null,2132,"Healthy Coastal Ecosystems","Washington Sea Grant 2014-2018 Strategic Plan","WA",2014,2018,false]
[null,2133,"Sustainable Fisheries and Aquaculture","Washington Sea Grant 2014-2018 Strategic Plan","WA",2014,2018,false]
[null,2134,"Resilient Communities and Economies","Washington Sea Grant 2014-2018 Strategic Plan","WA",2014,2018,false]
[null,2135,"Ocean Literacy and Workforce Development","Washington Sea Grant 2014-2018 Strategic Plan","WA",2014,2018,false]
[null,2156,"Healthy Coastal Ecosystems","Woods Hole Sea Grant in the 21st Century: Issues, Opportunities, and Action for Massachusetts","WHOI",2014,2017,false]
[null,2157,"Sustainable Fisheries and Aquaculture","Woods Hole Sea Grant in the 21st Century: Issues, Opportunities, and Action for Massachusetts","WHOI",2014,2017,false]
[null,2158,"Resilient Communities and Economies","Woods Hole Sea Grant in the 21st Century: Issues, Opportunities, and Action for Massachusetts","WHOI",2014,2017,false]
[null,2159,"Environmental Literacy and Workforce Development","Woods Hole Sea Grant in the 21st Century: Issues, Opportunities, and Action for Massachusetts","WHOI",2014,2017,false]
[null,2212,"Healthy Great Lakes Coastal Ecosystems","2014-17 Strategic Plan University of Wisconsin Sea Grant College Program","WI",2014,2017,false]
[null,2213,"Sustainable Fisheries and Aquaculture in the Great Lakes Region","2014-17 Strategic Plan University of Wisconsin Sea Grant College Program","WI",2014,2017,false]
[null,2214,"Resilient Great Lakes Communities and Economies","2014-17 Strategic Plan University of Wisconsin Sea Grant College Program","WI",2014,2017,false]
[null,2215,"Environmental Literacy and Workforce Development in the Great Lakes Region","2014-17 Strategic Plan University of Wisconsin Sea Grant College Program","WI",2014,2017,false]
[null,null,null,null,null,null,null,false]
[null,null,null,null,null,null,null,false]
[null,null,null,null,null,null,null,false]
[null,null,null,null,null,null,null,false]
[null,null,null,null,null,null,null,false]
[null,null,null,null,null,null,null,false]
[null,null,null,null,null,null,null,false]
[null,null,null,null,null,null,null,false]
[null,null,null,null,null,null,null,false]
[null,null,null,null,null,null,null,false]
[null,null,null,null,null,null,null,false]
[null,null,null,null,null,null,null,false]
[null,null,null,null,null,null,null,false]
[null,null,null,null,null,null,null,false]
[null,null,null,null,null,null,null,false]
[null,null,null,null,null,null,null,false]
[null,null,null,null,null,null,null,false]
[null,null,null,null,null,null,null,false]
[null,null,null,null,null,null,null,false]
[null,null,null,null,null,null,null,false]
[null,null,null,null,null,null,null,false]
[null,null,null,null,null,null,null,false]
[null,null,null,null,null,null,null,false]
[null,null,null,null,null,null,null,false]
[null,null,null,null,null,null,null,false]
[null,null,null,null,null,null,null,false]
[null,null,null,null,null,null,null,false]
[null,null,null,null,null,null,null,false]
[null,null,null,null,null,null,null,false]
[null,null,null,null,null,null,null,false]
[null,null,null,null,null,null,null,false]
[null,null,null,null,null,null,null,false]
[null,null,null,null,null,null,null,false]
[null,null,null,null,null,null,null,false]
[null,null,null,null,null,null,null,false]
[null,null,null,null,null,null,null,false]
[null,null,null,null,null,null,null,false]
[null,null,null,null,null,null,null,false]
[null,null,null,null,null,null,null,false]
[null,null,null,null,null,null,null,false]
[null,null,null,null,null,null,null,false]
[null,null,null,null,null,null,null,false]
[null,null,null,null,null,null,null,false]
[null,null,null,null,null,null,null,{"$f":"AND(O$6=E204,O$7>=F204,O$7<=G204)","v":false}]
[null,null,null,null,null,null,null,false]
[null,null,null,null,null,null,null,false]
[null,null,null,null,null,null,null,false]
[null,null,null,null,null,null,null,false]
[null,null,null,null,null,null,null,false]
[null,null,null,null,null,null,null,false]
[null,null,null,null,null,null,null,false]
[null,null,null,null,null,null,null,false]
[null,null,null,null,null,null,null,false]
[null,null,null,null,null,null,null,false]
[null,null,null,null,null,null,null,false]
[null,null,null,null,null,null,null,false]
[null,null,null,null,null,null,null,false]
[null,null,null,null,null,null,null,false]
[null,null,null,null,null,null,null,false]
[null,null,null,null,null,null,null,false]
[null,null,null,null,null,null,null,false]
[null,null,null,null,null,null,null,false]
[null,null,null,null,null,null,null,false]
[null,null,null,null,null,null,null,false]
[null,null,null,null,null,null,null,false]
[null,null,null,null,null,null,null,false]
[null,null,null,null,null,null,null,false]
[null,null,null,null,null,null,null,false]
[null,null,null,null,null,null,null,false]
[null,null,null,null,null,null,null,false]
[null,null,null,null,null,null,null,false]
[null,null,null,null,null,null,null,false]
[null,null,null,null,null,null,null,false]
[null,null,null,null,null,null,null,false]
[null,null,null,null,null,null,null,false]
[null,null,null,null,null,null,null,false]
[null,null,null,null,null,null,null,false]
[null,null,null,null,null,null,null,false]
[null,null,null,null,null,null,null,false]
[null,null,null,null,null,null,null,false]
[null,null,null,null,null,null,null,false]
[null,null,null,null,null,null,null,false]
[null,null,null,null,null,null,null,false]
[null,null,null,null,null,null,null,false]
[null,null,null,null,null,null,null,false]
[null,null,null,null,null,null,null,false]
[null,null,null,null,null,null,null,false]
[null,null,null,null,null,null,null,false]
[null,null,null,null,null,null,null,false]
[null,null,null,null,null,null,null,false]
[null,null,null,null,null,null,null,false]
[null,null,null,null,null,null,null,false]
[null,null,null,null,null,null,null,false]
[null,null,null,null,null,null,null,false]
[null,null,null,null,null,null,null,false]
[null,null,null,null,null,null,null,false]
[null,null,null,null,null,null,null,false]
[null,null,null,null,null,null,null,false]
[null,null,null,null,null,null,null,false]
[null,null,null,null,null,null,null,false]
[null,null,null,null,null,null,null,false]
[null,null,null,null,null,null,null,false]
[null,null,null,null,null,null,null,false]
[null,null,null,null,null,null,null,false]
[null,null,null,null,null,null,null,false]
[null,null,null,null,null,null,null,false]
[null,null,null,null,null,null,null,false]
[null,null,null,null,null,null,null,{"$f":"AND(O$6=E268,O$7>=F268,O$7<=G268)","v":false}]
[null,null,null,null,null,null,null,false]
[null,null,null,null,null,null,null,false]
[null,null,null,null,null,null,null,false]
[null,null,null,null,null,null,null,false]
[null,null,null,null,null,null,null,false]
[null,null,null,null,null,null,null,false]
[null,null,null,null,null,null,null,false]
[null,null,null,null,null,null,null,false]
[null,null,null,null,null,null,null,false]
[null,null,null,null,null,null,null,false]
[null,null,null,null,null,null,null,false]
[null,null,null,null,null,null,null,false]
[null,null,null,null,null,null,null,false]
[null,null,null,null,null,null,null,false]
[null,null,null,null,null,null,null,false]
[null,null,null,null,null,null,null,false]
[null,null,null,null,null,null,null,false]
[null,null,null,null,null,null,null,false]
[null,null,null,null,null,null,null,false]
[null,null,null,null,null,null,null,false]
[null,null,null,null,null,null,null,false]
[null,null,null,null,null,null,null,false]
[null,null,null,null,null,null,null,false]
[null,null,null,null,null,null,null,false]
[null,null,null,null,null,null,null,false]
[null,null,null,null,null,null,null,false]
[null,null,null,null,null,null,null,false]
[null,null,null,null,null,null,null,false]
[null,null,null,null,null,null,null,false]
[null,null,null,null,null,null,null,false]
[null,null,null,null,null,null,null,false]
[null,null,null,null,null,null,null,false]
[null,null,null,null,null,null,null,false]
[null,null,null,null,null,null,null,false]
[null,null,null,null,null,null,null,false]
[null,null,null,null,null,null,null,false]
[null,null,null,null,null,null,null,false]
[null,null,null,null,null,null,null,false]
[null,null,null,null,null,null,null,false]
[null,null,null,null,null,null,null,false]
[null,null,null,null,null,null,null,false]
[null,null,null,null,null,null,null,false]
[null,null,null,null,null,null,null,false]
[null,null,null,null,null,null,null,false]
[null,null,null,null,null,null,null,false]
[null,null,null,null,null,null,null,false]
[null,null,null,null,null,null,null,false]
[null,null,null,null,null,null,null,false]
[null,null,null,null,null,null,null,false]
[null,null,null,null,null,null,null,false]
[null,null,null,null,null,null,null,false]
[null,null,null,null,null,null,null,false]
[null,null,null,null,null,null,null,false]
[null,null,null,null,null,null,null,false]
[null,null,null,null,null,null,null,false]
[null,null,null,null,null,null,null,false]
[null,null,null,null,null,null,null,false]
[null,null,null,null,null,null,null,false]
[null,null,null,null,null,null,null,false]
[null,null,null,null,null,null,null,false]
[null,null,null,null,null,null,null,false]
[null,null,null,null,null,null,null,false]
[null,null,null,null,null,null,null,false]
[null,null,null,null,null,null,null,{"$f":"AND(O$6=E332,O$7>=F332,O$7<=G332)","v":false}]
[null,null,null,null,null,null,null,false]
[null,null,null,null,null,null,null,false]
[null,null,null,null,null,null,null,false]
[null,null,null,null,null,null,null,false]
[null,null,null,null,null,null,null,false]
[null,null,null,null,null,null,null,false]
[null,null,null,null,null,null,null,false]
[null,null,null,null,null,null,null,false]
[null,null,null,null,null,null,null,false]
[null,null,null,null,null,null,null,false]
[null,null,null,null,null,null,null,false]
[null,null,null,null,null,null,null,false]
[null,null,null,null,null,null,null,false]
[null,null,null,null,null,null,null,false]
[null,null,null,null,null,null,null,false]
[null,null,null,null,null,null,null,false]
[null,null,null,null,null,null,null,false]
[null,null,null,null,null,null,null,false]
[null,null,null,null,null,null,null,false]
[null,null,null,null,null,null,null,false]
[null,null,null,null,null,null,null,false]
[null,null,null,null,null,null,null,false]
[null,null,null,null,null,null,null,false]
[null,null,null,null,null,null,null,false]
[null,null,null,null,null,null,null,false]
[null,null,null,null,null,null,null,false]
[null,null,null,null,null,null,null,false]
[null,null,null,null,null,null,null,false]
[null,null,null,null,null,null,null,false]
[null,null,null,null,null,null,null,false]
[null,null,null,null,null,null,null,false]
[null,null,null,null,null,null,null,false]
[null,null,null,null,null,null,null,false]
[null,null,null,null,null,null,null,false]
[null,null,null,null,null,null,null,false]
[null,null,null,null,null,null,null,false]
[null,null,null,null,null,null,null,false]
[null,null,null,null,null,null,null,false]
[null,null,null,null,null,null,null,false]
[null,null,null,null,null,null,null,false]
[null,null,null,null,null,null,null,false]
[null,null,null,null,null,null,null,false]
[null,null,null,null,null,null,null,false]
[null,null,null,null,null,null,null,false]
[null,null,null,null,null,null,null,false]
[null,null,null,null,null,null,null,false]
[null,null,null,null,null,null,null,false]
[null,null,null,null,null,null,null,false]
[null,null,null,null,null,null,null,false]
[null,null,null,null,null,null,null,false]
[null,null,null,null,null,null,null,false]
[null,null,null,null,null,null,null,false]
[null,null,null,null,null,null,null,false]
[null,null,null,null,null,null,null,false]
[null,null,null,null,null,null,null,false]
[null,null,null,null,null,null,null,false]
[null,null,null,null,null,null,null,false]
[null,null,null,null,null,null,null,false]
[null,null,null,null,null,null,null,false]
[null,null,null,null,null,null,null,false]
[null,null,null,null,null,null,null,false]
[null,null,null,null,null,null,null,false]
[null,null,null,null,null,null,null,false]
[null,null,null,null,null,null,null,{"$f":"AND(O$6=E396,O$7>=F396,O$7<=G396)","v":false}]
[null,null,null,null,null,null,null,false]
[null,null,null,null,null,null,null,false]
[null,null,null,null,null,null,null,false]
[null,null,null,null,null,null,null,false]
[null,null,null,null,null,null,null,false]
[null,null,null,null,null,null,null,false]
[null,null,null,null,null,null,null,false]
[null,null,null,null,null,null,null,false]
[null,null,null,null,null,null,null,false]
[null,null,null,null,null,null,null,false]
[null,null,null,null,null,null,null,false]
[null,null,null,null,null,null,null,false]
[null,null,null,null,null,null,null,false]
[null,null,null,null,null,null,null,false]
[null,null,null,null,null,null,null,false]
[null,null,null,null,null,null,null,false]
[null,null,null,null,null,null,null,false]
[null,null,null,null,null,null,null,false]
[null,null,null,null,null,null,null,false]
[null,null,null,null,null,null,null,false]
[null,null,null,null,null,null,null,false]
[null,null,null,null,null,null,null,false]
[null,null,null,null,null,null,null,false]
[null,null,null,null,null,null,null,false]
[null,null,null,null,null,null,null,false]
[null,null,null,null,null,null,null,false]
[null,null,null,null,null,null,null,false]
[null,null,null,null,null,null,null,false]
[null,null,null,null,null,null,null,false]
[null,null,null,null,null,null,null,false]
[null,null,null,null,null,null,null,false]
[null,null,null,null,null,null,null,false]
[null,null,null,null,null,null,null,false]
[null,null,null,null,null,null,null,false]
[null,null,null,null,null,null,null,false]
[null,null,null,null,null,null,null,false]
[null,null,null,null,null,null,null,false]
[null,null,null,null,null,null,null,false]
[null,null,null,null,null,null,null,false]
[null,null,null,null,null,null,null,false]
[null,null,null,null,null,null,null,false]
[null,null,null,null,null,null,null,false]
[null,null,null,null,null,null,null,false]
[null,null,null,null,null,null,null,false]
[null,null,null,null,null,null,null,false]
[null,null,null,null,null,null,null,false]
[null,null,null,null,null,null,null,false]
[null,null,null,null,null,null,null,false]
[null,null,null,null,null,null,null,false]
[null,null,null,null,null,null,null,false]
[null,null,null,null,null,null,null,false]
[null,null,null,null,null,null,null,false]
[null,null,null,null,null,null,null,false]
[null,null,null,null,null,null,null,false]
[null,null,null,null,null,null,null,false]
[null,null,null,null,null,null,null,false]
[null,null,null,null,null,null,null,false]
[null,null,null,null,null,null,null,false]
[null,null,null,null,null,null,null,false]
[null,null,null,null,null,null,null,false]
[null,null,null,null,null,null,null,false]
[null,null,null,null,null,null,null,false]
[null,null,null,null,null,null,null,false]
[null,null,null,null,null,null,null,{"$f":"AND(O$6=E460,O$7>=F460,O$7<=G460)","v":false}]
[null,null,null,null,null,null,null,false]
[null,null,null,null,null,null,null,false]
[null,null,null,null,null,null,null,false]
[null,null,null,null,null,null,null,false]
[null,null,null,null,null,null,null,false]
[null,null,null,null,null,null,null,false]
[null,null,null,null,null,null,null,false]
[null,null,null,null,null,null,null,false]
[null,null,null,null,null,null,null,false]
[null,null,null,null,null,null,null,false]
[null,null,null,null,null,null,null,false]
[null,null,null,null,null,null,null,false]
[null,null,null,null,null,null,null,false]
[null,null,null,null,null,null,null,false]
[null,null,null,null,null,null,null,false]
[null,null,null,null,null,null,null,false]
[null,null,null,null,null,null,null,false]
[null,null,null,null,null,null,null,false]
[null,null,null,null,null,null,null,false]
[null,null,null,null,null,null,null,false]
[null,null,null,null,null,null,null,false]
[null,null,null,null,null,null,null,false]
[null,null,null,null,null,null,null,false]
[null,null,null,null,null,null,null,false]
[null,null,null,null,null,null,null,false]
[null,null,null,null,null,null,null,false]
[null,null,null,null,null,null,null,false]
[null,null,null,null,null,null,null,false]
[null,null,null,null,null,null,null,false]
[null,null,null,null,null,null,null,false]
[null,null,null,null,null,null,null,false]
[null,null,null,null,null,null,null,false]
[null,null,null,null,null,null,null,false]
[null,null,null,null,null,null,null,false]
[null,null,null,null,null,null,null,false]
[null,null,null,null,null,null,null,false]
[null,null,null,null,null,null,null,false]
[null,null,null,null,null,null,null,false]
[null,null,null,null,null,null,null,false]
[null,null,null,null,null,null,null,false]
[null,null,null,null,null,null,null,false]
[null,null,null,null,null,null,null,false]
[null,null,null,null,null,null,null,false]
[null,null,null,null,null,null,null,false]
[null,null,null,null,null,null,null,false]
[null,null,null,null,null,null,null,false]
[null,null,null,null,null,null,null,false]
[null,null,null,null,null,null,null,false]
[null,null,null,null,null,null,null,false]
[null,null,null,null,null,null,null,false]
[null,null,null,null,null,null,null,false]
[null,null,null,null,null,null,null,false]
[null,null,null,null,null,null,null,false]
[null,null,null,null,null,null,null,false]
[null,null,null,null,null,null,null,false]
[null,null,null,null,null,null,null,false]
[null,null,null,null,null,null,null,false]
[null,null,null,null,null,null,null,false]
[null,null,null,null,null,null,null,false]
[null,null,null,null,null,null,null,false]
[null,null,null,null,null,null,null,false]
[null,null,null,null,null,null,null,false]
[null,null,null,null,null,null,null,false]
[null,null,null,null,null,null,null,{"$f":"AND(O$6=E524,O$7>=F524,O$7<=G524)","v":false}]
[null,null,null,null,null,null,null,false]
[null,null,null,null,null,null,null,false]
[null,null,null,null,null,null,null,false]
[null,null,null,null,null,null,null,false]
[null,null,null,null,null,null,null,false]
[null,null,null,null,null,null,null,false]
[null,null,null,null,null,null,null,false]
[null,null,null,null,null,null,null,false]
[null,null,null,null,null,null,null,false]
[null,null,null,null,null,null,null,false]
[null,null,null,null,null,null,null,false]
[null,null,null,null,null,null,null,false]
[null,null,null,null,null,null,null,false]
[null,null,null,null,null,null,null,false]
[null,null,null,null,null,null,null,false]
[null,null,null,null,null,null,null,false]
[null,null,null,null,null,null,null,false]
[null,null,null,null,null,null,null,false]
[null,null,null,null,null,null,null,false]
[null,null,null,null,null,null,null,false]
[null,null,null,null,null,null,null,false]
[null,null,null,null,null,null,null,false]
[null,null,null,null,null,null,null,false]
[null,null,null,null,null,null,null,false]
[null,null,null,null,null,null,null,false]
[null,null,null,null,null,null,null,false]
[null,null,null,null,null,null,null,false]
[null,null,null,null,null,null,null,false]
[null,null,null,null,null,null,null,false]
[null,null,null,null,null,null,null,false]
[null,null,null,null,null,null,null,false]
[null,null,null,null,null,null,null,false]
[null,null,null,null,null,null,null,false]
[null,null,null,null,null,null,null,false]
[null,null,null,null,null,null,null,false]
[null,null,null,null,null,null,null,false]
[null,null,null,null,null,null,null,false]
[null,null,null,null,null,null,null,false]
[null,null,null,null,null,null,null,false]
[null,null,null,null,null,null,null,false]
[null,null,null,null,null,null,null,false]
[null,null,null,null,null,null,null,false]
[null,null,null,null,null,null,null,false]
[null,null,null,null,null,null,null,false]
[null,null,null,null,null,null,null,false]
[null,null,null,null,null,null,null,false]
[null,null,null,null,null,null,null,false]
[null,null,null,null,null,null,null,false]
[null,null,null,null,null,null,null,false]
[null,null,null,null,null,null,null,false]
[null,null,null,null,null,null,null,false]
[null,null,null,null,null,null,null,false]
[null,null,null,null,null,null,null,false]
[null,null,null,null,null,null,null,false]
[null,null,null,null,null,null,null,false]
[null,null,null,null,null,null,null,false]
[null,null,null,null,null,null,null,false]
[null,null,null,null,null,null,null,false]
[null,null,null,null,null,null,null,false]
[null,null,null,null,null,null,null,false]
[null,null,null,null,null,null,null,false]
[null,null,null,null,null,null,null,false]
[null,null,null,null,null,null,null,false]
[null,null,null,null,null,null,null,{"$f":"AND(O$6=E588,O$7>=F588,O$7<=G588)","v":false}]
[null,null,null,null,null,null,null,false]
[null,null,null,null,null,null,null,false]
[null,null,null,null,null,null,null,false]
[null,null,null,null,null,null,null,false]
[null,null,null,null,null,null,null,false]
[null,null,null,null,null,null,null,false]
[null,null,null,null,null,null,null,false]
[null,null,null,null,null,null,null,false]
[null,null,null,null,null,null,null,false]
[null,null,null,null,null,null,null,false]
[null,null,null,null,null,null,null,false]
[null,null,null,null,null,null,null,false]
[null,null,null,null,null,null,null,false]
[null,null,null,null,null,null,null,false]
[null,null,null,null,null,null,null,false]
[null,null,null,null,null,null,null,false]
[null,null,null,null,null,null,null,false]
[null,null,null,null,null,null,null,false]
[null,null,null,null,null,null,null,false]
[null,null,null,null,null,null,null,false]
[null,null,null,null,null,null,null,false]
[null,null,null,null,null,null,null,false]
[null,null,null,null,null,null,null,false]
[null,null,null,null,null,null,null,false]
[null,null,null,null,null,null,null,false]
[null,null,null,null,null,null,null,false]
[null,null,null,null,null,null,null,false]
[null,null,null,null,null,null,null,false]
[null,null,null,null,null,null,null,false]
[null,null,null,null,null,null,null,false]
[null,null,null,null,null,null,null,false]
[null,null,null,null,null,null,null,false]
[null,null,null,null,null,null,null,false]
[null,null,null,null,null,null,null,false]
[null,null,null,null,null,null,null,false]
[null,null,null,null,null,null,null,false]
[null,null,null,null,null,null,null,false]
[null,null,null,null,null,null,null,false]
[null,null,null,null,null,null,null,false]
[null,null,null,null,null,null,null,false]
[null,null,null,null,null,null,null,false]
[null,null,null,null,null,null,null,false]
[null,null,null,null,null,null,null,false]
[null,null,null,null,null,null,null,false]
[null,null,null,null,null,null,null,false]
[null,null,null,null,null,null,null,false]
[null,null,null,null,null,null,null,false]
[null,null,null,null,null,null,null,false]
[null,null,null,null,null,null,null,false]
[null,null,null,null,null,null,null,false]
[null,null,null,null,null,null,null,false]
[null,null,null,null,null,null,null,false]
[null,null,null,null,null,null,null,false]
[null,null,null,null,null,null,null,false]
[null,null,null,null,null,null,null,false]
[null,null,null,null,null,null,null,false]
[null,null,null,null,null,null,null,false]
[null,null,null,null,null,null,null,false]
[null,null,null,null,null,null,null,false]
[null,null,null,null,null,null,null,false]
[null,null,null,null,null,null,null,false]
[null,null,null,null,null,null,null,false]
[null,null,null,null,null,null,null,false]
[null,null,null,null,null,null,null,{"$f":"AND(O$6=E652,O$7>=F652,O$7<=G652)","v":false}]
[null,null,null,null,null,null,null,false]
[null,null,null,null,null,null,null,false]
[null,null,null,null,null,null,null,false]
[null,null,null,null,null,null,null,false]
[null,null,null,null,null,null,null,false]
[null,null,null,null,null,null,null,false]
[null,null,null,null,null,null,null,false]
[null,null,null,null,null,null,null,false]
[null,null,null,null,null,null,null,false]
[null,null,null,null,null,null,null,false]
[null,null,null,null,null,null,null,false]
[null,null,null,null,null,null,null,false]
[null,null,null,null,null,null,null,false]
[null,null,null,null,null,null,null,false]
[null,null,null,null,null,null,null,false]
[null,null,null,null,null,null,null,false]
[null,null,null,null,null,null,null,false]
[null,null,null,null,null,null,null,false]
[null,null,null,null,null,null,null,false]
[null,null,null,null,null,null,null,false]
[null,null,null,null,null,null,null,false]
[null,null,null,null,null,null,null,false]
[null,null,null,null,null,null,null,false]
[null,null,null,null,null,null,null,false]
[null,null,null,null,null,null,null,false]
[null,null,null,null,null,null,null,false]
[null,null,null,null,null,null,null,false]
[null,null,null,null,null,null,null,false]
[null,null,null,null,null,null,null,false]
[null,null,null,null,null,null,null,false]
[null,null,null,null,null,null,null,false]
[null,null,null,null,null,null,null,false]
[null,null,null,null,null,null,null,false]
[null,null,null,null,null,null,null,false]
[null,null,null,null,null,null,null,false]
[null,null,null,null,null,null,null,false]
[null,null,null,null,null,null,null,false]
[null,null,null,null,null,null,null,false]
[null,null,null,null,null,null,null,false]
[null,null,null,null,null,null,null,false]
[null,null,null,null,null,null,null,false]
[null,null,null,null,null,null,null,false]
[null,null,null,null,null,null,null,false]
[null,null,null,null,null,null,null,false]
[null,null,null,null,null,null,null,false]
[null,null,null,null,null,null,null,false]
[null,null,null,null,null,null,null,false]
[null,null,null,null,null,null,null,false]
[null,null,null,null,null,null,null,false]
[null,null,null,null,null,null,null,false]
[null,null,null,null,null,null,null,false]
[null,null,null,null,null,null,null,false]
[null,null,null,null,null,null,null,false]
[null,null,null,null,null,null,null,false]
[null,null,null,null,null,null,null,false]
[null,null,null,null,null,null,null,false]
[null,null,null,null,null,null,null,false]
[null,null,null,null,null,null,null,false]
[null,null,null,null,null,null,null,false]
[null,null,null,null,null,null,null,false]
[null,null,null,null,null,null,null,false]
[null,null,null,null,null,null,null,false]
[null,null,null,null,null,null,null,false]
[null,null,null,null,null,null,null,{"$f":"AND(O$6=E716,O$7>=F716,O$7<=G716)","v":false}]
[null,null,null,null,null,null,null,false]
[null,null,null,null,null,null,null,false]
[null,null,null,null,null,null,null,false]
[null,null,null,null,null,null,null,false]
[null,null,null,null,null,null,null,false]
[null,null,null,null,null,null,null,false]
[null,null,null,null,null,null,null,false]
[null,null,null,null,null,null,null,false]
[null,null,null,null,null,null,null,false]
[null,null,null,null,null,null,null,false]
[null,null,null,null,null,null,null,false]
[null,null,null,null,null,null,null,false]
[null,null,null,null,null,null,null,false]
[null,null,null,null,null,null,null,false]
[null,null,null,null,null,null,null,false]
[null,null,null,null,null,null,null,false]
[null,null,null,null,null,null,null,false]
[null,null,null,null,null,null,null,false]
[null,null,null,null,null,null,null,false]
[null,null,null,null,null,null,null,false]
[null,null,null,null,null,null,null,false]
[null,null,null,null,null,null,null,false]
[null,null,null,null,null,null,null,false]
[null,null,null,null,null,null,null,false]
[null,null,null,null,null,null,null,false]
[null,null,null,null,null,null,null,false]
[null,null,null,null,null,null,null,false]
[null,null,null,null,null,null,null,false]
[null,null,null,null,null,null,null,false]
[null,null,null,null,null,null,null,false]
[null,null,null,null,null,null,null,false]
[null,null,null,null,null,null,null,false]
[null,null,null,null,null,null,null,false]
[null,null,null,null,null,null,null,false]
[null,null,null,null,null,null,null,false]
[null,null,null,null,null,null,null,false]
[null,null,null,null,null,null,null,false]
[null,null,null,null,null,null,null,false]
[null,null,null,null,null,null,null,false]
[null,null,null,null,null,null,null,false]
[null,null,null,null,null,null,null,false]
[null,null,null,null,null,null,null,false]
[null,null,null,null,null,null,null,false]
[null,null,null,null,null,null,null,false]
[null,null,null,null,null,null,null,false]
[null,null,null,null,null,null,null,false]
[null,null,null,null,null,null,null,false]
[null,null,null,null,null,null,null,false]
[null,null,null,null,null,null,null,false]
[null,null,null,null,null,null,null,false]
[null,null,null,null,null,null,null,false]
[null,null,null,null,null,null,null,false]
[null,null,null,null,null,null,null,false]
[null,null,null,null,null,null,null,false]
[null,null,null,null,null,null,null,false]
[null,null,null,null,null,null,null,false]
[null,null,null,null,null,null,null,false]
[null,null,null,null,null,null,null,false]
[null,null,null,null,null,null,null,false]
[null,null,null,null,null,null,null,false]
[null,null,null,null,null,null,null,false]
[null,null,null,null,null,null,null,false]
[null,null,null,null,null,null,null,false]
[null,null,null,null,null,null,null,{"$f":"AND(O$6=E780,O$7>=F780,O$7<=G780)","v":false}]
[null,null,null,null,null,null,null,false]
[null,null,null,null,null,null,null,false]
[null,null,null,null,null,null,null,false]
[null,null,null,null,null,null,null,false]
[null,null,null,null,null,null,null,false]
[null,null,null,null,null,null,null,false]
[null,null,null,null,null,null,null,false]
[null,null,null,null,null,null,null,false]
[null,null,null,null,null,null,null,false]
[null,null,null,null,null,null,null,false]
[null,null,null,null,null,null,null,false]
[null,null,null,null,null,null,null,false]
[null,null,null,null,null,null,null,false]
[null,null,null,null,null,null,null,false]
[null,null,null,null,null,null,null,false]
[null,null,null,null,null,null,null,false]
[null,null,null,null,null,null,null,false]
[null,null,null,null,null,null,null,false]
[null,null,null,null,null,null,null,false]
[null,null,null,null,null,null,null,false]
[null,null,null,null,null,null,null,false]
[null,null,null,null,null,null,null,false]
[null,null,null,null,null,null,null,false]
[null,null,null,null,null,null,null,false]
[null,null,null,null,null,null,null,false]
[null,null,null,null,null,null,null,false]
[null,null,null,null,null,null,null,false]
[null,null,null,null,null,null,null,false]
[null,null,null,null,null,null,null,false]
[null,null,null,null,null,null,null,false]
[null,null,null,null,null,null,null,false]
[null,null,null,null,null,null,null,false]
[null,null,null,null,null,null,null,false]
[null,null,null,null,null,null,null,false]
[null,null,null,null,null,null,null,false]
[null,null,null,null,null,null,null,false]
[null,null,null,null,null,null,null,false]
[null,null,null,null,null,null,null,false]
[null,null,null,null,null,null,null,false]
[null,null,null,null,null,null,null,false]
[null,null,null,null,null,null,null,false]
[null,null,null,null,null,null,null,false]
[null,null,null,null,null,null,null,false]
[null,null,null,null,null,null,null,false]
[null,null,null,null,null,null,null,false]
[null,null,null,null,null,null,null,false]
[null,null,null,null,null,null,null,false]
[null,null,null,null,null,null,null,false]
[null,null,null,null,null,null,null,false]
[null,null,null,null,null,null,null,false]
[null,null,null,null,null,null,null,false]
[null,null,null,null,null,null,null,false]
[null,null,null,null,null,null,null,false]
[null,null,null,null,null,null,null,false]
[null,null,null,null,null,null,null,false]
[null,null,null,null,null,null,null,false]
[null,null,null,null,null,null,null,false]
[null,null,null,null,null,null,null,false]
[null,null,null,null,null,null,null,false]
[null,null,null,null,null,null,null,false]
[null,null,null,null,null,null,null,false]
[null,null,null,null,null,null,null,false]
[null,null,null,null,null,null,null,false]
[null,null,null,null,null,null,null,{"$f":"AND(O$6=E844,O$7>=F844,O$7<=G844)","v":false}]
[null,null,null,null,null,null,null,false]
[null,null,null,null,null,null,null,false]
[null,null,null,null,null,null,null,false]
[null,null,null,null,null,null,null,false]
[null,null,null,null,null,null,null,false]
[null,null,null,null,null,null,null,false]
[null,null,null,null,null,null,null,false]
[null,null,null,null,null,null,null,false]
[null,null,null,null,null,null,null,false]
[null,null,null,null,null,null,null,false]
[null,null,null,null,null,null,null,false]
[null,null,null,null,null,null,null,false]
[null,null,null,null,null,null,null,false]
[null,null,null,null,null,null,null,false]
[null,null,null,null,null,null,null,false]
[null,null,null,null,null,null,null,false]
[null,null,null,null,null,null,null,false]
[null,null,null,null,null,null,null,false]
[null,null,null,null,null,null,null,false]
[null,null,null,null,null,null,null,false]
[null,null,null,null,null,null,null,false]
[null,null,null,null,null,null,null,false]
[null,null,null,null,null,null,null,false]
[null,null,null,null,null,null,null,false]
[null,null,null,null,null,null,null,false]
[null,null,null,null,null,null,null,false]
[null,null,null,null,null,null,null,false]
[null,null,null,null,null,null,null,false]
[null,null,null,null,null,null,null,false]
[null,null,null,null,null,null,null,false]
[null,null,null,null,null,null,null,false]
[null,null,null,null,null,null,null,false]
[null,null,null,null,null,null,null,false]
[null,null,null,null,null,null,null,false]
[null,null,null,null,null,null,null,false]
[null,null,null,null,null,null,null,false]
[null,null,null,null,null,null,null,false]
[null,null,null,null,null,null,null,false]
[null,null,null,null,null,null,null,false]
[null,null,null,null,null,null,null,false]
[null,null,null,null,null,null,null,false]
[null,null,null,null,null,null,null,false]
[null,null,null,null,null,null,null,false]
[null,null,null,null,null,null,null,false]
[null,null,null,null,null,null,null,false]
[null,null,null,null,null,null,null,false]
[null,null,null,null,null,null,null,false]
[null,null,null,null,null,null,null,false]
[null,null,null,null,null,null,null,false]
[null,null,null,null,null,null,null,false]
[null,null,null,null,null,null,null,false]
[null,null,null,null,null,null,null,false]
[null,null,null,null,null,null,null,false]
[null,null,null,null,null,null,null,false]
[null,null,null,null,null,null,null,false]
[null,null,null,null,null,null,null,false]
[null,null,null,null,null,null,null,false]
[null,null,null,null,null,null,null,false]
[null,null,null,null,null,null,null,false]
[null,null,null,null,null,null,null,false]
[null,null,null,null,null,null,null,false]
[null,null,null,null,null,null,null,false]
[null,null,null,null,null,null,null,false]
[null,null,null,null,null,null,null,{"$f":"AND(O$6=E908,O$7>=F908,O$7<=G908)","v":false}]
[null,null,null,null,null,null,null,false]
[null,null,null,null,null,null,null,false]
[null,null,null,null,null,null,null,false]
[null,null,null,null,null,null,null,false]
[null,null,null,null,null,null,null,false]
[null,null,null,null,null,null,null,false]
[null,null,null,null,null,null,null,false]
[null,null,null,null,null,null,null,false]
[null,null,null,null,null,null,null,false]
[null,null,null,null,null,null,null,false]
[null,null,null,null,null,null,null,false]
[null,null,null,null,null,null,null,false]
[null,null,null,null,null,null,null,false]
[null,null,null,null,null,null,null,false]
[null,null,null,null,null,null,null,false]
[null,null,null,null,null,null,null,false]
[null,null,null,null,null,null,null,false]
[null,null,null,null,null,null,null,false]
[null,null,null,null,null,null,null,false]
[null,null,null,null,null,null,null,false]
[null,null,null,null,null,null,null,false]
[null,null,null,null,null,null,null,false]
[null,null,null,null,null,null,null,false]
[null,null,null,null,null,null,null,false]
[null,null,null,null,null,null,null,false]
[null,null,null,null,null,null,null,false]
[null,null,null,null,null,null,null,false]
[null,null,null,null,null,null,null,false]
[null,null,null,null,null,null,null,false]
[null,null,null,null,null,null,null,false]
[null,null,null,null,null,null,null,false]
[null,null,null,null,null,null,null,false]
[null,null,null,null,null,null,null,false]
[null,null,null,null,null,null,null,false]
[null,null,null,null,null,null,null,false]
[null,null,null,null,null,null,null,false]
[null,null,null,null,null,null,null,false]
[null,null,null,null,null,null,null,false]
[null,null,null,null,null,null,null,false]
[null,null,null,null,null,null,null,false]
[null,null,null,null,null,null,null,false]
[null,null,null,null,null,null,null,false]

{"sheet":"SPcodes","index":57,"n_rows":116,"n_cols":15,"rows_kept":116,"cut":false,"hidden":false,"merged":[]}
[null,"Find the appropriate classification code below. You may shorten the list",null,null,null,null,null,null,null,null,null,null,null,null,"S14"]
[null,"by entering part or all of a word to search for, and clicking 'Search'.",null,null,null,null,null,null,null,null,null,null,null,null,28]
["search for:",null,null,null,null,null,null,null,null,null,null,null,null,"worksheet: ","S1-Start Here"]
[null,"Select one classification code (single-click on that cell)",null,null,null,null,null,null,null,null,null,null,null,"row:",28]
[null,"then hit 'Add'."]
["No","Classification Code"]
[10,"Commercial Biotechnology",null,{"$f":"OR(NOT(ISERROR(SEARCH(B$3,B7))),NOT(ISERROR(SEARCH(B$3,TEXT(A7,\"000\")))))","v":true}]
[11,"Molecular Genetics",null,true]
[12,"Natural Products: Chemistry and Biological Activity",null,true,null,null,null,null,null,null,null,null,null,170,"Program Administration"]
[13,"Bioprocessing, Bioreaction, Cell and Tissue Culture",null,true,null,null,null,null,null,null,null,null,null,{"$f":"CONCATENATE(TEXT(N9,\"000\"),\" \",O9)","v":"170 Program Administration"}]
[20,"Environmental Technology",null,true]
[21,"Enhancement of Environmental Monitoring and Assessment",null,true]
[22,"Pollution Control and Prevention",null,true]
[23,"Remediation",null,true]
[30,"Revitalize the Nation's Commercial Fisheries",null,true]
[31,"Ecosystem-Based Fisheries Management",null,true]
[32,"Fisheries Social and Economic Impacts",null,true]
[33,"Minimizing Bycatch",null,true]
[34,"Enhancing Wild Stocks through Aquaculture",null,true]
[40,"Develop Sustainable U.S. Aquaculture",null,true]
[41,"Administration and Coordination",null,true]
[42,"Developing and Improving Grow-out Systems",null,true]
[43,"Improving Husbandry",null,true]
[44,"Enhancing Aquaculture through Biotechnology",null,true]
[50,"Enhance Competitiveness through Advances in Seafood Technology",null,true]
[51,"Product Quality and Safety",null,true]
[52,"Processing Technology and Practices",null,true]
[53,"Waste Management and Byproduct Recovery",null,true]
[54,"Product Development",null,true]
[60,"Coastal Business Development",null,true]
[61,"Fishing Industries",null,true]
[62,"Coastal Recreation Businesses",null,true]
[63,"Marine Trades Industry",null,true]
[70,"Coastal Community Development",null,true]
[71,"Sustainable Coastal Tourism ",null,true]
[72,"Communities in Transition",null,true]
[73,"Coastal and Waterfront Redevelopment/ Working Waterfronts",null,true]
[74,"Ports,Harbors and Clean Marinas",null,true]
[75,"Planning and Decision-Making Information",null,true]
[76,"Coastal & Waterway Access",null,true]
[77,"Green Infrastructure, Green Building and Community Design",null,true]
[80,"Revitalizing Marine Infrastructure",null,true]
[81,"Inspection and Condition Surveys",null,true]
[82,"Environmental and Operational Loadings",null,true]
[83,"Structure Performance Assessments",null,true]
[84,"Rehabilitation, Repair, and Recycling Procedures ",null,true]
[90,"Coastal and Great Lakes Water Quality",null,true]
[91,"Toxics",null,true]
[92,"Biological Contaminants",null,true]
[93,"Nutrients",null,true]
[94,"Sedimentation",null,true]
[95,"Biotoxins/Harmful Algal Blooms",null,true]
[96,"Nonpoint Source Pollution",null,true]
[97,"Chemical and Oil Spills",null,true]
[100,"Coastal and Great Lakes Habitats",null,true]
[101,"Habitat Structure and Function",null,true]
[102,"Habitat Restoration",null,true]
[103,"Aquatic Invasive Species",null,true]
[104,"Cumulative Impacts on Habitats",null,true]
[105,"Integrated Ecosystem Based Management",null,true]
[106,"Ecosystem Services",null,true]
[107,"Endangered Species",null,true]
[108,"Marine Debris",null,true]
[110,"Sustainable Development",null,true]
[111,"Socioeconomic Dimensions of Environmental Change",null,true]
[112,"Coastal Management Policy Tools",null,true]
[113,"Multiple Use Management and Conflict Resolution/ CMSP",null,true]
[114,"Water Availability",null,true]
[115,"Cumulative Impacts of Development",null,true]
[120,"Coastal and Natural Hazards",null,true]
[121,"Severe Storms",null,true]
[122,"Earthquakes and Tsunamis",null,{"$f":"OR(NOT(ISERROR(SEARCH(B$3,B72))),NOT(ISERROR(SEARCH(B$3,TEXT(A72,\"000\")))))","v":true}]
[123,"Coastal Planning and Building Construction Techniques",null,true]
[124,"Shoreline Processes and Erosion",null,true]
[125,"Floodplain Management",null,true]
[126,"Coastal Inundation",null,true]
[127,"Hazard Mitigation & Adaptation",null,true]
[130,"Safety at Sea",null,true]
[131,"Vessel Stability Research",null,true]
[132,"Equipment Design and Testing",null,true]
[133,"Survival and Safety ",null,true]
[134,"Recreational and Commercial Diving",null,true]
[140,"Education",null,true]
[141,"Education - Pre-college",null,true]
[142,"Education - University",null,true]
[143,"Education - Informal",null,true]
[150,"Marine Advisory Extension Service",null,true]
[151,"Marine Extension Service - Core",null,true]
[152,"Marine Extension Service - Special Projects",null,true]
[160,"Communications",null,true]
[161,"Communications - Core",null,true]
[162,"Communications - Special Projects",null,true]
[170,"Program Administration",null,true]
[170,"Program Administration",null,true]
[180,"Program Development",null,true]
[180,"Program Development",null,true]
[190,"OTHER",null,true]
[200,"Climate ",null,true]
[201,"Climate Modeling",null,true]
[202,"Climate Impacts",null,true]
[203,"Climate Literacy",null,true]
[204,"Climate Mitigation",null,true]
[205,"Climate Adaptation",null,true]
[206,"Ocean Acidification    ",null,true]
[210,"Energy ",null,true]
[211,"Alternative and Renewable Energy",null,true]
[212,"Energy Conservation",null,true]
[213,"Traditional Energy",null,true]
[220,"Social Science",null,true]
[220,"Social Science",null,true]
[221,"Information on socioeconomic context",null,true]
[222,"Impact evaluation",null,true]
[230,"Marine & Aquatic Literacy",null,true]
[231,"Pre-College GK-12 Literacy",null,true]
[232,"University Literacy",null,true]
[233,"Informal Literacy",null,true]

{"sheet":"ProgramIDs","index":58,"n_rows":38,"n_cols":4,"rows_kept":38,"cut":false,"hidden":false,"merged":[]}
["Abbrev","Names","Program ID","Abbrev"]
["AK","ALASKA SEA GRANT",1,"AK"]
["CA","CALIFORNIA SEA GRANT",2,"CA"]
["CT","CONNECTICUT SEA GRANT",3,"CT"]
["DE","DELAWARE SEA GRANT",4,"DE"]
["FL","FLORIDA SEA GRANT",6,"FL"]
["GA","GEORGIA SEA GRANT",7,"GA"]
["HI","HAWAII SEA GRANT",8,"HI"]
["IL-IN","Illinois-Indiana Sea Grant",9,"IL-IN"]
["LA","LOUISIANA SEA GRANT",11,"LA"]
["ME","MAINE SEA GRANT",12,"ME"]
["MD","MARYLAND SEA GRANT",13,"MD"]
["MIT","Massachusetts Institute of Technology SEA GRANT",14,"MIT"]
["MI","MICHIGAN SEA GRANT",15,"MI"]
["MN","MINNESOTA SEA GRANT",16,"MN"]
["MS-AL","MISSISSIPPI-ALABAMA SEA GRANT",17,"MS-AL"]
["NH","NEW HAMPSHIRE SEA GRANT",18,"NH"]
["NJ","NEW JERSEY SEA GRANT",19,"NJ"]
["NY","NEW YORK SEA GRANT",20,"NY"]
["NC","NORTH CAROLINA SEA GRANT",21,"NC"]
["OH","OHIO SEA GRANT",22,"OH"]
["OR","OREGON SEA GRANT",23,"OR"]
["PA","PENNSYLVANIA SEA GRANT",24,"PA"]
["PR","PUERTO RICO SEA GRANT",25,"PR"]
["RI","RHODE ISLAND SEA GRANT",26,"RI"]
["SC","SOUTH CAROLINA SEA GRANT",27,"SC"]
["USC","UNIVERSITY OF SOUTHERN CALIFORNIA SEA GRANT",28,"USC"]
["TX","TEXAS SEA GRANT",29,"TX"]
["LC","LAKE CHAMPLAIN SEA GRANT",30,"LC"]
["VA","VIRGINIA SEA GRANT",31,"VA"]
["WA","WASHINGTON SEA GRANT",32,"WA"]
["WI","WISCONSIN SEA GRANT",33,"WI"]
["WHOI","Woods Hole Oceanographic Institution Sea Grant",34,"WHOI"]
["NSGCP","NATIONAL SEA GRANT COLLEGE PROGRAM",47,"NSGCP"]
["LAW","SEA GRANT LAW CENTER",48,"LAW"]
["NSGO","National Sea Grant Office",49,"NSGO"]
["GU","GUAM SEA GRANT",50,"GU"]
["LIB","NATIONAL SEA GRANT LIBRARY",51,"LIB"]

{"sheet":"ProjectRecords","index":59,"n_rows":52,"n_cols":27,"rows_kept":52,"cut":false,"hidden":false,"merged":[]}
[null,null,"B6",null,"B7","B30","B32","B28",null,"B25","B26","B13","B14","B16","B17","B19","B20","B22","B23","G6","G7","G8","G9","G10","G11","B40"]
["ID","worksheet","Abbrev","Proj No","Title","Focus Area","Partner","Class Code","Abstracts","Total Fed","Total Mat","PI1","Affiliation1","PI2","Affiliation2","PI3","Affiliation3","PI4","AFFIL4","NSGO1","NSGO2","NSGO3","NSGO4","NSGO5","NSGO6","Data Sharing Plan","Comments"]
[null,{"$f":"MID(CELL(\"filename\",'S1-Start Here'!$B$1),FIND(\"]\",CELL(\"filename\",'S1-Start Here'!$B$1))+1,24)","v":"S1-Start Here"},{"$f":"IF(INDIRECT(\"'\"&$B3&\"'!\"&C$1)=\"\",\"\",INDIRECT(\"'\"&$B3&\"'!\"&C$1))","v":0},{"$f":"INDIRECT(\"'\"&B3&\"'!A10\")&INDIRECT(\"'\"&B3&\"'!B10\")","v":""},{"$f":"INDIRECT(\"'\"&$B3&\"'!\"&E$1)","v":""},{"$f":"INDIRECT(\"'\"&$B3&\"'!\"&F$1)","v":""},"","",{"$f":"IF(INDIRECT(\"'\"&$B3&\"'!b34\")=\"\",\"\",\"Objectives: \")&INDIRECT(\"'\"&$B3&\"'!b34\")&IF(INDIRECT(\"'\"&$B3&\"'!b36\")=\"\",\" \",\"\nMethodology: \")&INDIRECT(\"'\"&$B3&\"'!b36\")&IF(INDIRECT(\"'\"&$B3&\"'!b38\")=\"\",\" \",\"\nRationale: \")&INDIRECT(\"'\"&$B3&\"'!b38\")&IF(INDIRECT(\"'\"&$B3&\"'!b40\")=\"\",\" \",\"\nData Sharing Plan: \")&INDIRECT(\"'\"&$B3&\"'!b40\")","v":"   "},{"$f":"INDIRECT(\"'\"&$B3&\"'!\"&J$1)","v":0},0,"","","","","","","","",0,0,0,0,0,0,{"$f":"INDIRECT(\"'\"&$B3&\"'!\"&Z$1)","v":""},{"$f":"VLOOKUP(D3,'TOC generator worksheet'!I$2:V$51,14,FALSE)","v":""}]
[null,{"$f":"MID(CELL(\"filename\",'S2'!$B$1),FIND(\"]\",CELL(\"filename\",'S2'!$B$1))+1,24)","v":"S2"},{"$f":"IF(INDIRECT(\"'\"&$B4&\"'!\"&C$1)=\"\",\"\",INDIRECT(\"'\"&$B4&\"'!\"&C$1))","v":"0"},"","","","","",{"$f":"IF(INDIRECT(\"'\"&$B4&\"'!b34\")=\"\",\"\",\"Objectives: \")&INDIRECT(\"'\"&$B4&\"'!b34\")&IF(INDIRECT(\"'\"&$B4&\"'!b36\")=\"\",\" \",\"\nMethodology: \")&INDIRECT(\"'\"&$B4&\"'!b36\")&IF(INDIRECT(\"'\"&$B4&\"'!b38\")=\"\",\" \",\"\nRationale: \")&INDIRECT(\"'\"&$B4&\"'!b38\")&IF(INDIRECT(\"'\"&$B4&\"'!b40\")=\"\",\" \",\"\nData Sharing Plan: \")&INDIRECT(\"'\"&$B4&\"'!b40\")","v":"   "},{"$f":"INDIRECT(\"'\"&$B4&\"'!\"&J$1)","v":0},0,"","","","","","","","",0,0,0,0,0,0,{"$f":"INDIRECT(\"'\"&$B4&\"'!\"&Z$1)","v":""},{"$f":"VLOOKUP(D4,'TOC generator worksheet'!I$2:V$51,14,FALSE)","v":""}]
[null,{"$f":"MID(CELL(\"filename\",'S3'!$B$1),FIND(\"]\",CELL(\"filename\",'S3'!$B$1))+1,24)","v":"S3"},{"$f":"IF(INDIRECT(\"'\"&$B5&\"'!\"&C$1)=\"\",\"\",INDIRECT(\"'\"&$B5&\"'!\"&C$1))","v":"0"},"","","","","","   ",0,0,"","","","","","","","",0,0,0,0,0,0,"",{"$f":"VLOOKUP(D5,'TOC generator worksheet'!I$2:V$51,14,FALSE)","v":""}]
[null,{"$f":"MID(CELL(\"filename\",'S4'!$B$1),FIND(\"]\",CELL(\"filename\",'S4'!$B$1))+1,24)","v":"S4"},{"$f":"IF(INDIRECT(\"'\"&$B6&\"'!\"&C$1)=\"\",\"\",INDIRECT(\"'\"&$B6&\"'!\"&C$1))","v":"0"},"","","","","","   ",0,0,"","","","","","","","",0,0,0,0,0,0,"",{"$f":"VLOOKUP(D6,'TOC generator worksheet'!I$2:V$51,14,FALSE)","v":""}]
[null,{"$f":"MID(CELL(\"filename\",'S5'!$B$1),FIND(\"]\",CELL(\"filename\",'S5'!$B$1))+1,24)","v":"S5"},"0","","","","","","   ",0,0,"","","","","","","","",0,0,0,0,0,0,"",{"$f":"VLOOKUP(D7,'TOC generator worksheet'!I$2:V$51,14,FALSE)","v":""}]
[null,{"$f":"MID(CELL(\"filename\",'S6'!$B$1),FIND(\"]\",CELL(\"filename\",'S6'!$B$1))+1,24)","v":"S6"},"0","","","","","","   ",0,0,"","","","","","","","",0,0,0,0,0,0,"",{"$f":"VLOOKUP(D8,'TOC generator worksheet'!I$2:V$51,14,FALSE)","v":""}]
[null,{"$f":"MID(CELL(\"filename\",'S7'!$B$1),FIND(\"]\",CELL(\"filename\",'S7'!$B$1))+1,24)","v":"S7"},"0","","","","","","   ",0,0,"","","","","","","","",0,0,0,0,0,0,"",{"$f":"VLOOKUP(D9,'TOC generator worksheet'!I$2:V$51,14,FALSE)","v":""}]
[null,{"$f":"MID(CELL(\"filename\",'S8'!$B$1),FIND(\"]\",CELL(\"filename\",'S8'!$B$1))+1,24)","v":"S8"},"0","","","","","","   ",0,0,"","","","","","","","",0,0,0,0,0,0,"",{"$f":"VLOOKUP(D10,'TOC generator worksheet'!I$2:V$51,14,FALSE)","v":""}]
[null,{"$f":"MID(CELL(\"filename\",'S9'!$B$1),FIND(\"]\",CELL(\"filename\",'S9'!$B$1))+1,24)","v":"S9"},"0","","","","","","   ",0,0,"","","","","","","","",0,0,0,0,0,0,"",{"$f":"VLOOKUP(D11,'TOC generator worksheet'!I$2:V$51,14,FALSE)","v":""}]
[null,{"$f":"MID(CELL(\"filename\",'S10'!$B$1),FIND(\"]\",CELL(\"filename\",'S10'!$B$1))+1,24)","v":"S10"},"0","","","","","","   ",0,0,"","","","","","","","",0,0,0,0,0,0,"",{"$f":"VLOOKUP(D12,'TOC generator worksheet'!I$2:V$51,14,FALSE)","v":""}]
[null,{"$f":"MID(CELL(\"filename\",'S11'!$B$1),FIND(\"]\",CELL(\"filename\",'S11'!$B$1))+1,24)","v":"S11"},"0","","","","","","   ",0,0,"","","","","","","","",0,0,0,0,0,0,"",{"$f":"VLOOKUP(D13,'TOC generator worksheet'!I$2:V$51,14,FALSE)","v":""}]
[null,{"$f":"MID(CELL(\"filename\",'S12'!$B$1),FIND(\"]\",CELL(\"filename\",'S12'!$B$1))+1,24)","v":"S12"},"0","","","","","","   ",0,0,"","","","","","","","",0,0,0,0,0,0,"",{"$f":"VLOOKUP(D14,'TOC generator worksheet'!I$2:V$51,14,FALSE)","v":""}]
[null,{"$f":"MID(CELL(\"filename\",'S13'!$B$1),FIND(\"]\",CELL(\"filename\",'S13'!$B$1))+1,24)","v":"S13"},"0","","","","","","   ",0,0,"","","","","","","","",0,0,0,0,0,0,"",{"$f":"VLOOKUP(D15,'TOC generator worksheet'!I$2:V$51,14,FALSE)","v":""}]
[null,{"$f":"MID(CELL(\"filename\",'S14'!$B$1),FIND(\"]\",CELL(\"filename\",'S14'!$B$1))+1,24)","v":"S14"},"0","","","","","","   ",0,0,"","","","","","","","",0,0,0,0,0,0,"",{"$f":"VLOOKUP(D16,'TOC generator worksheet'!I$2:V$51,14,FALSE)","v":""}]
[null,{"$f":"MID(CELL(\"filename\",'S15'!$B$1),FIND(\"]\",CELL(\"filename\",'S15'!$B$1))+1,24)","v":"S15"},"0","","","","","","   ",0,0,"","","","","","","","",0,0,0,0,0,0,"",{"$f":"VLOOKUP(D17,'TOC generator worksheet'!I$2:V$51,14,FALSE)","v":""}]
[null,{"$f":"MID(CELL(\"filename\",'S16'!$B$1),FIND(\"]\",CELL(\"filename\",'S16'!$B$1))+1,24)","v":"S16"},"0","","","","","","   ",0,0,"","","","","","","","",0,0,0,0,0,0,"",{"$f":"VLOOKUP(D18,'TOC generator worksheet'!I$2:V$51,14,FALSE)","v":""}]
[null,{"$f":"MID(CELL(\"filename\",'S17'!$B$1),FIND(\"]\",CELL(\"filename\",'S17'!$B$1))+1,24)","v":"S17"},"0","","","","","","   ",0,0,"","","","","","","","",0,0,0,0,0,{"$f":"INDIRECT(\"'\"&$B19&\"'!\"&Y$1)","v":0},"",{"$f":"VLOOKUP(D19,'TOC generator worksheet'!I$2:V$51,14,FALSE)","v":""}]
[null,{"$f":"MID(CELL(\"filename\",'S18'!$B$1),FIND(\"]\",CELL(\"filename\",'S18'!$B$1))+1,24)","v":"S18"},"0",{"$f":"INDIRECT(\"'\"&B20&\"'!A10\")&INDIRECT(\"'\"&B20&\"'!B10\")","v":""},"",{"$f":"INDIRECT(\"'\"&$B20&\"'!\"&F$1)","v":""},{"$f":"INDIRECT(\"'\"&$B20&\"'!\"&G$1)","v":""},{"$f":"INDIRECT(\"'\"&$B20&\"'!\"&H$1)","v":""},"   ",{"$f":"INDIRECT(\"'\"&$B20&\"'!\"&J$1)","v":0},0,"","","","","","","","",0,0,0,0,0,0,"",{"$f":"VLOOKUP(D20,'TOC generator worksheet'!I$2:V$51,14,FALSE)","v":""}]
[null,{"$f":"MID(CELL(\"filename\",'S19'!$B$1),FIND(\"]\",CELL(\"filename\",'S19'!$B$1))+1,24)","v":"S19"},"0","",{"$f":"INDIRECT(\"'\"&$B21&\"'!\"&E$1)","v":""},"","","","   ",0,0,"","","","","","","","",0,0,0,0,0,0,"",{"$f":"VLOOKUP(D21,'TOC generator worksheet'!I$2:V$51,14,FALSE)","v":""}]
[null,{"$f":"MID(CELL(\"filename\",'S20'!$B$1),FIND(\"]\",CELL(\"filename\",'S20'!$B$1))+1,24)","v":"S20"},"0","","","","","","   ",0,0,"","","","","","","","",0,0,0,0,0,0,"",{"$f":"VLOOKUP(D22,'TOC generator worksheet'!I$2:V$51,14,FALSE)","v":""}]
[null,{"$f":"MID(CELL(\"filename\",'S21'!$B$1),FIND(\"]\",CELL(\"filename\",'S21'!$B$1))+1,24)","v":"S21"},"0","","","","","","   ",0,0,"","","","","","","","",0,0,0,0,0,0,"",{"$f":"VLOOKUP(D23,'TOC generator worksheet'!I$2:V$51,14,FALSE)","v":""}]
[null,{"$f":"MID(CELL(\"filename\",'S22'!$B$1),FIND(\"]\",CELL(\"filename\",'S22'!$B$1))+1,24)","v":"S22"},"0","","","","","","   ",0,0,"","","","","","","","",0,0,0,0,0,0,"",{"$f":"VLOOKUP(D24,'TOC generator worksheet'!I$2:V$51,14,FALSE)","v":""}]
[null,{"$f":"MID(CELL(\"filename\",'S23'!$B$1),FIND(\"]\",CELL(\"filename\",'S23'!$B$1))+1,24)","v":"S23"},"0","","","","","","   ",0,0,"","","","","","","","",0,0,0,0,0,0,"",{"$f":"VLOOKUP(D25,'TOC generator worksheet'!I$2:V$51,14,FALSE)","v":""}]
[null,{"$f":"MID(CELL(\"filename\",'S24'!$B$1),FIND(\"]\",CELL(\"filename\",'S24'!$B$1))+1,24)","v":"S24"},"0","","","","","","   ",0,0,"","","","","","","","",0,0,0,0,0,0,"",{"$f":"VLOOKUP(D26,'TOC generator worksheet'!I$2:V$51,14,FALSE)","v":""}]
[null,{"$f":"MID(CELL(\"filename\",'S25'!$B$1),FIND(\"]\",CELL(\"filename\",'S25'!$B$1))+1,24)","v":"S25"},"0","","","","","","   ",0,0,"","","","","","","","",0,0,0,0,0,0,"",{"$f":"VLOOKUP(D27,'TOC generator worksheet'!I$2:V$51,14,FALSE)","v":""}]
[null,{"$f":"MID(CELL(\"filename\",'S26'!$B$1),FIND(\"]\",CELL(\"filename\",'S26'!$B$1))+1,24)","v":"S26"},"0","","","","","","   ",0,0,"","","","","","","","",0,0,0,0,0,0,"",{"$f":"VLOOKUP(D28,'TOC generator worksheet'!I$2:V$51,14,FALSE)","v":""}]
[null,{"$f":"MID(CELL(\"filename\",'S27'!$B$1),FIND(\"]\",CELL(\"filename\",'S27'!$B$1))+1,24)","v":"S27"},"0","","","","","","   ",0,0,"","","","","","","","",0,0,0,0,0,0,"",{"$f":"VLOOKUP(D29,'TOC generator worksheet'!I$2:V$51,14,FALSE)","v":""}]
[null,{"$f":"MID(CELL(\"filename\",'S28'!$B$1),FIND(\"]\",CELL(\"filename\",'S28'!$B$1))+1,24)","v":"S28"},"0","","","","","","   ",0,0,"","","","","","","","",0,0,0,0,0,0,"",{"$f":"VLOOKUP(D30,'TOC generator worksheet'!I$2:V$51,14,FALSE)","v":""}]
[null,{"$f":"MID(CELL(\"filename\",'S29'!$B$1),FIND(\"]\",CELL(\"filename\",'S29'!$B$1))+1,24)","v":"S29"},"0","","","","","","   ",0,0,"","","","","","","","",0,0,0,0,0,0,"",{"$f":"VLOOKUP(D31,'TOC generator worksheet'!I$2:V$51,14,FALSE)","v":""}]
[null,{"$f":"MID(CELL(\"filename\",'S30'!$B$1),FIND(\"]\",CELL(\"filename\",'S30'!$B$1))+1,24)","v":"S30"},"0","","","","","","   ",0,0,"","","","","","","","",0,0,0,0,0,0,"",{"$f":"VLOOKUP(D32,'TOC generator worksheet'!I$2:V$51,14,FALSE)","v":""}]
[null,{"$f":"MID(CELL(\"filename\",'S31'!$B$1),FIND(\"]\",CELL(\"filename\",'S31'!$B$1))+1,24)","v":"S31"},"0","","","","","","   ",0,0,"","","","","","","","",0,0,0,0,0,0,"",{"$f":"VLOOKUP(D33,'TOC generator worksheet'!I$2:V$51,14,FALSE)","v":""}]
[null,{"$f":"MID(CELL(\"filename\",'S32'!$B$1),FIND(\"]\",CELL(\"filename\",'S32'!$B$1))+1,24)","v":"S32"},"0","","","","","","   ",0,0,"","","","","","","","",0,0,0,0,0,0,"",{"$f":"VLOOKUP(D34,'TOC generator worksheet'!I$2:V$51,14,FALSE)","v":""}]
[null,{"$f":"MID(CELL(\"filename\",'S33'!$B$1),FIND(\"]\",CELL(\"filename\",'S33'!$B$1))+1,24)","v":"S33"},"0","","","","","","   ",0,0,"","","","","","","","",0,0,0,0,0,0,"",{"$f":"VLOOKUP(D35,'TOC generator worksheet'!I$2:V$51,14,FALSE)","v":""}]
[null,{"$f":"MID(CELL(\"filename\",'S34'!$B$1),FIND(\"]\",CELL(\"filename\",'S34'!$B$1))+1,24)","v":"S34"},"0","","","","","","   ",0,0,"","","","","","","","",0,0,0,0,{"$f":"INDIRECT(\"'\"&$B36&\"'!\"&X$1)","v":0},0,"",{"$f":"VLOOKUP(D36,'TOC generator worksheet'!I$2:V$51,14,FALSE)","v":""}]
[null,{"$f":"MID(CELL(\"filename\",'S35'!$B$1),FIND(\"]\",CELL(\"filename\",'S35'!$B$1))+1,24)","v":"S35"},"0","","","","","","   ",0,0,"","","","","","","","",0,0,0,0,0,0,"",{"$f":"VLOOKUP(D37,'TOC generator worksheet'!I$2:V$51,14,FALSE)","v":""}]
[null,{"$f":"MID(CELL(\"filename\",'S36'!$B$1),FIND(\"]\",CELL(\"filename\",'S36'!$B$1))+1,24)","v":"S36"},"0","","","","","","   ",0,0,"","","","","","","","",0,0,0,0,0,0,"",{"$f":"VLOOKUP(D38,'TOC generator worksheet'!I$2:V$51,14,FALSE)","v":""}]
[null,{"$f":"MID(CELL(\"filename\",'S37'!$B$1),FIND(\"]\",CELL(\"filename\",'S37'!$B$1))+1,24)","v":"S37"},"0","","","","","","   ",0,0,"","","","","","","","",0,0,0,0,0,0,"",{"$f":"VLOOKUP(D39,'TOC generator worksheet'!I$2:V$51,14,FALSE)","v":""}]
[null,{"$f":"MID(CELL(\"filename\",'S38'!$B$1),FIND(\"]\",CELL(\"filename\",'S38'!$B$1))+1,24)","v":"S38"},"0","","","","","","   ",0,0,"","","","","","","","",0,0,0,0,0,0,"",{"$f":"VLOOKUP(D40,'TOC generator worksheet'!I$2:V$51,14,FALSE)","v":""}]
[null,{"$f":"MID(CELL(\"filename\",'S39'!$B$1),FIND(\"]\",CELL(\"filename\",'S39'!$B$1))+1,24)","v":"S39"},"0","","","","","","   ",0,0,"","","","","","","","",0,0,0,0,0,0,"",{"$f":"VLOOKUP(D41,'TOC generator worksheet'!I$2:V$51,14,FALSE)","v":""}]
[null,{"$f":"MID(CELL(\"filename\",'S40'!$B$1),FIND(\"]\",CELL(\"filename\",'S40'!$B$1))+1,24)","v":"S40"},"0","","","","","","   ",0,0,"","","","","","","","",0,0,0,0,0,0,"",{"$f":"VLOOKUP(D42,'TOC generator worksheet'!I$2:V$51,14,FALSE)","v":""}]
[null,{"$f":"MID(CELL(\"filename\",'S41'!$B$1),FIND(\"]\",CELL(\"filename\",'S41'!$B$1))+1,24)","v":"S41"},"0","","","","","","   ",0,0,"","","","","","","","",0,0,0,0,0,0,"",{"$f":"VLOOKUP(D43,'TOC generator worksheet'!I$2:V$51,14,FALSE)","v":""}]
[null,{"$f":"MID(CELL(\"filename\",'S42'!$B$1),FIND(\"]\",CELL(\"filename\",'S42'!$B$1))+1,24)","v":"S42"},"0","","","","","","   ",0,0,"","","","","","","","",0,0,0,0,0,0,"",{"$f":"VLOOKUP(D44,'TOC generator worksheet'!I$2:V$51,14,FALSE)","v":""}]
[null,{"$f":"MID(CELL(\"filename\",'S43'!$B$1),FIND(\"]\",CELL(\"filename\",'S43'!$B$1))+1,24)","v":"S43"},"0","","","","","","   ",0,0,"","","","","","","","",0,0,0,0,0,0,"",{"$f":"VLOOKUP(D45,'TOC generator worksheet'!I$2:V$51,14,FALSE)","v":""}]
[null,{"$f":"MID(CELL(\"filename\",'S44'!$B$1),FIND(\"]\",CELL(\"filename\",'S44'!$B$1))+1,24)","v":"S44"},"0","","","","","","   ",0,0,"","","","","","","","",0,0,0,0,0,0,"",{"$f":"VLOOKUP(D46,'TOC generator worksheet'!I$2:V$51,14,FALSE)","v":""}]
[null,{"$f":"MID(CELL(\"filename\",'S45'!$B$1),FIND(\"]\",CELL(\"filename\",'S45'!$B$1))+1,24)","v":"S45"},"0","","","","","","   ",0,0,"","","","","","","","",0,0,0,0,0,0,"",{"$f":"VLOOKUP(D47,'TOC generator worksheet'!I$2:V$51,14,FALSE)","v":""}]
[null,{"$f":"MID(CELL(\"filename\",'S46'!$B$1),FIND(\"]\",CELL(\"filename\",'S46'!$B$1))+1,24)","v":"S46"},"0","","","","","","   ",0,0,"","","","","","","","",0,0,0,0,0,0,"",{"$f":"VLOOKUP(D48,'TOC generator worksheet'!I$2:V$51,14,FALSE)","v":""}]
[null,{"$f":"MID(CELL(\"filename\",'S47'!$B$1),FIND(\"]\",CELL(\"filename\",'S47'!$B$1))+1,24)","v":"S47"},"0","","","","","","   ",0,0,"","","","","","","","",0,0,0,0,0,0,"",{"$f":"VLOOKUP(D49,'TOC generator worksheet'!I$2:V$51,14,FALSE)","v":""}]
[null,{"$f":"MID(CELL(\"filename\",'S48'!$B$1),FIND(\"]\",CELL(\"filename\",'S48'!$B$1))+1,24)","v":"S48"},"0","","","","","","   ",0,0,"","","","","","","","",0,0,0,0,0,0,"",{"$f":"VLOOKUP(D50,'TOC generator worksheet'!I$2:V$51,14,FALSE)","v":""}]
[null,{"$f":"MID(CELL(\"filename\",'S49'!$B$1),FIND(\"]\",CELL(\"filename\",'S49'!$B$1))+1,24)","v":"S49"},"0","","","","","","   ",0,0,"","","","","","","","",0,0,0,0,0,0,"",{"$f":"VLOOKUP(D51,'TOC generator worksheet'!I$2:V$51,14,FALSE)","v":""}]
[null,{"$f":"MID(CELL(\"filename\",'S50'!$B$1),FIND(\"]\",CELL(\"filename\",'S50'!$B$1))+1,24)","v":"S50"},"0","","","","","","   ",0,0,"","","","","","","","",0,0,0,{"$f":"INDIRECT(\"'\"&$B52&\"'!\"&W$1)","v":0},{"$f":"INDIRECT(\"'\"&$B52&\"'!\"&X$1)","v":0},{"$f":"INDIRECT(\"'\"&$B52&\"'!\"&Y$1)","v":0},"",{"$f":"VLOOKUP(D52,'TOC generator worksheet'!I$2:V$51,14,FALSE)","v":""}]

{"sheet":"FundingRecords","index":60,"n_rows":229,"n_cols":8,"rows_kept":229,"cut":false,"hidden":false,"merged":[]}
["Program ID number","Year","Proj No","Grant","Amendment","Fund Source","Federal","Match"]
[{"$f":"VLOOKUP(TableOfContents!B$1,ProgramIDs!A$2:C$38,3,FALSE)","v":{"$error":"#N/A"}},{"$f":"TableOfContents!G$5","v":9999},{"$f":"CONCATENATE(INDIRECT(\"'TableOfContents'\"&CONCATENATE(\"!A\",TEXT((INT((ROW(B3)-3)/4))+7,\"###\"))),INDIRECT(\"'TableOfContents'\"&CONCATENATE(\"!B\",TEXT((INT((ROW(B3)-3)/4))+7,\"###\"))))","v":""},{"$f":"TableOfContents!H$1","v":"grant no"},{"$f":"TableOfContents!I$1","v":"amd no"},{"$f":"TableOfContents!J$1","v":"fund source"},{"$f":"INDIRECT(\"'TableOfContents'\"&CONCATENATE(\"!i\",TEXT((INT((ROW(B3)-3)/4))+7,\"###\")))","v":""},{"$f":"INDIRECT(\"'TableOfContents'\"&CONCATENATE(\"!j\",TEXT((INT((ROW(C3)-3)/4))+7,\"###\")))","v":""}]
[{"$f":"VLOOKUP(TableOfContents!B$1,ProgramIDs!A$2:C$38,3,FALSE)","v":{"$error":"#N/A"}},{"$f":"TableOfContents!I$5","v":10000},{"$f":"CONCATENATE(INDIRECT(\"'TableOfContents'\"&CONCATENATE(\"!A\",TEXT((INT((ROW(B4)-3)/4))+7,\"###\"))),INDIRECT(\"'TableOfContents'\"&CONCATENATE(\"!B\",TEXT((INT((ROW(B4)-3)/4))+7,\"###\"))))","v":""},{"$f":"TableOfContents!H$1","v":"grant no"},{"$f":"TableOfContents!I$1","v":"amd no"},{"$f":"TableOfContents!J$1","v":"fund source"},{"$f":"INDIRECT(\"'TableOfContents'\"&CONCATENATE(\"!i\",TEXT((INT((ROW(B4)-3)/4))+7,\"###\")))","v":""},{"$f":"INDIRECT(\"'TableOfContents'\"&CONCATENATE(\"!j\",TEXT((INT((ROW(C4)-3)/4))+7,\"###\")))","v":""}]
[{"$f":"VLOOKUP(TableOfContents!B$1,ProgramIDs!A$2:C$38,3,FALSE)","v":{"$error":"#N/A"}},{"$f":"TableOfContents!K$5","v":10001},"",{"$f":"TableOfContents!H$1","v":"grant no"},{"$f":"TableOfContents!I$1","v":"amd no"},{"$f":"TableOfContents!J$1","v":"fund source"},{"$f":"INDIRECT(\"'TableOfContents'\"&CONCATENATE(\"!k\",TEXT((INT((ROW(B5)-3)/4))+7,\"###\")))","v":""},{"$f":"INDIRECT(\"'TableOfContents'\"&CONCATENATE(\"!l\",TEXT((INT((ROW(C5)-3)/4))+7,\"###\")))","v":""}]
[{"$f":"VLOOKUP(TableOfContents!B$1,ProgramIDs!A$2:C$38,3,FALSE)","v":{"$error":"#N/A"}},{"$f":"TableOfContents!M$5","v":10002},"",{"$f":"TableOfContents!H$1","v":"grant no"},{"$f":"TableOfContents!I$1","v":"amd no"},{"$f":"TableOfContents!J$1","v":"fund source"},{"$f":"INDIRECT(\"'TableOfContents'\"&CONCATENATE(\"!m\",TEXT((INT((ROW(B6)-3)/4))+7,\"###\")))","v":""},{"$f":"INDIRECT(\"'TableOfContents'\"&CONCATENATE(\"!n\",TEXT((INT((ROW(C6)-3)/4))+7,\"###\")))","v":""}]
[{"$f":"VLOOKUP(TableOfContents!B$1,ProgramIDs!A$2:C$38,3,FALSE)","v":{"$error":"#N/A"}},{"$f":"TableOfContents!G$5","v":9999},{"$f":"CONCATENATE(INDIRECT(\"'TableOfContents'\"&CONCATENATE(\"!A\",TEXT((INT((ROW(B7)-3)/4))+7,\"###\"))),INDIRECT(\"'TableOfContents'\"&CONCATENATE(\"!B\",TEXT((INT((ROW(B7)-3)/4))+7,\"###\"))))","v":""},{"$f":"TableOfContents!H$1","v":"grant no"},{"$f":"TableOfContents!I$1","v":"amd no"},{"$f":"TableOfContents!J$1","v":"fund source"},{"$f":"INDIRECT(\"'TableOfContents'\"&CONCATENATE(\"!G\",TEXT((INT((ROW(B7)-3)/4))+7,\"###\")))","v":""},{"$f":"INDIRECT(\"'TableOfContents'\"&CONCATENATE(\"!H\",TEXT((INT((ROW(C7)-3)/4))+7,\"###\")))","v":""}]
[{"$f":"VLOOKUP(TableOfContents!B$1,ProgramIDs!A$2:C$38,3,FALSE)","v":{"$error":"#N/A"}},{"$f":"TableOfContents!I$5","v":10000},"",{"$f":"TableOfContents!H$1","v":"grant no"},{"$f":"TableOfContents!I$1","v":"amd no"},{"$f":"TableOfContents!J$1","v":"fund source"},{"$f":"INDIRECT(\"'TableOfContents'\"&CONCATENATE(\"!i\",TEXT((INT((ROW(B8)-3)/4))+7,\"###\")))","v":""},{"$f":"INDIRECT(\"'TableOfContents'\"&CONCATENATE(\"!j\",TEXT((INT((ROW(C8)-3)/4))+7,\"###\")))","v":""}]
[{"$f":"VLOOKUP(TableOfContents!B$1,ProgramIDs!A$2:C$38,3,FALSE)","v":{"$error":"#N/A"}},{"$f":"TableOfContents!K$5","v":10001},"",{"$f":"TableOfContents!H$1","v":"grant no"},{"$f":"TableOfContents!I$1","v":"amd no"},{"$f":"TableOfContents!J$1","v":"fund source"},{"$f":"INDIRECT(\"'TableOfContents'\"&CONCATENATE(\"!k\",TEXT((INT((ROW(B9)-3)/4))+7,\"###\")))","v":""},{"$f":"INDIRECT(\"'TableOfContents'\"&CONCATENATE(\"!l\",TEXT((INT((ROW(C9)-3)/4))+7,\"###\")))","v":""}]
[{"$f":"VLOOKUP(TableOfContents!B$1,ProgramIDs!A$2:C$38,3,FALSE)","v":{"$error":"#N/A"}},{"$f":"TableOfContents!M$5","v":10002},"",{"$f":"TableOfContents!H$1","v":"grant no"},{"$f":"TableOfContents!I$1","v":"amd no"},{"$f":"TableOfContents!J$1","v":"fund source"},{"$f":"INDIRECT(\"'TableOfContents'\"&CONCATENATE(\"!m\",TEXT((INT((ROW(B10)-3)/4))+7,\"###\")))","v":""},{"$f":"INDIRECT(\"'TableOfContents'\"&CONCATENATE(\"!n\",TEXT((INT((ROW(C10)-3)/4))+7,\"###\")))","v":""}]
[{"$f":"VLOOKUP(TableOfContents!B$1,ProgramIDs!A$2:C$38,3,FALSE)","v":{"$error":"#N/A"}},{"$f":"TableOfContents!G$5","v":9999},"",{"$f":"TableOfContents!H$1","v":"grant no"},{"$f":"TableOfContents!I$1","v":"amd no"},{"$f":"TableOfContents!J$1","v":"fund source"},{"$f":"INDIRECT(\"'TableOfContents'\"&CONCATENATE(\"!G\",TEXT((INT((ROW(B11)-3)/4))+7,\"###\")))","v":""},{"$f":"INDIRECT(\"'TableOfContents'\"&CONCATENATE(\"!H\",TEXT((INT((ROW(C11)-3)/4))+7,\"###\")))","v":""}]
[{"$f":"VLOOKUP(TableOfContents!B$1,ProgramIDs!A$2:C$38,3,FALSE)","v":{"$error":"#N/A"}},{"$f":"TableOfContents!I$5","v":10000},"",{"$f":"TableOfContents!H$1","v":"grant no"},{"$f":"TableOfContents!I$1","v":"amd no"},{"$f":"TableOfContents!J$1","v":"fund source"},{"$f":"INDIRECT(\"'TableOfContents'\"&CONCATENATE(\"!i\",TEXT((INT((ROW(B12)-3)/4))+7,\"###\")))","v":""},{"$f":"INDIRECT(\"'TableOfContents'\"&CONCATENATE(\"!j\",TEXT((INT((ROW(C12)-3)/4))+7,\"###\")))","v":""}]
[{"$f":"VLOOKUP(TableOfContents!B$1,ProgramIDs!A$2:C$38,3,FALSE)","v":{"$error":"#N/A"}},{"$f":"TableOfContents!K$5","v":10001},"",{"$f":"TableOfContents!H$1","v":"grant no"},{"$f":"TableOfContents!I$1","v":"amd no"},{"$f":"TableOfContents!J$1","v":"fund source"},{"$f":"INDIRECT(\"'TableOfContents'\"&CONCATENATE(\"!k\",TEXT((INT((ROW(B13)-3)/4))+7,\"###\")))","v":""},{"$f":"INDIRECT(\"'TableOfContents'\"&CONCATENATE(\"!l\",TEXT((INT((ROW(C13)-3)/4))+7,\"###\")))","v":""}]
[{"$f":"VLOOKUP(TableOfContents!B$1,ProgramIDs!A$2:C$38,3,FALSE)","v":{"$error":"#N/A"}},{"$f":"TableOfContents!M$5","v":10002},"",{"$f":"TableOfContents!H$1","v":"grant no"},{"$f":"TableOfContents!I$1","v":"amd no"},{"$f":"TableOfContents!J$1","v":"fund source"},{"$f":"INDIRECT(\"'TableOfContents'\"&CONCATENATE(\"!m\",TEXT((INT((ROW(B14)-3)/4))+7,\"###\")))","v":""},{"$f":"INDIRECT(\"'TableOfContents'\"&CONCATENATE(\"!n\",TEXT((INT((ROW(C14)-3)/4))+7,\"###\")))","v":""}]
[{"$f":"VLOOKUP(TableOfContents!B$1,ProgramIDs!A$2:C$38,3,FALSE)","v":{"$error":"#N/A"}},{"$f":"TableOfContents!G$5","v":9999},"",{"$f":"TableOfContents!H$1","v":"grant no"},{"$f":"TableOfContents!I$1","v":"amd no"},{"$f":"TableOfContents!J$1","v":"fund source"},{"$f":"INDIRECT(\"'TableOfContents'\"&CONCATENATE(\"!G\",TEXT((INT((ROW(B15)-3)/4))+7,\"###\")))","v":""},{"$f":"INDIRECT(\"'TableOfContents'\"&CONCATENATE(\"!H\",TEXT((INT((ROW(C15)-3)/4))+7,\"###\")))","v":""}]
[{"$f":"VLOOKUP(TableOfContents!B$1,ProgramIDs!A$2:C$38,3,FALSE)","v":{"$error":"#N/A"}},{"$f":"TableOfContents!I$5","v":10000},"",{"$f":"TableOfContents!H$1","v":"grant no"},{"$f":"TableOfContents!I$1","v":"amd no"},{"$f":"TableOfContents!J$1","v":"fund source"},{"$f":"INDIRECT(\"'TableOfContents'\"&CONCATENATE(\"!i\",TEXT((INT((ROW(B16)-3)/4))+7,\"###\")))","v":""},{"$f":"INDIRECT(\"'TableOfContents'\"&CONCATENATE(\"!j\",TEXT((INT((ROW(C16)-3)/4))+7,\"###\")))","v":""}]
[{"$f":"VLOOKUP(TableOfContents!B$1,ProgramIDs!A$2:C$38,3,FALSE)","v":{"$error":"#N/A"}},{"$f":"TableOfContents!K$5","v":10001},"",{"$f":"TableOfContents!H$1","v":"grant no"},{"$f":"TableOfContents!I$1","v":"amd no"},{"$f":"TableOfContents!J$1","v":"fund source"},{"$f":"INDIRECT(\"'TableOfContents'\"&CONCATENATE(\"!k\",TEXT((INT((ROW(B17)-3)/4))+7,\"###\")))","v":""},{"$f":"INDIRECT(\"'TableOfContents'\"&CONCATENATE(\"!l\",TEXT((INT((ROW(C17)-3)/4))+7,\"###\")))","v":""}]
[{"$f":"VLOOKUP(TableOfContents!B$1,ProgramIDs!A$2:C$38,3,FALSE)","v":{"$error":"#N/A"}},{"$f":"TableOfContents!M$5","v":10002},"",{"$f":"TableOfContents!H$1","v":"grant no"},{"$f":"TableOfContents!I$1","v":"amd no"},{"$f":"TableOfContents!J$1","v":"fund source"},{"$f":"INDIRECT(\"'TableOfContents'\"&CONCATENATE(\"!m\",TEXT((INT((ROW(B18)-3)/4))+7,\"###\")))","v":""},{"$f":"INDIRECT(\"'TableOfContents'\"&CONCATENATE(\"!n\",TEXT((INT((ROW(C18)-3)/4))+7,\"###\")))","v":""}]
[{"$f":"VLOOKUP(TableOfContents!B$1,ProgramIDs!A$2:C$38,3,FALSE)","v":{"$error":"#N/A"}},{"$f":"TableOfContents!G$5","v":9999},"",{"$f":"TableOfContents!H$1","v":"grant no"},{"$f":"TableOfContents!I$1","v":"amd no"},{"$f":"TableOfContents!J$1","v":"fund source"},{"$f":"INDIRECT(\"'TableOfContents'\"&CONCATENATE(\"!G\",TEXT((INT((ROW(B19)-3)/4))+7,\"###\")))","v":""},{"$f":"INDIRECT(\"'TableOfContents'\"&CONCATENATE(\"!H\",TEXT((INT((ROW(C19)-3)/4))+7,\"###\")))","v":""}]
[{"$f":"VLOOKUP(TableOfContents!B$1,ProgramIDs!A$2:C$38,3,FALSE)","v":{"$error":"#N/A"}},{"$f":"TableOfContents!I$5","v":10000},"",{"$f":"TableOfContents!H$1","v":"grant no"},{"$f":"TableOfContents!I$1","v":"amd no"},{"$f":"TableOfContents!J$1","v":"fund source"},{"$f":"INDIRECT(\"'TableOfContents'\"&CONCATENATE(\"!i\",TEXT((INT((ROW(B20)-3)/4))+7,\"###\")))","v":""},{"$f":"INDIRECT(\"'TableOfContents'\"&CONCATENATE(\"!j\",TEXT((INT((ROW(C20)-3)/4))+7,\"###\")))","v":""}]
[{"$f":"VLOOKUP(TableOfContents!B$1,ProgramIDs!A$2:C$38,3,FALSE)","v":{"$error":"#N/A"}},{"$f":"TableOfContents!K$5","v":10001},"",{"$f":"TableOfContents!H$1","v":"grant no"},{"$f":"TableOfContents!I$1","v":"amd no"},{"$f":"TableOfContents!J$1","v":"fund source"},{"$f":"INDIRECT(\"'TableOfContents'\"&CONCATENATE(\"!k\",TEXT((INT((ROW(B21)-3)/4))+7,\"###\")))","v":""},{"$f":"INDIRECT(\"'TableOfContents'\"&CONCATENATE(\"!l\",TEXT((INT((ROW(C21)-3)/4))+7,\"###\")))","v":""}]
[{"$f":"VLOOKUP(TableOfContents!B$1,ProgramIDs!A$2:C$38,3,FALSE)","v":{"$error":"#N/A"}},{"$f":"TableOfContents!M$5","v":10002},"",{"$f":"TableOfContents!H$1","v":"grant no"},{"$f":"TableOfContents!I$1","v":"amd no"},{"$f":"TableOfContents!J$1","v":"fund source"},{"$f":"INDIRECT(\"'TableOfContents'\"&CONCATENATE(\"!m\",TEXT((INT((ROW(B22)-3)/4))+7,\"###\")))","v":""},{"$f":"INDIRECT(\"'TableOfContents'\"&CONCATENATE(\"!n\",TEXT((INT((ROW(C22)-3)/4))+7,\"###\")))","v":""}]
[{"$f":"VLOOKUP(TableOfContents!B$1,ProgramIDs!A$2:C$38,3,FALSE)","v":{"$error":"#N/A"}},{"$f":"TableOfContents!G$5","v":9999},"",{"$f":"TableOfContents!H$1","v":"grant no"},{"$f":"TableOfContents!I$1","v":"amd no"},{"$f":"TableOfContents!J$1","v":"fund source"},{"$f":"INDIRECT(\"'TableOfContents'\"&CONCATENATE(\"!G\",TEXT((INT((ROW(B23)-3)/4))+7,\"###\")))","v":""},{"$f":"INDIRECT(\"'TableOfContents'\"&CONCATENATE(\"!H\",TEXT((INT((ROW(C23)-3)/4))+7,\"###\")))","v":""}]
[{"$f":"VLOOKUP(TableOfContents!B$1,ProgramIDs!A$2:C$38,3,FALSE)","v":{"$error":"#N/A"}},{"$f":"TableOfContents!I$5","v":10000},"",{"$f":"TableOfContents!H$1","v":"grant no"},{"$f":"TableOfContents!I$1","v":"amd no"},{"$f":"TableOfContents!J$1","v":"fund source"},{"$f":"INDIRECT(\"'TableOfContents'\"&CONCATENATE(\"!i\",TEXT((INT((ROW(B24)-3)/4))+7,\"###\")))","v":""},{"$f":"INDIRECT(\"'TableOfContents'\"&CONCATENATE(\"!j\",TEXT((INT((ROW(C24)-3)/4))+7,\"###\")))","v":""}]
[{"$f":"VLOOKUP(TableOfContents!B$1,ProgramIDs!A$2:C$38,3,FALSE)","v":{"$error":"#N/A"}},{"$f":"TableOfContents!K$5","v":10001},"",{"$f":"TableOfContents!H$1","v":"grant no"},{"$f":"TableOfContents!I$1","v":"amd no"},{"$f":"TableOfContents!J$1","v":"fund source"},{"$f":"INDIRECT(\"'TableOfContents'\"&CONCATENATE(\"!k\",TEXT((INT((ROW(B25)-3)/4))+7,\"###\")))","v":""},{"$f":"INDIRECT(\"'TableOfContents'\"&CONCATENATE(\"!l\",TEXT((INT((ROW(C25)-3)/4))+7,\"###\")))","v":""}]
[{"$f":"VLOOKUP(TableOfContents!B$1,ProgramIDs!A$2:C$38,3,FALSE)","v":{"$error":"#N/A"}},{"$f":"TableOfContents!M$5","v":10002},"",{"$f":"TableOfContents!H$1","v":"grant no"},{"$f":"TableOfContents!I$1","v":"amd no"},{"$f":"TableOfContents!J$1","v":"fund source"},{"$f":"INDIRECT(\"'TableOfContents'\"&CONCATENATE(\"!m\",TEXT((INT((ROW(B26)-3)/4))+7,\"###\")))","v":""},{"$f":"INDIRECT(\"'TableOfContents'\"&CONCATENATE(\"!n\",TEXT((INT((ROW(C26)-3)/4))+7,\"###\")))","v":""}]
[{"$f":"VLOOKUP(TableOfContents!B$1,ProgramIDs!A$2:C$38,3,FALSE)","v":{"$error":"#N/A"}},{"$f":"TableOfContents!G$5","v":9999},"",{"$f":"TableOfContents!H$1","v":"grant no"},{"$f":"TableOfContents!I$1","v":"amd no"},{"$f":"TableOfContents!J$1","v":"fund source"},{"$f":"INDIRECT(\"'TableOfContents'\"&CONCATENATE(\"!G\",TEXT((INT((ROW(B27)-3)/4))+7,\"###\")))","v":""},{"$f":"INDIRECT(\"'TableOfContents'\"&CONCATENATE(\"!H\",TEXT((INT((ROW(C27)-3)/4))+7,\"###\")))","v":""}]
[{"$f":"VLOOKUP(TableOfContents!B$1,ProgramIDs!A$2:C$38,3,FALSE)","v":{"$error":"#N/A"}},{"$f":"TableOfContents!I$5","v":10000},"",{"$f":"TableOfContents!H$1","v":"grant no"},{"$f":"TableOfContents!I$1","v":"amd no"},{"$f":"TableOfContents!J$1","v":"fund source"},{"$f":"INDIRECT(\"'TableOfContents'\"&CONCATENATE(\"!i\",TEXT((INT((ROW(B28)-3)/4))+7,\"###\")))","v":""},{"$f":"INDIRECT(\"'TableOfContents'\"&CONCATENATE(\"!j\",TEXT((INT((ROW(C28)-3)/4))+7,\"###\")))","v":""}]
[{"$f":"VLOOKUP(TableOfContents!B$1,ProgramIDs!A$2:C$38,3,FALSE)","v":{"$error":"#N/A"}},{"$f":"TableOfContents!K$5","v":10001},"",{"$f":"TableOfContents!H$1","v":"grant no"},{"$f":"TableOfContents!I$1","v":"amd no"},{"$f":"TableOfContents!J$1","v":"fund source"},{"$f":"INDIRECT(\"'TableOfContents'\"&CONCATENATE(\"!k\",TEXT((INT((ROW(B29)-3)/4))+7,\"###\")))","v":""},{"$f":"INDIRECT(\"'TableOfContents'\"&CONCATENATE(\"!l\",TEXT((INT((ROW(C29)-3)/4))+7,\"###\")))","v":""}]
[{"$f":"VLOOKUP(TableOfContents!B$1,ProgramIDs!A$2:C$38,3,FALSE)","v":{"$error":"#N/A"}},{"$f":"TableOfContents!M$5","v":10002},"",{"$f":"TableOfContents!H$1","v":"grant no"},{"$f":"TableOfContents!I$1","v":"amd no"},{"$f":"TableOfContents!J$1","v":"fund source"},{"$f":"INDIRECT(\"'TableOfContents'\"&CONCATENATE(\"!m\",TEXT((INT((ROW(B30)-3)/4))+7,\"###\")))","v":""},{"$f":"INDIRECT(\"'TableOfContents'\"&CONCATENATE(\"!n\",TEXT((INT((ROW(C30)-3)/4))+7,\"###\")))","v":""}]
[{"$f":"VLOOKUP(TableOfContents!B$1,ProgramIDs!A$2:C$38,3,FALSE)","v":{"$error":"#N/A"}},{"$f":"TableOfContents!G$5","v":9999},"",{"$f":"TableOfContents!H$1","v":"grant no"},{"$f":"TableOfContents!I$1","v":"amd no"},{"$f":"TableOfContents!J$1","v":"fund source"},{"$f":"INDIRECT(\"'TableOfContents'\"&CONCATENATE(\"!G\",TEXT((INT((ROW(B31)-3)/4))+7,\"###\")))","v":""},{"$f":"INDIRECT(\"'TableOfContents'\"&CONCATENATE(\"!H\",TEXT((INT((ROW(C31)-3)/4))+7,\"###\")))","v":""}]
[{"$f":"VLOOKUP(TableOfContents!B$1,ProgramIDs!A$2:C$38,3,FALSE)","v":{"$error":"#N/A"}},{"$f":"TableOfContents!I$5","v":10000},"",{"$f":"TableOfContents!H$1","v":"grant no"},{"$f":"TableOfContents!I$1","v":"amd no"},{"$f":"TableOfContents!J$1","v":"fund source"},{"$f":"INDIRECT(\"'TableOfContents'\"&CONCATENATE(\"!i\",TEXT((INT((ROW(B32)-3)/4))+7,\"###\")))","v":""},{"$f":"INDIRECT(\"'TableOfContents'\"&CONCATENATE(\"!j\",TEXT((INT((ROW(C32)-3)/4))+7,\"###\")))","v":""}]
[{"$f":"VLOOKUP(TableOfContents!B$1,ProgramIDs!A$2:C$38,3,FALSE)","v":{"$error":"#N/A"}},{"$f":"TableOfContents!K$5","v":10001},"",{"$f":"TableOfContents!H$1","v":"grant no"},{"$f":"TableOfContents!I$1","v":"amd no"},{"$f":"TableOfContents!J$1","v":"fund source"},{"$f":"INDIRECT(\"'TableOfContents'\"&CONCATENATE(\"!k\",TEXT((INT((ROW(B33)-3)/4))+7,\"###\")))","v":""},{"$f":"INDIRECT(\"'TableOfContents'\"&CONCATENATE(\"!l\",TEXT((INT((ROW(C33)-3)/4))+7,\"###\")))","v":""}]
[{"$f":"VLOOKUP(TableOfContents!B$1,ProgramIDs!A$2:C$38,3,FALSE)","v":{"$error":"#N/A"}},{"$f":"TableOfContents!M$5","v":10002},"",{"$f":"TableOfContents!H$1","v":"grant no"},{"$f":"TableOfContents!I$1","v":"amd no"},{"$f":"TableOfContents!J$1","v":"fund source"},{"$f":"INDIRECT(\"'TableOfContents'\"&CONCATENATE(\"!m\",TEXT((INT((ROW(B34)-3)/4))+7,\"###\")))","v":""},{"$f":"INDIRECT(\"'TableOfContents'\"&CONCATENATE(\"!n\",TEXT((INT((ROW(C34)-3)/4))+7,\"###\")))","v":""}]
[{"$f":"VLOOKUP(TableOfContents!B$1,ProgramIDs!A$2:C$38,3,FALSE)","v":{"$error":"#N/A"}},{"$f":"TableOfContents!G$5","v":9999},"",{"$f":"TableOfContents!H$1","v":"grant no"},{"$f":"TableOfContents!I$1","v":"amd no"},{"$f":"TableOfContents!J$1","v":"fund source"},{"$f":"INDIRECT(\"'TableOfContents'\"&CONCATENATE(\"!G\",TEXT((INT((ROW(B35)-3)/4))+7,\"###\")))","v":""},{"$f":"INDIRECT(\"'TableOfContents'\"&CONCATENATE(\"!H\",TEXT((INT((ROW(C35)-3)/4))+7,\"###\")))","v":""}]
[{"$f":"VLOOKUP(TableOfContents!B$1,ProgramIDs!A$2:C$38,3,FALSE)","v":{"$error":"#N/A"}},{"$f":"TableOfContents!I$5","v":10000},"",{"$f":"TableOfContents!H$1","v":"grant no"},{"$f":"TableOfContents!I$1","v":"amd no"},{"$f":"TableOfContents!J$1","v":"fund source"},{"$f":"INDIRECT(\"'TableOfContents'\"&CONCATENATE(\"!i\",TEXT((INT((ROW(B36)-3)/4))+7,\"###\")))","v":""},{"$f":"INDIRECT(\"'TableOfContents'\"&CONCATENATE(\"!j\",TEXT((INT((ROW(C36)-3)/4))+7,\"###\")))","v":""}]
[{"$f":"VLOOKUP(TableOfContents!B$1,ProgramIDs!A$2:C$38,3,FALSE)","v":{"$error":"#N/A"}},{"$f":"TableOfContents!K$5","v":10001},"",{"$f":"TableOfContents!H$1","v":"grant no"},{"$f":"TableOfContents!I$1","v":"amd no"},{"$f":"TableOfContents!J$1","v":"fund source"},{"$f":"INDIRECT(\"'TableOfContents'\"&CONCATENATE(\"!k\",TEXT((INT((ROW(B37)-3)/4))+7,\"###\")))","v":""},{"$f":"INDIRECT(\"'TableOfContents'\"&CONCATENATE(\"!l\",TEXT((INT((ROW(C37)-3)/4))+7,\"###\")))","v":""}]
[{"$f":"VLOOKUP(TableOfContents!B$1,ProgramIDs!A$2:C$38,3,FALSE)","v":{"$error":"#N/A"}},{"$f":"TableOfContents!M$5","v":10002},"",{"$f":"TableOfContents!H$1","v":"grant no"},{"$f":"TableOfContents!I$1","v":"amd no"},{"$f":"TableOfContents!J$1","v":"fund source"},{"$f":"INDIRECT(\"'TableOfContents'\"&CONCATENATE(\"!m\",TEXT((INT((ROW(B38)-3)/4))+7,\"###\")))","v":""},{"$f":"INDIRECT(\"'TableOfContents'\"&CONCATENATE(\"!n\",TEXT((INT((ROW(C38)-3)/4))+7,\"###\")))","v":""}]
[{"$f":"VLOOKUP(TableOfContents!B$1,ProgramIDs!A$2:C$38,3,FALSE)","v":{"$error":"#N/A"}},{"$f":"TableOfContents!G$5","v":9999},"",{"$f":"TableOfContents!H$1","v":"grant no"},{"$f":"TableOfContents!I$1","v":"amd no"},{"$f":"TableOfContents!J$1","v":"fund source"},{"$f":"INDIRECT(\"'TableOfContents'\"&CONCATENATE(\"!G\",TEXT((INT((ROW(B39)-3)/4))+7,\"###\")))","v":""},{"$f":"INDIRECT(\"'TableOfContents'\"&CONCATENATE(\"!H\",TEXT((INT((ROW(C39)-3)/4))+7,\"###\")))","v":""}]
[{"$f":"VLOOKUP(TableOfContents!B$1,ProgramIDs!A$2:C$38,3,FALSE)","v":{"$error":"#N/A"}},{"$f":"TableOfContents!I$5","v":10000},"",{"$f":"TableOfContents!H$1","v":"grant no"},{"$f":"TableOfContents!I$1","v":"amd no"},{"$f":"TableOfContents!J$1","v":"fund source"},{"$f":"INDIRECT(\"'TableOfContents'\"&CONCATENATE(\"!i\",TEXT((INT((ROW(B40)-3)/4))+7,\"###\")))","v":""},{"$f":"INDIRECT(\"'TableOfContents'\"&CONCATENATE(\"!j\",TEXT((INT((ROW(C40)-3)/4))+7,\"###\")))","v":""}]
[{"$f":"VLOOKUP(TableOfContents!B$1,ProgramIDs!A$2:C$38,3,FALSE)","v":{"$error":"#N/A"}},{"$f":"TableOfContents!K$5","v":10001},"",{"$f":"TableOfContents!H$1","v":"grant no"},{"$f":"TableOfContents!I$1","v":"amd no"},{"$f":"TableOfContents!J$1","v":"fund source"},{"$f":"INDIRECT(\"'TableOfContents'\"&CONCATENATE(\"!k\",TEXT((INT((ROW(B41)-3)/4))+7,\"###\")))","v":""},{"$f":"INDIRECT(\"'TableOfContents'\"&CONCATENATE(\"!l\",TEXT((INT((ROW(C41)-3)/4))+7,\"###\")))","v":""}]
[{"$f":"VLOOKUP(TableOfContents!B$1,ProgramIDs!A$2:C$38,3,FALSE)","v":{"$error":"#N/A"}},{"$f":"TableOfContents!M$5","v":10002},"",{"$f":"TableOfContents!H$1","v":"grant no"},{"$f":"TableOfContents!I$1","v":"amd no"},{"$f":"TableOfContents!J$1","v":"fund source"},{"$f":"INDIRECT(\"'TableOfContents'\"&CONCATENATE(\"!m\",TEXT((INT((ROW(B42)-3)/4))+7,\"###\")))","v":""},{"$f":"INDIRECT(\"'TableOfContents'\"&CONCATENATE(\"!n\",TEXT((INT((ROW(C42)-3)/4))+7,\"###\")))","v":""}]
[{"$f":"VLOOKUP(TableOfContents!B$1,ProgramIDs!A$2:C$38,3,FALSE)","v":{"$error":"#N/A"}},{"$f":"TableOfContents!G$5","v":9999},"",{"$f":"TableOfContents!H$1","v":"grant no"},{"$f":"TableOfContents!I$1","v":"amd no"},{"$f":"TableOfContents!J$1","v":"fund source"},{"$f":"INDIRECT(\"'TableOfContents'\"&CONCATENATE(\"!G\",TEXT((INT((ROW(B43)-3)/4))+7,\"###\")))","v":""},{"$f":"INDIRECT(\"'TableOfContents'\"&CONCATENATE(\"!H\",TEXT((INT((ROW(C43)-3)/4))+7,\"###\")))","v":""}]
[{"$f":"VLOOKUP(TableOfContents!B$1,ProgramIDs!A$2:C$38,3,FALSE)","v":{"$error":"#N/A"}},{"$f":"TableOfContents!I$5","v":10000},"",{"$f":"TableOfContents!H$1","v":"grant no"},{"$f":"TableOfContents!I$1","v":"amd no"},{"$f":"TableOfContents!J$1","v":"fund source"},{"$f":"INDIRECT(\"'TableOfContents'\"&CONCATENATE(\"!i\",TEXT((INT((ROW(B44)-3)/4))+7,\"###\")))","v":""},{"$f":"INDIRECT(\"'TableOfContents'\"&CONCATENATE(\"!j\",TEXT((INT((ROW(C44)-3)/4))+7,\"###\")))","v":""}]
[{"$f":"VLOOKUP(TableOfContents!B$1,ProgramIDs!A$2:C$38,3,FALSE)","v":{"$error":"#N/A"}},{"$f":"TableOfContents!K$5","v":10001},"",{"$f":"TableOfContents!H$1","v":"grant no"},{"$f":"TableOfContents!I$1","v":"amd no"},{"$f":"TableOfContents!J$1","v":"fund source"},{"$f":"INDIRECT(\"'TableOfContents'\"&CONCATENATE(\"!k\",TEXT((INT((ROW(B45)-3)/4))+7,\"###\")))","v":""},{"$f":"INDIRECT(\"'TableOfContents'\"&CONCATENATE(\"!l\",TEXT((INT((ROW(C45)-3)/4))+7,\"###\")))","v":""}]
[{"$f":"VLOOKUP(TableOfContents!B$1,ProgramIDs!A$2:C$38,3,FALSE)","v":{"$error":"#N/A"}},{"$f":"TableOfContents!M$5","v":10002},"",{"$f":"TableOfContents!H$1","v":"grant no"},{"$f":"TableOfContents!I$1","v":"amd no"},{"$f":"TableOfContents!J$1","v":"fund source"},{"$f":"INDIRECT(\"'TableOfContents'\"&CONCATENATE(\"!m\",TEXT((INT((ROW(B46)-3)/4))+7,\"###\")))","v":""},{"$f":"INDIRECT(\"'TableOfContents'\"&CONCATENATE(\"!n\",TEXT((INT((ROW(C46)-3)/4))+7,\"###\")))","v":""}]
[{"$f":"VLOOKUP(TableOfContents!B$1,ProgramIDs!A$2:C$38,3,FALSE)","v":{"$error":"#N/A"}},{"$f":"TableOfContents!G$5","v":9999},"",{"$f":"TableOfContents!H$1","v":"grant no"},{"$f":"TableOfContents!I$1","v":"amd no"},{"$f":"TableOfContents!J$1","v":"fund source"},{"$f":"INDIRECT(\"'TableOfContents'\"&CONCATENATE(\"!G\",TEXT((INT((ROW(B47)-3)/4))+7,\"###\")))","v":""},{"$f":"INDIRECT(\"'TableOfContents'\"&CONCATENATE(\"!H\",TEXT((INT((ROW(C47)-3)/4))+7,\"###\")))","v":""}]
[{"$f":"VLOOKUP(TableOfContents!B$1,ProgramIDs!A$2:C$38,3,FALSE)","v":{"$error":"#N/A"}},{"$f":"TableOfContents!I$5","v":10000},"",{"$f":"TableOfContents!H$1","v":"grant no"},{"$f":"TableOfContents!I$1","v":"amd no"},{"$f":"TableOfContents!J$1","v":"fund source"},{"$f":"INDIRECT(\"'TableOfContents'\"&CONCATENATE(\"!i\",TEXT((INT((ROW(B48)-3)/4))+7,\"###\")))","v":""},{"$f":"INDIRECT(\"'TableOfContents'\"&CONCATENATE(\"!j\",TEXT((INT((ROW(C48)-3)/4))+7,\"###\")))","v":""}]
[{"$f":"VLOOKUP(TableOfContents!B$1,ProgramIDs!A$2:C$38,3,FALSE)","v":{"$error":"#N/A"}},{"$f":"TableOfContents!K$5","v":10001},"",{"$f":"TableOfContents!H$1","v":"grant no"},{"$f":"TableOfContents!I$1","v":"amd no"},{"$f":"TableOfContents!J$1","v":"fund source"},{"$f":"INDIRECT(\"'TableOfContents'\"&CONCATENATE(\"!k\",TEXT((INT((ROW(B49)-3)/4))+7,\"###\")))","v":""},{"$f":"INDIRECT(\"'TableOfContents'\"&CONCATENATE(\"!l\",TEXT((INT((ROW(C49)-3)/4))+7,\"###\")))","v":""}]
[{"$f":"VLOOKUP(TableOfContents!B$1,ProgramIDs!A$2:C$38,3,FALSE)","v":{"$error":"#N/A"}},{"$f":"TableOfContents!M$5","v":10002},"",{"$f":"TableOfContents!H$1","v":"grant no"},{"$f":"TableOfContents!I$1","v":"amd no"},{"$f":"TableOfContents!J$1","v":"fund source"},{"$f":"INDIRECT(\"'TableOfContents'\"&CONCATENATE(\"!m\",TEXT((INT((ROW(B50)-3)/4))+7,\"###\")))","v":""},{"$f":"INDIRECT(\"'TableOfContents'\"&CONCATENATE(\"!n\",TEXT((INT((ROW(C50)-3)/4))+7,\"###\")))","v":""}]
[{"$f":"VLOOKUP(TableOfContents!B$1,ProgramIDs!A$2:C$38,3,FALSE)","v":{"$error":"#N/A"}},{"$f":"TableOfContents!G$5","v":9999},"",{"$f":"TableOfContents!H$1","v":"grant no"},{"$f":"TableOfContents!I$1","v":"amd no"},{"$f":"TableOfContents!J$1","v":"fund source"},{"$f":"INDIRECT(\"'TableOfContents'\"&CONCATENATE(\"!G\",TEXT((INT((ROW(B51)-3)/4))+7,\"###\")))","v":""},{"$f":"INDIRECT(\"'TableOfContents'\"&CONCATENATE(\"!H\",TEXT((INT((ROW(C51)-3)/4))+7,\"###\")))","v":""}]
[{"$f":"VLOOKUP(TableOfContents!B$1,ProgramIDs!A$2:C$38,3,FALSE)","v":{"$error":"#N/A"}},{"$f":"TableOfContents!I$5","v":10000},"",{"$f":"TableOfContents!H$1","v":"grant no"},{"$f":"TableOfContents!I$1","v":"amd no"},{"$f":"TableOfContents!J$1","v":"fund source"},{"$f":"INDIRECT(\"'TableOfContents'\"&CONCATENATE(\"!i\",TEXT((INT((ROW(B52)-3)/4))+7,\"###\")))","v":""},{"$f":"INDIRECT(\"'TableOfContents'\"&CONCATENATE(\"!j\",TEXT((INT((ROW(C52)-3)/4))+7,\"###\")))","v":""}]
[{"$f":"VLOOKUP(TableOfContents!B$1,ProgramIDs!A$2:C$38,3,FALSE)","v":{"$error":"#N/A"}},{"$f":"TableOfContents!K$5","v":10001},"",{"$f":"TableOfContents!H$1","v":"grant no"},{"$f":"TableOfContents!I$1","v":"amd no"},{"$f":"TableOfContents!J$1","v":"fund source"},{"$f":"INDIRECT(\"'TableOfContents'\"&CONCATENATE(\"!k\",TEXT((INT((ROW(B53)-3)/4))+7,\"###\")))","v":""},{"$f":"INDIRECT(\"'TableOfContents'\"&CONCATENATE(\"!l\",TEXT((INT((ROW(C53)-3)/4))+7,\"###\")))","v":""}]
[{"$f":"VLOOKUP(TableOfContents!B$1,ProgramIDs!A$2:C$38,3,FALSE)","v":{"$error":"#N/A"}},{"$f":"TableOfContents!M$5","v":10002},"",{"$f":"TableOfContents!H$1","v":"grant no"},{"$f":"TableOfContents!I$1","v":"amd no"},{"$f":"TableOfContents!J$1","v":"fund source"},{"$f":"INDIRECT(\"'TableOfContents'\"&CONCATENATE(\"!m\",TEXT((INT((ROW(B54)-3)/4))+7,\"###\")))","v":""},{"$f":"INDIRECT(\"'TableOfContents'\"&CONCATENATE(\"!n\",TEXT((INT((ROW(C54)-3)/4))+7,\"###\")))","v":""}]
[{"$f":"VLOOKUP(TableOfContents!B$1,ProgramIDs!A$2:C$38,3,FALSE)","v":{"$error":"#N/A"}},{"$f":"TableOfContents!G$5","v":9999},"",{"$f":"TableOfContents!H$1","v":"grant no"},{"$f":"TableOfContents!I$1","v":"amd no"},{"$f":"TableOfContents!J$1","v":"fund source"},{"$f":"INDIRECT(\"'TableOfContents'\"&CONCATENATE(\"!G\",TEXT((INT((ROW(B55)-3)/4))+7,\"###\")))","v":""},{"$f":"INDIRECT(\"'TableOfContents'\"&CONCATENATE(\"!H\",TEXT((INT((ROW(C55)-3)/4))+7,\"###\")))","v":""}]
[{"$f":"VLOOKUP(TableOfContents!B$1,ProgramIDs!A$2:C$38,3,FALSE)","v":{"$error":"#N/A"}},{"$f":"TableOfContents!I$5","v":10000},"",{"$f":"TableOfContents!H$1","v":"grant no"},{"$f":"TableOfContents!I$1","v":"amd no"},{"$f":"TableOfContents!J$1","v":"fund source"},{"$f":"INDIRECT(\"'TableOfContents'\"&CONCATENATE(\"!i\",TEXT((INT((ROW(B56)-3)/4))+7,\"###\")))","v":""},{"$f":"INDIRECT(\"'TableOfContents'\"&CONCATENATE(\"!j\",TEXT((INT((ROW(C56)-3)/4))+7,\"###\")))","v":""}]
[{"$f":"VLOOKUP(TableOfContents!B$1,ProgramIDs!A$2:C$38,3,FALSE)","v":{"$error":"#N/A"}},{"$f":"TableOfContents!K$5","v":10001},"",{"$f":"TableOfContents!H$1","v":"grant no"},{"$f":"TableOfContents!I$1","v":"amd no"},{"$f":"TableOfContents!J$1","v":"fund source"},{"$f":"INDIRECT(\"'TableOfContents'\"&CONCATENATE(\"!k\",TEXT((INT((ROW(B57)-3)/4))+7,\"###\")))","v":""},{"$f":"INDIRECT(\"'TableOfContents'\"&CONCATENATE(\"!l\",TEXT((INT((ROW(C57)-3)/4))+7,\"###\")))","v":""}]
[{"$f":"VLOOKUP(TableOfContents!B$1,ProgramIDs!A$2:C$38,3,FALSE)","v":{"$error":"#N/A"}},{"$f":"TableOfContents!M$5","v":10002},"",{"$f":"TableOfContents!H$1","v":"grant no"},{"$f":"TableOfContents!I$1","v":"amd no"},{"$f":"TableOfContents!J$1","v":"fund source"},{"$f":"INDIRECT(\"'TableOfContents'\"&CONCATENATE(\"!m\",TEXT((INT((ROW(B58)-3)/4))+7,\"###\")))","v":""},{"$f":"INDIRECT(\"'TableOfContents'\"&CONCATENATE(\"!n\",TEXT((INT((ROW(C58)-3)/4))+7,\"###\")))","v":""}]
[{"$f":"VLOOKUP(TableOfContents!B$1,ProgramIDs!A$2:C$38,3,FALSE)","v":{"$error":"#N/A"}},{"$f":"TableOfContents!G$5","v":9999},"",{"$f":"TableOfContents!H$1","v":"grant no"},{"$f":"TableOfContents!I$1","v":"amd no"},{"$f":"TableOfContents!J$1","v":"fund source"},{"$f":"INDIRECT(\"'TableOfContents'\"&CONCATENATE(\"!G\",TEXT((INT((ROW(B59)-3)/4))+7,\"###\")))","v":""},{"$f":"INDIRECT(\"'TableOfContents'\"&CONCATENATE(\"!H\",TEXT((INT((ROW(C59)-3)/4))+7,\"###\")))","v":""}]
[{"$f":"VLOOKUP(TableOfContents!B$1,ProgramIDs!A$2:C$38,3,FALSE)","v":{"$error":"#N/A"}},{"$f":"TableOfContents!I$5","v":10000},"",{"$f":"TableOfContents!H$1","v":"grant no"},{"$f":"TableOfContents!I$1","v":"amd no"},{"$f":"TableOfContents!J$1","v":"fund source"},{"$f":"INDIRECT(\"'TableOfContents'\"&CONCATENATE(\"!i\",TEXT((INT((ROW(B60)-3)/4))+7,\"###\")))","v":""},{"$f":"INDIRECT(\"'TableOfContents'\"&CONCATENATE(\"!j\",TEXT((INT((ROW(C60)-3)/4))+7,\"###\")))","v":""}]
[{"$f":"VLOOKUP(TableOfContents!B$1,ProgramIDs!A$2:C$38,3,FALSE)","v":{"$error":"#N/A"}},{"$f":"TableOfContents!K$5","v":10001},"",{"$f":"TableOfContents!H$1","v":"grant no"},{"$f":"TableOfContents!I$1","v":"amd no"},{"$f":"TableOfContents!J$1","v":"fund source"},{"$f":"INDIRECT(\"'TableOfContents'\"&CONCATENATE(\"!k\",TEXT((INT((ROW(B61)-3)/4))+7,\"###\")))","v":""},{"$f":"INDIRECT(\"'TableOfContents'\"&CONCATENATE(\"!l\",TEXT((INT((ROW(C61)-3)/4))+7,\"###\")))","v":""}]
[{"$f":"VLOOKUP(TableOfContents!B$1,ProgramIDs!A$2:C$38,3,FALSE)","v":{"$error":"#N/A"}},{"$f":"TableOfContents!M$5","v":10002},"",{"$f":"TableOfContents!H$1","v":"grant no"},{"$f":"TableOfContents!I$1","v":"amd no"},{"$f":"TableOfContents!J$1","v":"fund source"},{"$f":"INDIRECT(\"'TableOfContents'\"&CONCATENATE(\"!m\",TEXT((INT((ROW(B62)-3)/4))+7,\"###\")))","v":""},{"$f":"INDIRECT(\"'TableOfContents'\"&CONCATENATE(\"!n\",TEXT((INT((ROW(C62)-3)/4))+7,\"###\")))","v":""}]
[{"$f":"VLOOKUP(TableOfContents!B$1,ProgramIDs!A$2:C$38,3,FALSE)","v":{"$error":"#N/A"}},{"$f":"TableOfContents!G$5","v":9999},"",{"$f":"TableOfContents!H$1","v":"grant no"},{"$f":"TableOfContents!I$1","v":"amd no"},{"$f":"TableOfContents!J$1","v":"fund source"},{"$f":"INDIRECT(\"'TableOfContents'\"&CONCATENATE(\"!G\",TEXT((INT((ROW(B63)-3)/4))+7,\"###\")))","v":""},{"$f":"INDIRECT(\"'TableOfContents'\"&CONCATENATE(\"!H\",TEXT((INT((ROW(C63)-3)/4))+7,\"###\")))","v":""}]
[{"$f":"VLOOKUP(TableOfContents!B$1,ProgramIDs!A$2:C$38,3,FALSE)","v":{"$error":"#N/A"}},{"$f":"TableOfContents!I$5","v":10000},"",{"$f":"TableOfContents!H$1","v":"grant no"},{"$f":"TableOfContents!I$1","v":"amd no"},{"$f":"TableOfContents!J$1","v":"fund source"},{"$f":"INDIRECT(\"'TableOfContents'\"&CONCATENATE(\"!i\",TEXT((INT((ROW(B64)-3)/4))+7,\"###\")))","v":""},{"$f":"INDIRECT(\"'TableOfContents'\"&CONCATENATE(\"!j\",TEXT((INT((ROW(C64)-3)/4))+7,\"###\")))","v":""}]
[{"$f":"VLOOKUP(TableOfContents!B$1,ProgramIDs!A$2:C$38,3,FALSE)","v":{"$error":"#N/A"}},{"$f":"TableOfContents!K$5","v":10001},"",{"$f":"TableOfContents!H$1","v":"grant no"},{"$f":"TableOfContents!I$1","v":"amd no"},{"$f":"TableOfContents!J$1","v":"fund source"},{"$f":"INDIRECT(\"'TableOfContents'\"&CONCATENATE(\"!k\",TEXT((INT((ROW(B65)-3)/4))+7,\"###\")))","v":""},{"$f":"INDIRECT(\"'TableOfContents'\"&CONCATENATE(\"!l\",TEXT((INT((ROW(C65)-3)/4))+7,\"###\")))","v":""}]
[{"$f":"VLOOKUP(TableOfContents!B$1,ProgramIDs!A$2:C$38,3,FALSE)","v":{"$error":"#N/A"}},{"$f":"TableOfContents!M$5","v":10002},"",{"$f":"TableOfContents!H$1","v":"grant no"},{"$f":"TableOfContents!I$1","v":"amd no"},{"$f":"TableOfContents!J$1","v":"fund source"},{"$f":"INDIRECT(\"'TableOfContents'\"&CONCATENATE(\"!m\",TEXT((INT((ROW(B66)-3)/4))+7,\"###\")))","v":""},{"$f":"INDIRECT(\"'TableOfContents'\"&CONCATENATE(\"!n\",TEXT((INT((ROW(C66)-3)/4))+7,\"###\")))","v":""}]
[{"$f":"VLOOKUP(TableOfContents!B$1,ProgramIDs!A$2:C$38,3,FALSE)","v":{"$error":"#N/A"}},{"$f":"TableOfContents!G$5","v":9999},"",{"$f":"TableOfContents!H$1","v":"grant no"},{"$f":"TableOfContents!I$1","v":"amd no"},{"$f":"TableOfContents!J$1","v":"fund source"},{"$f":"INDIRECT(\"'TableOfContents'\"&CONCATENATE(\"!G\",TEXT((INT((ROW(B67)-3)/4))+7,\"###\")))","v":""},{"$f":"INDIRECT(\"'TableOfContents'\"&CONCATENATE(\"!H\",TEXT((INT((ROW(C67)-3)/4))+7,\"###\")))","v":""}]
[{"$f":"VLOOKUP(TableOfContents!B$1,ProgramIDs!A$2:C$38,3,FALSE)","v":{"$error":"#N/A"}},{"$f":"TableOfContents!I$5","v":10000},{"$f":"CONCATENATE(INDIRECT(\"'TableOfContents'\"&CONCATENATE(\"!A\",TEXT((INT((ROW(B68)-3)/4))+7,\"###\"))),INDIRECT(\"'TableOfContents'\"&CONCATENATE(\"!B\",TEXT((INT((ROW(B68)-3)/4))+7,\"###\"))))","v":""},{"$f":"TableOfContents!H$1","v":"grant no"},{"$f":"TableOfContents!I$1","v":"amd no"},{"$f":"TableOfContents!J$1","v":"fund source"},{"$f":"INDIRECT(\"'TableOfContents'\"&CONCATENATE(\"!i\",TEXT((INT((ROW(B68)-3)/4))+7,\"###\")))","v":""},{"$f":"INDIRECT(\"'TableOfContents'\"&CONCATENATE(\"!j\",TEXT((INT((ROW(C68)-3)/4))+7,\"###\")))","v":""}]
[{"$f":"VLOOKUP(TableOfContents!B$1,ProgramIDs!A$2:C$38,3,FALSE)","v":{"$error":"#N/A"}},{"$f":"TableOfContents!K$5","v":10001},"",{"$f":"TableOfContents!H$1","v":"grant no"},{"$f":"TableOfContents!I$1","v":"amd no"},{"$f":"TableOfContents!J$1","v":"fund source"},{"$f":"INDIRECT(\"'TableOfContents'\"&CONCATENATE(\"!k\",TEXT((INT((ROW(B69)-3)/4))+7,\"###\")))","v":""},{"$f":"INDIRECT(\"'TableOfContents'\"&CONCATENATE(\"!l\",TEXT((INT((ROW(C69)-3)/4))+7,\"###\")))","v":""}]
[{"$f":"VLOOKUP(TableOfContents!B$1,ProgramIDs!A$2:C$38,3,FALSE)","v":{"$error":"#N/A"}},{"$f":"TableOfContents!M$5","v":10002},"",{"$f":"TableOfContents!H$1","v":"grant no"},{"$f":"TableOfContents!I$1","v":"amd no"},{"$f":"TableOfContents!J$1","v":"fund source"},{"$f":"INDIRECT(\"'TableOfContents'\"&CONCATENATE(\"!m\",TEXT((INT((ROW(B70)-3)/4))+7,\"###\")))","v":""},{"$f":"INDIRECT(\"'TableOfContents'\"&CONCATENATE(\"!n\",TEXT((INT((ROW(C70)-3)/4))+7,\"###\")))","v":""}]
[{"$f":"VLOOKUP(TableOfContents!B$1,ProgramIDs!A$2:C$38,3,FALSE)","v":{"$error":"#N/A"}},{"$f":"TableOfContents!G$5","v":9999},"",{"$f":"TableOfContents!H$1","v":"grant no"},{"$f":"TableOfContents!I$1","v":"amd no"},{"$f":"TableOfContents!J$1","v":"fund source"},{"$f":"INDIRECT(\"'TableOfContents'\"&CONCATENATE(\"!G\",TEXT((INT((ROW(B71)-3)/4))+7,\"###\")))","v":""},{"$f":"INDIRECT(\"'TableOfContents'\"&CONCATENATE(\"!H\",TEXT((INT((ROW(C71)-3)/4))+7,\"###\")))","v":""}]
[{"$f":"VLOOKUP(TableOfContents!B$1,ProgramIDs!A$2:C$38,3,FALSE)","v":{"$error":"#N/A"}},{"$f":"TableOfContents!I$5","v":10000},"",{"$f":"TableOfContents!H$1","v":"grant no"},{"$f":"TableOfContents!I$1","v":"amd no"},{"$f":"TableOfContents!J$1","v":"fund source"},{"$f":"INDIRECT(\"'TableOfContents'\"&CONCATENATE(\"!i\",TEXT((INT((ROW(B72)-3)/4))+7,\"###\")))","v":""},{"$f":"INDIRECT(\"'TableOfContents'\"&CONCATENATE(\"!j\",TEXT((INT((ROW(C72)-3)/4))+7,\"###\")))","v":""}]
[{"$f":"VLOOKUP(TableOfContents!B$1,ProgramIDs!A$2:C$38,3,FALSE)","v":{"$error":"#N/A"}},{"$f":"TableOfContents!K$5","v":10001},"",{"$f":"TableOfContents!H$1","v":"grant no"},{"$f":"TableOfContents!I$1","v":"amd no"},{"$f":"TableOfContents!J$1","v":"fund source"},{"$f":"INDIRECT(\"'TableOfContents'\"&CONCATENATE(\"!k\",TEXT((INT((ROW(B73)-3)/4))+7,\"###\")))","v":""},{"$f":"INDIRECT(\"'TableOfContents'\"&CONCATENATE(\"!l\",TEXT((INT((ROW(C73)-3)/4))+7,\"###\")))","v":""}]
[{"$f":"VLOOKUP(TableOfContents!B$1,ProgramIDs!A$2:C$38,3,FALSE)","v":{"$error":"#N/A"}},{"$f":"TableOfContents!M$5","v":10002},"",{"$f":"TableOfContents!H$1","v":"grant no"},{"$f":"TableOfContents!I$1","v":"amd no"},{"$f":"TableOfContents!J$1","v":"fund source"},{"$f":"INDIRECT(\"'TableOfContents'\"&CONCATENATE(\"!m\",TEXT((INT((ROW(B74)-3)/4))+7,\"###\")))","v":""},{"$f":"INDIRECT(\"'TableOfContents'\"&CONCATENATE(\"!n\",TEXT((INT((ROW(C74)-3)/4))+7,\"###\")))","v":""}]
[{"$f":"VLOOKUP(TableOfContents!B$1,ProgramIDs!A$2:C$38,3,FALSE)","v":{"$error":"#N/A"}},{"$f":"TableOfContents!G$5","v":9999},"",{"$f":"TableOfContents!H$1","v":"grant no"},{"$f":"TableOfContents!I$1","v":"amd no"},{"$f":"TableOfContents!J$1","v":"fund source"},{"$f":"INDIRECT(\"'TableOfContents'\"&CONCATENATE(\"!G\",TEXT((INT((ROW(B75)-3)/4))+7,\"###\")))","v":""},{"$f":"INDIRECT(\"'TableOfContents'\"&CONCATENATE(\"!H\",TEXT((INT((ROW(C75)-3)/4))+7,\"###\")))","v":""}]
[{"$f":"VLOOKUP(TableOfContents!B$1,ProgramIDs!A$2:C$38,3,FALSE)","v":{"$error":"#N/A"}},{"$f":"TableOfContents!I$5","v":10000},"",{"$f":"TableOfContents!H$1","v":"grant no"},{"$f":"TableOfContents!I$1","v":"amd no"},{"$f":"TableOfContents!J$1","v":"fund source"},{"$f":"INDIRECT(\"'TableOfContents'\"&CONCATENATE(\"!i\",TEXT((INT((ROW(B76)-3)/4))+7,\"###\")))","v":""},{"$f":"INDIRECT(\"'TableOfContents'\"&CONCATENATE(\"!j\",TEXT((INT((ROW(C76)-3)/4))+7,\"###\")))","v":""}]
[{"$f":"VLOOKUP(TableOfContents!B$1,ProgramIDs!A$2:C$38,3,FALSE)","v":{"$error":"#N/A"}},{"$f":"TableOfContents!K$5","v":10001},"",{"$f":"TableOfContents!H$1","v":"grant no"},{"$f":"TableOfContents!I$1","v":"amd no"},{"$f":"TableOfContents!J$1","v":"fund source"},{"$f":"INDIRECT(\"'TableOfContents'\"&CONCATENATE(\"!k\",TEXT((INT((ROW(B77)-3)/4))+7,\"###\")))","v":""},{"$f":"INDIRECT(\"'TableOfContents'\"&CONCATENATE(\"!l\",TEXT((INT((ROW(C77)-3)/4))+7,\"###\")))","v":""}]
[{"$f":"VLOOKUP(TableOfContents!B$1,ProgramIDs!A$2:C$38,3,FALSE)","v":{"$error":"#N/A"}},{"$f":"TableOfContents!M$5","v":10002},"",{"$f":"TableOfContents!H$1","v":"grant no"},{"$f":"TableOfContents!I$1","v":"amd no"},{"$f":"TableOfContents!J$1","v":"fund source"},{"$f":"INDIRECT(\"'TableOfContents'\"&CONCATENATE(\"!m\",TEXT((INT((ROW(B78)-3)/4))+7,\"###\")))","v":""},{"$f":"INDIRECT(\"'TableOfContents'\"&CONCATENATE(\"!n\",TEXT((INT((ROW(C78)-3)/4))+7,\"###\")))","v":""}]
[{"$f":"VLOOKUP(TableOfContents!B$1,ProgramIDs!A$2:C$38,3,FALSE)","v":{"$error":"#N/A"}},{"$f":"TableOfContents!G$5","v":9999},"",{"$f":"TableOfContents!H$1","v":"grant no"},{"$f":"TableOfContents!I$1","v":"amd no"},{"$f":"TableOfContents!J$1","v":"fund source"},{"$f":"INDIRECT(\"'TableOfContents'\"&CONCATENATE(\"!G\",TEXT((INT((ROW(B79)-3)/4))+7,\"###\")))","v":""},{"$f":"INDIRECT(\"'TableOfContents'\"&CONCATENATE(\"!H\",TEXT((INT((ROW(C79)-3)/4))+7,\"###\")))","v":""}]
[{"$f":"VLOOKUP(TableOfContents!B$1,ProgramIDs!A$2:C$38,3,FALSE)","v":{"$error":"#N/A"}},{"$f":"TableOfContents!I$5","v":10000},"",{"$f":"TableOfContents!H$1","v":"grant no"},{"$f":"TableOfContents!I$1","v":"amd no"},{"$f":"TableOfContents!J$1","v":"fund source"},{"$f":"INDIRECT(\"'TableOfContents'\"&CONCATENATE(\"!i\",TEXT((INT((ROW(B80)-3)/4))+7,\"###\")))","v":""},{"$f":"INDIRECT(\"'TableOfContents'\"&CONCATENATE(\"!j\",TEXT((INT((ROW(C80)-3)/4))+7,\"###\")))","v":""}]
[{"$f":"VLOOKUP(TableOfContents!B$1,ProgramIDs!A$2:C$38,3,FALSE)","v":{"$error":"#N/A"}},{"$f":"TableOfContents!K$5","v":10001},"",{"$f":"TableOfContents!H$1","v":"grant no"},{"$f":"TableOfContents!I$1","v":"amd no"},{"$f":"TableOfContents!J$1","v":"fund source"},{"$f":"INDIRECT(\"'TableOfContents'\"&CONCATENATE(\"!k\",TEXT((INT((ROW(B81)-3)/4))+7,\"###\")))","v":""},{"$f":"INDIRECT(\"'TableOfContents'\"&CONCATENATE(\"!l\",TEXT((INT((ROW(C81)-3)/4))+7,\"###\")))","v":""}]
[{"$f":"VLOOKUP(TableOfContents!B$1,ProgramIDs!A$2:C$38,3,FALSE)","v":{"$error":"#N/A"}},{"$f":"TableOfContents!M$5","v":10002},"",{"$f":"TableOfContents!H$1","v":"grant no"},{"$f":"TableOfContents!I$1","v":"amd no"},{"$f":"TableOfContents!J$1","v":"fund source"},{"$f":"INDIRECT(\"'TableOfContents'\"&CONCATENATE(\"!m\",TEXT((INT((ROW(B82)-3)/4))+7,\"###\")))","v":""},{"$f":"INDIRECT(\"'TableOfContents'\"&CONCATENATE(\"!n\",TEXT((INT((ROW(C82)-3)/4))+7,\"###\")))","v":""}]
[{"$f":"VLOOKUP(TableOfContents!B$1,ProgramIDs!A$2:C$38,3,FALSE)","v":{"$error":"#N/A"}},{"$f":"TableOfContents!G$5","v":9999},"",{"$f":"TableOfContents!H$1","v":"grant no"},{"$f":"TableOfContents!I$1","v":"amd no"},{"$f":"TableOfContents!J$1","v":"fund source"},{"$f":"INDIRECT(\"'TableOfContents'\"&CONCATENATE(\"!G\",TEXT((INT((ROW(B83)-3)/4))+7,\"###\")))","v":""},{"$f":"INDIRECT(\"'TableOfContents'\"&CONCATENATE(\"!H\",TEXT((INT((ROW(C83)-3)/4))+7,\"###\")))","v":""}]
[{"$f":"VLOOKUP(TableOfContents!B$1,ProgramIDs!A$2:C$38,3,FALSE)","v":{"$error":"#N/A"}},{"$f":"TableOfContents!I$5","v":10000},"",{"$f":"TableOfContents!H$1","v":"grant no"},{"$f":"TableOfContents!I$1","v":"amd no"},{"$f":"TableOfContents!J$1","v":"fund source"},{"$f":"INDIRECT(\"'TableOfContents'\"&CONCATENATE(\"!i\",TEXT((INT((ROW(B84)-3)/4))+7,\"###\")))","v":""},{"$f":"INDIRECT(\"'TableOfContents'\"&CONCATENATE(\"!j\",TEXT((INT((ROW(C84)-3)/4))+7,\"###\")))","v":""}]
[{"$f":"VLOOKUP(TableOfContents!B$1,ProgramIDs!A$2:C$38,3,FALSE)","v":{"$error":"#N/A"}},{"$f":"TableOfContents!K$5","v":10001},"",{"$f":"TableOfContents!H$1","v":"grant no"},{"$f":"TableOfContents!I$1","v":"amd no"},{"$f":"TableOfContents!J$1","v":"fund source"},{"$f":"INDIRECT(\"'TableOfContents'\"&CONCATENATE(\"!k\",TEXT((INT((ROW(B85)-3)/4))+7,\"###\")))","v":""},{"$f":"INDIRECT(\"'TableOfContents'\"&CONCATENATE(\"!l\",TEXT((INT((ROW(C85)-3)/4))+7,\"###\")))","v":""}]
[{"$f":"VLOOKUP(TableOfContents!B$1,ProgramIDs!A$2:C$38,3,FALSE)","v":{"$error":"#N/A"}},{"$f":"TableOfContents!M$5","v":10002},"",{"$f":"TableOfContents!H$1","v":"grant no"},{"$f":"TableOfContents!I$1","v":"amd no"},{"$f":"TableOfContents!J$1","v":"fund source"},{"$f":"INDIRECT(\"'TableOfContents'\"&CONCATENATE(\"!m\",TEXT((INT((ROW(B86)-3)/4))+7,\"###\")))","v":""},{"$f":"INDIRECT(\"'TableOfContents'\"&CONCATENATE(\"!n\",TEXT((INT((ROW(C86)-3)/4))+7,\"###\")))","v":""}]
[{"$f":"VLOOKUP(TableOfContents!B$1,ProgramIDs!A$2:C$38,3,FALSE)","v":{"$error":"#N/A"}},{"$f":"TableOfContents!G$5","v":9999},"",{"$f":"TableOfContents!H$1","v":"grant no"},{"$f":"TableOfContents!I$1","v":"amd no"},{"$f":"TableOfContents!J$1","v":"fund source"},{"$f":"INDIRECT(\"'TableOfContents'\"&CONCATENATE(\"!G\",TEXT((INT((ROW(B87)-3)/4))+7,\"###\")))","v":""},{"$f":"INDIRECT(\"'TableOfContents'\"&CONCATENATE(\"!H\",TEXT((INT((ROW(C87)-3)/4))+7,\"###\")))","v":""}]
[{"$f":"VLOOKUP(TableOfContents!B$1,ProgramIDs!A$2:C$38,3,FALSE)","v":{"$error":"#N/A"}},{"$f":"TableOfContents!I$5","v":10000},"",{"$f":"TableOfContents!H$1","v":"grant no"},{"$f":"TableOfContents!I$1","v":"amd no"},{"$f":"TableOfContents!J$1","v":"fund source"},{"$f":"INDIRECT(\"'TableOfContents'\"&CONCATENATE(\"!i\",TEXT((INT((ROW(B88)-3)/4))+7,\"###\")))","v":""},{"$f":"INDIRECT(\"'TableOfContents'\"&CONCATENATE(\"!j\",TEXT((INT((ROW(C88)-3)/4))+7,\"###\")))","v":""}]
[{"$f":"VLOOKUP(TableOfContents!B$1,ProgramIDs!A$2:C$38,3,FALSE)","v":{"$error":"#N/A"}},{"$f":"TableOfContents!K$5","v":10001},"",{"$f":"TableOfContents!H$1","v":"grant no"},{"$f":"TableOfContents!I$1","v":"amd no"},{"$f":"TableOfContents!J$1","v":"fund source"},{"$f":"INDIRECT(\"'TableOfContents'\"&CONCATENATE(\"!k\",TEXT((INT((ROW(B89)-3)/4))+7,\"###\")))","v":""},{"$f":"INDIRECT(\"'TableOfContents'\"&CONCATENATE(\"!l\",TEXT((INT((ROW(C89)-3)/4))+7,\"###\")))","v":""}]
[{"$f":"VLOOKUP(TableOfContents!B$1,ProgramIDs!A$2:C$38,3,FALSE)","v":{"$error":"#N/A"}},{"$f":"TableOfContents!M$5","v":10002},"",{"$f":"TableOfContents!H$1","v":"grant no"},{"$f":"TableOfContents!I$1","v":"amd no"},{"$f":"TableOfContents!J$1","v":"fund source"},{"$f":"INDIRECT(\"'TableOfContents'\"&CONCATENATE(\"!m\",TEXT((INT((ROW(B90)-3)/4))+7,\"###\")))","v":""},{"$f":"INDIRECT(\"'TableOfContents'\"&CONCATENATE(\"!n\",TEXT((INT((ROW(C90)-3)/4))+7,\"###\")))","v":""}]
[{"$f":"VLOOKUP(TableOfContents!B$1,ProgramIDs!A$2:C$38,3,FALSE)","v":{"$error":"#N/A"}},{"$f":"TableOfContents!G$5","v":9999},"",{"$f":"TableOfContents!H$1","v":"grant no"},{"$f":"TableOfContents!I$1","v":"amd no"},{"$f":"TableOfContents!J$1","v":"fund source"},{"$f":"INDIRECT(\"'TableOfContents'\"&CONCATENATE(\"!G\",TEXT((INT((ROW(B91)-3)/4))+7,\"###\")))","v":""},{"$f":"INDIRECT(\"'TableOfContents'\"&CONCATENATE(\"!H\",TEXT((INT((ROW(C91)-3)/4))+7,\"###\")))","v":""}]
[{"$f":"VLOOKUP(TableOfContents!B$1,ProgramIDs!A$2:C$38,3,FALSE)","v":{"$error":"#N/A"}},{"$f":"TableOfContents!I$5","v":10000},"",{"$f":"TableOfContents!H$1","v":"grant no"},{"$f":"TableOfContents!I$1","v":"amd no"},{"$f":"TableOfContents!J$1","v":"fund source"},{"$f":"INDIRECT(\"'TableOfContents'\"&CONCATENATE(\"!i\",TEXT((INT((ROW(B92)-3)/4))+7,\"###\")))","v":""},{"$f":"INDIRECT(\"'TableOfContents'\"&CONCATENATE(\"!j\",TEXT((INT((ROW(C92)-3)/4))+7,\"###\")))","v":""}]
[{"$f":"VLOOKUP(TableOfContents!B$1,ProgramIDs!A$2:C$38,3,FALSE)","v":{"$error":"#N/A"}},{"$f":"TableOfContents!K$5","v":10001},"",{"$f":"TableOfContents!H$1","v":"grant no"},{"$f":"TableOfContents!I$1","v":"amd no"},{"$f":"TableOfContents!J$1","v":"fund source"},{"$f":"INDIRECT(\"'TableOfContents'\"&CONCATENATE(\"!k\",TEXT((INT((ROW(B93)-3)/4))+7,\"###\")))","v":""},{"$f":"INDIRECT(\"'TableOfContents'\"&CONCATENATE(\"!l\",TEXT((INT((ROW(C93)-3)/4))+7,\"###\")))","v":""}]
[{"$f":"VLOOKUP(TableOfContents!B$1,ProgramIDs!A$2:C$38,3,FALSE)","v":{"$error":"#N/A"}},{"$f":"TableOfContents!M$5","v":10002},"",{"$f":"TableOfContents!H$1","v":"grant no"},{"$f":"TableOfContents!I$1","v":"amd no"},{"$f":"TableOfContents!J$1","v":"fund source"},{"$f":"INDIRECT(\"'TableOfContents'\"&CONCATENATE(\"!m\",TEXT((INT((ROW(B94)-3)/4))+7,\"###\")))","v":""},{"$f":"INDIRECT(\"'TableOfContents'\"&CONCATENATE(\"!n\",TEXT((INT((ROW(C94)-3)/4))+7,\"###\")))","v":""}]
[{"$f":"VLOOKUP(TableOfContents!B$1,ProgramIDs!A$2:C$38,3,FALSE)","v":{"$error":"#N/A"}},{"$f":"TableOfContents!G$5","v":9999},"",{"$f":"TableOfContents!H$1","v":"grant no"},{"$f":"TableOfContents!I$1","v":"amd no"},{"$f":"TableOfContents!J$1","v":"fund source"},{"$f":"INDIRECT(\"'TableOfContents'\"&CONCATENATE(\"!G\",TEXT((INT((ROW(B95)-3)/4))+7,\"###\")))","v":""},{"$f":"INDIRECT(\"'TableOfContents'\"&CONCATENATE(\"!H\",TEXT((INT((ROW(C95)-3)/4))+7,\"###\")))","v":""}]
[{"$f":"VLOOKUP(TableOfContents!B$1,ProgramIDs!A$2:C$38,3,FALSE)","v":{"$error":"#N/A"}},{"$f":"TableOfContents!I$5","v":10000},"",{"$f":"TableOfContents!H$1","v":"grant no"},{"$f":"TableOfContents!I$1","v":"amd no"},{"$f":"TableOfContents!J$1","v":"fund source"},{"$f":"INDIRECT(\"'TableOfContents'\"&CONCATENATE(\"!i\",TEXT((INT((ROW(B96)-3)/4))+7,\"###\")))","v":""},{"$f":"INDIRECT(\"'TableOfContents'\"&CONCATENATE(\"!j\",TEXT((INT((ROW(C96)-3)/4))+7,\"###\")))","v":""}]
[{"$f":"VLOOKUP(TableOfContents!B$1,ProgramIDs!A$2:C$38,3,FALSE)","v":{"$error":"#N/A"}},{"$f":"TableOfContents!K$5","v":10001},"",{"$f":"TableOfContents!H$1","v":"grant no"},{"$f":"TableOfContents!I$1","v":"amd no"},{"$f":"TableOfContents!J$1","v":"fund source"},{"$f":"INDIRECT(\"'TableOfContents'\"&CONCATENATE(\"!k\",TEXT((INT((ROW(B97)-3)/4))+7,\"###\")))","v":""},{"$f":"INDIRECT(\"'TableOfContents'\"&CONCATENATE(\"!l\",TEXT((INT((ROW(C97)-3)/4))+7,\"###\")))","v":""}]
[{"$f":"VLOOKUP(TableOfContents!B$1,ProgramIDs!A$2:C$38,3,FALSE)","v":{"$error":"#N/A"}},{"$f":"TableOfContents!M$5","v":10002},"",{"$f":"TableOfContents!H$1","v":"grant no"},{"$f":"TableOfContents!I$1","v":"amd no"},{"$f":"TableOfContents!J$1","v":"fund source"},{"$f":"INDIRECT(\"'TableOfContents'\"&CONCATENATE(\"!m\",TEXT((INT((ROW(B98)-3)/4))+7,\"###\")))","v":""},{"$f":"INDIRECT(\"'TableOfContents'\"&CONCATENATE(\"!n\",TEXT((INT((ROW(C98)-3)/4))+7,\"###\")))","v":""}]
[{"$f":"VLOOKUP(TableOfContents!B$1,ProgramIDs!A$2:C$38,3,FALSE)","v":{"$error":"#N/A"}},{"$f":"TableOfContents!G$5","v":9999},"",{"$f":"TableOfContents!H$1","v":"grant no"},{"$f":"TableOfContents!I$1","v":"amd no"},{"$f":"TableOfContents!J$1","v":"fund source"},{"$f":"INDIRECT(\"'TableOfContents'\"&CONCATENATE(\"!G\",TEXT((INT((ROW(B99)-3)/4))+7,\"###\")))","v":""},{"$f":"INDIRECT(\"'TableOfContents'\"&CONCATENATE(\"!H\",TEXT((INT((ROW(C99)-3)/4))+7,\"###\")))","v":""}]
[{"$f":"VLOOKUP(TableOfContents!B$1,ProgramIDs!A$2:C$38,3,FALSE)","v":{"$error":"#N/A"}},{"$f":"TableOfContents!I$5","v":10000},"",{"$f":"TableOfContents!H$1","v":"grant no"},{"$f":"TableOfContents!I$1","v":"amd no"},{"$f":"TableOfContents!J$1","v":"fund source"},{"$f":"INDIRECT(\"'TableOfContents'\"&CONCATENATE(\"!i\",TEXT((INT((ROW(B100)-3)/4))+7,\"###\")))","v":""},{"$f":"INDIRECT(\"'TableOfContents'\"&CONCATENATE(\"!j\",TEXT((INT((ROW(C100)-3)/4))+7,\"###\")))","v":""}]
[{"$f":"VLOOKUP(TableOfContents!B$1,ProgramIDs!A$2:C$38,3,FALSE)","v":{"$error":"#N/A"}},{"$f":"TableOfContents!K$5","v":10001},"",{"$f":"TableOfContents!H$1","v":"grant no"},{"$f":"TableOfContents!I$1","v":"amd no"},{"$f":"TableOfContents!J$1","v":"fund source"},{"$f":"INDIRECT(\"'TableOfContents'\"&CONCATENATE(\"!k\",TEXT((INT((ROW(B101)-3)/4))+7,\"###\")))","v":""},{"$f":"INDIRECT(\"'TableOfContents'\"&CONCATENATE(\"!l\",TEXT((INT((ROW(C101)-3)/4))+7,\"###\")))","v":""}]
[{"$f":"VLOOKUP(TableOfContents!B$1,ProgramIDs!A$2:C$38,3,FALSE)","v":{"$error":"#N/A"}},{"$f":"TableOfContents!M$5","v":10002},"",{"$f":"TableOfContents!H$1","v":"grant no"},{"$f":"TableOfContents!I$1","v":"amd no"},{"$f":"TableOfContents!J$1","v":"fund source"},{"$f":"INDIRECT(\"'TableOfContents'\"&CONCATENATE(\"!m\",TEXT((INT((ROW(B102)-3)/4))+7,\"###\")))","v":""},{"$f":"INDIRECT(\"'TableOfContents'\"&CONCATENATE(\"!n\",TEXT((INT((ROW(C102)-3)/4))+7,\"###\")))","v":""}]
[{"$f":"VLOOKUP(TableOfContents!B$1,ProgramIDs!A$2:C$38,3,FALSE)","v":{"$error":"#N/A"}},{"$f":"TableOfContents!G$5","v":9999},"",{"$f":"TableOfContents!H$1","v":"grant no"},{"$f":"TableOfContents!I$1","v":"amd no"},{"$f":"TableOfContents!J$1","v":"fund source"},{"$f":"INDIRECT(\"'TableOfContents'\"&CONCATENATE(\"!G\",TEXT((INT((ROW(B103)-3)/4))+7,\"###\")))","v":""},{"$f":"INDIRECT(\"'TableOfContents'\"&CONCATENATE(\"!H\",TEXT((INT((ROW(C103)-3)/4))+7,\"###\")))","v":""}]
[{"$f":"VLOOKUP(TableOfContents!B$1,ProgramIDs!A$2:C$38,3,FALSE)","v":{"$error":"#N/A"}},{"$f":"TableOfContents!I$5","v":10000},"",{"$f":"TableOfContents!H$1","v":"grant no"},{"$f":"TableOfContents!I$1","v":"amd no"},{"$f":"TableOfContents!J$1","v":"fund source"},{"$f":"INDIRECT(\"'TableOfContents'\"&CONCATENATE(\"!i\",TEXT((INT((ROW(B104)-3)/4))+7,\"###\")))","v":""},{"$f":"INDIRECT(\"'TableOfContents'\"&CONCATENATE(\"!j\",TEXT((INT((ROW(C104)-3)/4))+7,\"###\")))","v":""}]
[{"$f":"VLOOKUP(TableOfContents!B$1,ProgramIDs!A$2:C$38,3,FALSE)","v":{"$error":"#N/A"}},{"$f":"TableOfContents!K$5","v":10001},"",{"$f":"TableOfContents!H$1","v":"grant no"},{"$f":"TableOfContents!I$1","v":"amd no"},{"$f":"TableOfContents!J$1","v":"fund source"},{"$f":"INDIRECT(\"'TableOfContents'\"&CONCATENATE(\"!k\",TEXT((INT((ROW(B105)-3)/4))+7,\"###\")))","v":""},{"$f":"INDIRECT(\"'TableOfContents'\"&CONCATENATE(\"!l\",TEXT((INT((ROW(C105)-3)/4))+7,\"###\")))","v":""}]
[{"$f":"VLOOKUP(TableOfContents!B$1,ProgramIDs!A$2:C$38,3,FALSE)","v":{"$error":"#N/A"}},{"$f":"TableOfContents!M$5","v":10002},"",{"$f":"TableOfContents!H$1","v":"grant no"},{"$f":"TableOfContents!I$1","v":"amd no"},{"$f":"TableOfContents!J$1","v":"fund source"},{"$f":"INDIRECT(\"'TableOfContents'\"&CONCATENATE(\"!m\",TEXT((INT((ROW(B106)-3)/4))+7,\"###\")))","v":""},{"$f":"INDIRECT(\"'TableOfContents'\"&CONCATENATE(\"!n\",TEXT((INT((ROW(C106)-3)/4))+7,\"###\")))","v":""}]
[{"$f":"VLOOKUP(TableOfContents!B$1,ProgramIDs!A$2:C$38,3,FALSE)","v":{"$error":"#N/A"}},{"$f":"TableOfContents!G$5","v":9999},"",{"$f":"TableOfContents!H$1","v":"grant no"},{"$f":"TableOfContents!I$1","v":"amd no"},{"$f":"TableOfContents!J$1","v":"fund source"},{"$f":"INDIRECT(\"'TableOfContents'\"&CONCATENATE(\"!G\",TEXT((INT((ROW(B107)-3)/4))+7,\"###\")))","v":""},{"$f":"INDIRECT(\"'TableOfContents'\"&CONCATENATE(\"!H\",TEXT((INT((ROW(C107)-3)/4))+7,\"###\")))","v":""}]
[{"$f":"VLOOKUP(TableOfContents!B$1,ProgramIDs!A$2:C$38,3,FALSE)","v":{"$error":"#N/A"}},{"$f":"TableOfContents!I$5","v":10000},"",{"$f":"TableOfContents!H$1","v":"grant no"},{"$f":"TableOfContents!I$1","v":"amd no"},{"$f":"TableOfContents!J$1","v":"fund source"},{"$f":"INDIRECT(\"'TableOfContents'\"&CONCATENATE(\"!i\",TEXT((INT((ROW(B108)-3)/4))+7,\"###\")))","v":""},{"$f":"INDIRECT(\"'TableOfContents'\"&CONCATENATE(\"!j\",TEXT((INT((ROW(C108)-3)/4))+7,\"###\")))","v":""}]
[{"$f":"VLOOKUP(TableOfContents!B$1,ProgramIDs!A$2:C$38,3,FALSE)","v":{"$error":"#N/A"}},{"$f":"TableOfContents!K$5","v":10001},"",{"$f":"TableOfContents!H$1","v":"grant no"},{"$f":"TableOfContents!I$1","v":"amd no"},{"$f":"TableOfContents!J$1","v":"fund source"},{"$f":"INDIRECT(\"'TableOfContents'\"&CONCATENATE(\"!k\",TEXT((INT((ROW(B109)-3)/4))+7,\"###\")))","v":""},{"$f":"INDIRECT(\"'TableOfContents'\"&CONCATENATE(\"!l\",TEXT((INT((ROW(C109)-3)/4))+7,\"###\")))","v":""}]
[{"$f":"VLOOKUP(TableOfContents!B$1,ProgramIDs!A$2:C$38,3,FALSE)","v":{"$error":"#N/A"}},{"$f":"TableOfContents!M$5","v":10002},"",{"$f":"TableOfContents!H$1","v":"grant no"},{"$f":"TableOfContents!I$1","v":"amd no"},{"$f":"TableOfContents!J$1","v":"fund source"},{"$f":"INDIRECT(\"'TableOfContents'\"&CONCATENATE(\"!m\",TEXT((INT((ROW(B110)-3)/4))+7,\"###\")))","v":""},{"$f":"INDIRECT(\"'TableOfContents'\"&CONCATENATE(\"!n\",TEXT((INT((ROW(C110)-3)/4))+7,\"###\")))","v":""}]
[{"$f":"VLOOKUP(TableOfContents!B$1,ProgramIDs!A$2:C$38,3,FALSE)","v":{"$error":"#N/A"}},{"$f":"TableOfContents!G$5","v":9999},"",{"$f":"TableOfContents!H$1","v":"grant no"},{"$f":"TableOfContents!I$1","v":"amd no"},{"$f":"TableOfContents!J$1","v":"fund source"},{"$f":"INDIRECT(\"'TableOfContents'\"&CONCATENATE(\"!G\",TEXT((INT((ROW(B111)-3)/4))+7,\"###\")))","v":""},{"$f":"INDIRECT(\"'TableOfContents'\"&CONCATENATE(\"!H\",TEXT((INT((ROW(C111)-3)/4))+7,\"###\")))","v":""}]
[{"$f":"VLOOKUP(TableOfContents!B$1,ProgramIDs!A$2:C$38,3,FALSE)","v":{"$error":"#N/A"}},{"$f":"TableOfContents!I$5","v":10000},"",{"$f":"TableOfContents!H$1","v":"grant no"},{"$f":"TableOfContents!I$1","v":"amd no"},{"$f":"TableOfContents!J$1","v":"fund source"},{"$f":"INDIRECT(\"'TableOfContents'\"&CONCATENATE(\"!i\",TEXT((INT((ROW(B112)-3)/4))+7,\"###\")))","v":""},{"$f":"INDIRECT(\"'TableOfContents'\"&CONCATENATE(\"!j\",TEXT((INT((ROW(C112)-3)/4))+7,\"###\")))","v":""}]
[{"$f":"VLOOKUP(TableOfContents!B$1,ProgramIDs!A$2:C$38,3,FALSE)","v":{"$error":"#N/A"}},{"$f":"TableOfContents!K$5","v":10001},"",{"$f":"TableOfContents!H$1","v":"grant no"},{"$f":"TableOfContents!I$1","v":"amd no"},{"$f":"TableOfContents!J$1","v":"fund source"},{"$f":"INDIRECT(\"'TableOfContents'\"&CONCATENATE(\"!k\",TEXT((INT((ROW(B113)-3)/4))+7,\"###\")))","v":""},{"$f":"INDIRECT(\"'TableOfContents'\"&CONCATENATE(\"!l\",TEXT((INT((ROW(C113)-3)/4))+7,\"###\")))","v":""}]
[{"$f":"VLOOKUP(TableOfContents!B$1,ProgramIDs!A$2:C$38,3,FALSE)","v":{"$error":"#N/A"}},{"$f":"TableOfContents!M$5","v":10002},"",{"$f":"TableOfContents!H$1","v":"grant no"},{"$f":"TableOfContents!I$1","v":"amd no"},{"$f":"TableOfContents!J$1","v":"fund source"},{"$f":"INDIRECT(\"'TableOfContents'\"&CONCATENATE(\"!m\",TEXT((INT((ROW(B114)-3)/4))+7,\"###\")))","v":""},{"$f":"INDIRECT(\"'TableOfContents'\"&CONCATENATE(\"!n\",TEXT((INT((ROW(C114)-3)/4))+7,\"###\")))","v":""}]
[{"$f":"VLOOKUP(TableOfContents!B$1,ProgramIDs!A$2:C$38,3,FALSE)","v":{"$error":"#N/A"}},{"$f":"TableOfContents!G$5","v":9999},"",{"$f":"TableOfContents!H$1","v":"grant no"},{"$f":"TableOfContents!I$1","v":"amd no"},{"$f":"TableOfContents!J$1","v":"fund source"},{"$f":"INDIRECT(\"'TableOfContents'\"&CONCATENATE(\"!G\",TEXT((INT((ROW(B115)-3)/4))+7,\"###\")))","v":""},{"$f":"INDIRECT(\"'TableOfContents'\"&CONCATENATE(\"!H\",TEXT((INT((ROW(C115)-3)/4))+7,\"###\")))","v":""}]
[{"$f":"VLOOKUP(TableOfContents!B$1,ProgramIDs!A$2:C$38,3,FALSE)","v":{"$error":"#N/A"}},{"$f":"TableOfContents!I$5","v":10000},"",{"$f":"TableOfContents!H$1","v":"grant no"},{"$f":"TableOfContents!I$1","v":"amd no"},{"$f":"TableOfContents!J$1","v":"fund source"},{"$f":"INDIRECT(\"'TableOfContents'\"&CONCATENATE(\"!i\",TEXT((INT((ROW(B116)-3)/4))+7,\"###\")))","v":""},{"$f":"INDIRECT(\"'TableOfContents'\"&CONCATENATE(\"!j\",TEXT((INT((ROW(C116)-3)/4))+7,\"###\")))","v":""}]
[{"$f":"VLOOKUP(TableOfContents!B$1,ProgramIDs!A$2:C$38,3,FALSE)","v":{"$error":"#N/A"}},{"$f":"TableOfContents!K$5","v":10001},"",{"$f":"TableOfContents!H$1","v":"grant no"},{"$f":"TableOfContents!I$1","v":"amd no"},{"$f":"TableOfContents!J$1","v":"fund source"},{"$f":"INDIRECT(\"'TableOfContents'\"&CONCATENATE(\"!k\",TEXT((INT((ROW(B117)-3)/4))+7,\"###\")))","v":""},{"$f":"INDIRECT(\"'TableOfContents'\"&CONCATENATE(\"!l\",TEXT((INT((ROW(C117)-3)/4))+7,\"###\")))","v":""}]
[{"$f":"VLOOKUP(TableOfContents!B$1,ProgramIDs!A$2:C$38,3,FALSE)","v":{"$error":"#N/A"}},{"$f":"TableOfContents!M$5","v":10002},"",{"$f":"TableOfContents!H$1","v":"grant no"},{"$f":"TableOfContents!I$1","v":"amd no"},{"$f":"TableOfContents!J$1","v":"fund source"},{"$f":"INDIRECT(\"'TableOfContents'\"&CONCATENATE(\"!m\",TEXT((INT((ROW(B118)-3)/4))+7,\"###\")))","v":""},{"$f":"INDIRECT(\"'TableOfContents'\"&CONCATENATE(\"!n\",TEXT((INT((ROW(C118)-3)/4))+7,\"###\")))","v":""}]
[{"$f":"VLOOKUP(TableOfContents!B$1,ProgramIDs!A$2:C$38,3,FALSE)","v":{"$error":"#N/A"}},{"$f":"TableOfContents!G$5","v":9999},"",{"$f":"TableOfContents!H$1","v":"grant no"},{"$f":"TableOfContents!I$1","v":"amd no"},{"$f":"TableOfContents!J$1","v":"fund source"},{"$f":"INDIRECT(\"'TableOfContents'\"&CONCATENATE(\"!G\",TEXT((INT((ROW(B119)-3)/4))+7,\"###\")))","v":""},{"$f":"INDIRECT(\"'TableOfContents'\"&CONCATENATE(\"!H\",TEXT((INT((ROW(C119)-3)/4))+7,\"###\")))","v":""}]
[{"$f":"VLOOKUP(TableOfContents!B$1,ProgramIDs!A$2:C$38,3,FALSE)","v":{"$error":"#N/A"}},{"$f":"TableOfContents!I$5","v":10000},"",{"$f":"TableOfContents!H$1","v":"grant no"},{"$f":"TableOfContents!I$1","v":"amd no"},{"$f":"TableOfContents!J$1","v":"fund source"},{"$f":"INDIRECT(\"'TableOfContents'\"&CONCATENATE(\"!i\",TEXT((INT((ROW(B120)-3)/4))+7,\"###\")))","v":""},{"$f":"INDIRECT(\"'TableOfContents'\"&CONCATENATE(\"!j\",TEXT((INT((ROW(C120)-3)/4))+7,\"###\")))","v":""}]
[{"$f":"VLOOKUP(TableOfContents!B$1,ProgramIDs!A$2:C$38,3,FALSE)","v":{"$error":"#N/A"}},{"$f":"TableOfContents!K$5","v":10001},"",{"$f":"TableOfContents!H$1","v":"grant no"},{"$f":"TableOfContents!I$1","v":"amd no"},{"$f":"TableOfContents!J$1","v":"fund source"},{"$f":"INDIRECT(\"'TableOfContents'\"&CONCATENATE(\"!k\",TEXT((INT((ROW(B121)-3)/4))+7,\"###\")))","v":""},{"$f":"INDIRECT(\"'TableOfContents'\"&CONCATENATE(\"!l\",TEXT((INT((ROW(C121)-3)/4))+7,\"###\")))","v":""}]
[{"$f":"VLOOKUP(TableOfContents!B$1,ProgramIDs!A$2:C$38,3,FALSE)","v":{"$error":"#N/A"}},{"$f":"TableOfContents!M$5","v":10002},"",{"$f":"TableOfContents!H$1","v":"grant no"},{"$f":"TableOfContents!I$1","v":"amd no"},{"$f":"TableOfContents!J$1","v":"fund source"},{"$f":"INDIRECT(\"'TableOfContents'\"&CONCATENATE(\"!m\",TEXT((INT((ROW(B122)-3)/4))+7,\"###\")))","v":""},{"$f":"INDIRECT(\"'TableOfContents'\"&CONCATENATE(\"!n\",TEXT((INT((ROW(C122)-3)/4))+7,\"###\")))","v":""}]
[{"$f":"VLOOKUP(TableOfContents!B$1,ProgramIDs!A$2:C$38,3,FALSE)","v":{"$error":"#N/A"}},{"$f":"TableOfContents!G$5","v":9999},"",{"$f":"TableOfContents!H$1","v":"grant no"},{"$f":"TableOfContents!I$1","v":"amd no"},{"$f":"TableOfContents!J$1","v":"fund source"},{"$f":"INDIRECT(\"'TableOfContents'\"&CONCATENATE(\"!G\",TEXT((INT((ROW(B123)-3)/4))+7,\"###\")))","v":""},{"$f":"INDIRECT(\"'TableOfContents'\"&CONCATENATE(\"!H\",TEXT((INT((ROW(C123)-3)/4))+7,\"###\")))","v":""}]
[{"$f":"VLOOKUP(TableOfContents!B$1,ProgramIDs!A$2:C$38,3,FALSE)","v":{"$error":"#N/A"}},{"$f":"TableOfContents!I$5","v":10000},"",{"$f":"TableOfContents!H$1","v":"grant no"},{"$f":"TableOfContents!I$1","v":"amd no"},{"$f":"TableOfContents!J$1","v":"fund source"},{"$f":"INDIRECT(\"'TableOfContents'\"&CONCATENATE(\"!i\",TEXT((INT((ROW(B124)-3)/4))+7,\"###\")))","v":""},{"$f":"INDIRECT(\"'TableOfContents'\"&CONCATENATE(\"!j\",TEXT((INT((ROW(C124)-3)/4))+7,\"###\")))","v":""}]
[{"$f":"VLOOKUP(TableOfContents!B$1,ProgramIDs!A$2:C$38,3,FALSE)","v":{"$error":"#N/A"}},{"$f":"TableOfContents!K$5","v":10001},"",{"$f":"TableOfContents!H$1","v":"grant no"},{"$f":"TableOfContents!I$1","v":"amd no"},{"$f":"TableOfContents!J$1","v":"fund source"},{"$f":"INDIRECT(\"'TableOfContents'\"&CONCATENATE(\"!k\",TEXT((INT((ROW(B125)-3)/4))+7,\"###\")))","v":""},{"$f":"INDIRECT(\"'TableOfContents'\"&CONCATENATE(\"!l\",TEXT((INT((ROW(C125)-3)/4))+7,\"###\")))","v":""}]
[{"$f":"VLOOKUP(TableOfContents!B$1,ProgramIDs!A$2:C$38,3,FALSE)","v":{"$error":"#N/A"}},{"$f":"TableOfContents!M$5","v":10002},"",{"$f":"TableOfContents!H$1","v":"grant no"},{"$f":"TableOfContents!I$1","v":"amd no"},{"$f":"TableOfContents!J$1","v":"fund source"},{"$f":"INDIRECT(\"'TableOfContents'\"&CONCATENATE(\"!m\",TEXT((INT((ROW(B126)-3)/4))+7,\"###\")))","v":""},{"$f":"INDIRECT(\"'TableOfContents'\"&CONCATENATE(\"!n\",TEXT((INT((ROW(C126)-3)/4))+7,\"###\")))","v":""}]
[{"$f":"VLOOKUP(TableOfContents!B$1,ProgramIDs!A$2:C$38,3,FALSE)","v":{"$error":"#N/A"}},{"$f":"TableOfContents!G$5","v":9999},"",{"$f":"TableOfContents!H$1","v":"grant no"},{"$f":"TableOfContents!I$1","v":"amd no"},{"$f":"TableOfContents!J$1","v":"fund source"},{"$f":"INDIRECT(\"'TableOfContents'\"&CONCATENATE(\"!G\",TEXT((INT((ROW(B127)-3)/4))+7,\"###\")))","v":""},{"$f":"INDIRECT(\"'TableOfContents'\"&CONCATENATE(\"!H\",TEXT((INT((ROW(C127)-3)/4))+7,\"###\")))","v":""}]
[{"$f":"VLOOKUP(TableOfContents!B$1,ProgramIDs!A$2:C$38,3,FALSE)","v":{"$error":"#N/A"}},{"$f":"TableOfContents!I$5","v":10000},"",{"$f":"TableOfContents!H$1","v":"grant no"},{"$f":"TableOfContents!I$1","v":"amd no"},{"$f":"TableOfContents!J$1","v":"fund source"},{"$f":"INDIRECT(\"'TableOfContents'\"&CONCATENATE(\"!i\",TEXT((INT((ROW(B128)-3)/4))+7,\"###\")))","v":""},{"$f":"INDIRECT(\"'TableOfContents'\"&CONCATENATE(\"!j\",TEXT((INT((ROW(C128)-3)/4))+7,\"###\")))","v":""}]
[{"$f":"VLOOKUP(TableOfContents!B$1,ProgramIDs!A$2:C$38,3,FALSE)","v":{"$error":"#N/A"}},{"$f":"TableOfContents!K$5","v":10001},"",{"$f":"TableOfContents!H$1","v":"grant no"},{"$f":"TableOfContents!I$1","v":"amd no"},{"$f":"TableOfContents!J$1","v":"fund source"},{"$f":"INDIRECT(\"'TableOfContents'\"&CONCATENATE(\"!k\",TEXT((INT((ROW(B129)-3)/4))+7,\"###\")))","v":""},{"$f":"INDIRECT(\"'TableOfContents'\"&CONCATENATE(\"!l\",TEXT((INT((ROW(C129)-3)/4))+7,\"###\")))","v":""}]
[{"$f":"VLOOKUP(TableOfContents!B$1,ProgramIDs!A$2:C$38,3,FALSE)","v":{"$error":"#N/A"}},{"$f":"TableOfContents!M$5","v":10002},"",{"$f":"TableOfContents!H$1","v":"grant no"},{"$f":"TableOfContents!I$1","v":"amd no"},{"$f":"TableOfContents!J$1","v":"fund source"},{"$f":"INDIRECT(\"'TableOfContents'\"&CONCATENATE(\"!m\",TEXT((INT((ROW(B130)-3)/4))+7,\"###\")))","v":""},{"$f":"INDIRECT(\"'TableOfContents'\"&CONCATENATE(\"!n\",TEXT((INT((ROW(C130)-3)/4))+7,\"###\")))","v":""}]
[{"$f":"VLOOKUP(TableOfContents!B$1,ProgramIDs!A$2:C$38,3,FALSE)","v":{"$error":"#N/A"}},{"$f":"TableOfContents!G$5","v":9999},"",{"$f":"TableOfContents!H$1","v":"grant no"},{"$f":"TableOfContents!I$1","v":"amd no"},{"$f":"TableOfContents!J$1","v":"fund source"},{"$f":"INDIRECT(\"'TableOfContents'\"&CONCATENATE(\"!G\",TEXT((INT((ROW(B131)-3)/4))+7,\"###\")))","v":""},{"$f":"INDIRECT(\"'TableOfContents'\"&CONCATENATE(\"!H\",TEXT((INT((ROW(C131)-3)/4))+7,\"###\")))","v":""}]
[{"$f":"VLOOKUP(TableOfContents!B$1,ProgramIDs!A$2:C$38,3,FALSE)","v":{"$error":"#N/A"}},{"$f":"TableOfContents!I$5","v":10000},{"$f":"CONCATENATE(INDIRECT(\"'TableOfContents'\"&CONCATENATE(\"!A\",TEXT((INT((ROW(B132)-3)/4))+7,\"###\"))),INDIRECT(\"'TableOfContents'\"&CONCATENATE(\"!B\",TEXT((INT((ROW(B132)-3)/4))+7,\"###\"))))","v":""},{"$f":"TableOfContents!H$1","v":"grant no"},{"$f":"TableOfContents!I$1","v":"amd no"},{"$f":"TableOfContents!J$1","v":"fund source"},{"$f":"INDIRECT(\"'TableOfContents'\"&CONCATENATE(\"!i\",TEXT((INT((ROW(B132)-3)/4))+7,\"###\")))","v":""},{"$f":"INDIRECT(\"'TableOfContents'\"&CONCATENATE(\"!j\",TEXT((INT((ROW(C132)-3)/4))+7,\"###\")))","v":""}]
[{"$f":"VLOOKUP(TableOfContents!B$1,ProgramIDs!A$2:C$38,3,FALSE)","v":{"$error":"#N/A"}},{"$f":"TableOfContents!K$5","v":10001},"",{"$f":"TableOfContents!H$1","v":"grant no"},{"$f":"TableOfContents!I$1","v":"amd no"},{"$f":"TableOfContents!J$1","v":"fund source"},{"$f":"INDIRECT(\"'TableOfContents'\"&CONCATENATE(\"!k\",TEXT((INT((ROW(B133)-3)/4))+7,\"###\")))","v":""},{"$f":"INDIRECT(\"'TableOfContents'\"&CONCATENATE(\"!l\",TEXT((INT((ROW(C133)-3)/4))+7,\"###\")))","v":""}]
[{"$f":"VLOOKUP(TableOfContents!B$1,ProgramIDs!A$2:C$38,3,FALSE)","v":{"$error":"#N/A"}},{"$f":"TableOfContents!M$5","v":10002},"",{"$f":"TableOfContents!H$1","v":"grant no"},{"$f":"TableOfContents!I$1","v":"amd no"},{"$f":"TableOfContents!J$1","v":"fund source"},{"$f":"INDIRECT(\"'TableOfContents'\"&CONCATENATE(\"!m\",TEXT((INT((ROW(B134)-3)/4))+7,\"###\")))","v":""},{"$f":"INDIRECT(\"'TableOfContents'\"&CONCATENATE(\"!n\",TEXT((INT((ROW(C134)-3)/4))+7,\"###\")))","v":""}]
[{"$f":"VLOOKUP(TableOfContents!B$1,ProgramIDs!A$2:C$38,3,FALSE)","v":{"$error":"#N/A"}},{"$f":"TableOfContents!G$5","v":9999},"",{"$f":"TableOfContents!H$1","v":"grant no"},{"$f":"TableOfContents!I$1","v":"amd no"},{"$f":"TableOfContents!J$1","v":"fund source"},{"$f":"INDIRECT(\"'TableOfContents'\"&CONCATENATE(\"!G\",TEXT((INT((ROW(B135)-3)/4))+7,\"###\")))","v":""},{"$f":"INDIRECT(\"'TableOfContents'\"&CONCATENATE(\"!H\",TEXT((INT((ROW(C135)-3)/4))+7,\"###\")))","v":""}]
[{"$f":"VLOOKUP(TableOfContents!B$1,ProgramIDs!A$2:C$38,3,FALSE)","v":{"$error":"#N/A"}},{"$f":"TableOfContents!I$5","v":10000},"",{"$f":"TableOfContents!H$1","v":"grant no"},{"$f":"TableOfContents!I$1","v":"amd no"},{"$f":"TableOfContents!J$1","v":"fund source"},{"$f":"INDIRECT(\"'TableOfContents'\"&CONCATENATE(\"!i\",TEXT((INT((ROW(B136)-3)/4))+7,\"###\")))","v":""},{"$f":"INDIRECT(\"'TableOfContents'\"&CONCATENATE(\"!j\",TEXT((INT((ROW(C136)-3)/4))+7,\"###\")))","v":""}]
[{"$f":"VLOOKUP(TableOfContents!B$1,ProgramIDs!A$2:C$38,3,FALSE)","v":{"$error":"#N/A"}},{"$f":"TableOfContents!K$5","v":10001},"",{"$f":"TableOfContents!H$1","v":"grant no"},{"$f":"TableOfContents!I$1","v":"amd no"},{"$f":"TableOfContents!J$1","v":"fund source"},{"$f":"INDIRECT(\"'TableOfContents'\"&CONCATENATE(\"!k\",TEXT((INT((ROW(B137)-3)/4))+7,\"###\")))","v":""},{"$f":"INDIRECT(\"'TableOfContents'\"&CONCATENATE(\"!l\",TEXT((INT((ROW(C137)-3)/4))+7,\"###\")))","v":""}]
[{"$f":"VLOOKUP(TableOfContents!B$1,ProgramIDs!A$2:C$38,3,FALSE)","v":{"$error":"#N/A"}},{"$f":"TableOfContents!M$5","v":10002},"",{"$f":"TableOfContents!H$1","v":"grant no"},{"$f":"TableOfContents!I$1","v":"amd no"},{"$f":"TableOfContents!J$1","v":"fund source"},{"$f":"INDIRECT(\"'TableOfContents'\"&CONCATENATE(\"!m\",TEXT((INT((ROW(B138)-3)/4))+7,\"###\")))","v":""},{"$f":"INDIRECT(\"'TableOfContents'\"&CONCATENATE(\"!n\",TEXT((INT((ROW(C138)-3)/4))+7,\"###\")))","v":""}]
[{"$f":"VLOOKUP(TableOfContents!B$1,ProgramIDs!A$2:C$38,3,FALSE)","v":{"$error":"#N/A"}},{"$f":"TableOfContents!G$5","v":9999},"",{"$f":"TableOfContents!H$1","v":"grant no"},{"$f":"TableOfContents!I$1","v":"amd no"},{"$f":"TableOfContents!J$1","v":"fund source"},{"$f":"INDIRECT(\"'TableOfContents'\"&CONCATENATE(\"!G\",TEXT((INT((ROW(B139)-3)/4))+7,\"###\")))","v":""},{"$f":"INDIRECT(\"'TableOfContents'\"&CONCATENATE(\"!H\",TEXT((INT((ROW(C139)-3)/4))+7,\"###\")))","v":""}]
[{"$f":"VLOOKUP(TableOfContents!B$1,ProgramIDs!A$2:C$38,3,FALSE)","v":{"$error":"#N/A"}},{"$f":"TableOfContents!I$5","v":10000},"",{"$f":"TableOfContents!H$1","v":"grant no"},{"$f":"TableOfContents!I$1","v":"amd no"},{"$f":"TableOfContents!J$1","v":"fund source"},{"$f":"INDIRECT(\"'TableOfContents'\"&CONCATENATE(\"!i\",TEXT((INT((ROW(B140)-3)/4))+7,\"###\")))","v":""},{"$f":"INDIRECT(\"'TableOfContents'\"&CONCATENATE(\"!j\",TEXT((INT((ROW(C140)-3)/4))+7,\"###\")))","v":""}]
[{"$f":"VLOOKUP(TableOfContents!B$1,ProgramIDs!A$2:C$38,3,FALSE)","v":{"$error":"#N/A"}},{"$f":"TableOfContents!K$5","v":10001},"",{"$f":"TableOfContents!H$1","v":"grant no"},{"$f":"TableOfContents!I$1","v":"amd no"},{"$f":"TableOfContents!J$1","v":"fund source"},{"$f":"INDIRECT(\"'TableOfContents'\"&CONCATENATE(\"!k\",TEXT((INT((ROW(B141)-3)/4))+7,\"###\")))","v":""},{"$f":"INDIRECT(\"'TableOfContents'\"&CONCATENATE(\"!l\",TEXT((INT((ROW(C141)-3)/4))+7,\"###\")))","v":""}]
[{"$f":"VLOOKUP(TableOfContents!B$1,ProgramIDs!A$2:C$38,3,FALSE)","v":{"$error":"#N/A"}},{"$f":"TableOfContents!M$5","v":10002},"",{"$f":"TableOfContents!H$1","v":"grant no"},{"$f":"TableOfContents!I$1","v":"amd no"},{"$f":"TableOfContents!J$1","v":"fund source"},{"$f":"INDIRECT(\"'TableOfContents'\"&CONCATENATE(\"!m\",TEXT((INT((ROW(B142)-3)/4))+7,\"###\")))","v":""},{"$f":"INDIRECT(\"'TableOfContents'\"&CONCATENATE(\"!n\",TEXT((INT((ROW(C142)-3)/4))+7,\"###\")))","v":""}]
[{"$f":"VLOOKUP(TableOfContents!B$1,ProgramIDs!A$2:C$38,3,FALSE)","v":{"$error":"#N/A"}},{"$f":"TableOfContents!G$5","v":9999},"",{"$f":"TableOfContents!H$1","v":"grant no"},{"$f":"TableOfContents!I$1","v":"amd no"},{"$f":"TableOfContents!J$1","v":"fund source"},{"$f":"INDIRECT(\"'TableOfContents'\"&CONCATENATE(\"!G\",TEXT((INT((ROW(B143)-3)/4))+7,\"###\")))","v":""},{"$f":"INDIRECT(\"'TableOfContents'\"&CONCATENATE(\"!H\",TEXT((INT((ROW(C143)-3)/4))+7,\"###\")))","v":""}]
[{"$f":"VLOOKUP(TableOfContents!B$1,ProgramIDs!A$2:C$38,3,FALSE)","v":{"$error":"#N/A"}},{"$f":"TableOfContents!I$5","v":10000},"",{"$f":"TableOfContents!H$1","v":"grant no"},{"$f":"TableOfContents!I$1","v":"amd no"},{"$f":"TableOfContents!J$1","v":"fund source"},{"$f":"INDIRECT(\"'TableOfContents'\"&CONCATENATE(\"!i\",TEXT((INT((ROW(B144)-3)/4))+7,\"###\")))","v":""},{"$f":"INDIRECT(\"'TableOfContents'\"&CONCATENATE(\"!j\",TEXT((INT((ROW(C144)-3)/4))+7,\"###\")))","v":""}]
[{"$f":"VLOOKUP(TableOfContents!B$1,ProgramIDs!A$2:C$38,3,FALSE)","v":{"$error":"#N/A"}},{"$f":"TableOfContents!K$5","v":10001},"",{"$f":"TableOfContents!H$1","v":"grant no"},{"$f":"TableOfContents!I$1","v":"amd no"},{"$f":"TableOfContents!J$1","v":"fund source"},{"$f":"INDIRECT(\"'TableOfContents'\"&CONCATENATE(\"!k\",TEXT((INT((ROW(B145)-3)/4))+7,\"###\")))","v":""},{"$f":"INDIRECT(\"'TableOfContents'\"&CONCATENATE(\"!l\",TEXT((INT((ROW(C145)-3)/4))+7,\"###\")))","v":""}]
[{"$f":"VLOOKUP(TableOfContents!B$1,ProgramIDs!A$2:C$38,3,FALSE)","v":{"$error":"#N/A"}},{"$f":"TableOfContents!M$5","v":10002},"",{"$f":"TableOfContents!H$1","v":"grant no"},{"$f":"TableOfContents!I$1","v":"amd no"},{"$f":"TableOfContents!J$1","v":"fund source"},{"$f":"INDIRECT(\"'TableOfContents'\"&CONCATENATE(\"!m\",TEXT((INT((ROW(B146)-3)/4))+7,\"###\")))","v":""},{"$f":"INDIRECT(\"'TableOfContents'\"&CONCATENATE(\"!n\",TEXT((INT((ROW(C146)-3)/4))+7,\"###\")))","v":""}]
[{"$f":"VLOOKUP(TableOfContents!B$1,ProgramIDs!A$2:C$38,3,FALSE)","v":{"$error":"#N/A"}},{"$f":"TableOfContents!G$5","v":9999},"",{"$f":"TableOfContents!H$1","v":"grant no"},{"$f":"TableOfContents!I$1","v":"amd no"},{"$f":"TableOfContents!J$1","v":"fund source"},{"$f":"INDIRECT(\"'TableOfContents'\"&CONCATENATE(\"!G\",TEXT((INT((ROW(B147)-3)/4))+7,\"###\")))","v":""},{"$f":"INDIRECT(\"'TableOfContents'\"&CONCATENATE(\"!H\",TEXT((INT((ROW(C147)-3)/4))+7,\"###\")))","v":""}]
[{"$f":"VLOOKUP(TableOfContents!B$1,ProgramIDs!A$2:C$38,3,FALSE)","v":{"$error":"#N/A"}},{"$f":"TableOfContents!I$5","v":10000},"",{"$f":"TableOfContents!H$1","v":"grant no"},{"$f":"TableOfContents!I$1","v":"amd no"},{"$f":"TableOfContents!J$1","v":"fund source"},{"$f":"INDIRECT(\"'TableOfContents'\"&CONCATENATE(\"!i\",TEXT((INT((ROW(B148)-3)/4))+7,\"###\")))","v":""},{"$f":"INDIRECT(\"'TableOfContents'\"&CONCATENATE(\"!j\",TEXT((INT((ROW(C148)-3)/4))+7,\"###\")))","v":""}]
[{"$f":"VLOOKUP(TableOfContents!B$1,ProgramIDs!A$2:C$38,3,FALSE)","v":{"$error":"#N/A"}},{"$f":"TableOfContents!K$5","v":10001},"",{"$f":"TableOfContents!H$1","v":"grant no"},{"$f":"TableOfContents!I$1","v":"amd no"},{"$f":"TableOfContents!J$1","v":"fund source"},{"$f":"INDIRECT(\"'TableOfContents'\"&CONCATENATE(\"!k\",TEXT((INT((ROW(B149)-3)/4))+7,\"###\")))","v":""},{"$f":"INDIRECT(\"'TableOfContents'\"&CONCATENATE(\"!l\",TEXT((INT((ROW(C149)-3)/4))+7,\"###\")))","v":""}]
[{"$f":"VLOOKUP(TableOfContents!B$1,ProgramIDs!A$2:C$38,3,FALSE)","v":{"$error":"#N/A"}},{"$f":"TableOfContents!M$5","v":10002},"",{"$f":"TableOfContents!H$1","v":"grant no"},{"$f":"TableOfContents!I$1","v":"amd no"},{"$f":"TableOfContents!J$1","v":"fund source"},{"$f":"INDIRECT(\"'TableOfContents'\"&CONCATENATE(\"!m\",TEXT((INT((ROW(B150)-3)/4))+7,\"###\")))","v":""},{"$f":"INDIRECT(\"'TableOfContents'\"&CONCATENATE(\"!n\",TEXT((INT((ROW(C150)-3)/4))+7,\"###\")))","v":""}]
[{"$f":"VLOOKUP(TableOfContents!B$1,ProgramIDs!A$2:C$38,3,FALSE)","v":{"$error":"#N/A"}},{"$f":"TableOfContents!G$5","v":9999},"",{"$f":"TableOfContents!H$1","v":"grant no"},{"$f":"TableOfContents!I$1","v":"amd no"},{"$f":"TableOfContents!J$1","v":"fund source"},{"$f":"INDIRECT(\"'TableOfContents'\"&CONCATENATE(\"!G\",TEXT((INT((ROW(B151)-3)/4))+7,\"###\")))","v":""},{"$f":"INDIRECT(\"'TableOfContents'\"&CONCATENATE(\"!H\",TEXT((INT((ROW(C151)-3)/4))+7,\"###\")))","v":""}]
[{"$f":"VLOOKUP(TableOfContents!B$1,ProgramIDs!A$2:C$38,3,FALSE)","v":{"$error":"#N/A"}},{"$f":"TableOfContents!I$5","v":10000},"",{"$f":"TableOfContents!H$1","v":"grant no"},{"$f":"TableOfContents!I$1","v":"amd no"},{"$f":"TableOfContents!J$1","v":"fund source"},{"$f":"INDIRECT(\"'TableOfContents'\"&CONCATENATE(\"!i\",TEXT((INT((ROW(B152)-3)/4))+7,\"###\")))","v":""},{"$f":"INDIRECT(\"'TableOfContents'\"&CONCATENATE(\"!j\",TEXT((INT((ROW(C152)-3)/4))+7,\"###\")))","v":""}]
[{"$f":"VLOOKUP(TableOfContents!B$1,ProgramIDs!A$2:C$38,3,FALSE)","v":{"$error":"#N/A"}},{"$f":"TableOfContents!K$5","v":10001},"",{"$f":"TableOfContents!H$1","v":"grant no"},{"$f":"TableOfContents!I$1","v":"amd no"},{"$f":"TableOfContents!J$1","v":"fund source"},{"$f":"INDIRECT(\"'TableOfContents'\"&CONCATENATE(\"!k\",TEXT((INT((ROW(B153)-3)/4))+7,\"###\")))","v":""},{"$f":"INDIRECT(\"'TableOfContents'\"&CONCATENATE(\"!l\",TEXT((INT((ROW(C153)-3)/4))+7,\"###\")))","v":""}]
[{"$f":"VLOOKUP(TableOfContents!B$1,ProgramIDs!A$2:C$38,3,FALSE)","v":{"$error":"#N/A"}},{"$f":"TableOfContents!M$5","v":10002},"",{"$f":"TableOfContents!H$1","v":"grant no"},{"$f":"TableOfContents!I$1","v":"amd no"},{"$f":"TableOfContents!J$1","v":"fund source"},{"$f":"INDIRECT(\"'TableOfContents'\"&CONCATENATE(\"!m\",TEXT((INT((ROW(B154)-3)/4))+7,\"###\")))","v":""},{"$f":"INDIRECT(\"'TableOfContents'\"&CONCATENATE(\"!n\",TEXT((INT((ROW(C154)-3)/4))+7,\"###\")))","v":""}]
[{"$f":"VLOOKUP(TableOfContents!B$1,ProgramIDs!A$2:C$38,3,FALSE)","v":{"$error":"#N/A"}},{"$f":"TableOfContents!G$5","v":9999},"",{"$f":"TableOfContents!H$1","v":"grant no"},{"$f":"TableOfContents!I$1","v":"amd no"},{"$f":"TableOfContents!J$1","v":"fund source"},{"$f":"INDIRECT(\"'TableOfContents'\"&CONCATENATE(\"!G\",TEXT((INT((ROW(B155)-3)/4))+7,\"###\")))","v":""},{"$f":"INDIRECT(\"'TableOfContents'\"&CONCATENATE(\"!H\",TEXT((INT((ROW(C155)-3)/4))+7,\"###\")))","v":""}]
[{"$f":"VLOOKUP(TableOfContents!B$1,ProgramIDs!A$2:C$38,3,FALSE)","v":{"$error":"#N/A"}},{"$f":"TableOfContents!I$5","v":10000},"",{"$f":"TableOfContents!H$1","v":"grant no"},{"$f":"TableOfContents!I$1","v":"amd no"},{"$f":"TableOfContents!J$1","v":"fund source"},{"$f":"INDIRECT(\"'TableOfContents'\"&CONCATENATE(\"!i\",TEXT((INT((ROW(B156)-3)/4))+7,\"###\")))","v":""},{"$f":"INDIRECT(\"'TableOfContents'\"&CONCATENATE(\"!j\",TEXT((INT((ROW(C156)-3)/4))+7,\"###\")))","v":""}]
[{"$f":"VLOOKUP(TableOfContents!B$1,ProgramIDs!A$2:C$38,3,FALSE)","v":{"$error":"#N/A"}},{"$f":"TableOfContents!K$5","v":10001},"",{"$f":"TableOfContents!H$1","v":"grant no"},{"$f":"TableOfContents!I$1","v":"amd no"},{"$f":"TableOfContents!J$1","v":"fund source"},{"$f":"INDIRECT(\"'TableOfContents'\"&CONCATENATE(\"!k\",TEXT((INT((ROW(B157)-3)/4))+7,\"###\")))","v":""},{"$f":"INDIRECT(\"'TableOfContents'\"&CONCATENATE(\"!l\",TEXT((INT((ROW(C157)-3)/4))+7,\"###\")))","v":""}]
[{"$f":"VLOOKUP(TableOfContents!B$1,ProgramIDs!A$2:C$38,3,FALSE)","v":{"$error":"#N/A"}},{"$f":"TableOfContents!M$5","v":10002},"",{"$f":"TableOfContents!H$1","v":"grant no"},{"$f":"TableOfContents!I$1","v":"amd no"},{"$f":"TableOfContents!J$1","v":"fund source"},{"$f":"INDIRECT(\"'TableOfContents'\"&CONCATENATE(\"!m\",TEXT((INT((ROW(B158)-3)/4))+7,\"###\")))","v":""},{"$f":"INDIRECT(\"'TableOfContents'\"&CONCATENATE(\"!n\",TEXT((INT((ROW(C158)-3)/4))+7,\"###\")))","v":""}]
[{"$f":"VLOOKUP(TableOfContents!B$1,ProgramIDs!A$2:C$38,3,FALSE)","v":{"$error":"#N/A"}},{"$f":"TableOfContents!G$5","v":9999},"",{"$f":"TableOfContents!H$1","v":"grant no"},{"$f":"TableOfContents!I$1","v":"amd no"},{"$f":"TableOfContents!J$1","v":"fund source"},{"$f":"INDIRECT(\"'TableOfContents'\"&CONCATENATE(\"!G\",TEXT((INT((ROW(B159)-3)/4))+7,\"###\")))","v":""},{"$f":"INDIRECT(\"'TableOfContents'\"&CONCATENATE(\"!H\",TEXT((INT((ROW(C159)-3)/4))+7,\"###\")))","v":""}]
[{"$f":"VLOOKUP(TableOfContents!B$1,ProgramIDs!A$2:C$38,3,FALSE)","v":{"$error":"#N/A"}},{"$f":"TableOfContents!I$5","v":10000},"",{"$f":"TableOfContents!H$1","v":"grant no"},{"$f":"TableOfContents!I$1","v":"amd no"},{"$f":"TableOfContents!J$1","v":"fund source"},{"$f":"INDIRECT(\"'TableOfContents'\"&CONCATENATE(\"!i\",TEXT((INT((ROW(B160)-3)/4))+7,\"###\")))","v":""},{"$f":"INDIRECT(\"'TableOfContents'\"&CONCATENATE(\"!j\",TEXT((INT((ROW(C160)-3)/4))+7,\"###\")))","v":""}]
[{"$f":"VLOOKUP(TableOfContents!B$1,ProgramIDs!A$2:C$38,3,FALSE)","v":{"$error":"#N/A"}},{"$f":"TableOfContents!K$5","v":10001},"",{"$f":"TableOfContents!H$1","v":"grant no"},{"$f":"TableOfContents!I$1","v":"amd no"},{"$f":"TableOfContents!J$1","v":"fund source"},{"$f":"INDIRECT(\"'TableOfContents'\"&CONCATENATE(\"!k\",TEXT((INT((ROW(B161)-3)/4))+7,\"###\")))","v":""},{"$f":"INDIRECT(\"'TableOfContents'\"&CONCATENATE(\"!l\",TEXT((INT((ROW(C161)-3)/4))+7,\"###\")))","v":""}]
[{"$f":"VLOOKUP(TableOfContents!B$1,ProgramIDs!A$2:C$38,3,FALSE)","v":{"$error":"#N/A"}},{"$f":"TableOfContents!M$5","v":10002},"",{"$f":"TableOfContents!H$1","v":"grant no"},{"$f":"TableOfContents!I$1","v":"amd no"},{"$f":"TableOfContents!J$1","v":"fund source"},{"$f":"INDIRECT(\"'TableOfContents'\"&CONCATENATE(\"!m\",TEXT((INT((ROW(B162)-3)/4))+7,\"###\")))","v":""},{"$f":"INDIRECT(\"'TableOfContents'\"&CONCATENATE(\"!n\",TEXT((INT((ROW(C162)-3)/4))+7,\"###\")))","v":""}]
[{"$f":"VLOOKUP(TableOfContents!B$1,ProgramIDs!A$2:C$38,3,FALSE)","v":{"$error":"#N/A"}},{"$f":"TableOfContents!G$5","v":9999},"",{"$f":"TableOfContents!H$1","v":"grant no"},{"$f":"TableOfContents!I$1","v":"amd no"},{"$f":"TableOfContents!J$1","v":"fund source"},{"$f":"INDIRECT(\"'TableOfContents'\"&CONCATENATE(\"!G\",TEXT((INT((ROW(B163)-3)/4))+7,\"###\")))","v":""},{"$f":"INDIRECT(\"'TableOfContents'\"&CONCATENATE(\"!H\",TEXT((INT((ROW(C163)-3)/4))+7,\"###\")))","v":""}]
[{"$f":"VLOOKUP(TableOfContents!B$1,ProgramIDs!A$2:C$38,3,FALSE)","v":{"$error":"#N/A"}},{"$f":"TableOfContents!I$5","v":10000},"",{"$f":"TableOfContents!H$1","v":"grant no"},{"$f":"TableOfContents!I$1","v":"amd no"},{"$f":"TableOfContents!J$1","v":"fund source"},{"$f":"INDIRECT(\"'TableOfContents'\"&CONCATENATE(\"!i\",TEXT((INT((ROW(B164)-3)/4))+7,\"###\")))","v":""},{"$f":"INDIRECT(\"'TableOfContents'\"&CONCATENATE(\"!j\",TEXT((INT((ROW(C164)-3)/4))+7,\"###\")))","v":""}]
[{"$f":"VLOOKUP(TableOfContents!B$1,ProgramIDs!A$2:C$38,3,FALSE)","v":{"$error":"#N/A"}},{"$f":"TableOfContents!K$5","v":10001},"",{"$f":"TableOfContents!H$1","v":"grant no"},{"$f":"TableOfContents!I$1","v":"amd no"},{"$f":"TableOfContents!J$1","v":"fund source"},{"$f":"INDIRECT(\"'TableOfContents'\"&CONCATENATE(\"!k\",TEXT((INT((ROW(B165)-3)/4))+7,\"###\")))","v":""},{"$f":"INDIRECT(\"'TableOfContents'\"&CONCATENATE(\"!l\",TEXT((INT((ROW(C165)-3)/4))+7,\"###\")))","v":""}]
[{"$f":"VLOOKUP(TableOfContents!B$1,ProgramIDs!A$2:C$38,3,FALSE)","v":{"$error":"#N/A"}},{"$f":"TableOfContents!M$5","v":10002},"",{"$f":"TableOfContents!H$1","v":"grant no"},{"$f":"TableOfContents!I$1","v":"amd no"},{"$f":"TableOfContents!J$1","v":"fund source"},{"$f":"INDIRECT(\"'TableOfContents'\"&CONCATENATE(\"!m\",TEXT((INT((ROW(B166)-3)/4))+7,\"###\")))","v":""},{"$f":"INDIRECT(\"'TableOfContents'\"&CONCATENATE(\"!n\",TEXT((INT((ROW(C166)-3)/4))+7,\"###\")))","v":""}]
[{"$f":"VLOOKUP(TableOfContents!B$1,ProgramIDs!A$2:C$38,3,FALSE)","v":{"$error":"#N/A"}},{"$f":"TableOfContents!G$5","v":9999},"",{"$f":"TableOfContents!H$1","v":"grant no"},{"$f":"TableOfContents!I$1","v":"amd no"},{"$f":"TableOfContents!J$1","v":"fund source"},{"$f":"INDIRECT(\"'TableOfContents'\"&CONCATENATE(\"!G\",TEXT((INT((ROW(B167)-3)/4))+7,\"###\")))","v":""},{"$f":"INDIRECT(\"'TableOfContents'\"&CONCATENATE(\"!H\",TEXT((INT((ROW(C167)-3)/4))+7,\"###\")))","v":""}]
[{"$f":"VLOOKUP(TableOfContents!B$1,ProgramIDs!A$2:C$38,3,FALSE)","v":{"$error":"#N/A"}},{"$f":"TableOfContents!I$5","v":10000},"",{"$f":"TableOfContents!H$1","v":"grant no"},{"$f":"TableOfContents!I$1","v":"amd no"},{"$f":"TableOfContents!J$1","v":"fund source"},{"$f":"INDIRECT(\"'TableOfContents'\"&CONCATENATE(\"!i\",TEXT((INT((ROW(B168)-3)/4))+7,\"###\")))","v":""},{"$f":"INDIRECT(\"'TableOfContents'\"&CONCATENATE(\"!j\",TEXT((INT((ROW(C168)-3)/4))+7,\"###\")))","v":""}]
[{"$f":"VLOOKUP(TableOfContents!B$1,ProgramIDs!A$2:C$38,3,FALSE)","v":{"$error":"#N/A"}},{"$f":"TableOfContents!K$5","v":10001},"",{"$f":"TableOfContents!H$1","v":"grant no"},{"$f":"TableOfContents!I$1","v":"amd no"},{"$f":"TableOfContents!J$1","v":"fund source"},{"$f":"INDIRECT(\"'TableOfContents'\"&CONCATENATE(\"!k\",TEXT((INT((ROW(B169)-3)/4))+7,\"###\")))","v":""},{"$f":"INDIRECT(\"'TableOfContents'\"&CONCATENATE(\"!l\",TEXT((INT((ROW(C169)-3)/4))+7,\"###\")))","v":""}]
[{"$f":"VLOOKUP(TableOfContents!B$1,ProgramIDs!A$2:C$38,3,FALSE)","v":{"$error":"#N/A"}},{"$f":"TableOfContents!M$5","v":10002},"",{"$f":"TableOfContents!H$1","v":"grant no"},{"$f":"TableOfContents!I$1","v":"amd no"},{"$f":"TableOfContents!J$1","v":"fund source"},{"$f":"INDIRECT(\"'TableOfContents'\"&CONCATENATE(\"!m\",TEXT((INT((ROW(B170)-3)/4))+7,\"###\")))","v":""},{"$f":"INDIRECT(\"'TableOfContents'\"&CONCATENATE(\"!n\",TEXT((INT((ROW(C170)-3)/4))+7,\"###\")))","v":""}]
[{"$f":"VLOOKUP(TableOfContents!B$1,ProgramIDs!A$2:C$38,3,FALSE)","v":{"$error":"#N/A"}},{"$f":"TableOfContents!G$5","v":9999},"",{"$f":"TableOfContents!H$1","v":"grant no"},{"$f":"TableOfContents!I$1","v":"amd no"},{"$f":"TableOfContents!J$1","v":"fund source"},{"$f":"INDIRECT(\"'TableOfContents'\"&CONCATENATE(\"!G\",TEXT((INT((ROW(B171)-3)/4))+7,\"###\")))","v":""},{"$f":"INDIRECT(\"'TableOfContents'\"&CONCATENATE(\"!H\",TEXT((INT((ROW(C171)-3)/4))+7,\"###\")))","v":""}]
[{"$f":"VLOOKUP(TableOfContents!B$1,ProgramIDs!A$2:C$38,3,FALSE)","v":{"$error":"#N/A"}},{"$f":"TableOfContents!I$5","v":10000},"",{"$f":"TableOfContents!H$1","v":"grant no"},{"$f":"TableOfContents!I$1","v":"amd no"},{"$f":"TableOfContents!J$1","v":"fund source"},{"$f":"INDIRECT(\"'TableOfContents'\"&CONCATENATE(\"!i\",TEXT((INT((ROW(B172)-3)/4))+7,\"###\")))","v":""},{"$f":"INDIRECT(\"'TableOfContents'\"&CONCATENATE(\"!j\",TEXT((INT((ROW(C172)-3)/4))+7,\"###\")))","v":""}]
[{"$f":"VLOOKUP(TableOfContents!B$1,ProgramIDs!A$2:C$38,3,FALSE)","v":{"$error":"#N/A"}},{"$f":"TableOfContents!K$5","v":10001},"",{"$f":"TableOfContents!H$1","v":"grant no"},{"$f":"TableOfContents!I$1","v":"amd no"},{"$f":"TableOfContents!J$1","v":"fund source"},{"$f":"INDIRECT(\"'TableOfContents'\"&CONCATENATE(\"!k\",TEXT((INT((ROW(B173)-3)/4))+7,\"###\")))","v":""},{"$f":"INDIRECT(\"'TableOfContents'\"&CONCATENATE(\"!l\",TEXT((INT((ROW(C173)-3)/4))+7,\"###\")))","v":""}]
[{"$f":"VLOOKUP(TableOfContents!B$1,ProgramIDs!A$2:C$38,3,FALSE)","v":{"$error":"#N/A"}},{"$f":"TableOfContents!M$5","v":10002},"",{"$f":"TableOfContents!H$1","v":"grant no"},{"$f":"TableOfContents!I$1","v":"amd no"},{"$f":"TableOfContents!J$1","v":"fund source"},{"$f":"INDIRECT(\"'TableOfContents'\"&CONCATENATE(\"!m\",TEXT((INT((ROW(B174)-3)/4))+7,\"###\")))","v":""},{"$f":"INDIRECT(\"'TableOfContents'\"&CONCATENATE(\"!n\",TEXT((INT((ROW(C174)-3)/4))+7,\"###\")))","v":""}]
[{"$f":"VLOOKUP(TableOfContents!B$1,ProgramIDs!A$2:C$38,3,FALSE)","v":{"$error":"#N/A"}},{"$f":"TableOfContents!G$5","v":9999},"",{"$f":"TableOfContents!H$1","v":"grant no"},{"$f":"TableOfContents!I$1","v":"amd no"},{"$f":"TableOfContents!J$1","v":"fund source"},{"$f":"INDIRECT(\"'TableOfContents'\"&CONCATENATE(\"!G\",TEXT((INT((ROW(B175)-3)/4))+7,\"###\")))","v":""},{"$f":"INDIRECT(\"'TableOfContents'\"&CONCATENATE(\"!H\",TEXT((INT((ROW(C175)-3)/4))+7,\"###\")))","v":""}]
[{"$f":"VLOOKUP(TableOfContents!B$1,ProgramIDs!A$2:C$38,3,FALSE)","v":{"$error":"#N/A"}},{"$f":"TableOfContents!I$5","v":10000},"",{"$f":"TableOfContents!H$1","v":"grant no"},{"$f":"TableOfContents!I$1","v":"amd no"},{"$f":"TableOfContents!J$1","v":"fund source"},{"$f":"INDIRECT(\"'TableOfContents'\"&CONCATENATE(\"!i\",TEXT((INT((ROW(B176)-3)/4))+7,\"###\")))","v":""},{"$f":"INDIRECT(\"'TableOfContents'\"&CONCATENATE(\"!j\",TEXT((INT((ROW(C176)-3)/4))+7,\"###\")))","v":""}]
[{"$f":"VLOOKUP(TableOfContents!B$1,ProgramIDs!A$2:C$38,3,FALSE)","v":{"$error":"#N/A"}},{"$f":"TableOfContents!K$5","v":10001},"",{"$f":"TableOfContents!H$1","v":"grant no"},{"$f":"TableOfContents!I$1","v":"amd no"},{"$f":"TableOfContents!J$1","v":"fund source"},{"$f":"INDIRECT(\"'TableOfContents'\"&CONCATENATE(\"!k\",TEXT((INT((ROW(B177)-3)/4))+7,\"###\")))","v":""},{"$f":"INDIRECT(\"'TableOfContents'\"&CONCATENATE(\"!l\",TEXT((INT((ROW(C177)-3)/4))+7,\"###\")))","v":""}]
[{"$f":"VLOOKUP(TableOfContents!B$1,ProgramIDs!A$2:C$38,3,FALSE)","v":{"$error":"#N/A"}},{"$f":"TableOfContents!M$5","v":10002},"",{"$f":"TableOfContents!H$1","v":"grant no"},{"$f":"TableOfContents!I$1","v":"amd no"},{"$f":"TableOfContents!J$1","v":"fund source"},{"$f":"INDIRECT(\"'TableOfContents'\"&CONCATENATE(\"!m\",TEXT((INT((ROW(B178)-3)/4))+7,\"###\")))","v":""},{"$f":"INDIRECT(\"'TableOfContents'\"&CONCATENATE(\"!n\",TEXT((INT((ROW(C178)-3)/4))+7,\"###\")))","v":""}]
[{"$f":"VLOOKUP(TableOfContents!B$1,ProgramIDs!A$2:C$38,3,FALSE)","v":{"$error":"#N/A"}},{"$f":"TableOfContents!G$5","v":9999},"",{"$f":"TableOfContents!H$1","v":"grant no"},{"$f":"TableOfContents!I$1","v":"amd no"},{"$f":"TableOfContents!J$1","v":"fund source"},{"$f":"INDIRECT(\"'TableOfContents'\"&CONCATENATE(\"!G\",TEXT((INT((ROW(B179)-3)/4))+7,\"###\")))","v":""},{"$f":"INDIRECT(\"'TableOfContents'\"&CONCATENATE(\"!H\",TEXT((INT((ROW(C179)-3)/4))+7,\"###\")))","v":""}]
[{"$f":"VLOOKUP(TableOfContents!B$1,ProgramIDs!A$2:C$38,3,FALSE)","v":{"$error":"#N/A"}},{"$f":"TableOfContents!I$5","v":10000},"",{"$f":"TableOfContents!H$1","v":"grant no"},{"$f":"TableOfContents!I$1","v":"amd no"},{"$f":"TableOfContents!J$1","v":"fund source"},{"$f":"INDIRECT(\"'TableOfContents'\"&CONCATENATE(\"!i\",TEXT((INT((ROW(B180)-3)/4))+7,\"###\")))","v":""},{"$f":"INDIRECT(\"'TableOfContents'\"&CONCATENATE(\"!j\",TEXT((INT((ROW(C180)-3)/4))+7,\"###\")))","v":""}]
[{"$f":"VLOOKUP(TableOfContents!B$1,ProgramIDs!A$2:C$38,3,FALSE)","v":{"$error":"#N/A"}},{"$f":"TableOfContents!K$5","v":10001},"",{"$f":"TableOfContents!H$1","v":"grant no"},{"$f":"TableOfContents!I$1","v":"amd no"},{"$f":"TableOfContents!J$1","v":"fund source"},{"$f":"INDIRECT(\"'TableOfContents'\"&CONCATENATE(\"!k\",TEXT((INT((ROW(B181)-3)/4))+7,\"###\")))","v":""},{"$f":"INDIRECT(\"'TableOfContents'\"&CONCATENATE(\"!l\",TEXT((INT((ROW(C181)-3)/4))+7,\"###\")))","v":""}]
[{"$f":"VLOOKUP(TableOfContents!B$1,ProgramIDs!A$2:C$38,3,FALSE)","v":{"$error":"#N/A"}},{"$f":"TableOfContents!M$5","v":10002},"",{"$f":"TableOfContents!H$1","v":"grant no"},{"$f":"TableOfContents!I$1","v":"amd no"},{"$f":"TableOfContents!J$1","v":"fund source"},{"$f":"INDIRECT(\"'TableOfContents'\"&CONCATENATE(\"!m\",TEXT((INT((ROW(B182)-3)/4))+7,\"###\")))","v":""},{"$f":"INDIRECT(\"'TableOfContents'\"&CONCATENATE(\"!n\",TEXT((INT((ROW(C182)-3)/4))+7,\"###\")))","v":""}]
[{"$f":"VLOOKUP(TableOfContents!B$1,ProgramIDs!A$2:C$38,3,FALSE)","v":{"$error":"#N/A"}},{"$f":"TableOfContents!G$5","v":9999},"",{"$f":"TableOfContents!H$1","v":"grant no"},{"$f":"TableOfContents!I$1","v":"amd no"},{"$f":"TableOfContents!J$1","v":"fund source"},{"$f":"INDIRECT(\"'TableOfContents'\"&CONCATENATE(\"!G\",TEXT((INT((ROW(B183)-3)/4))+7,\"###\")))","v":""},{"$f":"INDIRECT(\"'TableOfContents'\"&CONCATENATE(\"!H\",TEXT((INT((ROW(C183)-3)/4))+7,\"###\")))","v":""}]
[{"$f":"VLOOKUP(TableOfContents!B$1,ProgramIDs!A$2:C$38,3,FALSE)","v":{"$error":"#N/A"}},{"$f":"TableOfContents!I$5","v":10000},"",{"$f":"TableOfContents!H$1","v":"grant no"},{"$f":"TableOfContents!I$1","v":"amd no"},{"$f":"TableOfContents!J$1","v":"fund source"},{"$f":"INDIRECT(\"'TableOfContents'\"&CONCATENATE(\"!i\",TEXT((INT((ROW(B184)-3)/4))+7,\"###\")))","v":""},{"$f":"INDIRECT(\"'TableOfContents'\"&CONCATENATE(\"!j\",TEXT((INT((ROW(C184)-3)/4))+7,\"###\")))","v":""}]
[{"$f":"VLOOKUP(TableOfContents!B$1,ProgramIDs!A$2:C$38,3,FALSE)","v":{"$error":"#N/A"}},{"$f":"TableOfContents!K$5","v":10001},"",{"$f":"TableOfContents!H$1","v":"grant no"},{"$f":"TableOfContents!I$1","v":"amd no"},{"$f":"TableOfContents!J$1","v":"fund source"},{"$f":"INDIRECT(\"'TableOfContents'\"&CONCATENATE(\"!k\",TEXT((INT((ROW(B185)-3)/4))+7,\"###\")))","v":""},{"$f":"INDIRECT(\"'TableOfContents'\"&CONCATENATE(\"!l\",TEXT((INT((ROW(C185)-3)/4))+7,\"###\")))","v":""}]
[{"$f":"VLOOKUP(TableOfContents!B$1,ProgramIDs!A$2:C$38,3,FALSE)","v":{"$error":"#N/A"}},{"$f":"TableOfContents!M$5","v":10002},"",{"$f":"TableOfContents!H$1","v":"grant no"},{"$f":"TableOfContents!I$1","v":"amd no"},{"$f":"TableOfContents!J$1","v":"fund source"},{"$f":"INDIRECT(\"'TableOfContents'\"&CONCATENATE(\"!m\",TEXT((INT((ROW(B186)-3)/4))+7,\"###\")))","v":""},{"$f":"INDIRECT(\"'TableOfContents'\"&CONCATENATE(\"!n\",TEXT((INT((ROW(C186)-3)/4))+7,\"###\")))","v":""}]
[{"$f":"VLOOKUP(TableOfContents!B$1,ProgramIDs!A$2:C$38,3,FALSE)","v":{"$error":"#N/A"}},{"$f":"TableOfContents!G$5","v":9999},"",{"$f":"TableOfContents!H$1","v":"grant no"},{"$f":"TableOfContents!I$1","v":"amd no"},{"$f":"TableOfContents!J$1","v":"fund source"},{"$f":"INDIRECT(\"'TableOfContents'\"&CONCATENATE(\"!G\",TEXT((INT((ROW(B187)-3)/4))+7,\"###\")))","v":""},{"$f":"INDIRECT(\"'TableOfContents'\"&CONCATENATE(\"!H\",TEXT((INT((ROW(C187)-3)/4))+7,\"###\")))","v":""}]
[{"$f":"VLOOKUP(TableOfContents!B$1,ProgramIDs!A$2:C$38,3,FALSE)","v":{"$error":"#N/A"}},{"$f":"TableOfContents!I$5","v":10000},"",{"$f":"TableOfContents!H$1","v":"grant no"},{"$f":"TableOfContents!I$1","v":"amd no"},{"$f":"TableOfContents!J$1","v":"fund source"},{"$f":"INDIRECT(\"'TableOfContents'\"&CONCATENATE(\"!i\",TEXT((INT((ROW(B188)-3)/4))+7,\"###\")))","v":""},{"$f":"INDIRECT(\"'TableOfContents'\"&CONCATENATE(\"!j\",TEXT((INT((ROW(C188)-3)/4))+7,\"###\")))","v":""}]
[{"$f":"VLOOKUP(TableOfContents!B$1,ProgramIDs!A$2:C$38,3,FALSE)","v":{"$error":"#N/A"}},{"$f":"TableOfContents!K$5","v":10001},"",{"$f":"TableOfContents!H$1","v":"grant no"},{"$f":"TableOfContents!I$1","v":"amd no"},{"$f":"TableOfContents!J$1","v":"fund source"},{"$f":"INDIRECT(\"'TableOfContents'\"&CONCATENATE(\"!k\",TEXT((INT((ROW(B189)-3)/4))+7,\"###\")))","v":""},{"$f":"INDIRECT(\"'TableOfContents'\"&CONCATENATE(\"!l\",TEXT((INT((ROW(C189)-3)/4))+7,\"###\")))","v":""}]
[{"$f":"VLOOKUP(TableOfContents!B$1,ProgramIDs!A$2:C$38,3,FALSE)","v":{"$error":"#N/A"}},{"$f":"TableOfContents!M$5","v":10002},"",{"$f":"TableOfContents!H$1","v":"grant no"},{"$f":"TableOfContents!I$1","v":"amd no"},{"$f":"TableOfContents!J$1","v":"fund source"},{"$f":"INDIRECT(\"'TableOfContents'\"&CONCATENATE(\"!m\",TEXT((INT((ROW(B190)-3)/4))+7,\"###\")))","v":""},{"$f":"INDIRECT(\"'TableOfContents'\"&CONCATENATE(\"!n\",TEXT((INT((ROW(C190)-3)/4))+7,\"###\")))","v":""}]
[{"$f":"VLOOKUP(TableOfContents!B$1,ProgramIDs!A$2:C$38,3,FALSE)","v":{"$error":"#N/A"}},{"$f":"TableOfContents!G$5","v":9999},"",{"$f":"TableOfContents!H$1","v":"grant no"},{"$f":"TableOfContents!I$1","v":"amd no"},{"$f":"TableOfContents!J$1","v":"fund source"},{"$f":"INDIRECT(\"'TableOfContents'\"&CONCATENATE(\"!G\",TEXT((INT((ROW(B191)-3)/4))+7,\"###\")))","v":""},{"$f":"INDIRECT(\"'TableOfContents'\"&CONCATENATE(\"!H\",TEXT((INT((ROW(C191)-3)/4))+7,\"###\")))","v":""}]
[{"$f":"VLOOKUP(TableOfContents!B$1,ProgramIDs!A$2:C$38,3,FALSE)","v":{"$error":"#N/A"}},{"$f":"TableOfContents!I$5","v":10000},"",{"$f":"TableOfContents!H$1","v":"grant no"},{"$f":"TableOfContents!I$1","v":"amd no"},{"$f":"TableOfContents!J$1","v":"fund source"},{"$f":"INDIRECT(\"'TableOfContents'\"&CONCATENATE(\"!i\",TEXT((INT((ROW(B192)-3)/4))+7,\"###\")))","v":""},{"$f":"INDIRECT(\"'TableOfContents'\"&CONCATENATE(\"!j\",TEXT((INT((ROW(C192)-3)/4))+7,\"###\")))","v":""}]
[{"$f":"VLOOKUP(TableOfContents!B$1,ProgramIDs!A$2:C$38,3,FALSE)","v":{"$error":"#N/A"}},{"$f":"TableOfContents!K$5","v":10001},"",{"$f":"TableOfContents!H$1","v":"grant no"},{"$f":"TableOfContents!I$1","v":"amd no"},{"$f":"TableOfContents!J$1","v":"fund source"},{"$f":"INDIRECT(\"'TableOfContents'\"&CONCATENATE(\"!k\",TEXT((INT((ROW(B193)-3)/4))+7,\"###\")))","v":""},{"$f":"INDIRECT(\"'TableOfContents'\"&CONCATENATE(\"!l\",TEXT((INT((ROW(C193)-3)/4))+7,\"###\")))","v":""}]
[{"$f":"VLOOKUP(TableOfContents!B$1,ProgramIDs!A$2:C$38,3,FALSE)","v":{"$error":"#N/A"}},{"$f":"TableOfContents!M$5","v":10002},"",{"$f":"TableOfContents!H$1","v":"grant no"},{"$f":"TableOfContents!I$1","v":"amd no"},{"$f":"TableOfContents!J$1","v":"fund source"},{"$f":"INDIRECT(\"'TableOfContents'\"&CONCATENATE(\"!m\",TEXT((INT((ROW(B194)-3)/4))+7,\"###\")))","v":""},{"$f":"INDIRECT(\"'TableOfContents'\"&CONCATENATE(\"!n\",TEXT((INT((ROW(C194)-3)/4))+7,\"###\")))","v":""}]
[{"$f":"VLOOKUP(TableOfContents!B$1,ProgramIDs!A$2:C$38,3,FALSE)","v":{"$error":"#N/A"}},{"$f":"TableOfContents!M$5","v":10002},"",{"$f":"TableOfContents!H$1","v":"grant no"},{"$f":"TableOfContents!I$1","v":"amd no"},{"$f":"TableOfContents!J$1","v":"fund source"},{"$f":"INDIRECT(\"'TableOfContents'\"&CONCATENATE(\"!m\",TEXT((INT((ROW(B195)-3)/4))+7,\"###\")))","v":""},{"$f":"INDIRECT(\"'TableOfContents'\"&CONCATENATE(\"!n\",TEXT((INT((ROW(C195)-3)/4))+7,\"###\")))","v":""}]
[{"$f":"VLOOKUP(TableOfContents!B$1,ProgramIDs!A$2:C$38,3,FALSE)","v":{"$error":"#N/A"}},{"$f":"TableOfContents!I$5","v":10000},{"$f":"CONCATENATE(INDIRECT(\"'TableOfContents'\"&CONCATENATE(\"!A\",TEXT((INT((ROW(B196)-3)/4))+7,\"###\"))),INDIRECT(\"'TableOfContents'\"&CONCATENATE(\"!B\",TEXT((INT((ROW(B196)-3)/4))+7,\"###\"))))","v":""},{"$f":"TableOfContents!H$1","v":"grant no"},{"$f":"TableOfContents!I$1","v":"amd no"},{"$f":"TableOfContents!J$1","v":"fund source"},{"$f":"INDIRECT(\"'TableOfContents'\"&CONCATENATE(\"!i\",TEXT((INT((ROW(B196)-3)/4))+7,\"###\")))","v":""},{"$f":"INDIRECT(\"'TableOfContents'\"&CONCATENATE(\"!j\",TEXT((INT((ROW(C196)-3)/4))+7,\"###\")))","v":""}]
[{"$f":"VLOOKUP(TableOfContents!B$1,ProgramIDs!A$2:C$38,3,FALSE)","v":{"$error":"#N/A"}},{"$f":"TableOfContents!K$5","v":10001},"",{"$f":"TableOfContents!H$1","v":"grant no"},{"$f":"TableOfContents!I$1","v":"amd no"},{"$f":"TableOfContents!J$1","v":"fund source"},{"$f":"INDIRECT(\"'TableOfContents'\"&CONCATENATE(\"!k\",TEXT((INT((ROW(B197)-3)/4))+7,\"###\")))","v":""},{"$f":"INDIRECT(\"'TableOfContents'\"&CONCATENATE(\"!l\",TEXT((INT((ROW(C197)-3)/4))+7,\"###\")))","v":""}]
[{"$f":"VLOOKUP(TableOfContents!B$1,ProgramIDs!A$2:C$38,3,FALSE)","v":{"$error":"#N/A"}},{"$f":"TableOfContents!M$5","v":10002},"",{"$f":"TableOfContents!H$1","v":"grant no"},{"$f":"TableOfContents!I$1","v":"amd no"},{"$f":"TableOfContents!J$1","v":"fund source"},{"$f":"INDIRECT(\"'TableOfContents'\"&CONCATENATE(\"!m\",TEXT((INT((ROW(B198)-3)/4))+7,\"###\")))","v":""},{"$f":"INDIRECT(\"'TableOfContents'\"&CONCATENATE(\"!n\",TEXT((INT((ROW(C198)-3)/4))+7,\"###\")))","v":""}]
[{"$f":"VLOOKUP(TableOfContents!B$1,ProgramIDs!A$2:C$38,3,FALSE)","v":{"$error":"#N/A"}},{"$f":"TableOfContents!G$5","v":9999},"",{"$f":"TableOfContents!H$1","v":"grant no"},{"$f":"TableOfContents!I$1","v":"amd no"},{"$f":"TableOfContents!J$1","v":"fund source"}]
[{"$f":"VLOOKUP(TableOfContents!B$1,ProgramIDs!A$2:C$38,3,FALSE)","v":{"$error":"#N/A"}},{"$f":"TableOfContents!I$5","v":10000},"",{"$f":"TableOfContents!H$1","v":"grant no"},{"$f":"TableOfContents!I$1","v":"amd no"},{"$f":"TableOfContents!J$1","v":"fund source"}]
[{"$f":"VLOOKUP(TableOfContents!B$1,ProgramIDs!A$2:C$38,3,FALSE)","v":{"$error":"#N/A"}},{"$f":"TableOfContents!K$5","v":10001},"",{"$f":"TableOfContents!H$1","v":"grant no"},{"$f":"TableOfContents!I$1","v":"amd no"},{"$f":"TableOfContents!J$1","v":"fund source"}]
[{"$f":"VLOOKUP(TableOfContents!B$1,ProgramIDs!A$2:C$38,3,FALSE)","v":{"$error":"#N/A"}},{"$f":"TableOfContents!M$5","v":10002},"",{"$f":"TableOfContents!H$1","v":"grant no"},{"$f":"TableOfContents!I$1","v":"amd no"},{"$f":"TableOfContents!J$1","v":"fund source"}]
[null,null,"(no more than 50 projects)",null,null,{"$f":"TableOfContents!J$1","v":"fund source"}]
[null,null,null,null,null,{"$f":"TableOfContents!J$1","v":"fund source"}]
[null,null,null,null,null,{"$f":"TableOfContents!J$1","v":"fund source"}]
[null,null,null,null,null,{"$f":"TableOfContents!J$1","v":"fund source"}]
[null,null,null,null,null,{"$f":"TableOfContents!J$1","v":"fund source"}]
[null,null,null,null,null,{"$f":"TableOfContents!J$1","v":"fund source"}]
[null,null,null,null,null,{"$f":"TableOfContents!J$1","v":"fund source"}]
[null,null,null,null,null,{"$f":"TableOfContents!J$1","v":"fund source"}]
[null,null,null,null,null,{"$f":"TableOfContents!J$1","v":"fund source"}]
[null,null,null,null,null,{"$f":"TableOfContents!J$1","v":"fund source"}]
[null,null,null,null,null,{"$f":"TableOfContents!J$1","v":"fund source"}]
[null,null,null,null,null,{"$f":"TableOfContents!J$1","v":"fund source"}]
[null,null,null,null,null,{"$f":"TableOfContents!J$1","v":"fund source"}]
[null,null,null,null,null,{"$f":"TableOfContents!J$1","v":"fund source"}]
[null,null,null,null,null,{"$f":"TableOfContents!J$1","v":"fund source"}]
[null,null,null,null,null,{"$f":"TableOfContents!J$1","v":"fund source"}]
[null,null,null,null,null,{"$f":"TableOfContents!J$1","v":"fund source"}]
[null,null,null,null,null,{"$f":"TableOfContents!J$1","v":"fund source"}]
[null,null,null,null,null,{"$f":"TableOfContents!J$1","v":"fund source"}]
[null,null,null,null,null,{"$f":"TableOfContents!J$1","v":"fund source"}]
[null,null,null,null,null,{"$f":"TableOfContents!J$1","v":"fund source"}]
[null,null,null,null,null,{"$f":"TableOfContents!J$1","v":"fund source"}]
[null,null,null,null,null,{"$f":"TableOfContents!J$1","v":"fund source"}]
[null,null,null,null,null,{"$f":"TableOfContents!J$1","v":"fund source"}]
[null,null,null,null,null,{"$f":"TableOfContents!J$1","v":"fund source"}]
[null,null,null,null,null,{"$f":"TableOfContents!J$1","v":"fund source"}]
[null,null,null,null,null,{"$f":"TableOfContents!J$1","v":"fund source"}]
[null,null,null,null,null,{"$f":"TableOfContents!J$1","v":"fund source"}]

{"sheet":"TOC generator worksheet","index":61,"n_rows":202,"n_cols":23,"rows_kept":202,"cut":false,"hidden":false,"merged":[]}
["Program ID number","Year","Proj No","Federal","Match","unique","row index","years","projects","PI","Title","FED","MATCH","FED","MATCH","FED","MATCH","FED","MATCH",null,null,"COMMENT","minyear"]
[{"$f":"FundDataInput!A2","v":0},{"$f":"FundDataInput!B2","v":0},{"$f":"FundDataInput!C2","v":0},{"$f":"FundDataInput!D2","v":0},{"$f":"FundDataInput!E2","v":0},1,{"$f":"MATCH(ROW(F2)-1,F$1:F$201,0)","v":2},{"$f":"YEAR(TableOfContents!$B$3)","v":9999},{"$f":"TableOfContents!A7&TableOfContents!B7","v":""},{"$f":"IF(ISERROR(VLOOKUP(I2,ProjDataInput!$B$2:$J$51,9,FALSE)),\"\",VLOOKUP(I2,ProjDataInput!$B$2:$J$51,9,FALSE))","v":""},{"$f":"IF(ISERROR(VLOOKUP(I2,ProjDataInput!$B$2:$C$51,2,FALSE)),\"\",VLOOKUP(I2,ProjDataInput!$B$2:$C$51,2,FALSE))","v":""},{"$f":"SUMIFS($D$2:$D$201,$C$2:$C$201,\"=\"&I2,$B$2:$B$201,\"=\"&H$2)","v":0},{"$f":"SUMIFS($E$2:$E$201,$C$2:$C$201,\"=\"&I2,$B$2:$B$201,\"=\"&H$2)","v":0},{"$f":"SUMIFS($D$2:$D$201,$C$2:$C$201,\"=\"&I2,$B$2:$B$201,\"=\"&H$3)","v":0},{"$f":"SUMIFS($E$2:$E$201,$C$2:$C$201,\"=\"&I2,$B$2:$B$201,\"=\"&H$3)","v":0},{"$f":"SUMIFS($D$2:$D$201,$C$2:$C$201,\"=\"&I2,$B$2:$B$201,\"=\"&H$4)","v":0},{"$f":"SUMIFS($E$2:$E$201,$C$2:$C$201,\"=\"&I2,$B$2:$B$201,\"=\"&H$4)","v":0},{"$f":"SUMIFS($D$2:$D$201,$C$2:$C$201,\"=\"&I2,$B$2:$B$201,\"=\"&H$5)","v":0},{"$f":"SUMIFS($E$2:$E$201,$C$2:$C$201,\"=\"&I2,$B$2:$B$201,\"=\"&H$5)","v":0},null,null,{"$f":"LEFT(ProjDataInput!S2,32000)","v":""},{"$f":"IF(B2<2000,9999,B2)","v":9999}]
[{"$f":"FundDataInput!A3","v":0},{"$f":"FundDataInput!B3","v":0},{"$f":"FundDataInput!C3","v":0},{"$f":"FundDataInput!D3","v":0},{"$f":"FundDataInput!E3","v":0},{"$f":"IF(ISERROR(VLOOKUP(C3,C$2:C2,1,FALSE)),MAX(F$2:F2)+1,VLOOKUP(C3,C$2:F2,4,FALSE))","v":1},{"$f":"MATCH(ROW(F3)-1,F$1:F$201,0)","v":{"$error":"#N/A"}},{"$f":"H2+1","v":10000},{"$f":"TableOfContents!A8&TableOfContents!B8","v":""},{"$f":"IF(ISERROR(VLOOKUP(I3,ProjDataInput!$B$2:$J$51,9,FALSE)),\"\",VLOOKUP(I3,ProjDataInput!$B$2:$J$51,9,FALSE))","v":""},{"$f":"IF(ISERROR(VLOOKUP(I3,ProjDataInput!$B$2:$C$51,2,FALSE)),\"\",VLOOKUP(I3,ProjDataInput!$B$2:$C$51,2,FALSE))","v":""},0,0,0,0,0,0,0,0,null,null,{"$f":"LEFT(ProjDataInput!S3,32000)","v":""},{"$f":"IF(B3<2000,9999,B3)","v":9999}]
[{"$f":"FundDataInput!A4","v":0},{"$f":"FundDataInput!B4","v":0},{"$f":"FundDataInput!C4","v":0},{"$f":"FundDataInput!D4","v":0},{"$f":"FundDataInput!E4","v":0},{"$f":"IF(ISERROR(VLOOKUP(C4,C$2:C3,1,FALSE)),MAX(F$2:F3)+1,VLOOKUP(C4,C$2:F3,4,FALSE))","v":1},{"$error":"#N/A"},{"$f":"H3+1","v":10001},{"$f":"TableOfContents!A9&TableOfContents!B9","v":""},{"$f":"IF(ISERROR(VLOOKUP(I4,ProjDataInput!$B$2:$J$51,9,FALSE)),\"\",VLOOKUP(I4,ProjDataInput!$B$2:$J$51,9,FALSE))","v":""},{"$f":"IF(ISERROR(VLOOKUP(I4,ProjDataInput!$B$2:$C$51,2,FALSE)),\"\",VLOOKUP(I4,ProjDataInput!$B$2:$C$51,2,FALSE))","v":""},0,0,0,0,0,0,0,0,null,null,{"$f":"LEFT(ProjDataInput!S4,32000)","v":""},9999]
[{"$f":"FundDataInput!A5","v":0},{"$f":"FundDataInput!B5","v":0},{"$f":"FundDataInput!C5","v":0},{"$f":"FundDataInput!D5","v":0},{"$f":"FundDataInput!E5","v":0},{"$f":"IF(ISERROR(VLOOKUP(C5,C$2:C4,1,FALSE)),MAX(F$2:F4)+1,VLOOKUP(C5,C$2:F4,4,FALSE))","v":1},{"$error":"#N/A"},{"$f":"H4+1","v":10002},{"$f":"TableOfContents!A10&TableOfContents!B10","v":""},{"$f":"IF(ISERROR(VLOOKUP(I5,ProjDataInput!$B$2:$J$51,9,FALSE)),\"\",VLOOKUP(I5,ProjDataInput!$B$2:$J$51,9,FALSE))","v":""},{"$f":"IF(ISERROR(VLOOKUP(I5,ProjDataInput!$B$2:$C$51,2,FALSE)),\"\",VLOOKUP(I5,ProjDataInput!$B$2:$C$51,2,FALSE))","v":""},0,0,0,0,0,0,0,0,null,null,{"$f":"LEFT(ProjDataInput!S5,32000)","v":""},9999]
[{"$f":"FundDataInput!A6","v":0},{"$f":"FundDataInput!B6","v":0},{"$f":"FundDataInput!C6","v":0},{"$f":"FundDataInput!D6","v":0},{"$f":"FundDataInput!E6","v":0},{"$f":"IF(ISERROR(VLOOKUP(C6,C$2:C5,1,FALSE)),MAX(F$2:F5)+1,VLOOKUP(C6,C$2:F5,4,FALSE))","v":1},{"$error":"#N/A"},null,{"$f":"TableOfContents!A11&TableOfContents!B11","v":""},{"$f":"IF(ISERROR(VLOOKUP(I6,ProjDataInput!$B$2:$J$51,9,FALSE)),\"\",VLOOKUP(I6,ProjDataInput!$B$2:$J$51,9,FALSE))","v":""},{"$f":"IF(ISERROR(VLOOKUP(I6,ProjDataInput!$B$2:$C$51,2,FALSE)),\"\",VLOOKUP(I6,ProjDataInput!$B$2:$C$51,2,FALSE))","v":""},0,0,0,0,0,0,0,0,null,null,{"$f":"LEFT(ProjDataInput!S6,32000)","v":""},9999]
[{"$f":"FundDataInput!A7","v":0},{"$f":"FundDataInput!B7","v":0},{"$f":"FundDataInput!C7","v":0},{"$f":"FundDataInput!D7","v":0},{"$f":"FundDataInput!E7","v":0},{"$f":"IF(ISERROR(VLOOKUP(C7,C$2:C6,1,FALSE)),MAX(F$2:F6)+1,VLOOKUP(C7,C$2:F6,4,FALSE))","v":1},{"$error":"#N/A"},null,{"$f":"TableOfContents!A12&TableOfContents!B12","v":""},{"$f":"IF(ISERROR(VLOOKUP(I7,ProjDataInput!$B$2:$J$51,9,FALSE)),\"\",VLOOKUP(I7,ProjDataInput!$B$2:$J$51,9,FALSE))","v":""},{"$f":"IF(ISERROR(VLOOKUP(I7,ProjDataInput!$B$2:$C$51,2,FALSE)),\"\",VLOOKUP(I7,ProjDataInput!$B$2:$C$51,2,FALSE))","v":""},0,0,0,0,0,0,0,0,null,null,{"$f":"LEFT(ProjDataInput!S7,32000)","v":""},9999]
[{"$f":"FundDataInput!A8","v":0},{"$f":"FundDataInput!B8","v":0},{"$f":"FundDataInput!C8","v":0},{"$f":"FundDataInput!D8","v":0},{"$f":"FundDataInput!E8","v":0},{"$f":"IF(ISERROR(VLOOKUP(C8,C$2:C7,1,FALSE)),MAX(F$2:F7)+1,VLOOKUP(C8,C$2:F7,4,FALSE))","v":1},{"$error":"#N/A"},null,{"$f":"TableOfContents!A13&TableOfContents!B13","v":""},{"$f":"IF(ISERROR(VLOOKUP(I8,ProjDataInput!$B$2:$J$51,9,FALSE)),\"\",VLOOKUP(I8,ProjDataInput!$B$2:$J$51,9,FALSE))","v":""},{"$f":"IF(ISERROR(VLOOKUP(I8,ProjDataInput!$B$2:$C$51,2,FALSE)),\"\",VLOOKUP(I8,ProjDataInput!$B$2:$C$51,2,FALSE))","v":""},0,0,0,0,0,0,0,0,null,null,{"$f":"LEFT(ProjDataInput!S8,32000)","v":""},9999]
[{"$f":"FundDataInput!A9","v":0},{"$f":"FundDataInput!B9","v":0},{"$f":"FundDataInput!C9","v":0},{"$f":"FundDataInput!D9","v":0},{"$f":"FundDataInput!E9","v":0},{"$f":"IF(ISERROR(VLOOKUP(C9,C$2:C8,1,FALSE)),MAX(F$2:F8)+1,VLOOKUP(C9,C$2:F8,4,FALSE))","v":1},{"$error":"#N/A"},null,{"$f":"TableOfContents!A14&TableOfContents!B14","v":""},{"$f":"IF(ISERROR(VLOOKUP(I9,ProjDataInput!$B$2:$J$51,9,FALSE)),\"\",VLOOKUP(I9,ProjDataInput!$B$2:$J$51,9,FALSE))","v":""},{"$f":"IF(ISERROR(VLOOKUP(I9,ProjDataInput!$B$2:$C$51,2,FALSE)),\"\",VLOOKUP(I9,ProjDataInput!$B$2:$C$51,2,FALSE))","v":""},0,0,0,0,0,0,0,0,null,null,{"$f":"LEFT(ProjDataInput!S9,32000)","v":""},9999]
[{"$f":"FundDataInput!A10","v":0},{"$f":"FundDataInput!B10","v":0},{"$f":"FundDataInput!C10","v":0},{"$f":"FundDataInput!D10","v":0},{"$f":"FundDataInput!E10","v":0},{"$f":"IF(ISERROR(VLOOKUP(C10,C$2:C9,1,FALSE)),MAX(F$2:F9)+1,VLOOKUP(C10,C$2:F9,4,FALSE))","v":1},{"$error":"#N/A"},null,{"$f":"TableOfContents!A15&TableOfContents!B15","v":""},{"$f":"IF(ISERROR(VLOOKUP(I10,ProjDataInput!$B$2:$J$51,9,FALSE)),\"\",VLOOKUP(I10,ProjDataInput!$B$2:$J$51,9,FALSE))","v":""},{"$f":"IF(ISERROR(VLOOKUP(I10,ProjDataInput!$B$2:$C$51,2,FALSE)),\"\",VLOOKUP(I10,ProjDataInput!$B$2:$C$51,2,FALSE))","v":""},0,0,0,0,0,0,0,0,null,null,{"$f":"LEFT(ProjDataInput!S10,32000)","v":""},9999]
[{"$f":"FundDataInput!A11","v":0},{"$f":"FundDataInput!B11","v":0},{"$f":"FundDataInput!C11","v":0},{"$f":"FundDataInput!D11","v":0},{"$f":"FundDataInput!E11","v":0},{"$f":"IF(ISERROR(VLOOKUP(C11,C$2:C10,1,FALSE)),MAX(F$2:F10)+1,VLOOKUP(C11,C$2:F10,4,FALSE))","v":1},{"$error":"#N/A"},null,{"$f":"TableOfContents!A16&TableOfContents!B16","v":""},{"$f":"IF(ISERROR(VLOOKUP(I11,ProjDataInput!$B$2:$J$51,9,FALSE)),\"\",VLOOKUP(I11,ProjDataInput!$B$2:$J$51,9,FALSE))","v":""},{"$f":"IF(ISERROR(VLOOKUP(I11,ProjDataInput!$B$2:$C$51,2,FALSE)),\"\",VLOOKUP(I11,ProjDataInput!$B$2:$C$51,2,FALSE))","v":""},0,0,0,0,0,0,0,0,null,null,{"$f":"LEFT(ProjDataInput!S11,32000)","v":""},9999]
[{"$f":"FundDataInput!A12","v":0},{"$f":"FundDataInput!B12","v":0},{"$f":"FundDataInput!C12","v":0},{"$f":"FundDataInput!D12","v":0},{"$f":"FundDataInput!E12","v":0},{"$f":"IF(ISERROR(VLOOKUP(C12,C$2:C11,1,FALSE)),MAX(F$2:F11)+1,VLOOKUP(C12,C$2:F11,4,FALSE))","v":1},{"$error":"#N/A"},null,{"$f":"TableOfContents!A17&TableOfContents!B17","v":""},{"$f":"IF(ISERROR(VLOOKUP(I12,ProjDataInput!$B$2:$J$51,9,FALSE)),\"\",VLOOKUP(I12,ProjDataInput!$B$2:$J$51,9,FALSE))","v":""},{"$f":"IF(ISERROR(VLOOKUP(I12,ProjDataInput!$B$2:$C$51,2,FALSE)),\"\",VLOOKUP(I12,ProjDataInput!$B$2:$C$51,2,FALSE))","v":""},0,0,0,0,0,0,0,0,null,null,{"$f":"LEFT(ProjDataInput!S12,32000)","v":""},9999]
[{"$f":"FundDataInput!A13","v":0},{"$f":"FundDataInput!B13","v":0},{"$f":"FundDataInput!C13","v":0},{"$f":"FundDataInput!D13","v":0},{"$f":"FundDataInput!E13","v":0},{"$f":"IF(ISERROR(VLOOKUP(C13,C$2:C12,1,FALSE)),MAX(F$2:F12)+1,VLOOKUP(C13,C$2:F12,4,FALSE))","v":1},{"$error":"#N/A"},null,{"$f":"TableOfContents!A18&TableOfContents!B18","v":""},{"$f":"IF(ISERROR(VLOOKUP(I13,ProjDataInput!$B$2:$J$51,9,FALSE)),\"\",VLOOKUP(I13,ProjDataInput!$B$2:$J$51,9,FALSE))","v":""},{"$f":"IF(ISERROR(VLOOKUP(I13,ProjDataInput!$B$2:$C$51,2,FALSE)),\"\",VLOOKUP(I13,ProjDataInput!$B$2:$C$51,2,FALSE))","v":""},0,0,0,0,0,0,0,0,null,null,{"$f":"LEFT(ProjDataInput!S13,32000)","v":""},9999]
[{"$f":"FundDataInput!A14","v":0},{"$f":"FundDataInput!B14","v":0},{"$f":"FundDataInput!C14","v":0},{"$f":"FundDataInput!D14","v":0},{"$f":"FundDataInput!E14","v":0},{"$f":"IF(ISERROR(VLOOKUP(C14,C$2:C13,1,FALSE)),MAX(F$2:F13)+1,VLOOKUP(C14,C$2:F13,4,FALSE))","v":1},{"$error":"#N/A"},null,{"$f":"TableOfContents!A19&TableOfContents!B19","v":""},{"$f":"IF(ISERROR(VLOOKUP(I14,ProjDataInput!$B$2:$J$51,9,FALSE)),\"\",VLOOKUP(I14,ProjDataInput!$B$2:$J$51,9,FALSE))","v":""},{"$f":"IF(ISERROR(VLOOKUP(I14,ProjDataInput!$B$2:$C$51,2,FALSE)),\"\",VLOOKUP(I14,ProjDataInput!$B$2:$C$51,2,FALSE))","v":""},0,0,0,0,0,0,0,0,null,null,{"$f":"LEFT(ProjDataInput!S14,32000)","v":""},9999]
[{"$f":"FundDataInput!A15","v":0},{"$f":"FundDataInput!B15","v":0},{"$f":"FundDataInput!C15","v":0},{"$f":"FundDataInput!D15","v":0},{"$f":"FundDataInput!E15","v":0},{"$f":"IF(ISERROR(VLOOKUP(C15,C$2:C14,1,FALSE)),MAX(F$2:F14)+1,VLOOKUP(C15,C$2:F14,4,FALSE))","v":1},{"$error":"#N/A"},null,{"$f":"TableOfContents!A20&TableOfContents!B20","v":""},{"$f":"IF(ISERROR(VLOOKUP(I15,ProjDataInput!$B$2:$J$51,9,FALSE)),\"\",VLOOKUP(I15,ProjDataInput!$B$2:$J$51,9,FALSE))","v":""},{"$f":"IF(ISERROR(VLOOKUP(I15,ProjDataInput!$B$2:$C$51,2,FALSE)),\"\",VLOOKUP(I15,ProjDataInput!$B$2:$C$51,2,FALSE))","v":""},0,0,0,0,0,0,0,0,null,null,{"$f":"LEFT(ProjDataInput!S15,32000)","v":""},9999]
[{"$f":"FundDataInput!A16","v":0},{"$f":"FundDataInput!B16","v":0},{"$f":"FundDataInput!C16","v":0},{"$f":"FundDataInput!D16","v":0},{"$f":"FundDataInput!E16","v":0},{"$f":"IF(ISERROR(VLOOKUP(C16,C$2:C15,1,FALSE)),MAX(F$2:F15)+1,VLOOKUP(C16,C$2:F15,4,FALSE))","v":1},{"$error":"#N/A"},null,{"$f":"TableOfContents!A21&TableOfContents!B21","v":""},{"$f":"IF(ISERROR(VLOOKUP(I16,ProjDataInput!$B$2:$J$51,9,FALSE)),\"\",VLOOKUP(I16,ProjDataInput!$B$2:$J$51,9,FALSE))","v":""},{"$f":"IF(ISERROR(VLOOKUP(I16,ProjDataInput!$B$2:$C$51,2,FALSE)),\"\",VLOOKUP(I16,ProjDataInput!$B$2:$C$51,2,FALSE))","v":""},0,0,0,0,0,0,0,0,null,null,{"$f":"LEFT(ProjDataInput!S16,32000)","v":""},9999]
[{"$f":"FundDataInput!A17","v":0},{"$f":"FundDataInput!B17","v":0},{"$f":"FundDataInput!C17","v":0},{"$f":"FundDataInput!D17","v":0},{"$f":"FundDataInput!E17","v":0},{"$f":"IF(ISERROR(VLOOKUP(C17,C$2:C16,1,FALSE)),MAX(F$2:F16)+1,VLOOKUP(C17,C$2:F16,4,FALSE))","v":1},{"$error":"#N/A"},null,{"$f":"TableOfContents!A22&TableOfContents!B22","v":""},{"$f":"IF(ISERROR(VLOOKUP(I17,ProjDataInput!$B$2:$J$51,9,FALSE)),\"\",VLOOKUP(I17,ProjDataInput!$B$2:$J$51,9,FALSE))","v":""},{"$f":"IF(ISERROR(VLOOKUP(I17,ProjDataInput!$B$2:$C$51,2,FALSE)),\"\",VLOOKUP(I17,ProjDataInput!$B$2:$C$51,2,FALSE))","v":""},0,0,0,0,0,0,0,0,null,null,{"$f":"LEFT(ProjDataInput!S17,32000)","v":""},9999]
[{"$f":"FundDataInput!A18","v":0},{"$f":"FundDataInput!B18","v":0},{"$f":"FundDataInput!C18","v":0},{"$f":"FundDataInput!D18","v":0},{"$f":"FundDataInput!E18","v":0},{"$f":"IF(ISERROR(VLOOKUP(C18,C$2:C17,1,FALSE)),MAX(F$2:F17)+1,VLOOKUP(C18,C$2:F17,4,FALSE))","v":1},{"$error":"#N/A"},null,{"$f":"TableOfContents!A23&TableOfContents!B23","v":""},{"$f":"IF(ISERROR(VLOOKUP(I18,ProjDataInput!$B$2:$J$51,9,FALSE)),\"\",VLOOKUP(I18,ProjDataInput!$B$2:$J$51,9,FALSE))","v":""},{"$f":"IF(ISERROR(VLOOKUP(I18,ProjDataInput!$B$2:$C$51,2,FALSE)),\"\",VLOOKUP(I18,ProjDataInput!$B$2:$C$51,2,FALSE))","v":""},0,0,0,0,0,0,0,0,null,null,{"$f":"LEFT(ProjDataInput!S18,32000)","v":""},9999]
[{"$f":"FundDataInput!A19","v":0},{"$f":"FundDataInput!B19","v":0},{"$f":"FundDataInput!C19","v":0},{"$f":"FundDataInput!D19","v":0},{"$f":"FundDataInput!E19","v":0},{"$f":"IF(ISERROR(VLOOKUP(C19,C$2:C18,1,FALSE)),MAX(F$2:F18)+1,VLOOKUP(C19,C$2:F18,4,FALSE))","v":1},{"$error":"#N/A"},null,{"$f":"TableOfContents!A24&TableOfContents!B24","v":""},{"$f":"IF(ISERROR(VLOOKUP(I19,ProjDataInput!$B$2:$J$51,9,FALSE)),\"\",VLOOKUP(I19,ProjDataInput!$B$2:$J$51,9,FALSE))","v":""},{"$f":"IF(ISERROR(VLOOKUP(I19,ProjDataInput!$B$2:$C$51,2,FALSE)),\"\",VLOOKUP(I19,ProjDataInput!$B$2:$C$51,2,FALSE))","v":""},0,0,0,0,0,0,0,0,null,null,{"$f":"LEFT(ProjDataInput!S19,32000)","v":""},9999]
[{"$f":"FundDataInput!A20","v":0},{"$f":"FundDataInput!B20","v":0},{"$f":"FundDataInput!C20","v":0},{"$f":"FundDataInput!D20","v":0},{"$f":"FundDataInput!E20","v":0},{"$f":"IF(ISERROR(VLOOKUP(C20,C$2:C19,1,FALSE)),MAX(F$2:F19)+1,VLOOKUP(C20,C$2:F19,4,FALSE))","v":1},{"$error":"#N/A"},null,{"$f":"TableOfContents!A25&TableOfContents!B25","v":""},{"$f":"IF(ISERROR(VLOOKUP(I20,ProjDataInput!$B$2:$J$51,9,FALSE)),\"\",VLOOKUP(I20,ProjDataInput!$B$2:$J$51,9,FALSE))","v":""},{"$f":"IF(ISERROR(VLOOKUP(I20,ProjDataInput!$B$2:$C$51,2,FALSE)),\"\",VLOOKUP(I20,ProjDataInput!$B$2:$C$51,2,FALSE))","v":""},0,0,0,0,0,0,0,0,null,null,{"$f":"LEFT(ProjDataInput!S20,32000)","v":""},9999]
[{"$f":"FundDataInput!A21","v":0},{"$f":"FundDataInput!B21","v":0},{"$f":"FundDataInput!C21","v":0},{"$f":"FundDataInput!D21","v":0},{"$f":"FundDataInput!E21","v":0},{"$f":"IF(ISERROR(VLOOKUP(C21,C$2:C20,1,FALSE)),MAX(F$2:F20)+1,VLOOKUP(C21,C$2:F20,4,FALSE))","v":1},{"$error":"#N/A"},null,{"$f":"TableOfContents!A26&TableOfContents!B26","v":""},{"$f":"IF(ISERROR(VLOOKUP(I21,ProjDataInput!$B$2:$J$51,9,FALSE)),\"\",VLOOKUP(I21,ProjDataInput!$B$2:$J$51,9,FALSE))","v":""},{"$f":"IF(ISERROR(VLOOKUP(I21,ProjDataInput!$B$2:$C$51,2,FALSE)),\"\",VLOOKUP(I21,ProjDataInput!$B$2:$C$51,2,FALSE))","v":""},0,0,0,0,0,0,0,0,null,null,{"$f":"LEFT(ProjDataInput!S21,32000)","v":""},9999]
[{"$f":"FundDataInput!A22","v":0},{"$f":"FundDataInput!B22","v":0},{"$f":"FundDataInput!C22","v":0},{"$f":"FundDataInput!D22","v":0},{"$f":"FundDataInput!E22","v":0},{"$f":"IF(ISERROR(VLOOKUP(C22,C$2:C21,1,FALSE)),MAX(F$2:F21)+1,VLOOKUP(C22,C$2:F21,4,FALSE))","v":1},{"$error":"#N/A"},null,{"$f":"TableOfContents!A27&TableOfContents!B27","v":""},{"$f":"IF(ISERROR(VLOOKUP(I22,ProjDataInput!$B$2:$J$51,9,FALSE)),\"\",VLOOKUP(I22,ProjDataInput!$B$2:$J$51,9,FALSE))","v":""},{"$f":"IF(ISERROR(VLOOKUP(I22,ProjDataInput!$B$2:$C$51,2,FALSE)),\"\",VLOOKUP(I22,ProjDataInput!$B$2:$C$51,2,FALSE))","v":""},0,0,0,0,0,0,0,0,null,null,{"$f":"LEFT(ProjDataInput!S22,32000)","v":""},9999]
[{"$f":"FundDataInput!A23","v":0},{"$f":"FundDataInput!B23","v":0},{"$f":"FundDataInput!C23","v":0},{"$f":"FundDataInput!D23","v":0},{"$f":"FundDataInput!E23","v":0},{"$f":"IF(ISERROR(VLOOKUP(C23,C$2:C22,1,FALSE)),MAX(F$2:F22)+1,VLOOKUP(C23,C$2:F22,4,FALSE))","v":1},{"$error":"#N/A"},null,{"$f":"TableOfContents!A28&TableOfContents!B28","v":""},{"$f":"IF(ISERROR(VLOOKUP(I23,ProjDataInput!$B$2:$J$51,9,FALSE)),\"\",VLOOKUP(I23,ProjDataInput!$B$2:$J$51,9,FALSE))","v":""},{"$f":"IF(ISERROR(VLOOKUP(I23,ProjDataInput!$B$2:$C$51,2,FALSE)),\"\",VLOOKUP(I23,ProjDataInput!$B$2:$C$51,2,FALSE))","v":""},0,0,0,0,0,0,0,0,null,null,{"$f":"LEFT(ProjDataInput!S23,32000)","v":""},9999]
[{"$f":"FundDataInput!A24","v":0},{"$f":"FundDataInput!B24","v":0},{"$f":"FundDataInput!C24","v":0},{"$f":"FundDataInput!D24","v":0},{"$f":"FundDataInput!E24","v":0},{"$f":"IF(ISERROR(VLOOKUP(C24,C$2:C23,1,FALSE)),MAX(F$2:F23)+1,VLOOKUP(C24,C$2:F23,4,FALSE))","v":1},{"$error":"#N/A"},null,{"$f":"TableOfContents!A29&TableOfContents!B29","v":""},{"$f":"IF(ISERROR(VLOOKUP(I24,ProjDataInput!$B$2:$J$51,9,FALSE)),\"\",VLOOKUP(I24,ProjDataInput!$B$2:$J$51,9,FALSE))","v":""},{"$f":"IF(ISERROR(VLOOKUP(I24,ProjDataInput!$B$2:$C$51,2,FALSE)),\"\",VLOOKUP(I24,ProjDataInput!$B$2:$C$51,2,FALSE))","v":""},0,0,0,0,0,0,0,0,null,null,{"$f":"LEFT(ProjDataInput!S24,32000)","v":""},9999]
[{"$f":"FundDataInput!A25","v":0},{"$f":"FundDataInput!B25","v":0},{"$f":"FundDataInput!C25","v":0},{"$f":"FundDataInput!D25","v":0},{"$f":"FundDataInput!E25","v":0},{"$f":"IF(ISERROR(VLOOKUP(C25,C$2:C24,1,FALSE)),MAX(F$2:F24)+1,VLOOKUP(C25,C$2:F24,4,FALSE))","v":1},{"$error":"#N/A"},null,{"$f":"TableOfContents!A30&TableOfContents!B30","v":""},{"$f":"IF(ISERROR(VLOOKUP(I25,ProjDataInput!$B$2:$J$51,9,FALSE)),\"\",VLOOKUP(I25,ProjDataInput!$B$2:$J$51,9,FALSE))","v":""},{"$f":"IF(ISERROR(VLOOKUP(I25,ProjDataInput!$B$2:$C$51,2,FALSE)),\"\",VLOOKUP(I25,ProjDataInput!$B$2:$C$51,2,FALSE))","v":""},0,0,0,0,0,0,0,0,null,null,{"$f":"LEFT(ProjDataInput!S25,32000)","v":""},9999]
[{"$f":"FundDataInput!A26","v":0},{"$f":"FundDataInput!B26","v":0},{"$f":"FundDataInput!C26","v":0},{"$f":"FundDataInput!D26","v":0},{"$f":"FundDataInput!E26","v":0},{"$f":"IF(ISERROR(VLOOKUP(C26,C$2:C25,1,FALSE)),MAX(F$2:F25)+1,VLOOKUP(C26,C$2:F25,4,FALSE))","v":1},{"$error":"#N/A"},null,{"$f":"TableOfContents!A31&TableOfContents!B31","v":""},{"$f":"IF(ISERROR(VLOOKUP(I26,ProjDataInput!$B$2:$J$51,9,FALSE)),\"\",VLOOKUP(I26,ProjDataInput!$B$2:$J$51,9,FALSE))","v":""},{"$f":"IF(ISERROR(VLOOKUP(I26,ProjDataInput!$B$2:$C$51,2,FALSE)),\"\",VLOOKUP(I26,ProjDataInput!$B$2:$C$51,2,FALSE))","v":""},0,0,0,0,0,0,0,0,null,null,{"$f":"LEFT(ProjDataInput!S26,32000)","v":""},9999]
[{"$f":"FundDataInput!A27","v":0},{"$f":"FundDataInput!B27","v":0},{"$f":"FundDataInput!C27","v":0},{"$f":"FundDataInput!D27","v":0},{"$f":"FundDataInput!E27","v":0},{"$f":"IF(ISERROR(VLOOKUP(C27,C$2:C26,1,FALSE)),MAX(F$2:F26)+1,VLOOKUP(C27,C$2:F26,4,FALSE))","v":1},{"$error":"#N/A"},null,{"$f":"TableOfContents!A32&TableOfContents!B32","v":""},{"$f":"IF(ISERROR(VLOOKUP(I27,ProjDataInput!$B$2:$J$51,9,FALSE)),\"\",VLOOKUP(I27,ProjDataInput!$B$2:$J$51,9,FALSE))","v":""},{"$f":"IF(ISERROR(VLOOKUP(I27,ProjDataInput!$B$2:$C$51,2,FALSE)),\"\",VLOOKUP(I27,ProjDataInput!$B$2:$C$51,2,FALSE))","v":""},0,0,0,0,0,0,0,0,null,null,{"$f":"LEFT(ProjDataInput!S27,32000)","v":""},9999]
[{"$f":"FundDataInput!A28","v":0},{"$f":"FundDataInput!B28","v":0},{"$f":"FundDataInput!C28","v":0},{"$f":"FundDataInput!D28","v":0},{"$f":"FundDataInput!E28","v":0},{"$f":"IF(ISERROR(VLOOKUP(C28,C$2:C27,1,FALSE)),MAX(F$2:F27)+1,VLOOKUP(C28,C$2:F27,4,FALSE))","v":1},{"$error":"#N/A"},null,{"$f":"TableOfContents!A33&TableOfContents!B33","v":""},{"$f":"IF(ISERROR(VLOOKUP(I28,ProjDataInput!$B$2:$J$51,9,FALSE)),\"\",VLOOKUP(I28,ProjDataInput!$B$2:$J$51,9,FALSE))","v":""},{"$f":"IF(ISERROR(VLOOKUP(I28,ProjDataInput!$B$2:$C$51,2,FALSE)),\"\",VLOOKUP(I28,ProjDataInput!$B$2:$C$51,2,FALSE))","v":""},0,0,0,0,0,0,0,0,null,null,{"$f":"LEFT(ProjDataInput!S28,32000)","v":""},9999]
[{"$f":"FundDataInput!A29","v":0},{"$f":"FundDataInput!B29","v":0},{"$f":"FundDataInput!C29","v":0},{"$f":"FundDataInput!D29","v":0},{"$f":"FundDataInput!E29","v":0},{"$f":"IF(ISERROR(VLOOKUP(C29,C$2:C28,1,FALSE)),MAX(F$2:F28)+1,VLOOKUP(C29,C$2:F28,4,FALSE))","v":1},{"$error":"#N/A"},null,{"$f":"TableOfContents!A34&TableOfContents!B34","v":""},{"$f":"IF(ISERROR(VLOOKUP(I29,ProjDataInput!$B$2:$J$51,9,FALSE)),\"\",VLOOKUP(I29,ProjDataInput!$B$2:$J$51,9,FALSE))","v":""},{"$f":"IF(ISERROR(VLOOKUP(I29,ProjDataInput!$B$2:$C$51,2,FALSE)),\"\",VLOOKUP(I29,ProjDataInput!$B$2:$C$51,2,FALSE))","v":""},0,0,0,0,0,0,0,0,null,null,{"$f":"LEFT(ProjDataInput!S29,32000)","v":""},9999]
[{"$f":"FundDataInput!A30","v":0},{"$f":"FundDataInput!B30","v":0},{"$f":"FundDataInput!C30","v":0},{"$f":"FundDataInput!D30","v":0},{"$f":"FundDataInput!E30","v":0},{"$f":"IF(ISERROR(VLOOKUP(C30,C$2:C29,1,FALSE)),MAX(F$2:F29)+1,VLOOKUP(C30,C$2:F29,4,FALSE))","v":1},{"$error":"#N/A"},null,{"$f":"TableOfContents!A35&TableOfContents!B35","v":""},{"$f":"IF(ISERROR(VLOOKUP(I30,ProjDataInput!$B$2:$J$51,9,FALSE)),\"\",VLOOKUP(I30,ProjDataInput!$B$2:$J$51,9,FALSE))","v":""},{"$f":"IF(ISERROR(VLOOKUP(I30,ProjDataInput!$B$2:$C$51,2,FALSE)),\"\",VLOOKUP(I30,ProjDataInput!$B$2:$C$51,2,FALSE))","v":""},0,0,0,0,0,0,0,0,null,null,{"$f":"LEFT(ProjDataInput!S30,32000)","v":""},9999]
[{"$f":"FundDataInput!A31","v":0},{"$f":"FundDataInput!B31","v":0},{"$f":"FundDataInput!C31","v":0},{"$f":"FundDataInput!D31","v":0},{"$f":"FundDataInput!E31","v":0},{"$f":"IF(ISERROR(VLOOKUP(C31,C$2:C30,1,FALSE)),MAX(F$2:F30)+1,VLOOKUP(C31,C$2:F30,4,FALSE))","v":1},{"$error":"#N/A"},null,{"$f":"TableOfContents!A36&TableOfContents!B36","v":""},{"$f":"IF(ISERROR(VLOOKUP(I31,ProjDataInput!$B$2:$J$51,9,FALSE)),\"\",VLOOKUP(I31,ProjDataInput!$B$2:$J$51,9,FALSE))","v":""},{"$f":"IF(ISERROR(VLOOKUP(I31,ProjDataInput!$B$2:$C$51,2,FALSE)),\"\",VLOOKUP(I31,ProjDataInput!$B$2:$C$51,2,FALSE))","v":""},0,0,0,0,0,0,0,0,null,null,{"$f":"LEFT(ProjDataInput!S31,32000)","v":""},9999]
[{"$f":"FundDataInput!A32","v":0},{"$f":"FundDataInput!B32","v":0},{"$f":"FundDataInput!C32","v":0},{"$f":"FundDataInput!D32","v":0},{"$f":"FundDataInput!E32","v":0},{"$f":"IF(ISERROR(VLOOKUP(C32,C$2:C31,1,FALSE)),MAX(F$2:F31)+1,VLOOKUP(C32,C$2:F31,4,FALSE))","v":1},{"$error":"#N/A"},null,{"$f":"TableOfContents!A37&TableOfContents!B37","v":""},{"$f":"IF(ISERROR(VLOOKUP(I32,ProjDataInput!$B$2:$J$51,9,FALSE)),\"\",VLOOKUP(I32,ProjDataInput!$B$2:$J$51,9,FALSE))","v":""},{"$f":"IF(ISERROR(VLOOKUP(I32,ProjDataInput!$B$2:$C$51,2,FALSE)),\"\",VLOOKUP(I32,ProjDataInput!$B$2:$C$51,2,FALSE))","v":""},0,0,0,0,0,0,0,0,null,null,{"$f":"LEFT(ProjDataInput!S32,32000)","v":""},9999]
[{"$f":"FundDataInput!A33","v":0},{"$f":"FundDataInput!B33","v":0},{"$f":"FundDataInput!C33","v":0},{"$f":"FundDataInput!D33","v":0},{"$f":"FundDataInput!E33","v":0},{"$f":"IF(ISERROR(VLOOKUP(C33,C$2:C32,1,FALSE)),MAX(F$2:F32)+1,VLOOKUP(C33,C$2:F32,4,FALSE))","v":1},{"$error":"#N/A"},null,{"$f":"TableOfContents!A38&TableOfContents!B38","v":""},{"$f":"IF(ISERROR(VLOOKUP(I33,ProjDataInput!$B$2:$J$51,9,FALSE)),\"\",VLOOKUP(I33,ProjDataInput!$B$2:$J$51,9,FALSE))","v":""},{"$f":"IF(ISERROR(VLOOKUP(I33,ProjDataInput!$B$2:$C$51,2,FALSE)),\"\",VLOOKUP(I33,ProjDataInput!$B$2:$C$51,2,FALSE))","v":""},0,0,0,0,0,0,0,0,null,null,{"$f":"LEFT(ProjDataInput!S33,32000)","v":""},9999]
[{"$f":"FundDataInput!A34","v":0},{"$f":"FundDataInput!B34","v":0},{"$f":"FundDataInput!C34","v":0},{"$f":"FundDataInput!D34","v":0},{"$f":"FundDataInput!E34","v":0},{"$f":"IF(ISERROR(VLOOKUP(C34,C$2:C33,1,FALSE)),MAX(F$2:F33)+1,VLOOKUP(C34,C$2:F33,4,FALSE))","v":1},{"$error":"#N/A"},null,{"$f":"TableOfContents!A39&TableOfContents!B39","v":""},{"$f":"IF(ISERROR(VLOOKUP(I34,ProjDataInput!$B$2:$J$51,9,FALSE)),\"\",VLOOKUP(I34,ProjDataInput!$B$2:$J$51,9,FALSE))","v":""},{"$f":"IF(ISERROR(VLOOKUP(I34,ProjDataInput!$B$2:$C$51,2,FALSE)),\"\",VLOOKUP(I34,ProjDataInput!$B$2:$C$51,2,FALSE))","v":""},0,0,0,0,0,0,0,0,null,null,{"$f":"LEFT(ProjDataInput!S34,32000)","v":""},9999]
[{"$f":"FundDataInput!A35","v":0},{"$f":"FundDataInput!B35","v":0},{"$f":"FundDataInput!C35","v":0},{"$f":"FundDataInput!D35","v":0},{"$f":"FundDataInput!E35","v":0},{"$f":"IF(ISERROR(VLOOKUP(C35,C$2:C34,1,FALSE)),MAX(F$2:F34)+1,VLOOKUP(C35,C$2:F34,4,FALSE))","v":1},{"$error":"#N/A"},null,{"$f":"TableOfContents!A40&TableOfContents!B40","v":""},{"$f":"IF(ISERROR(VLOOKUP(I35,ProjDataInput!$B$2:$J$51,9,FALSE)),\"\",VLOOKUP(I35,ProjDataInput!$B$2:$J$51,9,FALSE))","v":""},{"$f":"IF(ISERROR(VLOOKUP(I35,ProjDataInput!$B$2:$C$51,2,FALSE)),\"\",VLOOKUP(I35,ProjDataInput!$B$2:$C$51,2,FALSE))","v":""},0,0,0,0,0,0,0,0,null,null,{"$f":"LEFT(ProjDataInput!S35,32000)","v":""},9999]
[{"$f":"FundDataInput!A36","v":0},{"$f":"FundDataInput!B36","v":0},{"$f":"FundDataInput!C36","v":0},{"$f":"FundDataInput!D36","v":0},{"$f":"FundDataInput!E36","v":0},{"$f":"IF(ISERROR(VLOOKUP(C36,C$2:C35,1,FALSE)),MAX(F$2:F35)+1,VLOOKUP(C36,C$2:F35,4,FALSE))","v":1},{"$error":"#N/A"},null,{"$f":"TableOfContents!A41&TableOfContents!B41","v":""},{"$f":"IF(ISERROR(VLOOKUP(I36,ProjDataInput!$B$2:$J$51,9,FALSE)),\"\",VLOOKUP(I36,ProjDataInput!$B$2:$J$51,9,FALSE))","v":""},{"$f":"IF(ISERROR(VLOOKUP(I36,ProjDataInput!$B$2:$C$51,2,FALSE)),\"\",VLOOKUP(I36,ProjDataInput!$B$2:$C$51,2,FALSE))","v":""},0,0,0,0,0,0,0,0,null,null,{"$f":"LEFT(ProjDataInput!S36,32000)","v":""},9999]
[{"$f":"FundDataInput!A37","v":0},{"$f":"FundDataInput!B37","v":0},{"$f":"FundDataInput!C37","v":0},{"$f":"FundDataInput!D37","v":0},{"$f":"FundDataInput!E37","v":0},{"$f":"IF(ISERROR(VLOOKUP(C37,C$2:C36,1,FALSE)),MAX(F$2:F36)+1,VLOOKUP(C37,C$2:F36,4,FALSE))","v":1},{"$error":"#N/A"},null,{"$f":"TableOfContents!A42&TableOfContents!B42","v":""},{"$f":"IF(ISERROR(VLOOKUP(I37,ProjDataInput!$B$2:$J$51,9,FALSE)),\"\",VLOOKUP(I37,ProjDataInput!$B$2:$J$51,9,FALSE))","v":""},{"$f":"IF(ISERROR(VLOOKUP(I37,ProjDataInput!$B$2:$C$51,2,FALSE)),\"\",VLOOKUP(I37,ProjDataInput!$B$2:$C$51,2,FALSE))","v":""},0,0,0,0,0,0,0,0,null,null,{"$f":"LEFT(ProjDataInput!S37,32000)","v":""},9999]
[{"$f":"FundDataInput!A38","v":0},{"$f":"FundDataInput!B38","v":0},{"$f":"FundDataInput!C38","v":0},{"$f":"FundDataInput!D38","v":0},{"$f":"FundDataInput!E38","v":0},{"$f":"IF(ISERROR(VLOOKUP(C38,C$2:C37,1,FALSE)),MAX(F$2:F37)+1,VLOOKUP(C38,C$2:F37,4,FALSE))","v":1},{"$error":"#N/A"},null,{"$f":"TableOfContents!A43&TableOfContents!B43","v":""},{"$f":"IF(ISERROR(VLOOKUP(I38,ProjDataInput!$B$2:$J$51,9,FALSE)),\"\",VLOOKUP(I38,ProjDataInput!$B$2:$J$51,9,FALSE))","v":""},{"$f":"IF(ISERROR(VLOOKUP(I38,ProjDataInput!$B$2:$C$51,2,FALSE)),\"\",VLOOKUP(I38,ProjDataInput!$B$2:$C$51,2,FALSE))","v":""},0,0,0,0,0,0,0,0,null,null,{"$f":"LEFT(ProjDataInput!S38,32000)","v":""},9999]
[{"$f":"FundDataInput!A39","v":0},{"$f":"FundDataInput!B39","v":0},{"$f":"FundDataInput!C39","v":0},{"$f":"FundDataInput!D39","v":0},{"$f":"FundDataInput!E39","v":0},{"$f":"IF(ISERROR(VLOOKUP(C39,C$2:C38,1,FALSE)),MAX(F$2:F38)+1,VLOOKUP(C39,C$2:F38,4,FALSE))","v":1},{"$error":"#N/A"},null,{"$f":"TableOfContents!A44&TableOfContents!B44","v":""},{"$f":"IF(ISERROR(VLOOKUP(I39,ProjDataInput!$B$2:$J$51,9,FALSE)),\"\",VLOOKUP(I39,ProjDataInput!$B$2:$J$51,9,FALSE))","v":""},{"$f":"IF(ISERROR(VLOOKUP(I39,ProjDataInput!$B$2:$C$51,2,FALSE)),\"\",VLOOKUP(I39,ProjDataInput!$B$2:$C$51,2,FALSE))","v":""},0,0,0,0,0,0,0,0,null,null,{"$f":"LEFT(ProjDataInput!S39,32000)","v":""},9999]
[{"$f":"FundDataInput!A40","v":0},{"$f":"FundDataInput!B40","v":0},{"$f":"FundDataInput!C40","v":0},{"$f":"FundDataInput!D40","v":0},{"$f":"FundDataInput!E40","v":0},{"$f":"IF(ISERROR(VLOOKUP(C40,C$2:C39,1,FALSE)),MAX(F$2:F39)+1,VLOOKUP(C40,C$2:F39,4,FALSE))","v":1},{"$error":"#N/A"},null,{"$f":"TableOfContents!A45&TableOfContents!B45","v":""},{"$f":"IF(ISERROR(VLOOKUP(I40,ProjDataInput!$B$2:$J$51,9,FALSE)),\"\",VLOOKUP(I40,ProjDataInput!$B$2:$J$51,9,FALSE))","v":""},{"$f":"IF(ISERROR(VLOOKUP(I40,ProjDataInput!$B$2:$C$51,2,FALSE)),\"\",VLOOKUP(I40,ProjDataInput!$B$2:$C$51,2,FALSE))","v":""},0,0,0,0,0,0,0,0,null,null,{"$f":"LEFT(ProjDataInput!S40,32000)","v":""},9999]
[{"$f":"FundDataInput!A41","v":0},{"$f":"FundDataInput!B41","v":0},{"$f":"FundDataInput!C41","v":0},{"$f":"FundDataInput!D41","v":0},{"$f":"FundDataInput!E41","v":0},{"$f":"IF(ISERROR(VLOOKUP(C41,C$2:C40,1,FALSE)),MAX(F$2:F40)+1,VLOOKUP(C41,C$2:F40,4,FALSE))","v":1},{"$error":"#N/A"},null,{"$f":"TableOfContents!A46&TableOfContents!B46","v":""},{"$f":"IF(ISERROR(VLOOKUP(I41,ProjDataInput!$B$2:$J$51,9,FALSE)),\"\",VLOOKUP(I41,ProjDataInput!$B$2:$J$51,9,FALSE))","v":""},{"$f":"IF(ISERROR(VLOOKUP(I41,ProjDataInput!$B$2:$C$51,2,FALSE)),\"\",VLOOKUP(I41,ProjDataInput!$B$2:$C$51,2,FALSE))","v":""},0,0,0,0,0,0,0,0,null,null,{"$f":"LEFT(ProjDataInput!S41,32000)","v":""},9999]
[{"$f":"FundDataInput!A42","v":0},{"$f":"FundDataInput!B42","v":0},{"$f":"FundDataInput!C42","v":0},{"$f":"FundDataInput!D42","v":0},{"$f":"FundDataInput!E42","v":0},{"$f":"IF(ISERROR(VLOOKUP(C42,C$2:C41,1,FALSE)),MAX(F$2:F41)+1,VLOOKUP(C42,C$2:F41,4,FALSE))","v":1},{"$error":"#N/A"},null,{"$f":"TableOfContents!A47&TableOfContents!B47","v":""},{"$f":"IF(ISERROR(VLOOKUP(I42,ProjDataInput!$B$2:$J$51,9,FALSE)),\"\",VLOOKUP(I42,ProjDataInput!$B$2:$J$51,9,FALSE))","v":""},{"$f":"IF(ISERROR(VLOOKUP(I42,ProjDataInput!$B$2:$C$51,2,FALSE)),\"\",VLOOKUP(I42,ProjDataInput!$B$2:$C$51,2,FALSE))","v":""},0,0,0,0,0,0,0,0,null,null,{"$f":"LEFT(ProjDataInput!S42,32000)","v":""},9999]
[{"$f":"FundDataInput!A43","v":0},{"$f":"FundDataInput!B43","v":0},{"$f":"FundDataInput!C43","v":0},{"$f":"FundDataInput!D43","v":0},{"$f":"FundDataInput!E43","v":0},{"$f":"IF(ISERROR(VLOOKUP(C43,C$2:C42,1,FALSE)),MAX(F$2:F42)+1,VLOOKUP(C43,C$2:F42,4,FALSE))","v":1},{"$error":"#N/A"},null,{"$f":"TableOfContents!A48&TableOfContents!B48","v":""},{"$f":"IF(ISERROR(VLOOKUP(I43,ProjDataInput!$B$2:$J$51,9,FALSE)),\"\",VLOOKUP(I43,ProjDataInput!$B$2:$J$51,9,FALSE))","v":""},{"$f":"IF(ISERROR(VLOOKUP(I43,ProjDataInput!$B$2:$C$51,2,FALSE)),\"\",VLOOKUP(I43,ProjDataInput!$B$2:$C$51,2,FALSE))","v":""},0,0,0,0,0,0,0,0,null,null,{"$f":"LEFT(ProjDataInput!S43,32000)","v":""},9999]
[{"$f":"FundDataInput!A44","v":0},{"$f":"FundDataInput!B44","v":0},{"$f":"FundDataInput!C44","v":0},{"$f":"FundDataInput!D44","v":0},{"$f":"FundDataInput!E44","v":0},{"$f":"IF(ISERROR(VLOOKUP(C44,C$2:C43,1,FALSE)),MAX(F$2:F43)+1,VLOOKUP(C44,C$2:F43,4,FALSE))","v":1},{"$error":"#N/A"},null,{"$f":"TableOfContents!A49&TableOfContents!B49","v":""},{"$f":"IF(ISERROR(VLOOKUP(I44,ProjDataInput!$B$2:$J$51,9,FALSE)),\"\",VLOOKUP(I44,ProjDataInput!$B$2:$J$51,9,FALSE))","v":""},{"$f":"IF(ISERROR(VLOOKUP(I44,ProjDataInput!$B$2:$C$51,2,FALSE)),\"\",VLOOKUP(I44,ProjDataInput!$B$2:$C$51,2,FALSE))","v":""},0,0,0,0,0,0,0,0,null,null,{"$f":"LEFT(ProjDataInput!S44,32000)","v":""},9999]
[{"$f":"FundDataInput!A45","v":0},{"$f":"FundDataInput!B45","v":0},{"$f":"FundDataInput!C45","v":0},{"$f":"FundDataInput!D45","v":0},{"$f":"FundDataInput!E45","v":0},{"$f":"IF(ISERROR(VLOOKUP(C45,C$2:C44,1,FALSE)),MAX(F$2:F44)+1,VLOOKUP(C45,C$2:F44,4,FALSE))","v":1},{"$error":"#N/A"},null,{"$f":"TableOfContents!A50&TableOfContents!B50","v":""},{"$f":"IF(ISERROR(VLOOKUP(I45,ProjDataInput!$B$2:$J$51,9,FALSE)),\"\",VLOOKUP(I45,ProjDataInput!$B$2:$J$51,9,FALSE))","v":""},{"$f":"IF(ISERROR(VLOOKUP(I45,ProjDataInput!$B$2:$C$51,2,FALSE)),\"\",VLOOKUP(I45,ProjDataInput!$B$2:$C$51,2,FALSE))","v":""},0,0,0,0,0,0,0,0,null,null,{"$f":"LEFT(ProjDataInput!S45,32000)","v":""},9999]
[{"$f":"FundDataInput!A46","v":0},{"$f":"FundDataInput!B46","v":0},{"$f":"FundDataInput!C46","v":0},{"$f":"FundDataInput!D46","v":0},{"$f":"FundDataInput!E46","v":0},{"$f":"IF(ISERROR(VLOOKUP(C46,C$2:C45,1,FALSE)),MAX(F$2:F45)+1,VLOOKUP(C46,C$2:F45,4,FALSE))","v":1},{"$error":"#N/A"},null,{"$f":"TableOfContents!A51&TableOfContents!B51","v":""},{"$f":"IF(ISERROR(VLOOKUP(I46,ProjDataInput!$B$2:$J$51,9,FALSE)),\"\",VLOOKUP(I46,ProjDataInput!$B$2:$J$51,9,FALSE))","v":""},{"$f":"IF(ISERROR(VLOOKUP(I46,ProjDataInput!$B$2:$C$51,2,FALSE)),\"\",VLOOKUP(I46,ProjDataInput!$B$2:$C$51,2,FALSE))","v":""},0,0,0,0,0,0,0,0,null,null,{"$f":"LEFT(ProjDataInput!S46,32000)","v":""},9999]
[{"$f":"FundDataInput!A47","v":0},{"$f":"FundDataInput!B47","v":0},{"$f":"FundDataInput!C47","v":0},{"$f":"FundDataInput!D47","v":0},{"$f":"FundDataInput!E47","v":0},{"$f":"IF(ISERROR(VLOOKUP(C47,C$2:C46,1,FALSE)),MAX(F$2:F46)+1,VLOOKUP(C47,C$2:F46,4,FALSE))","v":1},{"$error":"#N/A"},null,{"$f":"TableOfContents!A52&TableOfContents!B52","v":""},{"$f":"IF(ISERROR(VLOOKUP(I47,ProjDataInput!$B$2:$J$51,9,FALSE)),\"\",VLOOKUP(I47,ProjDataInput!$B$2:$J$51,9,FALSE))","v":""},{"$f":"IF(ISERROR(VLOOKUP(I47,ProjDataInput!$B$2:$C$51,2,FALSE)),\"\",VLOOKUP(I47,ProjDataInput!$B$2:$C$51,2,FALSE))","v":""},0,0,0,0,0,0,0,0,null,null,{"$f":"LEFT(ProjDataInput!S47,32000)","v":""},9999]
[{"$f":"FundDataInput!A48","v":0},{"$f":"FundDataInput!B48","v":0},{"$f":"FundDataInput!C48","v":0},{"$f":"FundDataInput!D48","v":0},{"$f":"FundDataInput!E48","v":0},{"$f":"IF(ISERROR(VLOOKUP(C48,C$2:C47,1,FALSE)),MAX(F$2:F47)+1,VLOOKUP(C48,C$2:F47,4,FALSE))","v":1},{"$error":"#N/A"},null,{"$f":"TableOfContents!A53&TableOfContents!B53","v":""},{"$f":"IF(ISERROR(VLOOKUP(I48,ProjDataInput!$B$2:$J$51,9,FALSE)),\"\",VLOOKUP(I48,ProjDataInput!$B$2:$J$51,9,FALSE))","v":""},{"$f":"IF(ISERROR(VLOOKUP(I48,ProjDataInput!$B$2:$C$51,2,FALSE)),\"\",VLOOKUP(I48,ProjDataInput!$B$2:$C$51,2,FALSE))","v":""},0,0,0,0,0,0,0,0,null,null,{"$f":"LEFT(ProjDataInput!S48,32000)","v":""},9999]
[{"$f":"FundDataInput!A49","v":0},{"$f":"FundDataInput!B49","v":0},{"$f":"FundDataInput!C49","v":0},{"$f":"FundDataInput!D49","v":0},{"$f":"FundDataInput!E49","v":0},{"$f":"IF(ISERROR(VLOOKUP(C49,C$2:C48,1,FALSE)),MAX(F$2:F48)+1,VLOOKUP(C49,C$2:F48,4,FALSE))","v":1},{"$error":"#N/A"},null,{"$f":"TableOfContents!A54&TableOfContents!B54","v":""},{"$f":"IF(ISERROR(VLOOKUP(I49,ProjDataInput!$B$2:$J$51,9,FALSE)),\"\",VLOOKUP(I49,ProjDataInput!$B$2:$J$51,9,FALSE))","v":""},{"$f":"IF(ISERROR(VLOOKUP(I49,ProjDataInput!$B$2:$C$51,2,FALSE)),\"\",VLOOKUP(I49,ProjDataInput!$B$2:$C$51,2,FALSE))","v":""},0,0,0,0,0,0,0,0,null,null,{"$f":"LEFT(ProjDataInput!S49,32000)","v":""},9999]
[{"$f":"FundDataInput!A50","v":0},{"$f":"FundDataInput!B50","v":0},{"$f":"FundDataInput!C50","v":0},{"$f":"FundDataInput!D50","v":0},{"$f":"FundDataInput!E50","v":0},{"$f":"IF(ISERROR(VLOOKUP(C50,C$2:C49,1,FALSE)),MAX(F$2:F49)+1,VLOOKUP(C50,C$2:F49,4,FALSE))","v":1},{"$error":"#N/A"},null,{"$f":"TableOfContents!A55&TableOfContents!B55","v":""},{"$f":"IF(ISERROR(VLOOKUP(I50,ProjDataInput!$B$2:$J$51,9,FALSE)),\"\",VLOOKUP(I50,ProjDataInput!$B$2:$J$51,9,FALSE))","v":""},{"$f":"IF(ISERROR(VLOOKUP(I50,ProjDataInput!$B$2:$C$51,2,FALSE)),\"\",VLOOKUP(I50,ProjDataInput!$B$2:$C$51,2,FALSE))","v":""},0,0,0,0,0,0,0,0,null,null,{"$f":"LEFT(ProjDataInput!S50,32000)","v":""},9999]
[{"$f":"FundDataInput!A51","v":0},{"$f":"FundDataInput!B51","v":0},{"$f":"FundDataInput!C51","v":0},{"$f":"FundDataInput!D51","v":0},{"$f":"FundDataInput!E51","v":0},{"$f":"IF(ISERROR(VLOOKUP(C51,C$2:C50,1,FALSE)),MAX(F$2:F50)+1,VLOOKUP(C51,C$2:F50,4,FALSE))","v":1},{"$error":"#N/A"},null,{"$f":"IF(ISERROR(INDEX($C$2:$C$201,    MATCH(ROW(#REF!)-1,#REF!,0),    1)),\"\",INDEX($C$2:$C$201,    MATCH(ROW(#REF!)-1,#REF!,0),    1))","v":""},{"$f":"IF(ISERROR(VLOOKUP(I51,ProjDataInput!$B$2:$J$51,9,FALSE)),\"\",VLOOKUP(I51,ProjDataInput!$B$2:$J$51,9,FALSE))","v":""},{"$f":"IF(ISERROR(VLOOKUP(I51,ProjDataInput!$B$2:$C$51,2,FALSE)),\"\",VLOOKUP(I51,ProjDataInput!$B$2:$C$51,2,FALSE))","v":""},0,0,0,0,0,0,0,0,null,null,{"$f":"LEFT(ProjDataInput!S51,32000)","v":""},9999]
[{"$f":"FundDataInput!A52","v":0},{"$f":"FundDataInput!B52","v":0},{"$f":"FundDataInput!C52","v":0},{"$f":"FundDataInput!D52","v":0},{"$f":"FundDataInput!E52","v":0},{"$f":"IF(ISERROR(VLOOKUP(C52,C$2:C51,1,FALSE)),MAX(F$2:F51)+1,VLOOKUP(C52,C$2:F51,4,FALSE))","v":1},null,null,null,null,null,null,null,null,null,null,null,null,null,null,null,null,9999]
[{"$f":"FundDataInput!A53","v":0},{"$f":"FundDataInput!B53","v":0},{"$f":"FundDataInput!C53","v":0},{"$f":"FundDataInput!D53","v":0},{"$f":"FundDataInput!E53","v":0},{"$f":"IF(ISERROR(VLOOKUP(C53,C$2:C52,1,FALSE)),MAX(F$2:F52)+1,VLOOKUP(C53,C$2:F52,4,FALSE))","v":1},null,null,null,null,null,null,null,null,null,null,null,null,null,null,null,null,9999]
[{"$f":"FundDataInput!A54","v":0},{"$f":"FundDataInput!B54","v":0},{"$f":"FundDataInput!C54","v":0},{"$f":"FundDataInput!D54","v":0},{"$f":"FundDataInput!E54","v":0},{"$f":"IF(ISERROR(VLOOKUP(C54,C$2:C53,1,FALSE)),MAX(F$2:F53)+1,VLOOKUP(C54,C$2:F53,4,FALSE))","v":1},null,null,null,null,null,null,null,null,null,null,null,null,null,null,null,null,9999]
[{"$f":"FundDataInput!A55","v":0},{"$f":"FundDataInput!B55","v":0},{"$f":"FundDataInput!C55","v":0},{"$f":"FundDataInput!D55","v":0},{"$f":"FundDataInput!E55","v":0},{"$f":"IF(ISERROR(VLOOKUP(C55,C$2:C54,1,FALSE)),MAX(F$2:F54)+1,VLOOKUP(C55,C$2:F54,4,FALSE))","v":1},null,null,null,null,null,null,null,null,null,null,null,null,null,null,null,null,9999]
[{"$f":"FundDataInput!A56","v":0},{"$f":"FundDataInput!B56","v":0},{"$f":"FundDataInput!C56","v":0},{"$f":"FundDataInput!D56","v":0},{"$f":"FundDataInput!E56","v":0},{"$f":"IF(ISERROR(VLOOKUP(C56,C$2:C55,1,FALSE)),MAX(F$2:F55)+1,VLOOKUP(C56,C$2:F55,4,FALSE))","v":1},null,null,null,null,null,null,null,null,null,null,null,null,null,null,null,null,9999]
[{"$f":"FundDataInput!A57","v":0},{"$f":"FundDataInput!B57","v":0},{"$f":"FundDataInput!C57","v":0},{"$f":"FundDataInput!D57","v":0},{"$f":"FundDataInput!E57","v":0},{"$f":"IF(ISERROR(VLOOKUP(C57,C$2:C56,1,FALSE)),MAX(F$2:F56)+1,VLOOKUP(C57,C$2:F56,4,FALSE))","v":1},null,null,null,null,null,null,null,null,null,null,null,null,null,null,null,null,9999]
[{"$f":"FundDataInput!A58","v":0},{"$f":"FundDataInput!B58","v":0},{"$f":"FundDataInput!C58","v":0},{"$f":"FundDataInput!D58","v":0},{"$f":"FundDataInput!E58","v":0},{"$f":"IF(ISERROR(VLOOKUP(C58,C$2:C57,1,FALSE)),MAX(F$2:F57)+1,VLOOKUP(C58,C$2:F57,4,FALSE))","v":1},null,null,null,null,null,null,null,null,null,null,null,null,null,null,null,null,9999]
[{"$f":"FundDataInput!A59","v":0},{"$f":"FundDataInput!B59","v":0},{"$f":"FundDataInput!C59","v":0},{"$f":"FundDataInput!D59","v":0},{"$f":"FundDataInput!E59","v":0},{"$f":"IF(ISERROR(VLOOKUP(C59,C$2:C58,1,FALSE)),MAX(F$2:F58)+1,VLOOKUP(C59,C$2:F58,4,FALSE))","v":1},null,null,null,null,null,null,null,null,null,null,null,null,null,null,null,null,9999]
[{"$f":"FundDataInput!A60","v":0},{"$f":"FundDataInput!B60","v":0},{"$f":"FundDataInput!C60","v":0},{"$f":"FundDataInput!D60","v":0},{"$f":"FundDataInput!E60","v":0},{"$f":"IF(ISERROR(VLOOKUP(C60,C$2:C59,1,FALSE)),MAX(F$2:F59)+1,VLOOKUP(C60,C$2:F59,4,FALSE))","v":1},null,null,null,null,null,null,null,null,null,null,null,null,null,null,null,null,9999]
[{"$f":"FundDataInput!A61","v":0},{"$f":"FundDataInput!B61","v":0},{"$f":"FundDataInput!C61","v":0},{"$f":"FundDataInput!D61","v":0},{"$f":"FundDataInput!E61","v":0},{"$f":"IF(ISERROR(VLOOKUP(C61,C$2:C60,1,FALSE)),MAX(F$2:F60)+1,VLOOKUP(C61,C$2:F60,4,FALSE))","v":1},null,null,null,null,null,null,null,null,null,null,null,null,null,null,null,null,9999]
[{"$f":"FundDataInput!A62","v":0},{"$f":"FundDataInput!B62","v":0},{"$f":"FundDataInput!C62","v":0},{"$f":"FundDataInput!D62","v":0},{"$f":"FundDataInput!E62","v":0},{"$f":"IF(ISERROR(VLOOKUP(C62,C$2:C61,1,FALSE)),MAX(F$2:F61)+1,VLOOKUP(C62,C$2:F61,4,FALSE))","v":1},null,null,null,null,null,null,null,null,null,null,null,null,null,null,null,null,9999]
[{"$f":"FundDataInput!A63","v":0},{"$f":"FundDataInput!B63","v":0},{"$f":"FundDataInput!C63","v":0},{"$f":"FundDataInput!D63","v":0},{"$f":"FundDataInput!E63","v":0},{"$f":"IF(ISERROR(VLOOKUP(C63,C$2:C62,1,FALSE)),MAX(F$2:F62)+1,VLOOKUP(C63,C$2:F62,4,FALSE))","v":1},null,null,null,null,null,null,null,null,null,null,null,null,null,null,null,null,9999]
[{"$f":"FundDataInput!A64","v":0},{"$f":"FundDataInput!B64","v":0},{"$f":"FundDataInput!C64","v":0},{"$f":"FundDataInput!D64","v":0},{"$f":"FundDataInput!E64","v":0},{"$f":"IF(ISERROR(VLOOKUP(C64,C$2:C63,1,FALSE)),MAX(F$2:F63)+1,VLOOKUP(C64,C$2:F63,4,FALSE))","v":1},null,null,null,null,null,null,null,null,null,null,null,null,null,null,null,null,9999]
[{"$f":"FundDataInput!A65","v":0},{"$f":"FundDataInput!B65","v":0},{"$f":"FundDataInput!C65","v":0},{"$f":"FundDataInput!D65","v":0},{"$f":"FundDataInput!E65","v":0},{"$f":"IF(ISERROR(VLOOKUP(C65,C$2:C64,1,FALSE)),MAX(F$2:F64)+1,VLOOKUP(C65,C$2:F64,4,FALSE))","v":1},null,null,null,null,null,null,null,null,null,null,null,null,null,null,null,null,9999]
[{"$f":"FundDataInput!A66","v":0},{"$f":"FundDataInput!B66","v":0},{"$f":"FundDataInput!C66","v":0},{"$f":"FundDataInput!D66","v":0},{"$f":"FundDataInput!E66","v":0},{"$f":"IF(ISERROR(VLOOKUP(C66,C$2:C65,1,FALSE)),MAX(F$2:F65)+1,VLOOKUP(C66,C$2:F65,4,FALSE))","v":1},null,null,null,null,null,null,null,null,null,null,null,null,null,null,null,null,9999]
[{"$f":"FundDataInput!A67","v":0},{"$f":"FundDataInput!B67","v":0},{"$f":"FundDataInput!C67","v":0},{"$f":"FundDataInput!D67","v":0},{"$f":"FundDataInput!E67","v":0},{"$f":"IF(ISERROR(VLOOKUP(C67,C$2:C66,1,FALSE)),MAX(F$2:F66)+1,VLOOKUP(C67,C$2:F66,4,FALSE))","v":1},null,null,null,null,null,null,null,null,null,null,null,null,null,null,null,null,{"$f":"IF(B67<2000,9999,B67)","v":9999}]
[{"$f":"FundDataInput!A68","v":0},{"$f":"FundDataInput!B68","v":0},{"$f":"FundDataInput!C68","v":0},{"$f":"FundDataInput!D68","v":0},{"$f":"FundDataInput!E68","v":0},{"$f":"IF(ISERROR(VLOOKUP(C68,C$2:C67,1,FALSE)),MAX(F$2:F67)+1,VLOOKUP(C68,C$2:F67,4,FALSE))","v":1},null,null,null,null,null,null,null,null,null,null,null,null,null,null,null,null,9999]
[{"$f":"FundDataInput!A69","v":0},{"$f":"FundDataInput!B69","v":0},{"$f":"FundDataInput!C69","v":0},{"$f":"FundDataInput!D69","v":0},{"$f":"FundDataInput!E69","v":0},{"$f":"IF(ISERROR(VLOOKUP(C69,C$2:C68,1,FALSE)),MAX(F$2:F68)+1,VLOOKUP(C69,C$2:F68,4,FALSE))","v":1},null,null,null,null,null,null,null,null,null,null,null,null,null,null,null,null,9999]
[{"$f":"FundDataInput!A70","v":0},{"$f":"FundDataInput!B70","v":0},{"$f":"FundDataInput!C70","v":0},{"$f":"FundDataInput!D70","v":0},{"$f":"FundDataInput!E70","v":0},{"$f":"IF(ISERROR(VLOOKUP(C70,C$2:C69,1,FALSE)),MAX(F$2:F69)+1,VLOOKUP(C70,C$2:F69,4,FALSE))","v":1},null,null,null,null,null,null,null,null,null,null,null,null,null,null,null,null,9999]
[{"$f":"FundDataInput!A71","v":0},{"$f":"FundDataInput!B71","v":0},{"$f":"FundDataInput!C71","v":0},{"$f":"FundDataInput!D71","v":0},{"$f":"FundDataInput!E71","v":0},{"$f":"IF(ISERROR(VLOOKUP(C71,C$2:C70,1,FALSE)),MAX(F$2:F70)+1,VLOOKUP(C71,C$2:F70,4,FALSE))","v":1},null,null,null,null,null,null,null,null,null,null,null,null,null,null,null,null,9999]
[{"$f":"FundDataInput!A72","v":0},{"$f":"FundDataInput!B72","v":0},{"$f":"FundDataInput!C72","v":0},{"$f":"FundDataInput!D72","v":0},{"$f":"FundDataInput!E72","v":0},{"$f":"IF(ISERROR(VLOOKUP(C72,C$2:C71,1,FALSE)),MAX(F$2:F71)+1,VLOOKUP(C72,C$2:F71,4,FALSE))","v":1},null,null,null,null,null,null,null,null,null,null,null,null,null,null,null,null,9999]
[{"$f":"FundDataInput!A73","v":0},{"$f":"FundDataInput!B73","v":0},{"$f":"FundDataInput!C73","v":0},{"$f":"FundDataInput!D73","v":0},{"$f":"FundDataInput!E73","v":0},{"$f":"IF(ISERROR(VLOOKUP(C73,C$2:C72,1,FALSE)),MAX(F$2:F72)+1,VLOOKUP(C73,C$2:F72,4,FALSE))","v":1},null,null,null,null,null,null,null,null,null,null,null,null,null,null,null,null,9999]
[{"$f":"FundDataInput!A74","v":0},{"$f":"FundDataInput!B74","v":0},{"$f":"FundDataInput!C74","v":0},{"$f":"FundDataInput!D74","v":0},{"$f":"FundDataInput!E74","v":0},{"$f":"IF(ISERROR(VLOOKUP(C74,C$2:C73,1,FALSE)),MAX(F$2:F73)+1,VLOOKUP(C74,C$2:F73,4,FALSE))","v":1},null,null,null,null,null,null,null,null,null,null,null,null,null,null,null,null,9999]
[{"$f":"FundDataInput!A75","v":0},{"$f":"FundDataInput!B75","v":0},{"$f":"FundDataInput!C75","v":0},{"$f":"FundDataInput!D75","v":0},{"$f":"FundDataInput!E75","v":0},{"$f":"IF(ISERROR(VLOOKUP(C75,C$2:C74,1,FALSE)),MAX(F$2:F74)+1,VLOOKUP(C75,C$2:F74,4,FALSE))","v":1},null,null,null,null,null,null,null,null,null,null,null,null,null,null,null,null,9999]
[{"$f":"FundDataInput!A76","v":0},{"$f":"FundDataInput!B76","v":0},{"$f":"FundDataInput!C76","v":0},{"$f":"FundDataInput!D76","v":0},{"$f":"FundDataInput!E76","v":0},{"$f":"IF(ISERROR(VLOOKUP(C76,C$2:C75,1,FALSE)),MAX(F$2:F75)+1,VLOOKUP(C76,C$2:F75,4,FALSE))","v":1},null,null,null,null,null,null,null,null,null,null,null,null,null,null,null,null,9999]
[{"$f":"FundDataInput!A77","v":0},{"$f":"FundDataInput!B77","v":0},{"$f":"FundDataInput!C77","v":0},{"$f":"FundDataInput!D77","v":0},{"$f":"FundDataInput!E77","v":0},{"$f":"IF(ISERROR(VLOOKUP(C77,C$2:C76,1,FALSE)),MAX(F$2:F76)+1,VLOOKUP(C77,C$2:F76,4,FALSE))","v":1},null,null,null,null,null,null,null,null,null,null,null,null,null,null,null,null,9999]
[{"$f":"FundDataInput!A78","v":0},{"$f":"FundDataInput!B78","v":0},{"$f":"FundDataInput!C78","v":0},{"$f":"FundDataInput!D78","v":0},{"$f":"FundDataInput!E78","v":0},{"$f":"IF(ISERROR(VLOOKUP(C78,C$2:C77,1,FALSE)),MAX(F$2:F77)+1,VLOOKUP(C78,C$2:F77,4,FALSE))","v":1},null,null,null,null,null,null,null,null,null,null,null,null,null,null,null,null,9999]
[{"$f":"FundDataInput!A79","v":0},{"$f":"FundDataInput!B79","v":0},{"$f":"FundDataInput!C79","v":0},{"$f":"FundDataInput!D79","v":0},{"$f":"FundDataInput!E79","v":0},{"$f":"IF(ISERROR(VLOOKUP(C79,C$2:C78,1,FALSE)),MAX(F$2:F78)+1,VLOOKUP(C79,C$2:F78,4,FALSE))","v":1},null,null,null,null,null,null,null,null,null,null,null,null,null,null,null,null,9999]
[{"$f":"FundDataInput!A80","v":0},{"$f":"FundDataInput!B80","v":0},{"$f":"FundDataInput!C80","v":0},{"$f":"FundDataInput!D80","v":0},{"$f":"FundDataInput!E80","v":0},{"$f":"IF(ISERROR(VLOOKUP(C80,C$2:C79,1,FALSE)),MAX(F$2:F79)+1,VLOOKUP(C80,C$2:F79,4,FALSE))","v":1},null,null,null,null,null,null,null,null,null,null,null,null,null,null,null,null,9999]
[{"$f":"FundDataInput!A81","v":0},{"$f":"FundDataInput!B81","v":0},{"$f":"FundDataInput!C81","v":0},{"$f":"FundDataInput!D81","v":0},{"$f":"FundDataInput!E81","v":0},{"$f":"IF(ISERROR(VLOOKUP(C81,C$2:C80,1,FALSE)),MAX(F$2:F80)+1,VLOOKUP(C81,C$2:F80,4,FALSE))","v":1},null,null,null,null,null,null,null,null,null,null,null,null,null,null,null,null,9999]
[{"$f":"FundDataInput!A82","v":0},{"$f":"FundDataInput!B82","v":0},{"$f":"FundDataInput!C82","v":0},{"$f":"FundDataInput!D82","v":0},{"$f":"FundDataInput!E82","v":0},{"$f":"IF(ISERROR(VLOOKUP(C82,C$2:C81,1,FALSE)),MAX(F$2:F81)+1,VLOOKUP(C82,C$2:F81,4,FALSE))","v":1},null,null,null,null,null,null,null,null,null,null,null,null,null,null,null,null,9999]
[{"$f":"FundDataInput!A83","v":0},{"$f":"FundDataInput!B83","v":0},{"$f":"FundDataInput!C83","v":0},{"$f":"FundDataInput!D83","v":0},{"$f":"FundDataInput!E83","v":0},{"$f":"IF(ISERROR(VLOOKUP(C83,C$2:C82,1,FALSE)),MAX(F$2:F82)+1,VLOOKUP(C83,C$2:F82,4,FALSE))","v":1},null,null,null,null,null,null,null,null,null,null,null,null,null,null,null,null,9999]
[{"$f":"FundDataInput!A84","v":0},{"$f":"FundDataInput!B84","v":0},{"$f":"FundDataInput!C84","v":0},{"$f":"FundDataInput!D84","v":0},{"$f":"FundDataInput!E84","v":0},{"$f":"IF(ISERROR(VLOOKUP(C84,C$2:C83,1,FALSE)),MAX(F$2:F83)+1,VLOOKUP(C84,C$2:F83,4,FALSE))","v":1},null,null,null,null,null,null,null,null,null,null,null,null,null,null,null,null,9999]
[{"$f":"FundDataInput!A85","v":0},{"$f":"FundDataInput!B85","v":0},{"$f":"FundDataInput!C85","v":0},{"$f":"FundDataInput!D85","v":0},{"$f":"FundDataInput!E85","v":0},{"$f":"IF(ISERROR(VLOOKUP(C85,C$2:C84,1,FALSE)),MAX(F$2:F84)+1,VLOOKUP(C85,C$2:F84,4,FALSE))","v":1},null,null,null,null,null,null,null,null,null,null,null,null,null,null,null,null,9999]
[{"$f":"FundDataInput!A86","v":0},{"$f":"FundDataInput!B86","v":0},{"$f":"FundDataInput!C86","v":0},{"$f":"FundDataInput!D86","v":0},{"$f":"FundDataInput!E86","v":0},{"$f":"IF(ISERROR(VLOOKUP(C86,C$2:C85,1,FALSE)),MAX(F$2:F85)+1,VLOOKUP(C86,C$2:F85,4,FALSE))","v":1},null,null,null,null,null,null,null,null,null,null,null,null,null,null,null,null,9999]
[{"$f":"FundDataInput!A87","v":0},{"$f":"FundDataInput!B87","v":0},{"$f":"FundDataInput!C87","v":0},{"$f":"FundDataInput!D87","v":0},{"$f":"FundDataInput!E87","v":0},{"$f":"IF(ISERROR(VLOOKUP(C87,C$2:C86,1,FALSE)),MAX(F$2:F86)+1,VLOOKUP(C87,C$2:F86,4,FALSE))","v":1},null,null,null,null,null,null,null,null,null,null,null,null,null,null,null,null,9999]
[{"$f":"FundDataInput!A88","v":0},{"$f":"FundDataInput!B88","v":0},{"$f":"FundDataInput!C88","v":0},{"$f":"FundDataInput!D88","v":0},{"$f":"FundDataInput!E88","v":0},{"$f":"IF(ISERROR(VLOOKUP(C88,C$2:C87,1,FALSE)),MAX(F$2:F87)+1,VLOOKUP(C88,C$2:F87,4,FALSE))","v":1},null,null,null,null,null,null,null,null,null,null,null,null,null,null,null,null,9999]
[{"$f":"FundDataInput!A89","v":0},{"$f":"FundDataInput!B89","v":0},{"$f":"FundDataInput!C89","v":0},{"$f":"FundDataInput!D89","v":0},{"$f":"FundDataInput!E89","v":0},{"$f":"IF(ISERROR(VLOOKUP(C89,C$2:C88,1,FALSE)),MAX(F$2:F88)+1,VLOOKUP(C89,C$2:F88,4,FALSE))","v":1},null,null,null,null,null,null,null,null,null,null,null,null,null,null,null,null,9999]
[{"$f":"FundDataInput!A90","v":0},{"$f":"FundDataInput!B90","v":0},{"$f":"FundDataInput!C90","v":0},{"$f":"FundDataInput!D90","v":0},{"$f":"FundDataInput!E90","v":0},{"$f":"IF(ISERROR(VLOOKUP(C90,C$2:C89,1,FALSE)),MAX(F$2:F89)+1,VLOOKUP(C90,C$2:F89,4,FALSE))","v":1},null,null,null,null,null,null,null,null,null,null,null,null,null,null,null,null,9999]
[{"$f":"FundDataInput!A91","v":0},{"$f":"FundDataInput!B91","v":0},{"$f":"FundDataInput!C91","v":0},{"$f":"FundDataInput!D91","v":0},{"$f":"FundDataInput!E91","v":0},{"$f":"IF(ISERROR(VLOOKUP(C91,C$2:C90,1,FALSE)),MAX(F$2:F90)+1,VLOOKUP(C91,C$2:F90,4,FALSE))","v":1},null,null,null,null,null,null,null,null,null,null,null,null,null,null,null,null,9999]
[{"$f":"FundDataInput!A92","v":0},{"$f":"FundDataInput!B92","v":0},{"$f":"FundDataInput!C92","v":0},{"$f":"FundDataInput!D92","v":0},{"$f":"FundDataInput!E92","v":0},{"$f":"IF(ISERROR(VLOOKUP(C92,C$2:C91,1,FALSE)),MAX(F$2:F91)+1,VLOOKUP(C92,C$2:F91,4,FALSE))","v":1},null,null,null,null,null,null,null,null,null,null,null,null,null,null,null,null,9999]
[{"$f":"FundDataInput!A93","v":0},{"$f":"FundDataInput!B93","v":0},{"$f":"FundDataInput!C93","v":0},{"$f":"FundDataInput!D93","v":0},{"$f":"FundDataInput!E93","v":0},{"$f":"IF(ISERROR(VLOOKUP(C93,C$2:C92,1,FALSE)),MAX(F$2:F92)+1,VLOOKUP(C93,C$2:F92,4,FALSE))","v":1},null,null,null,null,null,null,null,null,null,null,null,null,null,null,null,null,9999]
[{"$f":"FundDataInput!A94","v":0},{"$f":"FundDataInput!B94","v":0},{"$f":"FundDataInput!C94","v":0},{"$f":"FundDataInput!D94","v":0},{"$f":"FundDataInput!E94","v":0},{"$f":"IF(ISERROR(VLOOKUP(C94,C$2:C93,1,FALSE)),MAX(F$2:F93)+1,VLOOKUP(C94,C$2:F93,4,FALSE))","v":1},null,null,null,null,null,null,null,null,null,null,null,null,null,null,null,null,9999]
[{"$f":"FundDataInput!A95","v":0},{"$f":"FundDataInput!B95","v":0},{"$f":"FundDataInput!C95","v":0},{"$f":"FundDataInput!D95","v":0},{"$f":"FundDataInput!E95","v":0},{"$f":"IF(ISERROR(VLOOKUP(C95,C$2:C94,1,FALSE)),MAX(F$2:F94)+1,VLOOKUP(C95,C$2:F94,4,FALSE))","v":1},null,null,null,null,null,null,null,null,null,null,null,null,null,null,null,null,9999]
[{"$f":"FundDataInput!A96","v":0},{"$f":"FundDataInput!B96","v":0},{"$f":"FundDataInput!C96","v":0},{"$f":"FundDataInput!D96","v":0},{"$f":"FundDataInput!E96","v":0},{"$f":"IF(ISERROR(VLOOKUP(C96,C$2:C95,1,FALSE)),MAX(F$2:F95)+1,VLOOKUP(C96,C$2:F95,4,FALSE))","v":1},null,null,null,null,null,null,null,null,null,null,null,null,null,null,null,null,9999]
[{"$f":"FundDataInput!A97","v":0},{"$f":"FundDataInput!B97","v":0},{"$f":"FundDataInput!C97","v":0},{"$f":"FundDataInput!D97","v":0},{"$f":"FundDataInput!E97","v":0},{"$f":"IF(ISERROR(VLOOKUP(C97,C$2:C96,1,FALSE)),MAX(F$2:F96)+1,VLOOKUP(C97,C$2:F96,4,FALSE))","v":1},null,null,null,null,null,null,null,null,null,null,null,null,null,null,null,null,9999]
[{"$f":"FundDataInput!A98","v":0},{"$f":"FundDataInput!B98","v":0},{"$f":"FundDataInput!C98","v":0},{"$f":"FundDataInput!D98","v":0},{"$f":"FundDataInput!E98","v":0},{"$f":"IF(ISERROR(VLOOKUP(C98,C$2:C97,1,FALSE)),MAX(F$2:F97)+1,VLOOKUP(C98,C$2:F97,4,FALSE))","v":1},null,null,null,null,null,null,null,null,null,null,null,null,null,null,null,null,9999]
[{"$f":"FundDataInput!A99","v":0},{"$f":"FundDataInput!B99","v":0},{"$f":"FundDataInput!C99","v":0},{"$f":"FundDataInput!D99","v":0},{"$f":"FundDataInput!E99","v":0},{"$f":"IF(ISERROR(VLOOKUP(C99,C$2:C98,1,FALSE)),MAX(F$2:F98)+1,VLOOKUP(C99,C$2:F98,4,FALSE))","v":1},null,null,null,null,null,null,null,null,null,null,null,null,null,null,null,null,9999]
[{"$f":"FundDataInput!A100","v":0},{"$f":"FundDataInput!B100","v":0},{"$f":"FundDataInput!C100","v":0},{"$f":"FundDataInput!D100","v":0},{"$f":"FundDataInput!E100","v":0},{"$f":"IF(ISERROR(VLOOKUP(C100,C$2:C99,1,FALSE)),MAX(F$2:F99)+1,VLOOKUP(C100,C$2:F99,4,FALSE))","v":1},null,null,null,null,null,null,null,null,null,null,null,null,null,null,null,null,9999]
[{"$f":"FundDataInput!A101","v":0},{"$f":"FundDataInput!B101","v":0},{"$f":"FundDataInput!C101","v":0},{"$f":"FundDataInput!D101","v":0},{"$f":"FundDataInput!E101","v":0},{"$f":"IF(ISERROR(VLOOKUP(C101,C$2:C100,1,FALSE)),MAX(F$2:F100)+1,VLOOKUP(C101,C$2:F100,4,FALSE))","v":1},null,null,null,null,null,null,null,null,null,null,null,null,null,null,null,null,9999]
[{"$f":"FundDataInput!A102","v":0},{"$f":"FundDataInput!B102","v":0},{"$f":"FundDataInput!C102","v":0},{"$f":"FundDataInput!D102","v":0},{"$f":"FundDataInput!E102","v":0},{"$f":"IF(ISERROR(VLOOKUP(C102,C$2:C101,1,FALSE)),MAX(F$2:F101)+1,VLOOKUP(C102,C$2:F101,4,FALSE))","v":1},null,null,null,null,null,null,null,null,null,null,null,null,null,null,null,null,9999]
[{"$f":"FundDataInput!A103","v":0},{"$f":"FundDataInput!B103","v":0},{"$f":"FundDataInput!C103","v":0},{"$f":"FundDataInput!D103","v":0},{"$f":"FundDataInput!E103","v":0},{"$f":"IF(ISERROR(VLOOKUP(C103,C$2:C102,1,FALSE)),MAX(F$2:F102)+1,VLOOKUP(C103,C$2:F102,4,FALSE))","v":1},null,null,null,null,null,null,null,null,null,null,null,null,null,null,null,null,9999]
[{"$f":"FundDataInput!A104","v":0},{"$f":"FundDataInput!B104","v":0},{"$f":"FundDataInput!C104","v":0},{"$f":"FundDataInput!D104","v":0},{"$f":"FundDataInput!E104","v":0},{"$f":"IF(ISERROR(VLOOKUP(C104,C$2:C103,1,FALSE)),MAX(F$2:F103)+1,VLOOKUP(C104,C$2:F103,4,FALSE))","v":1},null,null,null,null,null,null,null,null,null,null,null,null,null,null,null,null,9999]
[{"$f":"FundDataInput!A105","v":0},{"$f":"FundDataInput!B105","v":0},{"$f":"FundDataInput!C105","v":0},{"$f":"FundDataInput!D105","v":0},{"$f":"FundDataInput!E105","v":0},{"$f":"IF(ISERROR(VLOOKUP(C105,C$2:C104,1,FALSE)),MAX(F$2:F104)+1,VLOOKUP(C105,C$2:F104,4,FALSE))","v":1},null,null,null,null,null,null,null,null,null,null,null,null,null,null,null,null,9999]
[{"$f":"FundDataInput!A106","v":0},{"$f":"FundDataInput!B106","v":0},{"$f":"FundDataInput!C106","v":0},{"$f":"FundDataInput!D106","v":0},{"$f":"FundDataInput!E106","v":0},{"$f":"IF(ISERROR(VLOOKUP(C106,C$2:C105,1,FALSE)),MAX(F$2:F105)+1,VLOOKUP(C106,C$2:F105,4,FALSE))","v":1},null,null,null,null,null,null,null,null,null,null,null,null,null,null,null,null,9999]
[{"$f":"FundDataInput!A107","v":0},{"$f":"FundDataInput!B107","v":0},{"$f":"FundDataInput!C107","v":0},{"$f":"FundDataInput!D107","v":0},{"$f":"FundDataInput!E107","v":0},{"$f":"IF(ISERROR(VLOOKUP(C107,C$2:C106,1,FALSE)),MAX(F$2:F106)+1,VLOOKUP(C107,C$2:F106,4,FALSE))","v":1},null,null,null,null,null,null,null,null,null,null,null,null,null,null,null,null,9999]
[{"$f":"FundDataInput!A108","v":0},{"$f":"FundDataInput!B108","v":0},{"$f":"FundDataInput!C108","v":0},{"$f":"FundDataInput!D108","v":0},{"$f":"FundDataInput!E108","v":0},{"$f":"IF(ISERROR(VLOOKUP(C108,C$2:C107,1,FALSE)),MAX(F$2:F107)+1,VLOOKUP(C108,C$2:F107,4,FALSE))","v":1},null,null,null,null,null,null,null,null,null,null,null,null,null,null,null,null,9999]
[{"$f":"FundDataInput!A109","v":0},{"$f":"FundDataInput!B109","v":0},{"$f":"FundDataInput!C109","v":0},{"$f":"FundDataInput!D109","v":0},{"$f":"FundDataInput!E109","v":0},{"$f":"IF(ISERROR(VLOOKUP(C109,C$2:C108,1,FALSE)),MAX(F$2:F108)+1,VLOOKUP(C109,C$2:F108,4,FALSE))","v":1},null,null,null,null,null,null,null,null,null,null,null,null,null,null,null,null,9999]
[{"$f":"FundDataInput!A110","v":0},{"$f":"FundDataInput!B110","v":0},{"$f":"FundDataInput!C110","v":0},{"$f":"FundDataInput!D110","v":0},{"$f":"FundDataInput!E110","v":0},{"$f":"IF(ISERROR(VLOOKUP(C110,C$2:C109,1,FALSE)),MAX(F$2:F109)+1,VLOOKUP(C110,C$2:F109,4,FALSE))","v":1},null,null,null,null,null,null,null,null,null,null,null,null,null,null,null,null,9999]
[{"$f":"FundDataInput!A111","v":0},{"$f":"FundDataInput!B111","v":0},{"$f":"FundDataInput!C111","v":0},{"$f":"FundDataInput!D111","v":0},{"$f":"FundDataInput!E111","v":0},{"$f":"IF(ISERROR(VLOOKUP(C111,C$2:C110,1,FALSE)),MAX(F$2:F110)+1,VLOOKUP(C111,C$2:F110,4,FALSE))","v":1},null,null,null,null,null,null,null,null,null,null,null,null,null,null,null,null,9999]
[{"$f":"FundDataInput!A112","v":0},{"$f":"FundDataInput!B112","v":0},{"$f":"FundDataInput!C112","v":0},{"$f":"FundDataInput!D112","v":0},{"$f":"FundDataInput!E112","v":0},{"$f":"IF(ISERROR(VLOOKUP(C112,C$2:C111,1,FALSE)),MAX(F$2:F111)+1,VLOOKUP(C112,C$2:F111,4,FALSE))","v":1},null,null,null,null,null,null,null,null,null,null,null,null,null,null,null,null,9999]
[{"$f":"FundDataInput!A113","v":0},{"$f":"FundDataInput!B113","v":0},{"$f":"FundDataInput!C113","v":0},{"$f":"FundDataInput!D113","v":0},{"$f":"FundDataInput!E113","v":0},{"$f":"IF(ISERROR(VLOOKUP(C113,C$2:C112,1,FALSE)),MAX(F$2:F112)+1,VLOOKUP(C113,C$2:F112,4,FALSE))","v":1},null,null,null,null,null,null,null,null,null,null,null,null,null,null,null,null,9999]
[{"$f":"FundDataInput!A114","v":0},{"$f":"FundDataInput!B114","v":0},{"$f":"FundDataInput!C114","v":0},{"$f":"FundDataInput!D114","v":0},{"$f":"FundDataInput!E114","v":0},{"$f":"IF(ISERROR(VLOOKUP(C114,C$2:C113,1,FALSE)),MAX(F$2:F113)+1,VLOOKUP(C114,C$2:F113,4,FALSE))","v":1},null,null,null,null,null,null,null,null,null,null,null,null,null,null,null,null,9999]
[{"$f":"FundDataInput!A115","v":0},{"$f":"FundDataInput!B115","v":0},{"$f":"FundDataInput!C115","v":0},{"$f":"FundDataInput!D115","v":0},{"$f":"FundDataInput!E115","v":0},{"$f":"IF(ISERROR(VLOOKUP(C115,C$2:C114,1,FALSE)),MAX(F$2:F114)+1,VLOOKUP(C115,C$2:F114,4,FALSE))","v":1},null,null,null,null,null,null,null,null,null,null,null,null,null,null,null,null,9999]
[{"$f":"FundDataInput!A116","v":0},{"$f":"FundDataInput!B116","v":0},{"$f":"FundDataInput!C116","v":0},{"$f":"FundDataInput!D116","v":0},{"$f":"FundDataInput!E116","v":0},{"$f":"IF(ISERROR(VLOOKUP(C116,C$2:C115,1,FALSE)),MAX(F$2:F115)+1,VLOOKUP(C116,C$2:F115,4,FALSE))","v":1},null,null,null,null,null,null,null,null,null,null,null,null,null,null,null,null,9999]
[{"$f":"FundDataInput!A117","v":0},{"$f":"FundDataInput!B117","v":0},{"$f":"FundDataInput!C117","v":0},{"$f":"FundDataInput!D117","v":0},{"$f":"FundDataInput!E117","v":0},{"$f":"IF(ISERROR(VLOOKUP(C117,C$2:C116,1,FALSE)),MAX(F$2:F116)+1,VLOOKUP(C117,C$2:F116,4,FALSE))","v":1},null,null,null,null,null,null,null,null,null,null,null,null,null,null,null,null,9999]
[{"$f":"FundDataInput!A118","v":0},{"$f":"FundDataInput!B118","v":0},{"$f":"FundDataInput!C118","v":0},{"$f":"FundDataInput!D118","v":0},{"$f":"FundDataInput!E118","v":0},{"$f":"IF(ISERROR(VLOOKUP(C118,C$2:C117,1,FALSE)),MAX(F$2:F117)+1,VLOOKUP(C118,C$2:F117,4,FALSE))","v":1},null,null,null,null,null,null,null,null,null,null,null,null,null,null,null,null,9999]
[{"$f":"FundDataInput!A119","v":0},{"$f":"FundDataInput!B119","v":0},{"$f":"FundDataInput!C119","v":0},{"$f":"FundDataInput!D119","v":0},{"$f":"FundDataInput!E119","v":0},{"$f":"IF(ISERROR(VLOOKUP(C119,C$2:C118,1,FALSE)),MAX(F$2:F118)+1,VLOOKUP(C119,C$2:F118,4,FALSE))","v":1},null,null,null,null,null,null,null,null,null,null,null,null,null,null,null,null,9999]
[{"$f":"FundDataInput!A120","v":0},{"$f":"FundDataInput!B120","v":0},{"$f":"FundDataInput!C120","v":0},{"$f":"FundDataInput!D120","v":0},{"$f":"FundDataInput!E120","v":0},{"$f":"IF(ISERROR(VLOOKUP(C120,C$2:C119,1,FALSE)),MAX(F$2:F119)+1,VLOOKUP(C120,C$2:F119,4,FALSE))","v":1},null,null,null,null,null,null,null,null,null,null,null,null,null,null,null,null,9999]
[{"$f":"FundDataInput!A121","v":0},{"$f":"FundDataInput!B121","v":0},{"$f":"FundDataInput!C121","v":0},{"$f":"FundDataInput!D121","v":0},{"$f":"FundDataInput!E121","v":0},{"$f":"IF(ISERROR(VLOOKUP(C121,C$2:C120,1,FALSE)),MAX(F$2:F120)+1,VLOOKUP(C121,C$2:F120,4,FALSE))","v":1},null,null,null,null,null,null,null,null,null,null,null,null,null,null,null,null,9999]
[{"$f":"FundDataInput!A122","v":0},{"$f":"FundDataInput!B122","v":0},{"$f":"FundDataInput!C122","v":0},{"$f":"FundDataInput!D122","v":0},{"$f":"FundDataInput!E122","v":0},{"$f":"IF(ISERROR(VLOOKUP(C122,C$2:C121,1,FALSE)),MAX(F$2:F121)+1,VLOOKUP(C122,C$2:F121,4,FALSE))","v":1},null,null,null,null,null,null,null,null,null,null,null,null,null,null,null,null,9999]
[{"$f":"FundDataInput!A123","v":0},{"$f":"FundDataInput!B123","v":0},{"$f":"FundDataInput!C123","v":0},{"$f":"FundDataInput!D123","v":0},{"$f":"FundDataInput!E123","v":0},{"$f":"IF(ISERROR(VLOOKUP(C123,C$2:C122,1,FALSE)),MAX(F$2:F122)+1,VLOOKUP(C123,C$2:F122,4,FALSE))","v":1},null,null,null,null,null,null,null,null,null,null,null,null,null,null,null,null,9999]
[{"$f":"FundDataInput!A124","v":0},{"$f":"FundDataInput!B124","v":0},{"$f":"FundDataInput!C124","v":0},{"$f":"FundDataInput!D124","v":0},{"$f":"FundDataInput!E124","v":0},{"$f":"IF(ISERROR(VLOOKUP(C124,C$2:C123,1,FALSE)),MAX(F$2:F123)+1,VLOOKUP(C124,C$2:F123,4,FALSE))","v":1},null,null,null,null,null,null,null,null,null,null,null,null,null,null,null,null,9999]
[{"$f":"FundDataInput!A125","v":0},{"$f":"FundDataInput!B125","v":0},{"$f":"FundDataInput!C125","v":0},{"$f":"FundDataInput!D125","v":0},{"$f":"FundDataInput!E125","v":0},{"$f":"IF(ISERROR(VLOOKUP(C125,C$2:C124,1,FALSE)),MAX(F$2:F124)+1,VLOOKUP(C125,C$2:F124,4,FALSE))","v":1},null,null,null,null,null,null,null,null,null,null,null,null,null,null,null,null,9999]
[{"$f":"FundDataInput!A126","v":0},{"$f":"FundDataInput!B126","v":0},{"$f":"FundDataInput!C126","v":0},{"$f":"FundDataInput!D126","v":0},{"$f":"FundDataInput!E126","v":0},{"$f":"IF(ISERROR(VLOOKUP(C126,C$2:C125,1,FALSE)),MAX(F$2:F125)+1,VLOOKUP(C126,C$2:F125,4,FALSE))","v":1},null,null,null,null,null,null,null,null,null,null,null,null,null,null,null,null,9999]
[{"$f":"FundDataInput!A127","v":0},{"$f":"FundDataInput!B127","v":0},{"$f":"FundDataInput!C127","v":0},{"$f":"FundDataInput!D127","v":0},{"$f":"FundDataInput!E127","v":0},{"$f":"IF(ISERROR(VLOOKUP(C127,C$2:C126,1,FALSE)),MAX(F$2:F126)+1,VLOOKUP(C127,C$2:F126,4,FALSE))","v":1},null,null,null,null,null,null,null,null,null,null,null,null,null,null,null,null,9999]
[{"$f":"FundDataInput!A128","v":0},{"$f":"FundDataInput!B128","v":0},{"$f":"FundDataInput!C128","v":0},{"$f":"FundDataInput!D128","v":0},{"$f":"FundDataInput!E128","v":0},{"$f":"IF(ISERROR(VLOOKUP(C128,C$2:C127,1,FALSE)),MAX(F$2:F127)+1,VLOOKUP(C128,C$2:F127,4,FALSE))","v":1},null,null,null,null,null,null,null,null,null,null,null,null,null,null,null,null,9999]
[{"$f":"FundDataInput!A129","v":0},{"$f":"FundDataInput!B129","v":0},{"$f":"FundDataInput!C129","v":0},{"$f":"FundDataInput!D129","v":0},{"$f":"FundDataInput!E129","v":0},{"$f":"IF(ISERROR(VLOOKUP(C129,C$2:C128,1,FALSE)),MAX(F$2:F128)+1,VLOOKUP(C129,C$2:F128,4,FALSE))","v":1},null,null,null,null,null,null,null,null,null,null,null,null,null,null,null,null,9999]
[{"$f":"FundDataInput!A130","v":0},{"$f":"FundDataInput!B130","v":0},{"$f":"FundDataInput!C130","v":0},{"$f":"FundDataInput!D130","v":0},{"$f":"FundDataInput!E130","v":0},{"$f":"IF(ISERROR(VLOOKUP(C130,C$2:C129,1,FALSE)),MAX(F$2:F129)+1,VLOOKUP(C130,C$2:F129,4,FALSE))","v":1},null,null,null,null,null,null,null,null,null,null,null,null,null,null,null,null,9999]
[{"$f":"FundDataInput!A131","v":0},{"$f":"FundDataInput!B131","v":0},{"$f":"FundDataInput!C131","v":0},{"$f":"FundDataInput!D131","v":0},{"$f":"FundDataInput!E131","v":0},{"$f":"IF(ISERROR(VLOOKUP(C131,C$2:C130,1,FALSE)),MAX(F$2:F130)+1,VLOOKUP(C131,C$2:F130,4,FALSE))","v":1},null,null,null,null,null,null,null,null,null,null,null,null,null,null,null,null,{"$f":"IF(B131<2000,9999,B131)","v":9999}]
[{"$f":"FundDataInput!A132","v":0},{"$f":"FundDataInput!B132","v":0},{"$f":"FundDataInput!C132","v":0},{"$f":"FundDataInput!D132","v":0},{"$f":"FundDataInput!E132","v":0},{"$f":"IF(ISERROR(VLOOKUP(C132,C$2:C131,1,FALSE)),MAX(F$2:F131)+1,VLOOKUP(C132,C$2:F131,4,FALSE))","v":1},null,null,null,null,null,null,null,null,null,null,null,null,null,null,null,null,9999]
[{"$f":"FundDataInput!A133","v":0},{"$f":"FundDataInput!B133","v":0},{"$f":"FundDataInput!C133","v":0},{"$f":"FundDataInput!D133","v":0},{"$f":"FundDataInput!E133","v":0},{"$f":"IF(ISERROR(VLOOKUP(C133,C$2:C132,1,FALSE)),MAX(F$2:F132)+1,VLOOKUP(C133,C$2:F132,4,FALSE))","v":1},null,null,null,null,null,null,null,null,null,null,null,null,null,null,null,null,9999]
[{"$f":"FundDataInput!A134","v":0},{"$f":"FundDataInput!B134","v":0},{"$f":"FundDataInput!C134","v":0},{"$f":"FundDataInput!D134","v":0},{"$f":"FundDataInput!E134","v":0},{"$f":"IF(ISERROR(VLOOKUP(C134,C$2:C133,1,FALSE)),MAX(F$2:F133)+1,VLOOKUP(C134,C$2:F133,4,FALSE))","v":1},null,null,null,null,null,null,null,null,null,null,null,null,null,null,null,null,9999]
[{"$f":"FundDataInput!A135","v":0},{"$f":"FundDataInput!B135","v":0},{"$f":"FundDataInput!C135","v":0},{"$f":"FundDataInput!D135","v":0},{"$f":"FundDataInput!E135","v":0},{"$f":"IF(ISERROR(VLOOKUP(C135,C$2:C134,1,FALSE)),MAX(F$2:F134)+1,VLOOKUP(C135,C$2:F134,4,FALSE))","v":1},null,null,null,null,null,null,null,null,null,null,null,null,null,null,null,null,9999]
[{"$f":"FundDataInput!A136","v":0},{"$f":"FundDataInput!B136","v":0},{"$f":"FundDataInput!C136","v":0},{"$f":"FundDataInput!D136","v":0},{"$f":"FundDataInput!E136","v":0},{"$f":"IF(ISERROR(VLOOKUP(C136,C$2:C135,1,FALSE)),MAX(F$2:F135)+1,VLOOKUP(C136,C$2:F135,4,FALSE))","v":1},null,null,null,null,null,null,null,null,null,null,null,null,null,null,null,null,9999]
[{"$f":"FundDataInput!A137","v":0},{"$f":"FundDataInput!B137","v":0},{"$f":"FundDataInput!C137","v":0},{"$f":"FundDataInput!D137","v":0},{"$f":"FundDataInput!E137","v":0},{"$f":"IF(ISERROR(VLOOKUP(C137,C$2:C136,1,FALSE)),MAX(F$2:F136)+1,VLOOKUP(C137,C$2:F136,4,FALSE))","v":1},null,null,null,null,null,null,null,null,null,null,null,null,null,null,null,null,9999]
[{"$f":"FundDataInput!A138","v":0},{"$f":"FundDataInput!B138","v":0},{"$f":"FundDataInput!C138","v":0},{"$f":"FundDataInput!D138","v":0},{"$f":"FundDataInput!E138","v":0},{"$f":"IF(ISERROR(VLOOKUP(C138,C$2:C137,1,FALSE)),MAX(F$2:F137)+1,VLOOKUP(C138,C$2:F137,4,FALSE))","v":1},null,null,null,null,null,null,null,null,null,null,null,null,null,null,null,null,9999]
[{"$f":"FundDataInput!A139","v":0},{"$f":"FundDataInput!B139","v":0},{"$f":"FundDataInput!C139","v":0},{"$f":"FundDataInput!D139","v":0},{"$f":"FundDataInput!E139","v":0},{"$f":"IF(ISERROR(VLOOKUP(C139,C$2:C138,1,FALSE)),MAX(F$2:F138)+1,VLOOKUP(C139,C$2:F138,4,FALSE))","v":1},null,null,null,null,null,null,null,null,null,null,null,null,null,null,null,null,9999]
[{"$f":"FundDataInput!A140","v":0},{"$f":"FundDataInput!B140","v":0},{"$f":"FundDataInput!C140","v":0},{"$f":"FundDataInput!D140","v":0},{"$f":"FundDataInput!E140","v":0},{"$f":"IF(ISERROR(VLOOKUP(C140,C$2:C139,1,FALSE)),MAX(F$2:F139)+1,VLOOKUP(C140,C$2:F139,4,FALSE))","v":1},null,null,null,null,null,null,null,null,null,null,null,null,null,null,null,null,9999]
[{"$f":"FundDataInput!A141","v":0},{"$f":"FundDataInput!B141","v":0},{"$f":"FundDataInput!C141","v":0},{"$f":"FundDataInput!D141","v":0},{"$f":"FundDataInput!E141","v":0},{"$f":"IF(ISERROR(VLOOKUP(C141,C$2:C140,1,FALSE)),MAX(F$2:F140)+1,VLOOKUP(C141,C$2:F140,4,FALSE))","v":1},null,null,null,null,null,null,null,null,null,null,null,null,null,null,null,null,9999]
[{"$f":"FundDataInput!A142","v":0},{"$f":"FundDataInput!B142","v":0},{"$f":"FundDataInput!C142","v":0},{"$f":"FundDataInput!D142","v":0},{"$f":"FundDataInput!E142","v":0},{"$f":"IF(ISERROR(VLOOKUP(C142,C$2:C141,1,FALSE)),MAX(F$2:F141)+1,VLOOKUP(C142,C$2:F141,4,FALSE))","v":1},null,null,null,null,null,null,null,null,null,null,null,null,null,null,null,null,9999]
[{"$f":"FundDataInput!A143","v":0},{"$f":"FundDataInput!B143","v":0},{"$f":"FundDataInput!C143","v":0},{"$f":"FundDataInput!D143","v":0},{"$f":"FundDataInput!E143","v":0},{"$f":"IF(ISERROR(VLOOKUP(C143,C$2:C142,1,FALSE)),MAX(F$2:F142)+1,VLOOKUP(C143,C$2:F142,4,FALSE))","v":1},null,null,null,null,null,null,null,null,null,null,null,null,null,null,null,null,9999]
[{"$f":"FundDataInput!A144","v":0},{"$f":"FundDataInput!B144","v":0},{"$f":"FundDataInput!C144","v":0},{"$f":"FundDataInput!D144","v":0},{"$f":"FundDataInput!E144","v":0},{"$f":"IF(ISERROR(VLOOKUP(C144,C$2:C143,1,FALSE)),MAX(F$2:F143)+1,VLOOKUP(C144,C$2:F143,4,FALSE))","v":1},null,null,null,null,null,null,null,null,null,null,null,null,null,null,null,null,9999]
[{"$f":"FundDataInput!A145","v":0},{"$f":"FundDataInput!B145","v":0},{"$f":"FundDataInput!C145","v":0},{"$f":"FundDataInput!D145","v":0},{"$f":"FundDataInput!E145","v":0},{"$f":"IF(ISERROR(VLOOKUP(C145,C$2:C144,1,FALSE)),MAX(F$2:F144)+1,VLOOKUP(C145,C$2:F144,4,FALSE))","v":1},null,null,null,null,null,null,null,null,null,null,null,null,null,null,null,null,9999]
[{"$f":"FundDataInput!A146","v":0},{"$f":"FundDataInput!B146","v":0},{"$f":"FundDataInput!C146","v":0},{"$f":"FundDataInput!D146","v":0},{"$f":"FundDataInput!E146","v":0},{"$f":"IF(ISERROR(VLOOKUP(C146,C$2:C145,1,FALSE)),MAX(F$2:F145)+1,VLOOKUP(C146,C$2:F145,4,FALSE))","v":1},null,null,null,null,null,null,null,null,null,null,null,null,null,null,null,null,9999]
[{"$f":"FundDataInput!A147","v":0},{"$f":"FundDataInput!B147","v":0},{"$f":"FundDataInput!C147","v":0},{"$f":"FundDataInput!D147","v":0},{"$f":"FundDataInput!E147","v":0},{"$f":"IF(ISERROR(VLOOKUP(C147,C$2:C146,1,FALSE)),MAX(F$2:F146)+1,VLOOKUP(C147,C$2:F146,4,FALSE))","v":1},null,null,null,null,null,null,null,null,null,null,null,null,null,null,null,null,9999]
[{"$f":"FundDataInput!A148","v":0},{"$f":"FundDataInput!B148","v":0},{"$f":"FundDataInput!C148","v":0},{"$f":"FundDataInput!D148","v":0},{"$f":"FundDataInput!E148","v":0},{"$f":"IF(ISERROR(VLOOKUP(C148,C$2:C147,1,FALSE)),MAX(F$2:F147)+1,VLOOKUP(C148,C$2:F147,4,FALSE))","v":1},null,null,null,null,null,null,null,null,null,null,null,null,null,null,null,null,9999]
[{"$f":"FundDataInput!A149","v":0},{"$f":"FundDataInput!B149","v":0},{"$f":"FundDataInput!C149","v":0},{"$f":"FundDataInput!D149","v":0},{"$f":"FundDataInput!E149","v":0},{"$f":"IF(ISERROR(VLOOKUP(C149,C$2:C148,1,FALSE)),MAX(F$2:F148)+1,VLOOKUP(C149,C$2:F148,4,FALSE))","v":1},null,null,null,null,null,null,null,null,null,null,null,null,null,null,null,null,9999]
[{"$f":"FundDataInput!A150","v":0},{"$f":"FundDataInput!B150","v":0},{"$f":"FundDataInput!C150","v":0},{"$f":"FundDataInput!D150","v":0},{"$f":"FundDataInput!E150","v":0},{"$f":"IF(ISERROR(VLOOKUP(C150,C$2:C149,1,FALSE)),MAX(F$2:F149)+1,VLOOKUP(C150,C$2:F149,4,FALSE))","v":1},null,null,null,null,null,null,null,null,null,null,null,null,null,null,null,null,9999]
[{"$f":"FundDataInput!A151","v":0},{"$f":"FundDataInput!B151","v":0},{"$f":"FundDataInput!C151","v":0},{"$f":"FundDataInput!D151","v":0},{"$f":"FundDataInput!E151","v":0},{"$f":"IF(ISERROR(VLOOKUP(C151,C$2:C150,1,FALSE)),MAX(F$2:F150)+1,VLOOKUP(C151,C$2:F150,4,FALSE))","v":1},null,null,null,null,null,null,null,null,null,null,null,null,null,null,null,null,9999]
[{"$f":"FundDataInput!A152","v":0},{"$f":"FundDataInput!B152","v":0},{"$f":"FundDataInput!C152","v":0},{"$f":"FundDataInput!D152","v":0},{"$f":"FundDataInput!E152","v":0},{"$f":"IF(ISERROR(VLOOKUP(C152,C$2:C151,1,FALSE)),MAX(F$2:F151)+1,VLOOKUP(C152,C$2:F151,4,FALSE))","v":1},null,null,null,null,null,null,null,null,null,null,null,null,null,null,null,null,9999]
[{"$f":"FundDataInput!A153","v":0},{"$f":"FundDataInput!B153","v":0},{"$f":"FundDataInput!C153","v":0},{"$f":"FundDataInput!D153","v":0},{"$f":"FundDataInput!E153","v":0},{"$f":"IF(ISERROR(VLOOKUP(C153,C$2:C152,1,FALSE)),MAX(F$2:F152)+1,VLOOKUP(C153,C$2:F152,4,FALSE))","v":1},null,null,null,null,null,null,null,null,null,null,null,null,null,null,null,null,9999]
[{"$f":"FundDataInput!A154","v":0},{"$f":"FundDataInput!B154","v":0},{"$f":"FundDataInput!C154","v":0},{"$f":"FundDataInput!D154","v":0},{"$f":"FundDataInput!E154","v":0},{"$f":"IF(ISERROR(VLOOKUP(C154,C$2:C153,1,FALSE)),MAX(F$2:F153)+1,VLOOKUP(C154,C$2:F153,4,FALSE))","v":1},null,null,null,null,null,null,null,null,null,null,null,null,null,null,null,null,9999]
[{"$f":"FundDataInput!A155","v":0},{"$f":"FundDataInput!B155","v":0},{"$f":"FundDataInput!C155","v":0},{"$f":"FundDataInput!D155","v":0},{"$f":"FundDataInput!E155","v":0},{"$f":"IF(ISERROR(VLOOKUP(C155,C$2:C154,1,FALSE)),MAX(F$2:F154)+1,VLOOKUP(C155,C$2:F154,4,FALSE))","v":1},null,null,null,null,null,null,null,null,null,null,null,null,null,null,null,null,9999]
[{"$f":"FundDataInput!A156","v":0},{"$f":"FundDataInput!B156","v":0},{"$f":"FundDataInput!C156","v":0},{"$f":"FundDataInput!D156","v":0},{"$f":"FundDataInput!E156","v":0},{"$f":"IF(ISERROR(VLOOKUP(C156,C$2:C155,1,FALSE)),MAX(F$2:F155)+1,VLOOKUP(C156,C$2:F155,4,FALSE))","v":1},null,null,null,null,null,null,null,null,null,null,null,null,null,null,null,null,9999]
[{"$f":"FundDataInput!A157","v":0},{"$f":"FundDataInput!B157","v":0},{"$f":"FundDataInput!C157","v":0},{"$f":"FundDataInput!D157","v":0},{"$f":"FundDataInput!E157","v":0},{"$f":"IF(ISERROR(VLOOKUP(C157,C$2:C156,1,FALSE)),MAX(F$2:F156)+1,VLOOKUP(C157,C$2:F156,4,FALSE))","v":1},null,null,null,null,null,null,null,null,null,null,null,null,null,null,null,null,9999]
[{"$f":"FundDataInput!A158","v":0},{"$f":"FundDataInput!B158","v":0},{"$f":"FundDataInput!C158","v":0},{"$f":"FundDataInput!D158","v":0},{"$f":"FundDataInput!E158","v":0},{"$f":"IF(ISERROR(VLOOKUP(C158,C$2:C157,1,FALSE)),MAX(F$2:F157)+1,VLOOKUP(C158,C$2:F157,4,FALSE))","v":1},null,null,null,null,null,null,null,null,null,null,null,null,null,null,null,null,9999]
[{"$f":"FundDataInput!A159","v":0},{"$f":"FundDataInput!B159","v":0},{"$f":"FundDataInput!C159","v":0},{"$f":"FundDataInput!D159","v":0},{"$f":"FundDataInput!E159","v":0},{"$f":"IF(ISERROR(VLOOKUP(C159,C$2:C158,1,FALSE)),MAX(F$2:F158)+1,VLOOKUP(C159,C$2:F158,4,FALSE))","v":1},null,null,null,null,null,null,null,null,null,null,null,null,null,null,null,null,9999]
[{"$f":"FundDataInput!A160","v":0},{"$f":"FundDataInput!B160","v":0},{"$f":"FundDataInput!C160","v":0},{"$f":"FundDataInput!D160","v":0},{"$f":"FundDataInput!E160","v":0},{"$f":"IF(ISERROR(VLOOKUP(C160,C$2:C159,1,FALSE)),MAX(F$2:F159)+1,VLOOKUP(C160,C$2:F159,4,FALSE))","v":1},null,null,null,null,null,null,null,null,null,null,null,null,null,null,null,null,9999]
[{"$f":"FundDataInput!A161","v":0},{"$f":"FundDataInput!B161","v":0},{"$f":"FundDataInput!C161","v":0},{"$f":"FundDataInput!D161","v":0},{"$f":"FundDataInput!E161","v":0},{"$f":"IF(ISERROR(VLOOKUP(C161,C$2:C160,1,FALSE)),MAX(F$2:F160)+1,VLOOKUP(C161,C$2:F160,4,FALSE))","v":1},null,null,null,null,null,null,null,null,null,null,null,null,null,null,null,null,9999]
[{"$f":"FundDataInput!A162","v":0},{"$f":"FundDataInput!B162","v":0},{"$f":"FundDataInput!C162","v":0},{"$f":"FundDataInput!D162","v":0},{"$f":"FundDataInput!E162","v":0},{"$f":"IF(ISERROR(VLOOKUP(C162,C$2:C161,1,FALSE)),MAX(F$2:F161)+1,VLOOKUP(C162,C$2:F161,4,FALSE))","v":1},null,null,null,null,null,null,null,null,null,null,null,null,null,null,null,null,9999]
[{"$f":"FundDataInput!A163","v":0},{"$f":"FundDataInput!B163","v":0},{"$f":"FundDataInput!C163","v":0},{"$f":"FundDataInput!D163","v":0},{"$f":"FundDataInput!E163","v":0},{"$f":"IF(ISERROR(VLOOKUP(C163,C$2:C162,1,FALSE)),MAX(F$2:F162)+1,VLOOKUP(C163,C$2:F162,4,FALSE))","v":1},null,null,null,null,null,null,null,null,null,null,null,null,null,null,null,null,9999]
[{"$f":"FundDataInput!A164","v":0},{"$f":"FundDataInput!B164","v":0},{"$f":"FundDataInput!C164","v":0},{"$f":"FundDataInput!D164","v":0},{"$f":"FundDataInput!E164","v":0},{"$f":"IF(ISERROR(VLOOKUP(C164,C$2:C163,1,FALSE)),MAX(F$2:F163)+1,VLOOKUP(C164,C$2:F163,4,FALSE))","v":1},null,null,null,null,null,null,null,null,null,null,null,null,null,null,null,null,9999]
[{"$f":"FundDataInput!A165","v":0},{"$f":"FundDataInput!B165","v":0},{"$f":"FundDataInput!C165","v":0},{"$f":"FundDataInput!D165","v":0},{"$f":"FundDataInput!E165","v":0},{"$f":"IF(ISERROR(VLOOKUP(C165,C$2:C164,1,FALSE)),MAX(F$2:F164)+1,VLOOKUP(C165,C$2:F164,4,FALSE))","v":1},null,null,null,null,null,null,null,null,null,null,null,null,null,null,null,null,9999]
[{"$f":"FundDataInput!A166","v":0},{"$f":"FundDataInput!B166","v":0},{"$f":"FundDataInput!C166","v":0},{"$f":"FundDataInput!D166","v":0},{"$f":"FundDataInput!E166","v":0},{"$f":"IF(ISERROR(VLOOKUP(C166,C$2:C165,1,FALSE)),MAX(F$2:F165)+1,VLOOKUP(C166,C$2:F165,4,FALSE))","v":1},null,null,null,null,null,null,null,null,null,null,null,null,null,null,null,null,9999]
[{"$f":"FundDataInput!A167","v":0},{"$f":"FundDataInput!B167","v":0},{"$f":"FundDataInput!C167","v":0},{"$f":"FundDataInput!D167","v":0},{"$f":"FundDataInput!E167","v":0},{"$f":"IF(ISERROR(VLOOKUP(C167,C$2:C166,1,FALSE)),MAX(F$2:F166)+1,VLOOKUP(C167,C$2:F166,4,FALSE))","v":1},null,null,null,null,null,null,null,null,null,null,null,null,null,null,null,null,9999]
[{"$f":"FundDataInput!A168","v":0},{"$f":"FundDataInput!B168","v":0},{"$f":"FundDataInput!C168","v":0},{"$f":"FundDataInput!D168","v":0},{"$f":"FundDataInput!E168","v":0},{"$f":"IF(ISERROR(VLOOKUP(C168,C$2:C167,1,FALSE)),MAX(F$2:F167)+1,VLOOKUP(C168,C$2:F167,4,FALSE))","v":1},null,null,null,null,null,null,null,null,null,null,null,null,null,null,null,null,9999]
[{"$f":"FundDataInput!A169","v":0},{"$f":"FundDataInput!B169","v":0},{"$f":"FundDataInput!C169","v":0},{"$f":"FundDataInput!D169","v":0},{"$f":"FundDataInput!E169","v":0},{"$f":"IF(ISERROR(VLOOKUP(C169,C$2:C168,1,FALSE)),MAX(F$2:F168)+1,VLOOKUP(C169,C$2:F168,4,FALSE))","v":1},null,null,null,null,null,null,null,null,null,null,null,null,null,null,null,null,9999]
[{"$f":"FundDataInput!A170","v":0},{"$f":"FundDataInput!B170","v":0},{"$f":"FundDataInput!C170","v":0},{"$f":"FundDataInput!D170","v":0},{"$f":"FundDataInput!E170","v":0},{"$f":"IF(ISERROR(VLOOKUP(C170,C$2:C169,1,FALSE)),MAX(F$2:F169)+1,VLOOKUP(C170,C$2:F169,4,FALSE))","v":1},null,null,null,null,null,null,null,null,null,null,null,null,null,null,null,null,9999]
[{"$f":"FundDataInput!A171","v":0},{"$f":"FundDataInput!B171","v":0},{"$f":"FundDataInput!C171","v":0},{"$f":"FundDataInput!D171","v":0},{"$f":"FundDataInput!E171","v":0},{"$f":"IF(ISERROR(VLOOKUP(C171,C$2:C170,1,FALSE)),MAX(F$2:F170)+1,VLOOKUP(C171,C$2:F170,4,FALSE))","v":1},null,null,null,null,null,null,null,null,null,null,null,null,null,null,null,null,9999]
[{"$f":"FundDataInput!A172","v":0},{"$f":"FundDataInput!B172","v":0},{"$f":"FundDataInput!C172","v":0},{"$f":"FundDataInput!D172","v":0},{"$f":"FundDataInput!E172","v":0},{"$f":"IF(ISERROR(VLOOKUP(C172,C$2:C171,1,FALSE)),MAX(F$2:F171)+1,VLOOKUP(C172,C$2:F171,4,FALSE))","v":1},null,null,null,null,null,null,null,null,null,null,null,null,null,null,null,null,9999]
[{"$f":"FundDataInput!A173","v":0},{"$f":"FundDataInput!B173","v":0},{"$f":"FundDataInput!C173","v":0},{"$f":"FundDataInput!D173","v":0},{"$f":"FundDataInput!E173","v":0},{"$f":"IF(ISERROR(VLOOKUP(C173,C$2:C172,1,FALSE)),MAX(F$2:F172)+1,VLOOKUP(C173,C$2:F172,4,FALSE))","v":1},null,null,null,null,null,null,null,null,null,null,null,null,null,null,null,null,9999]
[{"$f":"FundDataInput!A174","v":0},{"$f":"FundDataInput!B174","v":0},{"$f":"FundDataInput!C174","v":0},{"$f":"FundDataInput!D174","v":0},{"$f":"FundDataInput!E174","v":0},{"$f":"IF(ISERROR(VLOOKUP(C174,C$2:C173,1,FALSE)),MAX(F$2:F173)+1,VLOOKUP(C174,C$2:F173,4,FALSE))","v":1},null,null,null,null,null,null,null,null,null,null,null,null,null,null,null,null,9999]
[{"$f":"FundDataInput!A175","v":0},{"$f":"FundDataInput!B175","v":0},{"$f":"FundDataInput!C175","v":0},{"$f":"FundDataInput!D175","v":0},{"$f":"FundDataInput!E175","v":0},{"$f":"IF(ISERROR(VLOOKUP(C175,C$2:C174,1,FALSE)),MAX(F$2:F174)+1,VLOOKUP(C175,C$2:F174,4,FALSE))","v":1},null,null,null,null,null,null,null,null,null,null,null,null,null,null,null,null,9999]
[{"$f":"FundDataInput!A176","v":0},{"$f":"FundDataInput!B176","v":0},{"$f":"FundDataInput!C176","v":0},{"$f":"FundDataInput!D176","v":0},{"$f":"FundDataInput!E176","v":0},{"$f":"IF(ISERROR(VLOOKUP(C176,C$2:C175,1,FALSE)),MAX(F$2:F175)+1,VLOOKUP(C176,C$2:F175,4,FALSE))","v":1},null,null,null,null,null,null,null,null,null,null,null,null,null,null,null,null,9999]
[{"$f":"FundDataInput!A177","v":0},{"$f":"FundDataInput!B177","v":0},{"$f":"FundDataInput!C177","v":0},{"$f":"FundDataInput!D177","v":0},{"$f":"FundDataInput!E177","v":0},{"$f":"IF(ISERROR(VLOOKUP(C177,C$2:C176,1,FALSE)),MAX(F$2:F176)+1,VLOOKUP(C177,C$2:F176,4,FALSE))","v":1},null,null,null,null,null,null,null,null,null,null,null,null,null,null,null,null,9999]
[{"$f":"FundDataInput!A178","v":0},{"$f":"FundDataInput!B178","v":0},{"$f":"FundDataInput!C178","v":0},{"$f":"FundDataInput!D178","v":0},{"$f":"FundDataInput!E178","v":0},{"$f":"IF(ISERROR(VLOOKUP(C178,C$2:C177,1,FALSE)),MAX(F$2:F177)+1,VLOOKUP(C178,C$2:F177,4,FALSE))","v":1},null,null,null,null,null,null,null,null,null,null,null,null,null,null,null,null,9999]
[{"$f":"FundDataInput!A179","v":0},{"$f":"FundDataInput!B179","v":0},{"$f":"FundDataInput!C179","v":0},{"$f":"FundDataInput!D179","v":0},{"$f":"FundDataInput!E179","v":0},{"$f":"IF(ISERROR(VLOOKUP(C179,C$2:C178,1,FALSE)),MAX(F$2:F178)+1,VLOOKUP(C179,C$2:F178,4,FALSE))","v":1},null,null,null,null,null,null,null,null,null,null,null,null,null,null,null,null,9999]
[{"$f":"FundDataInput!A180","v":0},{"$f":"FundDataInput!B180","v":0},{"$f":"FundDataInput!C180","v":0},{"$f":"FundDataInput!D180","v":0},{"$f":"FundDataInput!E180","v":0},{"$f":"IF(ISERROR(VLOOKUP(C180,C$2:C179,1,FALSE)),MAX(F$2:F179)+1,VLOOKUP(C180,C$2:F179,4,FALSE))","v":1},null,null,null,null,null,null,null,null,null,null,null,null,null,null,null,null,9999]
[{"$f":"FundDataInput!A181","v":0},{"$f":"FundDataInput!B181","v":0},{"$f":"FundDataInput!C181","v":0},{"$f":"FundDataInput!D181","v":0},{"$f":"FundDataInput!E181","v":0},{"$f":"IF(ISERROR(VLOOKUP(C181,C$2:C180,1,FALSE)),MAX(F$2:F180)+1,VLOOKUP(C181,C$2:F180,4,FALSE))","v":1},null,null,null,null,null,null,null,null,null,null,null,null,null,null,null,null,9999]
[{"$f":"FundDataInput!A182","v":0},{"$f":"FundDataInput!B182","v":0},{"$f":"FundDataInput!C182","v":0},{"$f":"FundDataInput!D182","v":0},{"$f":"FundDataInput!E182","v":0},{"$f":"IF(ISERROR(VLOOKUP(C182,C$2:C181,1,FALSE)),MAX(F$2:F181)+1,VLOOKUP(C182,C$2:F181,4,FALSE))","v":1},null,null,null,null,null,null,null,null,null,null,null,null,null,null,null,null,9999]
[{"$f":"FundDataInput!A183","v":0},{"$f":"FundDataInput!B183","v":0},{"$f":"FundDataInput!C183","v":0},{"$f":"FundDataInput!D183","v":0},{"$f":"FundDataInput!E183","v":0},{"$f":"IF(ISERROR(VLOOKUP(C183,C$2:C182,1,FALSE)),MAX(F$2:F182)+1,VLOOKUP(C183,C$2:F182,4,FALSE))","v":1},null,null,null,null,null,null,null,null,null,null,null,null,null,null,null,null,9999]
[{"$f":"FundDataInput!A184","v":0},{"$f":"FundDataInput!B184","v":0},{"$f":"FundDataInput!C184","v":0},{"$f":"FundDataInput!D184","v":0},{"$f":"FundDataInput!E184","v":0},{"$f":"IF(ISERROR(VLOOKUP(C184,C$2:C183,1,FALSE)),MAX(F$2:F183)+1,VLOOKUP(C184,C$2:F183,4,FALSE))","v":1},null,null,null,null,null,null,null,null,null,null,null,null,null,null,null,null,9999]
[{"$f":"FundDataInput!A185","v":0},{"$f":"FundDataInput!B185","v":0},{"$f":"FundDataInput!C185","v":0},{"$f":"FundDataInput!D185","v":0},{"$f":"FundDataInput!E185","v":0},{"$f":"IF(ISERROR(VLOOKUP(C185,C$2:C184,1,FALSE)),MAX(F$2:F184)+1,VLOOKUP(C185,C$2:F184,4,FALSE))","v":1},null,null,null,null,null,null,null,null,null,null,null,null,null,null,null,null,9999]
[{"$f":"FundDataInput!A186","v":0},{"$f":"FundDataInput!B186","v":0},{"$f":"FundDataInput!C186","v":0},{"$f":"FundDataInput!D186","v":0},{"$f":"FundDataInput!E186","v":0},{"$f":"IF(ISERROR(VLOOKUP(C186,C$2:C185,1,FALSE)),MAX(F$2:F185)+1,VLOOKUP(C186,C$2:F185,4,FALSE))","v":1},null,null,null,null,null,null,null,null,null,null,null,null,null,null,null,null,9999]
[{"$f":"FundDataInput!A187","v":0},{"$f":"FundDataInput!B187","v":0},{"$f":"FundDataInput!C187","v":0},{"$f":"FundDataInput!D187","v":0},{"$f":"FundDataInput!E187","v":0},{"$f":"IF(ISERROR(VLOOKUP(C187,C$2:C186,1,FALSE)),MAX(F$2:F186)+1,VLOOKUP(C187,C$2:F186,4,FALSE))","v":1},null,null,null,null,null,null,null,null,null,null,null,null,null,null,null,null,9999]
[{"$f":"FundDataInput!A188","v":0},{"$f":"FundDataInput!B188","v":0},{"$f":"FundDataInput!C188","v":0},{"$f":"FundDataInput!D188","v":0},{"$f":"FundDataInput!E188","v":0},{"$f":"IF(ISERROR(VLOOKUP(C188,C$2:C187,1,FALSE)),MAX(F$2:F187)+1,VLOOKUP(C188,C$2:F187,4,FALSE))","v":1},null,null,null,null,null,null,null,null,null,null,null,null,null,null,null,null,9999]
[{"$f":"FundDataInput!A189","v":0},{"$f":"FundDataInput!B189","v":0},{"$f":"FundDataInput!C189","v":0},{"$f":"FundDataInput!D189","v":0},{"$f":"FundDataInput!E189","v":0},{"$f":"IF(ISERROR(VLOOKUP(C189,C$2:C188,1,FALSE)),MAX(F$2:F188)+1,VLOOKUP(C189,C$2:F188,4,FALSE))","v":1},null,null,null,null,null,null,null,null,null,null,null,null,null,null,null,null,9999]
[{"$f":"FundDataInput!A190","v":0},{"$f":"FundDataInput!B190","v":0},{"$f":"FundDataInput!C190","v":0},{"$f":"FundDataInput!D190","v":0},{"$f":"FundDataInput!E190","v":0},{"$f":"IF(ISERROR(VLOOKUP(C190,C$2:C189,1,FALSE)),MAX(F$2:F189)+1,VLOOKUP(C190,C$2:F189,4,FALSE))","v":1},null,null,null,null,null,null,null,null,null,null,null,null,null,null,null,null,9999]
[{"$f":"FundDataInput!A191","v":0},{"$f":"FundDataInput!B191","v":0},{"$f":"FundDataInput!C191","v":0},{"$f":"FundDataInput!D191","v":0},{"$f":"FundDataInput!E191","v":0},{"$f":"IF(ISERROR(VLOOKUP(C191,C$2:C190,1,FALSE)),MAX(F$2:F190)+1,VLOOKUP(C191,C$2:F190,4,FALSE))","v":1},null,null,null,null,null,null,null,null,null,null,null,null,null,null,null,null,9999]
[{"$f":"FundDataInput!A192","v":0},{"$f":"FundDataInput!B192","v":0},{"$f":"FundDataInput!C192","v":0},{"$f":"FundDataInput!D192","v":0},{"$f":"FundDataInput!E192","v":0},{"$f":"IF(ISERROR(VLOOKUP(C192,C$2:C191,1,FALSE)),MAX(F$2:F191)+1,VLOOKUP(C192,C$2:F191,4,FALSE))","v":1},null,null,null,null,null,null,null,null,null,null,null,null,null,null,null,null,9999]
[{"$f":"FundDataInput!A193","v":0},{"$f":"FundDataInput!B193","v":0},{"$f":"FundDataInput!C193","v":0},{"$f":"FundDataInput!D193","v":0},{"$f":"FundDataInput!E193","v":0},{"$f":"IF(ISERROR(VLOOKUP(C193,C$2:C192,1,FALSE)),MAX(F$2:F192)+1,VLOOKUP(C193,C$2:F192,4,FALSE))","v":1},null,null,null,null,null,null,null,null,null,null,null,null,null,null,null,null,9999]
[{"$f":"FundDataInput!A194","v":0},{"$f":"FundDataInput!B194","v":0},{"$f":"FundDataInput!C194","v":0},{"$f":"FundDataInput!D194","v":0},{"$f":"FundDataInput!E194","v":0},{"$f":"IF(ISERROR(VLOOKUP(C194,C$2:C193,1,FALSE)),MAX(F$2:F193)+1,VLOOKUP(C194,C$2:F193,4,FALSE))","v":1},null,null,null,null,null,null,null,null,null,null,null,null,null,null,null,null,9999]
[{"$f":"FundDataInput!A195","v":0},{"$f":"FundDataInput!B195","v":0},{"$f":"FundDataInput!C195","v":0},{"$f":"FundDataInput!D195","v":0},{"$f":"FundDataInput!E195","v":0},{"$f":"IF(ISERROR(VLOOKUP(C195,C$2:C194,1,FALSE)),MAX(F$2:F194)+1,VLOOKUP(C195,C$2:F194,4,FALSE))","v":1},null,null,null,null,null,null,null,null,null,null,null,null,null,null,null,null,{"$f":"IF(B195<2000,9999,B195)","v":9999}]
[{"$f":"FundDataInput!A196","v":0},{"$f":"FundDataInput!B196","v":0},{"$f":"FundDataInput!C196","v":0},{"$f":"FundDataInput!D196","v":0},{"$f":"FundDataInput!E196","v":0},{"$f":"IF(ISERROR(VLOOKUP(C196,C$2:C195,1,FALSE)),MAX(F$2:F195)+1,VLOOKUP(C196,C$2:F195,4,FALSE))","v":1},null,null,null,null,null,null,null,null,null,null,null,null,null,null,null,null,9999]
[{"$f":"FundDataInput!A197","v":0},{"$f":"FundDataInput!B197","v":0},{"$f":"FundDataInput!C197","v":0},{"$f":"FundDataInput!D197","v":0},{"$f":"FundDataInput!E197","v":0},{"$f":"IF(ISERROR(VLOOKUP(C197,C$2:C196,1,FALSE)),MAX(F$2:F196)+1,VLOOKUP(C197,C$2:F196,4,FALSE))","v":1},null,null,null,null,null,null,null,null,null,null,null,null,null,null,null,null,9999]
[{"$f":"FundDataInput!A198","v":0},{"$f":"FundDataInput!B198","v":0},{"$f":"FundDataInput!C198","v":0},{"$f":"FundDataInput!D198","v":0},{"$f":"FundDataInput!E198","v":0},{"$f":"IF(ISERROR(VLOOKUP(C198,C$2:C197,1,FALSE)),MAX(F$2:F197)+1,VLOOKUP(C198,C$2:F197,4,FALSE))","v":1},null,null,null,null,null,null,null,null,null,null,null,null,null,null,null,null,9999]
[{"$f":"FundDataInput!A199","v":0},{"$f":"FundDataInput!B199","v":0},{"$f":"FundDataInput!C199","v":0},{"$f":"FundDataInput!D199","v":0},{"$f":"FundDataInput!E199","v":0},{"$f":"IF(ISERROR(VLOOKUP(C199,C$2:C198,1,FALSE)),MAX(F$2:F198)+1,VLOOKUP(C199,C$2:F198,4,FALSE))","v":1},null,null,null,null,null,null,null,null,null,null,null,null,null,null,null,null,9999]
[{"$f":"FundDataInput!A200","v":0},{"$f":"FundDataInput!B200","v":0},{"$f":"FundDataInput!C200","v":0},{"$f":"FundDataInput!D200","v":0},{"$f":"FundDataInput!E200","v":0},{"$f":"IF(ISERROR(VLOOKUP(C200,C$2:C199,1,FALSE)),MAX(F$2:F199)+1,VLOOKUP(C200,C$2:F199,4,FALSE))","v":1},null,null,null,null,null,null,null,null,null,null,null,null,null,null,null,null,9999]
[{"$f":"FundDataInput!A201","v":0},{"$f":"FundDataInput!B201","v":0},{"$f":"FundDataInput!C201","v":0},{"$f":"FundDataInput!D201","v":0},{"$f":"FundDataInput!E201","v":0},{"$f":"IF(ISERROR(VLOOKUP(C201,C$2:C200,1,FALSE)),MAX(F$2:F200)+1,VLOOKUP(C201,C$2:F200,4,FALSE))","v":1},null,null,null,null,null,null,null,null,null,null,null,null,null,null,null,null,9999]
[null,null,"(no more than 50 projects X 4 years/project = 200 rows)"]

{"sheet":"CHECK DATA FIT","index":62,"n_rows":27,"n_cols":10,"rows_kept":27,"cut":false,"hidden":false,"merged":[]}
["CHECK FIT OF SYSTEM DATA "]
[]
["PROJECT RECORDS (into \"ProjDataInput\" Tab)",null,null,null,null,null,"FUND RECORDS (into \"FundDataInput\" Tab)"]
[]
["NOTE: Field names don't have to match the name of your column header, the",null,null,null,null,null,"NOTE: Field names don't have to match the name of your column header, the"]
["columns just have to be in the correct order",null,null,null,null,null,"columns just have to be in the correct order"]
[null,null,null,"Data row shown:"]
["FIELD NAME","YOUR COLUMN HEADER","YOUR Nth DATA ROW",{"$f":"\"N = \"","v":"N = "},1,null,"FIELD NAME","YOUR COLUMN HEADER","YOUR Nth DATA ROW"]
["ProgramName",{"$f":"LEFT(INDIRECT(ADDRESS(1,ROW(B9)-8,1,TRUE,\"ProjDataInput\")),48)","v":"ProgramName"},{"$f":"LEFT(INDIRECT(ADDRESS($E$8+1,ROW(B9)-8,1,TRUE,\"ProjDataInput\")),48)","v":""},{"$f":"\" \"","v":" "},null,null,"ProgramID",{"$f":"LEFT(INDIRECT(ADDRESS(1,ROW(B9)-8,1,TRUE,\"FundDataInput\")),48)","v":"Program ID number"},{"$f":"INDIRECT(ADDRESS($E$8+1,ROW(B9)-8,1,TRUE,\"FundDataInput\"))","v":0},{"$f":"\" \"","v":" "}]
["ProjectNumber",{"$f":"LEFT(INDIRECT(ADDRESS(1,ROW(B10)-8,1,TRUE,\"ProjDataInput\")),48)","v":"ProjectNumber"},{"$f":"LEFT(INDIRECT(ADDRESS($E$8+1,ROW(B10)-8,1,TRUE,\"ProjDataInput\")),48)","v":""},{"$f":"\" \"","v":" "},null,null,"Year",{"$f":"LEFT(INDIRECT(ADDRESS(1,ROW(B10)-8,1,TRUE,\"FundDataInput\")),48)","v":"Year"},{"$f":"INDIRECT(ADDRESS($E$8+1,ROW(B10)-8,1,TRUE,\"FundDataInput\"))","v":0},{"$f":"\" \"","v":" "}]
["ProjectTitle","ProjectTitle",""," ",null,null,"ProjectNumber","Proj No",{"$f":"LEFT(INDIRECT(ADDRESS($E$8+1,ROW(B11)-8,1,TRUE,\"FundDataInput\")),48)","v":""}," "]
["ProgramFocusAreas","ProgramFocusArea",""," ",null,null,"Federal","Federal",0," "]
["ProgramPartners","ProgramPartners",""," ",null,null,"Match","Match",0," "]
["ClassificationCodes","ClassificationCodes",""," ",null,null,"Comments ","Comments",{"$f":"LEFT(INDIRECT(ADDRESS($E$8+1,ROW(B14)-8,1,TRUE,\"FundDataInput\")),48)","v":""}," "]
["Abstract","Abstract",""," "]
["TotalFederal","TotalFederal",{"$f":"INDIRECT(ADDRESS($E$8+1,ROW(B16)-8,1,TRUE,\"ProjDataInput\"))","v":0}," "]
["TotalMatch","TotalMatch",{"$f":"INDIRECT(ADDRESS($E$8+1,ROW(B17)-8,1,TRUE,\"ProjDataInput\"))","v":0}," "]
["PI1","PI1",""," "]
["Affiliation1","Affiliation1",""," "]
["PI2","PI2",""," "]
["Affiliation2","Affiliation2",""," "]
["PI3","PI3",""," "]
["Affiliation3","Affiliation3",""," "]
["PI4","PI4",""," "]
["Affiliation4","AFFIL4",""," "]
["DataSharingPlan","Data Sharing Plan",""," "]
["Comments","COMMENTS",""," "]

{"sheet":"ProjDataInput","index":63,"n_rows":1,"n_cols":19,"rows_kept":1,"cut":false,"hidden":false,"merged":[]}
["ProgramName","ProjectNumber","ProjectTitle","ProgramFocusArea","ProgramPartners","ClassificationCodes","Abstract","TotalFederal","TotalMatch","PI1","Affiliation1","PI2","Affiliation2","PI3","Affiliation3","PI4","AFFIL4","Data Sharing Plan","COMMENTS"]

{"sheet":"FundDataInput","index":64,"n_rows":1,"n_cols":6,"rows_kept":1,"cut":false,"hidden":false,"merged":[]}
["Program ID number","Year","Proj No","Federal","Match","Comments"]